{"text_format":"1","workbook":"xlsx","n_sheets":17,"sheets":["الواجهة","11000","12000","13000","14000","15000","16000","21000","22000","23000","24000","25000","26000","27000","28000","29000","Nomenclature"],"not_rendered":{"charts":0,"images":2,"macros":1,"external_links":1,"defined_names":16,"comments":0,"pivot_tables":0},"unopened":[],"bounds":{"document_bytes":16777216,"sheet_cells":100000,"rows_first":2000,"rows_last":500,"rows_between":2000,"halvings":0,"cell_chars":16384,"cell_head_chars":4096},"cells_cut":0,"cells_raw":0,"read":"whole","date_system":"1900"}

{"sheet":"الواجهة","index":0,"n_rows":14,"n_cols":7,"rows_kept":14,"cut":false,"hidden":false,"merged":[[13,6,14,7],[6,5,6,7],[3,2,3,3],[0,2,0,3],[1,2,1,3],[2,2,2,3],[13,5,14,5],[9,5,10,5],[11,5,12,5],[7,5,8,5],[7,6,8,7],[9,6,10,7],[11,6,12,7],[3,5,5,7]]}
[null,"السنة المالية:",2023]
[null,"الـوزارة:","وزارة البيئة و الطاقات المتجددة"]
[null,"الهيئة الإدارية:","مديرية البيئة لولاية المسيلة"]
[null,"الآمر بالصرف:","144 0 28 01",null,null,"متابعة العناوين \n1. نفقات المستخدمين           2. نفقات تسيير المصالح."]
[]
[null,"حافظة البرنامج:","030","البيئة و الطاقات المتجددة"]
[null,"البرنــامج:","116","الإدارة العامة",null,"ملاحظات:"]
[null,"النشـــــاط:","2001","الإدارة العامة",null,1,"قم بالتعديل في بيانات الهيئة الادارية."]
[null,"النشاط الفرعي:","000","///"]
[null,"البرنامج الفرعي:","02","///",null,2,"في حالة التكفل \"الاخذ بالحسبان\" يتم ادراج مبلغ رخصة الالتزام للصنف في \"العمود F\" و توزيعه على الاصناف الفرعية في الاسفل مباشرة في \"العمود G\"."]
[null,"المجال الإقليمي","028"]
[null,null,null,null,null,3,"في حالة الالتزام  يتم ادراج مبلغ الالتزام في الصنف الفرعي  في \"العمود I\"."]
[null,"كتابة المبلغ بالحروف:","لا"]
[null,null,null,null,null,4,"في حالة وجود خطا في الترميز او تسمية الاصنف او الاصناف الفرعية توجه الى ورقة \"Nomenclature\" وقم بالتصحيح."]

{"sheet":"11000","index":1,"n_rows":203,"n_cols":44,"rows_kept":203,"cut":false,"hidden":false,"merged":[[50,15,50,16],[3,42,58,42],[50,23,50,24],[0,6,1,6],[0,5,1,5],[23,17,25,41],[14,19,14,27],[16,14,16,18],[15,14,15,18],[14,14,14,18],[13,14,13,18],[13,19,13,20],[10,33,11,38],[21,22,21,32],[22,18,22,21],[15,19,15,20],[16,19,16,20],[0,0,2,0],[0,1,2,1],[0,2,2,2],[0,3,2,3],[0,4,2,4],[6,14,6,18],[6,19,6,27],[10,15,11,19],[10,20,11,23],[0,8,1,8],[0,7,2,7],[0,9,2,9],[0,11,2,11],[0,10,1,10],[0,13,2,15],[10,31,11,32],[3,14,3,41],[4,14,4,18],[4,19,4,27],[5,14,5,18],[5,19,5,27],[19,14,19,15],[20,18,20,21],[20,22,20,32],[21,18,21,21],[30,34,31,37],[26,14,27,21],[26,22,27,25],[26,26,27,29],[26,30,27,33],[26,34,27,37],[30,30,31,33],[28,34,29,37],[22,22,22,32],[28,22,29,25],[28,26,29,29],[28,30,29,33],[42,28,42,41],[30,14,31,17],[30,18,31,21],[30,22,31,25],[30,26,31,29],[26,38,27,41],[28,38,29,41],[28,14,29,17],[28,18,29,21],[46,14,47,18],[44,22,45,26],[46,22,47,26],[47,29,47,30],[30,38,31,41],[33,14,33,17],[44,14,45,18],[34,14,37,41],[39,14,39,17],[39,18,40,41],[44,29,44,30],[42,14,42,27]]}
["رقم\nالاستمارة","التاريخ","الترميز","الصنف / الصنف الفرعي","ملاحظات المصلحة","AP Cat",{"$f":"IF(SUM(G4:G203)-SUM(F4:F203)<0,\"نقص في توزيع الاعتمادات على الاصناف الفرعية\",\nIF(SUM(G4:G203)-SUM(F4:F203)>0,\"تجاوز في الاعتمادات الموزعة على الاصناف الفرعية\",\"AP S.Cat\"))","v":"AP S.Cat"},"AP Sous_Cat",{"$f":"IF(I3>G3,\"تجاوز في الالتزامات\",\"∑ Engagements\")","v":"∑ Engagements"},"∑ Eng Sous_Cat","Reste","السند القانوني للعنوان الرابع",null,4]
[]
[null,null,null,null,null,{"$f":"SUM(F4:F203)","v":11944593},{"$f":"SUM(G4:G203)","v":11944593},null,{"$f":"SUM(I5:I203)","v":0},null,{"$f":"SUM(K4:K104)","v":11944593}]
[1,"2023-03-13",{"$f":"IFERROR(VLOOKUP(D4,Nomenclature!$B$2:$C$196,2,0),\"\")","v":11000},"الرواتب","تكفل برخصة الالتزام المفتوحة لسنة 2023.",11944593,null,{"$f":"IF(C4=\"\",0,IF(SUMIFS($G4:G$5,$C4:C$5,C4)-SUMIFS($I3:I$4,$C3:C$4,C4)<0,0,SUMIFS($G4:G$5,$C4:C$5,C4)-SUMIFS($I3:I$4,$C3:C$4,C4)))","v":0},null,{"$f":"IF(I4=0,0,IF(C4=\"\",0,SUMIFS($I4:I$4,$C4:C$4,C4)))","v":0},{"$f":"IF(C4=\"\",0,H4-I4)","v":0},null,null,null,"الجمهورية الجزائرية الديمقراطية الشعبية"]
[2,"2023-04-01",{"$f":"IFERROR(VLOOKUP(D5,Nomenclature!$B$2:$C$196,2,0),\"\")","v":11100},"رواتب الموظفين و الأعوان العموميين","التزام في الجدول الأصلي الأولي رقم 2023/01 الخاص بالمرتبات الشهرية للموظفين من 2023/01/01 إلى غاية 2023/12/31",null,6500000,{"$f":"IF(C5=\"\",0,IF(SUMIFS($G$5:G5,$C$5:C5,C5)-SUMIFS($I$4:I4,$C$4:C4,C5)<0,0,SUMIFS($G$5:G5,$C$5:C5,C5)-SUMIFS($I$4:I4,$C$4:C4,C5)))","v":6500000},null,{"$f":"IF(C5=\"\",0,IF(C5=$C$4,SUMIFS($I$4:I4,$C$4:C4,C4),SUMIFS($I$4:I4,$C$4:C4,C5)))","v":0},6500000,null,null,null,"الـوزارة:",null,null,null,null,{"$f":"الواجهة!C2","v":"وزارة البيئة و الطاقات المتجددة"}]
[3,null,{"$f":"IFERROR(VLOOKUP(D6,Nomenclature!$B$2:$C$196,2,0),\"\")","v":11210},"رواتب المستخدمين المتعاقدين بالتوقيت الكامل","التزام في الجدول الأصلي الأولي رقم 2023/02 الخاص بالمرتبات الشهرية للاعوان المتعاقدين بالتوقيت الكامل من 2023/01/01 إلى غاية 2023/12/31",null,4000000,{"$f":"IF(C6=\"\",0,IF(SUMIFS($G$5:G6,$C$5:C6,C6)-SUMIFS($I$4:I5,$C$4:C5,C6)<0,0,SUMIFS($G$5:G6,$C$5:C6,C6)-SUMIFS($I$4:I5,$C$4:C5,C6)))","v":4000000},null,{"$f":"IF(C6=\"\",0,IF(C6=$C$4,SUMIFS($I$4:I5,$C$4:C5,C5),SUMIFS($I$4:I5,$C$4:C5,C6)))","v":0},4000000,null,null,null,"الهيئة الإدارية:",null,null,null,null,{"$f":"الواجهة!C3","v":"مديرية البيئة لولاية المسيلة"}]
[4,null,{"$f":"IFERROR(VLOOKUP(D7,Nomenclature!$B$2:$C$196,2,0),\"\")","v":11220},"رواتب المستخدمين المتعاقدين بالتوقيت الجزئي","التزام في الجدول الأصلي الأولي رقم 2023/02 الخاص بالمرتبات الشهرية للاعوان المتعاقدين بالتوقيت الجزئي من 2023/01/01 إلى غاية 2023/12/31",null,1444593,{"$f":"IF(C7=\"\",0,IF(SUMIFS($G$5:G7,$C$5:C7,C7)-SUMIFS($I$4:I6,$C$4:C6,C7)<0,0,SUMIFS($G$5:G7,$C$5:C7,C7)-SUMIFS($I$4:I6,$C$4:C6,C7)))","v":1444593},null,{"$f":"IF(C7=\"\",0,IF(C7=$C$4,SUMIFS($I$4:I6,$C$4:C6,C6),SUMIFS($I$4:I6,$C$4:C6,C7)))","v":0},1444593,null,null,null,"رمز الآمر بالصرف:",null,null,null,null,{"$f":"الواجهة!C4","v":"144 0 28 01"}]
[5,null,{"$f":"IFERROR(VLOOKUP(D8,Nomenclature!$B$2:$C$196,2,0),\"\")","v":""},null,null,null,null,{"$f":"IF(C8=\"\",0,IF(SUMIFS($G$5:G8,$C$5:C8,C8)-SUMIFS($I$4:I7,$C$4:C7,C8)<0,0,SUMIFS($G$5:G8,$C$5:C8,C8)-SUMIFS($I$4:I7,$C$4:C7,C8)))","v":0},null,{"$f":"IF(C8=\"\",0,IF(C8=$C$4,SUMIFS($I$4:I7,$C$4:C7,C7),SUMIFS($I$4:I7,$C$4:C7,C8)))","v":0},0,null,null,null,null,null,null,null,null,null,null,null,null,null,null,null,null,null,null,null,null,null,null,"."]
[6,null,{"$f":"IFERROR(VLOOKUP(D9,Nomenclature!$B$2:$C$196,2,0),\"\")","v":""},null,null,null,null,{"$f":"IF(C9=\"\",0,IF(SUMIFS($G$5:G9,$C$5:C9,C9)-SUMIFS($I$4:I8,$C$4:C8,C9)<0,0,SUMIFS($G$5:G9,$C$5:C9,C9)-SUMIFS($I$4:I8,$C$4:C8,C9)))","v":0},null,{"$f":"IF(C9=\"\",0,IF(C9=$C$4,SUMIFS($I$4:I8,$C$4:C8,C8),SUMIFS($I$4:I8,$C$4:C8,C9)))","v":0},0]
[7,null,{"$f":"IFERROR(VLOOKUP(D10,Nomenclature!$B$2:$C$196,2,0),\"\")","v":""},null,null,null,null,{"$f":"IF(C10=\"\",0,IF(SUMIFS($G$5:G10,$C$5:C10,C10)-SUMIFS($I$4:I9,$C$4:C9,C10)<0,0,SUMIFS($G$5:G10,$C$5:C10,C10)-SUMIFS($I$4:I9,$C$4:C9,C10)))","v":0},null,{"$f":"IF(C10=\"\",0,IF(C10=$C$4,SUMIFS($I$4:I9,$C$4:C9,C9),SUMIFS($I$4:I9,$C$4:C9,C10)))","v":0},0]
[8,null,{"$f":"IFERROR(VLOOKUP(D11,Nomenclature!$B$2:$C$196,2,0),\"\")","v":""},null,null,null,null,{"$f":"IF(C11=\"\",0,IF(SUMIFS($G$5:G11,$C$5:C11,C11)-SUMIFS($I$4:I10,$C$4:C10,C11)<0,0,SUMIFS($G$5:G11,$C$5:C11,C11)-SUMIFS($I$4:I10,$C$4:C10,C11)))","v":0},null,{"$f":"IF(C11=\"\",0,IF(C11=$C$4,SUMIFS($I$4:I10,$C$4:C10,C10),SUMIFS($I$4:I10,$C$4:C10,C11)))","v":0},0,null,null,null,null,"رقم بطاقة الالتزام:",null,null,null,null,{"$f":"IFERROR(VLOOKUP(N1,A4:L203,1,0),0)","v":4},null,null,null,null,null,null,null,null,null,null,"التاريخ:",null,{"$f":"IF(IFERROR(VLOOKUP(N1,A4:L203,2,0),0)=0,\"\",IFERROR(VLOOKUP(N1,A4:L203,2,0),0))","v":""}]
[9,null,{"$f":"IFERROR(VLOOKUP(D12,Nomenclature!$B$2:$C$196,2,0),\"\")","v":""},null,null,null,null,{"$f":"IF(C12=\"\",0,IF(SUMIFS($G$5:G12,$C$5:C12,C12)-SUMIFS($I$4:I11,$C$4:C11,C12)<0,0,SUMIFS($G$5:G12,$C$5:C12,C12)-SUMIFS($I$4:I11,$C$4:C11,C12)))","v":0},null,{"$f":"IF(C12=\"\",0,IF(C12=$C$4,SUMIFS($I$4:I11,$C$4:C11,C11),SUMIFS($I$4:I11,$C$4:C11,C12)))","v":0},0]
[10,null,{"$f":"IFERROR(VLOOKUP(D13,Nomenclature!$B$2:$C$196,2,0),\"\")","v":""},null,null,null,null,{"$f":"IF(C13=\"\",0,IF(SUMIFS($G$5:G13,$C$5:C13,C13)-SUMIFS($I$4:I12,$C$4:C12,C13)<0,0,SUMIFS($G$5:G13,$C$5:C13,C13)-SUMIFS($I$4:I12,$C$4:C12,C13)))","v":0},null,{"$f":"IF(C13=\"\",0,IF(C13=$C$4,SUMIFS($I$4:I12,$C$4:C12,C12),SUMIFS($I$4:I12,$C$4:C12,C13)))","v":0},0]
[11,null,{"$f":"IFERROR(VLOOKUP(D14,Nomenclature!$B$2:$C$196,2,0),\"\")","v":""},null,null,null,null,{"$f":"IF(C14=\"\",0,IF(SUMIFS($G$5:G14,$C$5:C14,C14)-SUMIFS($I$4:I13,$C$4:C13,C14)<0,0,SUMIFS($G$5:G14,$C$5:C14,C14)-SUMIFS($I$4:I13,$C$4:C13,C14)))","v":0},null,{"$f":"IF(C14=\"\",0,IF(C14=$C$4,SUMIFS($I$4:I13,$C$4:C13,C13),SUMIFS($I$4:I13,$C$4:C13,C14)))","v":0},0,null,null,null,"رمز البرنــامج:",null,null,null,null,{"$f":"الواجهة!C7","v":"116"}]
[12,null,{"$f":"IFERROR(VLOOKUP(D15,Nomenclature!$B$2:$C$196,2,0),\"\")","v":""},null,null,null,null,{"$f":"IF(C15=\"\",0,IF(SUMIFS($G$5:G15,$C$5:C15,C15)-SUMIFS($I$4:I14,$C$4:C14,C15)<0,0,SUMIFS($G$5:G15,$C$5:C15,C15)-SUMIFS($I$4:I14,$C$4:C14,C15)))","v":0},null,{"$f":"IF(C15=\"\",0,IF(C15=$C$4,SUMIFS($I$4:I14,$C$4:C14,C14),SUMIFS($I$4:I14,$C$4:C14,C15)))","v":0},0,null,null,null,"رمز النشــاط:",null,null,null,null,{"$f":"الواجهة!C6&\" \"&الواجهة!C7&\" \"&الواجهة!C10&\" \"&الواجهة!C8&\" \"&الواجهة!C9&\" \"&الواجهة!C11","v":"030 116 02 2001 000 028"}]
[13,null,{"$f":"IFERROR(VLOOKUP(D16,Nomenclature!$B$2:$C$196,2,0),\"\")","v":""},null,null,null,null,{"$f":"IF(C16=\"\",0,IF(SUMIFS($G$5:G16,$C$5:C16,C16)-SUMIFS($I$4:I15,$C$4:C15,C16)<0,0,SUMIFS($G$5:G16,$C$5:C16,C16)-SUMIFS($I$4:I15,$C$4:C15,C16)))","v":0},null,{"$f":"IF(C16=\"\",0,IF(C16=$C$4,SUMIFS($I$4:I15,$C$4:C15,C15),SUMIFS($I$4:I15,$C$4:C15,C16)))","v":0},0,null,null,null,"رمز النشــاط الفرعي:",null,null,null,null,{"$f":"الواجهة!C9","v":"000"}]
[14,null,{"$f":"IFERROR(VLOOKUP(D17,Nomenclature!$B$2:$C$196,2,0),\"\")","v":""},null,null,null,null,{"$f":"IF(C17=\"\",0,IF(SUMIFS($G$5:G17,$C$5:C17,C17)-SUMIFS($I$4:I16,$C$4:C16,C17)<0,0,SUMIFS($G$5:G17,$C$5:C17,C17)-SUMIFS($I$4:I16,$C$4:C16,C17)))","v":0},null,{"$f":"IF(C17=\"\",0,IF(C17=$C$4,SUMIFS($I$4:I16,$C$4:C16,C16),SUMIFS($I$4:I16,$C$4:C16,C17)))","v":0},0,null,null,null,"رمز البرنـامج الفرعي:",null,null,null,null,{"$f":"الواجهة!C10","v":"02"}]
[15,null,{"$f":"IFERROR(VLOOKUP(D18,Nomenclature!$B$2:$C$196,2,0),\"\")","v":""},null,null,null,null,{"$f":"IF(C18=\"\",0,IF(SUMIFS($G$5:G18,$C$5:C18,C18)-SUMIFS($I$4:I17,$C$4:C17,C18)<0,0,SUMIFS($G$5:G18,$C$5:C18,C18)-SUMIFS($I$4:I17,$C$4:C17,C18)))","v":0},null,{"$f":"IF(C18=\"\",0,IF(C18=$C$4,SUMIFS($I$4:I17,$C$4:C17,C17),SUMIFS($I$4:I17,$C$4:C17,C18)))","v":0},0,null,null,null,null,null,null,null,null,null,null,null,null,null,null,null,null,null,null,null,null,null,null,null,null,null,null,null,null,null,null,null,null,"\n\n\n"]
[16,null,{"$f":"IFERROR(VLOOKUP(D19,Nomenclature!$B$2:$C$196,2,0),\"\")","v":""},null,null,null,null,{"$f":"IF(C19=\"\",0,IF(SUMIFS($G$5:G19,$C$5:C19,C19)-SUMIFS($I$4:I18,$C$4:C18,C19)<0,0,SUMIFS($G$5:G19,$C$5:C19,C19)-SUMIFS($I$4:I18,$C$4:C18,C19)))","v":0},null,{"$f":"IF(C19=\"\",0,IF(C19=$C$4,SUMIFS($I$4:I18,$C$4:C18,C18),SUMIFS($I$4:I18,$C$4:C18,C19)))","v":0},0]
[17,null,{"$f":"IFERROR(VLOOKUP(D20,Nomenclature!$B$2:$C$196,2,0),\"\")","v":""},null,null,null,null,{"$f":"IF(C20=\"\",0,IF(SUMIFS($G$5:G20,$C$5:C20,C20)-SUMIFS($I$4:I19,$C$4:C19,C20)<0,0,SUMIFS($G$5:G20,$C$5:C20,C20)-SUMIFS($I$4:I19,$C$4:C19,C20)))","v":0},null,{"$f":"IF(C20=\"\",0,IF(C20=$C$4,SUMIFS($I$4:I19,$C$4:C19,C19),SUMIFS($I$4:I19,$C$4:C19,C20)))","v":0},0,null,null,null,"العنوان:"]
[18,null,{"$f":"IFERROR(VLOOKUP(D21,Nomenclature!$B$2:$C$196,2,0),\"\")","v":""},null,null,null,null,{"$f":"IF(C21=\"\",0,IF(SUMIFS($G$5:G21,$C$5:C21,C21)-SUMIFS($I$4:I20,$C$4:C20,C21)<0,0,SUMIFS($G$5:G21,$C$5:C21,C21)-SUMIFS($I$4:I20,$C$4:C20,C21)))","v":0},null,{"$f":"IF(C21=\"\",0,IF(C21=$C$4,SUMIFS($I$4:I20,$C$4:C20,C20),SUMIFS($I$4:I20,$C$4:C20,C21)))","v":0},0,null,null,null,null,null,{"$f":"IF(C4<20000,\"X\",\"\")","v":"X"},null,"العنوان الأول:",null,null,null,"نفقات المستخدمين"]
[19,null,{"$f":"IFERROR(VLOOKUP(D22,Nomenclature!$B$2:$C$196,2,0),\"\")","v":""},null,null,null,null,{"$f":"IF(C22=\"\",0,IF(SUMIFS($G$5:G22,$C$5:C22,C22)-SUMIFS($I$4:I21,$C$4:C21,C22)<0,0,SUMIFS($G$5:G22,$C$5:C22,C22)-SUMIFS($I$4:I21,$C$4:C21,C22)))","v":0},null,{"$f":"IF(C22=\"\",0,IF(C22=$C$4,SUMIFS($I$4:I21,$C$4:C21,C21),SUMIFS($I$4:I21,$C$4:C21,C22)))","v":0},0,null,null,null,null,null,{"$f":"IF(AND(C4>19999,C4<40000),\"X\",\"\")","v":""},null,"العنوان الثاني:",null,null,null,"نفقات تسيير المصالح"]
[20,null,{"$f":"IFERROR(VLOOKUP(D23,Nomenclature!$B$2:$C$196,2,0),\"\")","v":""},null,null,null,null,{"$f":"IF(C23=\"\",0,IF(SUMIFS($G$5:G23,$C$5:C23,C23)-SUMIFS($I$4:I22,$C$4:C22,C23)<0,0,SUMIFS($G$5:G23,$C$5:C23,C23)-SUMIFS($I$4:I22,$C$4:C22,C23)))","v":0},null,{"$f":"IF(C23=\"\",0,IF(C23=$C$4,SUMIFS($I$4:I22,$C$4:C22,C22),SUMIFS($I$4:I22,$C$4:C22,C23)))","v":0},0,null,null,null,null,null,{"$f":"IF(AND(Q21=\"\",Q22=\"\"),\"X\",\"\")","v":""},null,"العنوان الرابع:",null,null,null,"نفقات التحويل"]
[21,null,{"$f":"IFERROR(VLOOKUP(D24,Nomenclature!$B$2:$C$196,2,0),\"\")","v":""},null,null,null,null,{"$f":"IF(C24=\"\",0,IF(SUMIFS($G$5:G24,$C$5:C24,C24)-SUMIFS($I$4:I23,$C$4:C23,C24)<0,0,SUMIFS($G$5:G24,$C$5:C24,C24)-SUMIFS($I$4:I23,$C$4:C23,C24)))","v":0},null,{"$f":"IF(C24=\"\",0,IF(C24=$C$4,SUMIFS($I$4:I23,$C$4:C23,C23),SUMIFS($I$4:I23,$C$4:C23,C24)))","v":0},0,null,null,null,null,null,null,{"$f":"IF(VLOOKUP(N1,A4:L203,12,0)=\"\",\"- - - - - - - - - - - - - - - - - - - - - - - - - - - - - - - - - - - - - - - - - - - - - - - / / / - - - - - - - - - - - - - - - - - - - - - - - - - - - - - - - - - - - - - - - - - - - - - - -\"& CHAR(10)&\"- - - - - - - - - - - - - - - - - - - - - - - - - - - - - - - - - - - - - - - - - - - - - - - / / / - - - - - - - - - - - - - - - - - - - - - - - - - - - - - - - - - - - - - - - - - - - - - - -\",VLOOKUP(N1,A4:L203,12,0))","v":"- - - - - - - - - - - - - - - - - - - - - - - - - - - - - - - - - - - - - - - - - - - - - - - / / / - - - - - - - - - - - - - - - - - - - - - - - - - - - - - - - - - - - - - - - - - - - - - - -\n- - - - - - - - - - - - - - - - - - - - - - - - - - - - - - - - - - - - - - - - - - - - - - - / / / - - - - - - - - - - - - - - - - - - - - - - - - - - - - - - - - - - - - - - - - - - - - - - -"}]
[22,null,{"$f":"IFERROR(VLOOKUP(D25,Nomenclature!$B$2:$C$196,2,0),\"\")","v":""},null,null,null,null,{"$f":"IF(C25=\"\",0,IF(SUMIFS($G$5:G25,$C$5:C25,C25)-SUMIFS($I$4:I24,$C$4:C24,C25)<0,0,SUMIFS($G$5:G25,$C$5:C25,C25)-SUMIFS($I$4:I24,$C$4:C24,C25)))","v":0},null,{"$f":"IF(C25=\"\",0,IF(C25=$C$4,SUMIFS($I$4:I24,$C$4:C24,C24),SUMIFS($I$4:I24,$C$4:C24,C25)))","v":0},0]
[23,null,{"$f":"IFERROR(VLOOKUP(D26,Nomenclature!$B$2:$C$196,2,0),\"\")","v":""},null,null,null,null,{"$f":"IF(C26=\"\",0,IF(SUMIFS($G$5:G26,$C$5:C26,C26)-SUMIFS($I$4:I25,$C$4:C25,C26)<0,0,SUMIFS($G$5:G26,$C$5:C26,C26)-SUMIFS($I$4:I25,$C$4:C25,C26)))","v":0},null,{"$f":"IF(C26=\"\",0,IF(C26=$C$4,SUMIFS($I$4:I25,$C$4:C25,C25),SUMIFS($I$4:I25,$C$4:C25,C26)))","v":0},0]
[24,null,{"$f":"IFERROR(VLOOKUP(D27,Nomenclature!$B$2:$C$196,2,0),\"\")","v":""},null,null,null,null,{"$f":"IF(C27=\"\",0,IF(SUMIFS($G$5:G27,$C$5:C27,C27)-SUMIFS($I$4:I26,$C$4:C26,C27)<0,0,SUMIFS($G$5:G27,$C$5:C27,C27)-SUMIFS($I$4:I26,$C$4:C26,C27)))","v":0},null,{"$f":"IF(C27=\"\",0,IF(C27=$C$4,SUMIFS($I$4:I26,$C$4:C26,C26),SUMIFS($I$4:I26,$C$4:C26,C27)))","v":0},0,null,null,null,"الصنف / الصنف الفرعي",null,null,null,null,null,null,null,"رخصة الالتزام\nالمفتوحة/المعدلة",null,null,null,"مجموع الالتزامات السابقة",null,null,null,"الرصيد\nالأولي",null,null,null,"الالتزام\nالمقترح",null,null,null,"الرصيد المتبقى"]
[25,null,{"$f":"IFERROR(VLOOKUP(D28,Nomenclature!$B$2:$C$196,2,0),\"\")","v":""},null,null,null,null,{"$f":"IF(C28=\"\",0,IF(SUMIFS($G$5:G28,$C$5:C28,C28)-SUMIFS($I$4:I27,$C$4:C27,C28)<0,0,SUMIFS($G$5:G28,$C$5:C28,C28)-SUMIFS($I$4:I27,$C$4:C27,C28)))","v":0},null,{"$f":"IF(C28=\"\",0,IF(C28=$C$4,SUMIFS($I$4:I27,$C$4:C27,C27),SUMIFS($I$4:I27,$C$4:C27,C28)))","v":0},0]
[26,null,{"$f":"IFERROR(VLOOKUP(D29,Nomenclature!$B$2:$C$196,2,0),\"\")","v":""},null,null,null,null,{"$f":"IF(C29=\"\",0,IF(SUMIFS($G$5:G29,$C$5:C29,C29)-SUMIFS($I$4:I28,$C$4:C28,C29)<0,0,SUMIFS($G$5:G29,$C$5:C29,C29)-SUMIFS($I$4:I28,$C$4:C28,C29)))","v":0},null,{"$f":"IF(C29=\"\",0,IF(C29=$C$4,SUMIFS($I$4:I28,$C$4:C28,C28),SUMIFS($I$4:I28,$C$4:C28,C29)))","v":0},0,null,null,null,"الصنف",null,null,null,{"$f":"C4","v":11000},null,null,null,{"$f":"SUM($F$4:INDIRECT(\"f\"&N1+3))","v":11944593},null,null,null,{"$f":"SUM($I$4:INDIRECT(\"i\"&N1+2))","v":0},null,null,null,{"$f":"W29-AA29","v":11944593},null,null,null,{"$f":"IF(S31=\"\",0,VLOOKUP(N1,A4:L103,9,0))","v":0},null,null,null,{"$f":"IF((AE29-AI29)<0,\"رصيد غير كاف\",AE29-AI29)","v":11944593}]
[27,null,{"$f":"IFERROR(VLOOKUP(D30,Nomenclature!$B$2:$C$196,2,0),\"\")","v":""},null,null,null,null,{"$f":"IF(C30=\"\",0,IF(SUMIFS($G$5:G30,$C$5:C30,C30)-SUMIFS($I$4:I29,$C$4:C29,C30)<0,0,SUMIFS($G$5:G30,$C$5:C30,C30)-SUMIFS($I$4:I29,$C$4:C29,C30)))","v":0},null,{"$f":"IF(C30=\"\",0,IF(C30=$C$4,SUMIFS($I$4:I29,$C$4:C29,C29),SUMIFS($I$4:I29,$C$4:C29,C30)))","v":0},0]
[28,null,{"$f":"IFERROR(VLOOKUP(D31,Nomenclature!$B$2:$C$196,2,0),\"\")","v":""},null,null,null,null,{"$f":"IF(C31=\"\",0,IF(SUMIFS($G$5:G31,$C$5:C31,C31)-SUMIFS($I$4:I30,$C$4:C30,C31)<0,0,SUMIFS($G$5:G31,$C$5:C31,C31)-SUMIFS($I$4:I30,$C$4:C30,C31)))","v":0},null,{"$f":"IF(C31=\"\",0,IF(C31=$C$4,SUMIFS($I$4:I30,$C$4:C30,C30),SUMIFS($I$4:I30,$C$4:C30,C31)))","v":0},0,null,null,null,"الصنف الفرعي",null,null,null,{"$f":"IF(IFERROR(VLOOKUP(N1,A4:L103,3,0),\"انتبه خطأ\")=S29,\"\",IFERROR(VLOOKUP(N1,A4:L103,3,0),\"انتبه خطأ\"))","v":11220},null,null,null,{"$f":"IF(S31=\"\",\"\",VLOOKUP(N1,A4:L103,8,0))","v":1444593},null,null,null,{"$f":"IF(S31=\"\",\"\",VLOOKUP(N1,A4:L103,10,0))","v":0},null,null,null,{"$f":"IF(S31=\"\",\"\",W31-AA31)","v":1444593},null,null,null,{"$f":"IF(S31=\"\",\"\",VLOOKUP(N1,A4:L103,9,0))","v":0},null,null,null,{"$f":"IF(S31=\"\",\"\",IF((AE31-AI31)<0,\"رصيد غير كاف\",AE31-AI31))","v":1444593}]
[29,null,{"$f":"IFERROR(VLOOKUP(D32,Nomenclature!$B$2:$C$196,2,0),\"\")","v":""},null,null,null,null,{"$f":"IF(C32=\"\",0,IF(SUMIFS($G$5:G32,$C$5:C32,C32)-SUMIFS($I$4:I31,$C$4:C31,C32)<0,0,SUMIFS($G$5:G32,$C$5:C32,C32)-SUMIFS($I$4:I31,$C$4:C31,C32)))","v":0},null,{"$f":"IF(C32=\"\",0,IF(C32=$C$4,SUMIFS($I$4:I31,$C$4:C31,C31),SUMIFS($I$4:I31,$C$4:C31,C32)))","v":0},0]
[30,null,{"$f":"IFERROR(VLOOKUP(D33,Nomenclature!$B$2:$C$196,2,0),\"\")","v":""},null,null,null,null,{"$f":"IF(C33=\"\",0,IF(SUMIFS($G$5:G33,$C$5:C33,C33)-SUMIFS($I$4:I32,$C$4:C32,C33)<0,0,SUMIFS($G$5:G33,$C$5:C33,C33)-SUMIFS($I$4:I32,$C$4:C32,C33)))","v":0},null,{"$f":"IF(C33=\"\",0,IF(C33=$C$4,SUMIFS($I$4:I32,$C$4:C32,C32),SUMIFS($I$4:I32,$C$4:C32,C33)))","v":0},0]
[31,null,{"$f":"IFERROR(VLOOKUP(D34,Nomenclature!$B$2:$C$196,2,0),\"\")","v":""},null,null,null,null,{"$f":"IF(C34=\"\",0,IF(SUMIFS($G$5:G34,$C$5:C34,C34)-SUMIFS($I$4:I33,$C$4:C33,C34)<0,0,SUMIFS($G$5:G34,$C$5:C34,C34)-SUMIFS($I$4:I33,$C$4:C33,C34)))","v":0},null,{"$f":"IF(C34=\"\",0,IF(C34=$C$4,SUMIFS($I$4:I33,$C$4:C33,C33),SUMIFS($I$4:I33,$C$4:C33,C34)))","v":0},0,null,null,null,"موضوع الالتزام:"]
[32,null,{"$f":"IFERROR(VLOOKUP(D35,Nomenclature!$B$2:$C$196,2,0),\"\")","v":""},null,null,null,null,{"$f":"IF(C35=\"\",0,IF(SUMIFS($G$5:G35,$C$5:C35,C35)-SUMIFS($I$4:I34,$C$4:C34,C35)<0,0,SUMIFS($G$5:G35,$C$5:C35,C35)-SUMIFS($I$4:I34,$C$4:C34,C35)))","v":0},null,{"$f":"IF(C35=\"\",0,IF(C35=$C$4,SUMIFS($I$4:I34,$C$4:C34,C34),SUMIFS($I$4:I34,$C$4:C34,C35)))","v":0},0,null,null,null,{"$f":"IF(VLOOKUP(N1,A4:L203,5,0)=0,\"\",IFERROR(VLOOKUP(N1,A4:L203,5,0),\"انتبه خطأ\"))","v":"التزام في الجدول الأصلي الأولي رقم 2023/02 الخاص بالمرتبات الشهرية للاعوان المتعاقدين بالتوقيت الجزئي من 2023/01/01 إلى غاية 2023/12/31"}]
[33,null,{"$f":"IFERROR(VLOOKUP(D36,Nomenclature!$B$2:$C$196,2,0),\"\")","v":""},null,null,null,null,{"$f":"IF(C36=\"\",0,IF(SUMIFS($G$5:G36,$C$5:C36,C36)-SUMIFS($I$4:I35,$C$4:C35,C36)<0,0,SUMIFS($G$5:G36,$C$5:C36,C36)-SUMIFS($I$4:I35,$C$4:C35,C36)))","v":0},null,{"$f":"IF(C36=\"\",0,IF(C36=$C$4,SUMIFS($I$4:I35,$C$4:C35,C35),SUMIFS($I$4:I35,$C$4:C35,C36)))","v":0},{"$f":"IF(C36=\"\",0,H36-I36)","v":0}]
[34,null,{"$f":"IFERROR(VLOOKUP(D37,Nomenclature!$B$2:$C$196,2,0),\"\")","v":""},null,null,null,null,{"$f":"IF(C37=\"\",0,IF(SUMIFS($G$5:G37,$C$5:C37,C37)-SUMIFS($I$4:I36,$C$4:C36,C37)<0,0,SUMIFS($G$5:G37,$C$5:C37,C37)-SUMIFS($I$4:I36,$C$4:C36,C37)))","v":0},null,{"$f":"IF(C37=\"\",0,IF(C37=$C$4,SUMIFS($I$4:I36,$C$4:C36,C36),SUMIFS($I$4:I36,$C$4:C36,C37)))","v":0},0]
[35,null,{"$f":"IFERROR(VLOOKUP(D38,Nomenclature!$B$2:$C$196,2,0),\"\")","v":""},null,null,null,null,{"$f":"IF(C38=\"\",0,IF(SUMIFS($G$5:G38,$C$5:C38,C38)-SUMIFS($I$4:I37,$C$4:C37,C38)<0,0,SUMIFS($G$5:G38,$C$5:C38,C38)-SUMIFS($I$4:I37,$C$4:C37,C38)))","v":0},null,{"$f":"IF(C38=\"\",0,IF(C38=$C$4,SUMIFS($I$4:I37,$C$4:C37,C37),SUMIFS($I$4:I37,$C$4:C37,C38)))","v":0},0]
[36,null,{"$f":"IFERROR(VLOOKUP(D39,Nomenclature!$B$2:$C$196,2,0),\"\")","v":""},null,null,null,null,{"$f":"IF(C39=\"\",0,IF(SUMIFS($G$5:G39,$C$5:C39,C39)-SUMIFS($I$4:I38,$C$4:C38,C39)<0,0,SUMIFS($G$5:G39,$C$5:C39,C39)-SUMIFS($I$4:I38,$C$4:C38,C39)))","v":0},null,{"$f":"IF(C39=\"\",0,IF(C39=$C$4,SUMIFS($I$4:I38,$C$4:C38,C38),SUMIFS($I$4:I38,$C$4:C38,C39)))","v":0},0]
[37,null,{"$f":"IFERROR(VLOOKUP(D40,Nomenclature!$B$2:$C$196,2,0),\"\")","v":""},null,null,null,null,{"$f":"IF(C40=\"\",0,IF(SUMIFS($G$5:G40,$C$5:C40,C40)-SUMIFS($I$4:I39,$C$4:C39,C40)<0,0,SUMIFS($G$5:G40,$C$5:C40,C40)-SUMIFS($I$4:I39,$C$4:C39,C40)))","v":0},null,{"$f":"IF(C40=\"\",0,IF(C40=$C$4,SUMIFS($I$4:I39,$C$4:C39,C39),SUMIFS($I$4:I39,$C$4:C39,C40)))","v":0},0,null,null,null,"المبلغ بالحروف:",null,null,null,{"$f":"IFERROR(arretera(AI31),\"\")","v":""}]
[38,null,{"$f":"IFERROR(VLOOKUP(D41,Nomenclature!$B$2:$C$196,2,0),\"\")","v":""},null,null,null,null,{"$f":"IF(C41=\"\",0,IF(SUMIFS($G$5:G41,$C$5:C41,C41)-SUMIFS($I$4:I40,$C$4:C40,C41)<0,0,SUMIFS($G$5:G41,$C$5:C41,C41)-SUMIFS($I$4:I40,$C$4:C40,C41)))","v":0},null,{"$f":"IF(C41=\"\",0,IF(C41=$C$4,SUMIFS($I$4:I40,$C$4:C40,C40),SUMIFS($I$4:I40,$C$4:C40,C41)))","v":0},0]
[39,null,{"$f":"IFERROR(VLOOKUP(D42,Nomenclature!$B$2:$C$196,2,0),\"\")","v":""},null,null,null,null,{"$f":"IF(C42=\"\",0,IF(SUMIFS($G$5:G42,$C$5:C42,C42)-SUMIFS($I$4:I41,$C$4:C41,C42)<0,0,SUMIFS($G$5:G42,$C$5:C42,C42)-SUMIFS($I$4:I41,$C$4:C41,C42)))","v":0},null,{"$f":"IF(C42=\"\",0,IF(C42=$C$4,SUMIFS($I$4:I41,$C$4:C41,C41),SUMIFS($I$4:I41,$C$4:C41,C42)))","v":0},0]
[40,null,{"$f":"IFERROR(VLOOKUP(D43,Nomenclature!$B$2:$C$196,2,0),\"\")","v":""},null,null,null,null,{"$f":"IF(C43=\"\",0,IF(SUMIFS($G$5:G43,$C$5:C43,C43)-SUMIFS($I$4:I42,$C$4:C42,C43)<0,0,SUMIFS($G$5:G43,$C$5:C43,C43)-SUMIFS($I$4:I42,$C$4:C42,C43)))","v":0},null,{"$f":"IF(C43=\"\",0,IF(C43=$C$4,SUMIFS($I$4:I42,$C$4:C42,C42),SUMIFS($I$4:I42,$C$4:C42,C43)))","v":0},0,null,null,null,"إطار مخصص للمراقب الميزانياتي",null,null,null,null,null,null,null,null,null,null,null,null,null,"إطار مخصص للآمر بالصرف"]
[41,null,{"$f":"IFERROR(VLOOKUP(D44,Nomenclature!$B$2:$C$196,2,0),\"\")","v":""},null,null,null,null,{"$f":"IF(C44=\"\",0,IF(SUMIFS($G$5:G44,$C$5:C44,C44)-SUMIFS($I$4:I43,$C$4:C43,C44)<0,0,SUMIFS($G$5:G44,$C$5:C44,C44)-SUMIFS($I$4:I43,$C$4:C43,C44)))","v":0},null,{"$f":"IF(C44=\"\",0,IF(C44=$C$4,SUMIFS($I$4:I43,$C$4:C43,C43),SUMIFS($I$4:I43,$C$4:C43,C44)))","v":0},0]
[42,null,{"$f":"IFERROR(VLOOKUP(D45,Nomenclature!$B$2:$C$196,2,0),\"\")","v":""},null,null,null,null,{"$f":"IF(C45=\"\",0,IF(SUMIFS($G$5:G45,$C$5:C45,C45)-SUMIFS($I$4:I44,$C$4:C44,C45)<0,0,SUMIFS($G$5:G45,$C$5:C45,C45)-SUMIFS($I$4:I44,$C$4:C44,C45)))","v":0},null,{"$f":"IF(C45=\"\",0,IF(C45=$C$4,SUMIFS($I$4:I44,$C$4:C44,C44),SUMIFS($I$4:I44,$C$4:C44,C45)))","v":0},0,null,null,null,"رقم التأشيرة:",null,null,null,null,null,null,null,null,null,null,null,null,null,null,"ختم"]
[43,null,{"$f":"IFERROR(VLOOKUP(D46,Nomenclature!$B$2:$C$196,2,0),\"\")","v":""},null,null,null,null,{"$f":"IF(C46=\"\",0,IF(SUMIFS($G$5:G46,$C$5:C46,C46)-SUMIFS($I$4:I45,$C$4:C45,C46)<0,0,SUMIFS($G$5:G46,$C$5:C46,C46)-SUMIFS($I$4:I45,$C$4:C45,C46)))","v":0},null,{"$f":"IF(C46=\"\",0,IF(C46=$C$4,SUMIFS($I$4:I45,$C$4:C45,C45),SUMIFS($I$4:I45,$C$4:C45,C46)))","v":0},0]
[44,null,{"$f":"IFERROR(VLOOKUP(D47,Nomenclature!$B$2:$C$196,2,0),\"\")","v":""},null,null,null,null,{"$f":"IF(C47=\"\",0,IF(SUMIFS($G$5:G47,$C$5:C47,C47)-SUMIFS($I$4:I46,$C$4:C46,C47)<0,0,SUMIFS($G$5:G47,$C$5:C47,C47)-SUMIFS($I$4:I46,$C$4:C46,C47)))","v":0},null,{"$f":"IF(C47=\"\",0,IF(C47=$C$4,SUMIFS($I$4:I46,$C$4:C46,C46),SUMIFS($I$4:I46,$C$4:C46,C47)))","v":0},0,null,null,null,"تاريخ التأشيرة:"]
[45,null,{"$f":"IFERROR(VLOOKUP(D48,Nomenclature!$B$2:$C$196,2,0),\"\")","v":""},null,null,null,null,{"$f":"IF(C48=\"\",0,IF(SUMIFS($G$5:G48,$C$5:C48,C48)-SUMIFS($I$4:I47,$C$4:C47,C48)<0,0,SUMIFS($G$5:G48,$C$5:C48,C48)-SUMIFS($I$4:I47,$C$4:C47,C48)))","v":0},null,{"$f":"IF(C48=\"\",0,IF(C48=$C$4,SUMIFS($I$4:I47,$C$4:C47,C47),SUMIFS($I$4:I47,$C$4:C47,C48)))","v":0},0,null,null,null,null,null,null,null,null,null,null,null,null,null,null,null,null,null,null,"امضاء"]
[46,null,{"$f":"IFERROR(VLOOKUP(D49,Nomenclature!$B$2:$C$196,2,0),\"\")","v":""},null,null,null,null,{"$f":"IF(C49=\"\",0,IF(SUMIFS($G$5:G49,$C$5:C49,C49)-SUMIFS($I$4:I48,$C$4:C48,C49)<0,0,SUMIFS($G$5:G49,$C$5:C49,C49)-SUMIFS($I$4:I48,$C$4:C48,C49)))","v":0},null,{"$f":"IF(C49=\"\",0,IF(C49=$C$4,SUMIFS($I$4:I48,$C$4:C48,C48),SUMIFS($I$4:I48,$C$4:C48,C49)))","v":0},0]
[47,null,{"$f":"IFERROR(VLOOKUP(D50,Nomenclature!$B$2:$C$196,2,0),\"\")","v":""},null,null,null,null,{"$f":"IF(C50=\"\",0,IF(SUMIFS($G$5:G50,$C$5:C50,C50)-SUMIFS($I$4:I49,$C$4:C49,C50)<0,0,SUMIFS($G$5:G50,$C$5:C50,C50)-SUMIFS($I$4:I49,$C$4:C49,C50)))","v":0},null,{"$f":"IF(C50=\"\",0,IF(C50=$C$4,SUMIFS($I$4:I49,$C$4:C49,C49),SUMIFS($I$4:I49,$C$4:C49,C50)))","v":0},0]
[48,null,{"$f":"IFERROR(VLOOKUP(D51,Nomenclature!$B$2:$C$196,2,0),\"\")","v":""},null,null,null,null,{"$f":"IF(C51=\"\",0,IF(SUMIFS($G$5:G51,$C$5:C51,C51)-SUMIFS($I$4:I50,$C$4:C50,C51)<0,0,SUMIFS($G$5:G51,$C$5:C51,C51)-SUMIFS($I$4:I50,$C$4:C50,C51)))","v":0},null,{"$f":"IF(C51=\"\",0,IF(C51=$C$4,SUMIFS($I$4:I50,$C$4:C50,C50),SUMIFS($I$4:I50,$C$4:C50,C51)))","v":0},0,null,null,null,null,{"$f":"AD48","v":"امضاء"},null,null,null,null,null,null,null,{"$f":"AD45","v":"ختم"}]
[49,null,{"$f":"IFERROR(VLOOKUP(D52,Nomenclature!$B$2:$C$196,2,0),\"\")","v":""},null,null,null,null,{"$f":"IF(C52=\"\",0,IF(SUMIFS($G$5:G52,$C$5:C52,C52)-SUMIFS($I$4:I51,$C$4:C51,C52)<0,0,SUMIFS($G$5:G52,$C$5:C52,C52)-SUMIFS($I$4:I51,$C$4:C51,C52)))","v":0},null,{"$f":"IF(C52=\"\",0,IF(C52=$C$4,SUMIFS($I$4:I51,$C$4:C51,C51),SUMIFS($I$4:I51,$C$4:C51,C52)))","v":0},0]
[50,null,{"$f":"IFERROR(VLOOKUP(D53,Nomenclature!$B$2:$C$196,2,0),\"\")","v":""},null,null,null,null,{"$f":"IF(C53=\"\",0,IF(SUMIFS($G$5:G53,$C$5:C53,C53)-SUMIFS($I$4:I52,$C$4:C52,C53)<0,0,SUMIFS($G$5:G53,$C$5:C53,C53)-SUMIFS($I$4:I52,$C$4:C52,C53)))","v":0},null,{"$f":"IF(C53=\"\",0,IF(C53=$C$4,SUMIFS($I$4:I52,$C$4:C52,C52),SUMIFS($I$4:I52,$C$4:C52,C53)))","v":0},0]
[51,null,{"$f":"IFERROR(VLOOKUP(D54,Nomenclature!$B$2:$C$196,2,0),\"\")","v":""},null,null,null,null,{"$f":"IF(C54=\"\",0,IF(SUMIFS($G$5:G54,$C$5:C54,C54)-SUMIFS($I$4:I53,$C$4:C53,C54)<0,0,SUMIFS($G$5:G54,$C$5:C54,C54)-SUMIFS($I$4:I53,$C$4:C53,C54)))","v":0},null,{"$f":"IF(C54=\"\",0,IF(C54=$C$4,SUMIFS($I$4:I53,$C$4:C53,C53),SUMIFS($I$4:I53,$C$4:C53,C54)))","v":0},0]
[52,null,{"$f":"IFERROR(VLOOKUP(D55,Nomenclature!$B$2:$C$196,2,0),\"\")","v":""},null,null,null,null,{"$f":"IF(C55=\"\",0,IF(SUMIFS($G$5:G55,$C$5:C55,C55)-SUMIFS($I$4:I54,$C$4:C54,C55)<0,0,SUMIFS($G$5:G55,$C$5:C55,C55)-SUMIFS($I$4:I54,$C$4:C54,C55)))","v":0},null,{"$f":"IF(C55=\"\",0,IF(C55=$C$4,SUMIFS($I$4:I54,$C$4:C54,C54),SUMIFS($I$4:I54,$C$4:C54,C55)))","v":0},0]
[53,null,{"$f":"IFERROR(VLOOKUP(D56,Nomenclature!$B$2:$C$196,2,0),\"\")","v":""},null,null,null,null,{"$f":"IF(C56=\"\",0,IF(SUMIFS($G$5:G56,$C$5:C56,C56)-SUMIFS($I$4:I55,$C$4:C55,C56)<0,0,SUMIFS($G$5:G56,$C$5:C56,C56)-SUMIFS($I$4:I55,$C$4:C55,C56)))","v":0},null,{"$f":"IF(C56=\"\",0,IF(C56=$C$4,SUMIFS($I$4:I55,$C$4:C55,C55),SUMIFS($I$4:I55,$C$4:C55,C56)))","v":0},0]
[54,null,{"$f":"IFERROR(VLOOKUP(D57,Nomenclature!$B$2:$C$196,2,0),\"\")","v":""},null,null,null,null,{"$f":"IF(C57=\"\",0,IF(SUMIFS($G$5:G57,$C$5:C57,C57)-SUMIFS($I$4:I56,$C$4:C56,C57)<0,0,SUMIFS($G$5:G57,$C$5:C57,C57)-SUMIFS($I$4:I56,$C$4:C56,C57)))","v":0},null,{"$f":"IF(C57=\"\",0,IF(C57=$C$4,SUMIFS($I$4:I56,$C$4:C56,C56),SUMIFS($I$4:I56,$C$4:C56,C57)))","v":0},0]
[55,null,{"$f":"IFERROR(VLOOKUP(D58,Nomenclature!$B$2:$C$196,2,0),\"\")","v":""},null,null,null,null,{"$f":"IF(C58=\"\",0,IF(SUMIFS($G$5:G58,$C$5:C58,C58)-SUMIFS($I$4:I57,$C$4:C57,C58)<0,0,SUMIFS($G$5:G58,$C$5:C58,C58)-SUMIFS($I$4:I57,$C$4:C57,C58)))","v":0},null,{"$f":"IF(C58=\"\",0,IF(C58=$C$4,SUMIFS($I$4:I57,$C$4:C57,C57),SUMIFS($I$4:I57,$C$4:C57,C58)))","v":0},0]
[56,null,{"$f":"IFERROR(VLOOKUP(D59,Nomenclature!$B$2:$C$196,2,0),\"\")","v":""},null,null,null,null,{"$f":"IF(C59=\"\",0,IF(SUMIFS($G$5:G59,$C$5:C59,C59)-SUMIFS($I$4:I58,$C$4:C58,C59)<0,0,SUMIFS($G$5:G59,$C$5:C59,C59)-SUMIFS($I$4:I58,$C$4:C58,C59)))","v":0},null,{"$f":"IF(C59=\"\",0,IF(C59=$C$4,SUMIFS($I$4:I58,$C$4:C58,C58),SUMIFS($I$4:I58,$C$4:C58,C59)))","v":0},0]
[57,null,{"$f":"IFERROR(VLOOKUP(D60,Nomenclature!$B$2:$C$196,2,0),\"\")","v":""},null,null,null,null,{"$f":"IF(C60=\"\",0,IF(SUMIFS($G$5:G60,$C$5:C60,C60)-SUMIFS($I$4:I59,$C$4:C59,C60)<0,0,SUMIFS($G$5:G60,$C$5:C60,C60)-SUMIFS($I$4:I59,$C$4:C59,C60)))","v":0},null,{"$f":"IF(C60=\"\",0,IF(C60=$C$4,SUMIFS($I$4:I59,$C$4:C59,C59),SUMIFS($I$4:I59,$C$4:C59,C60)))","v":0},0]
[58,null,{"$f":"IFERROR(VLOOKUP(D61,Nomenclature!$B$2:$C$196,2,0),\"\")","v":""},null,null,null,null,{"$f":"IF(C61=\"\",0,IF(SUMIFS($G$5:G61,$C$5:C61,C61)-SUMIFS($I$4:I60,$C$4:C60,C61)<0,0,SUMIFS($G$5:G61,$C$5:C61,C61)-SUMIFS($I$4:I60,$C$4:C60,C61)))","v":0},null,{"$f":"IF(C61=\"\",0,IF(C61=$C$4,SUMIFS($I$4:I60,$C$4:C60,C60),SUMIFS($I$4:I60,$C$4:C60,C61)))","v":0},0]
[59,null,{"$f":"IFERROR(VLOOKUP(D62,Nomenclature!$B$2:$C$196,2,0),\"\")","v":""},null,null,null,null,{"$f":"IF(C62=\"\",0,IF(SUMIFS($G$5:G62,$C$5:C62,C62)-SUMIFS($I$4:I61,$C$4:C61,C62)<0,0,SUMIFS($G$5:G62,$C$5:C62,C62)-SUMIFS($I$4:I61,$C$4:C61,C62)))","v":0},null,{"$f":"IF(C62=\"\",0,IF(C62=$C$4,SUMIFS($I$4:I61,$C$4:C61,C61),SUMIFS($I$4:I61,$C$4:C61,C62)))","v":0},0]
[60,null,{"$f":"IFERROR(VLOOKUP(D63,Nomenclature!$B$2:$C$196,2,0),\"\")","v":""},null,null,null,null,{"$f":"IF(C63=\"\",0,IF(SUMIFS($G$5:G63,$C$5:C63,C63)-SUMIFS($I$4:I62,$C$4:C62,C63)<0,0,SUMIFS($G$5:G63,$C$5:C63,C63)-SUMIFS($I$4:I62,$C$4:C62,C63)))","v":0},null,{"$f":"IF(C63=\"\",0,IF(C63=$C$4,SUMIFS($I$4:I62,$C$4:C62,C62),SUMIFS($I$4:I62,$C$4:C62,C63)))","v":0},0]
[61,null,{"$f":"IFERROR(VLOOKUP(D64,Nomenclature!$B$2:$C$196,2,0),\"\")","v":""},null,null,null,null,{"$f":"IF(C64=\"\",0,IF(SUMIFS($G$5:G64,$C$5:C64,C64)-SUMIFS($I$4:I63,$C$4:C63,C64)<0,0,SUMIFS($G$5:G64,$C$5:C64,C64)-SUMIFS($I$4:I63,$C$4:C63,C64)))","v":0},null,{"$f":"IF(C64=\"\",0,IF(C64=$C$4,SUMIFS($I$4:I63,$C$4:C63,C63),SUMIFS($I$4:I63,$C$4:C63,C64)))","v":0},0]
[62,null,{"$f":"IFERROR(VLOOKUP(D65,Nomenclature!$B$2:$C$196,2,0),\"\")","v":""},null,null,null,null,{"$f":"IF(C65=\"\",0,IF(SUMIFS($G$5:G65,$C$5:C65,C65)-SUMIFS($I$4:I64,$C$4:C64,C65)<0,0,SUMIFS($G$5:G65,$C$5:C65,C65)-SUMIFS($I$4:I64,$C$4:C64,C65)))","v":0},null,{"$f":"IF(C65=\"\",0,IF(C65=$C$4,SUMIFS($I$4:I64,$C$4:C64,C64),SUMIFS($I$4:I64,$C$4:C64,C65)))","v":0},0]
[63,null,{"$f":"IFERROR(VLOOKUP(D66,Nomenclature!$B$2:$C$196,2,0),\"\")","v":""},null,null,null,null,{"$f":"IF(C66=\"\",0,IF(SUMIFS($G$5:G66,$C$5:C66,C66)-SUMIFS($I$4:I65,$C$4:C65,C66)<0,0,SUMIFS($G$5:G66,$C$5:C66,C66)-SUMIFS($I$4:I65,$C$4:C65,C66)))","v":0},null,{"$f":"IF(C66=\"\",0,IF(C66=$C$4,SUMIFS($I$4:I65,$C$4:C65,C65),SUMIFS($I$4:I65,$C$4:C65,C66)))","v":0},0]
[64,null,{"$f":"IFERROR(VLOOKUP(D67,Nomenclature!$B$2:$C$196,2,0),\"\")","v":""},null,null,null,null,{"$f":"IF(C67=\"\",0,IF(SUMIFS($G$5:G67,$C$5:C67,C67)-SUMIFS($I$4:I66,$C$4:C66,C67)<0,0,SUMIFS($G$5:G67,$C$5:C67,C67)-SUMIFS($I$4:I66,$C$4:C66,C67)))","v":0},null,{"$f":"IF(C67=\"\",0,IF(C67=$C$4,SUMIFS($I$4:I66,$C$4:C66,C66),SUMIFS($I$4:I66,$C$4:C66,C67)))","v":0},0]
[65,null,{"$f":"IFERROR(VLOOKUP(D68,Nomenclature!$B$2:$C$196,2,0),\"\")","v":""},null,null,null,null,{"$f":"IF(C68=\"\",0,IF(SUMIFS($G$5:G68,$C$5:C68,C68)-SUMIFS($I$4:I67,$C$4:C67,C68)<0,0,SUMIFS($G$5:G68,$C$5:C68,C68)-SUMIFS($I$4:I67,$C$4:C67,C68)))","v":0},null,{"$f":"IF(C68=\"\",0,IF(C68=$C$4,SUMIFS($I$4:I67,$C$4:C67,C67),SUMIFS($I$4:I67,$C$4:C67,C68)))","v":0},{"$f":"IF(C68=\"\",0,H68-I68)","v":0}]
[66,null,{"$f":"IFERROR(VLOOKUP(D69,Nomenclature!$B$2:$C$196,2,0),\"\")","v":""},null,null,null,null,{"$f":"IF(C69=\"\",0,IF(SUMIFS($G$5:G69,$C$5:C69,C69)-SUMIFS($I$4:I68,$C$4:C68,C69)<0,0,SUMIFS($G$5:G69,$C$5:C69,C69)-SUMIFS($I$4:I68,$C$4:C68,C69)))","v":0},null,{"$f":"IF(C69=\"\",0,IF(C69=$C$4,SUMIFS($I$4:I68,$C$4:C68,C68),SUMIFS($I$4:I68,$C$4:C68,C69)))","v":0},0]
[67,null,{"$f":"IFERROR(VLOOKUP(D70,Nomenclature!$B$2:$C$196,2,0),\"\")","v":""},null,null,null,null,{"$f":"IF(C70=\"\",0,IF(SUMIFS($G$5:G70,$C$5:C70,C70)-SUMIFS($I$4:I69,$C$4:C69,C70)<0,0,SUMIFS($G$5:G70,$C$5:C70,C70)-SUMIFS($I$4:I69,$C$4:C69,C70)))","v":0},null,{"$f":"IF(C70=\"\",0,IF(C70=$C$4,SUMIFS($I$4:I69,$C$4:C69,C69),SUMIFS($I$4:I69,$C$4:C69,C70)))","v":0},0]
[68,null,{"$f":"IFERROR(VLOOKUP(D71,Nomenclature!$B$2:$C$196,2,0),\"\")","v":""},null,null,null,null,{"$f":"IF(C71=\"\",0,IF(SUMIFS($G$5:G71,$C$5:C71,C71)-SUMIFS($I$4:I70,$C$4:C70,C71)<0,0,SUMIFS($G$5:G71,$C$5:C71,C71)-SUMIFS($I$4:I70,$C$4:C70,C71)))","v":0},null,{"$f":"IF(C71=\"\",0,IF(C71=$C$4,SUMIFS($I$4:I70,$C$4:C70,C70),SUMIFS($I$4:I70,$C$4:C70,C71)))","v":0},0]
[69,null,{"$f":"IFERROR(VLOOKUP(D72,Nomenclature!$B$2:$C$196,2,0),\"\")","v":""},null,null,null,null,{"$f":"IF(C72=\"\",0,IF(SUMIFS($G$5:G72,$C$5:C72,C72)-SUMIFS($I$4:I71,$C$4:C71,C72)<0,0,SUMIFS($G$5:G72,$C$5:C72,C72)-SUMIFS($I$4:I71,$C$4:C71,C72)))","v":0},null,{"$f":"IF(C72=\"\",0,IF(C72=$C$4,SUMIFS($I$4:I71,$C$4:C71,C71),SUMIFS($I$4:I71,$C$4:C71,C72)))","v":0},0]
[70,null,{"$f":"IFERROR(VLOOKUP(D73,Nomenclature!$B$2:$C$196,2,0),\"\")","v":""},null,null,null,null,{"$f":"IF(C73=\"\",0,IF(SUMIFS($G$5:G73,$C$5:C73,C73)-SUMIFS($I$4:I72,$C$4:C72,C73)<0,0,SUMIFS($G$5:G73,$C$5:C73,C73)-SUMIFS($I$4:I72,$C$4:C72,C73)))","v":0},null,{"$f":"IF(C73=\"\",0,IF(C73=$C$4,SUMIFS($I$4:I72,$C$4:C72,C72),SUMIFS($I$4:I72,$C$4:C72,C73)))","v":0},0]
[71,null,{"$f":"IFERROR(VLOOKUP(D74,Nomenclature!$B$2:$C$196,2,0),\"\")","v":""},null,null,null,null,{"$f":"IF(C74=\"\",0,IF(SUMIFS($G$5:G74,$C$5:C74,C74)-SUMIFS($I$4:I73,$C$4:C73,C74)<0,0,SUMIFS($G$5:G74,$C$5:C74,C74)-SUMIFS($I$4:I73,$C$4:C73,C74)))","v":0},null,{"$f":"IF(C74=\"\",0,IF(C74=$C$4,SUMIFS($I$4:I73,$C$4:C73,C73),SUMIFS($I$4:I73,$C$4:C73,C74)))","v":0},0]
[72,null,{"$f":"IFERROR(VLOOKUP(D75,Nomenclature!$B$2:$C$196,2,0),\"\")","v":""},null,null,null,null,{"$f":"IF(C75=\"\",0,IF(SUMIFS($G$5:G75,$C$5:C75,C75)-SUMIFS($I$4:I74,$C$4:C74,C75)<0,0,SUMIFS($G$5:G75,$C$5:C75,C75)-SUMIFS($I$4:I74,$C$4:C74,C75)))","v":0},null,{"$f":"IF(C75=\"\",0,IF(C75=$C$4,SUMIFS($I$4:I74,$C$4:C74,C74),SUMIFS($I$4:I74,$C$4:C74,C75)))","v":0},0]
[73,null,{"$f":"IFERROR(VLOOKUP(D76,Nomenclature!$B$2:$C$196,2,0),\"\")","v":""},null,null,null,null,{"$f":"IF(C76=\"\",0,IF(SUMIFS($G$5:G76,$C$5:C76,C76)-SUMIFS($I$4:I75,$C$4:C75,C76)<0,0,SUMIFS($G$5:G76,$C$5:C76,C76)-SUMIFS($I$4:I75,$C$4:C75,C76)))","v":0},null,{"$f":"IF(C76=\"\",0,IF(C76=$C$4,SUMIFS($I$4:I75,$C$4:C75,C75),SUMIFS($I$4:I75,$C$4:C75,C76)))","v":0},0]
[74,null,{"$f":"IFERROR(VLOOKUP(D77,Nomenclature!$B$2:$C$196,2,0),\"\")","v":""},null,null,null,null,{"$f":"IF(C77=\"\",0,IF(SUMIFS($G$5:G77,$C$5:C77,C77)-SUMIFS($I$4:I76,$C$4:C76,C77)<0,0,SUMIFS($G$5:G77,$C$5:C77,C77)-SUMIFS($I$4:I76,$C$4:C76,C77)))","v":0},null,{"$f":"IF(C77=\"\",0,IF(C77=$C$4,SUMIFS($I$4:I76,$C$4:C76,C76),SUMIFS($I$4:I76,$C$4:C76,C77)))","v":0},0]
[75,null,{"$f":"IFERROR(VLOOKUP(D78,Nomenclature!$B$2:$C$196,2,0),\"\")","v":""},null,null,null,null,{"$f":"IF(C78=\"\",0,IF(SUMIFS($G$5:G78,$C$5:C78,C78)-SUMIFS($I$4:I77,$C$4:C77,C78)<0,0,SUMIFS($G$5:G78,$C$5:C78,C78)-SUMIFS($I$4:I77,$C$4:C77,C78)))","v":0},null,{"$f":"IF(C78=\"\",0,IF(C78=$C$4,SUMIFS($I$4:I77,$C$4:C77,C77),SUMIFS($I$4:I77,$C$4:C77,C78)))","v":0},0]
[76,null,{"$f":"IFERROR(VLOOKUP(D79,Nomenclature!$B$2:$C$196,2,0),\"\")","v":""},null,null,null,null,{"$f":"IF(C79=\"\",0,IF(SUMIFS($G$5:G79,$C$5:C79,C79)-SUMIFS($I$4:I78,$C$4:C78,C79)<0,0,SUMIFS($G$5:G79,$C$5:C79,C79)-SUMIFS($I$4:I78,$C$4:C78,C79)))","v":0},null,{"$f":"IF(C79=\"\",0,IF(C79=$C$4,SUMIFS($I$4:I78,$C$4:C78,C78),SUMIFS($I$4:I78,$C$4:C78,C79)))","v":0},0]
[77,null,{"$f":"IFERROR(VLOOKUP(D80,Nomenclature!$B$2:$C$196,2,0),\"\")","v":""},null,null,null,null,{"$f":"IF(C80=\"\",0,IF(SUMIFS($G$5:G80,$C$5:C80,C80)-SUMIFS($I$4:I79,$C$4:C79,C80)<0,0,SUMIFS($G$5:G80,$C$5:C80,C80)-SUMIFS($I$4:I79,$C$4:C79,C80)))","v":0},null,{"$f":"IF(C80=\"\",0,IF(C80=$C$4,SUMIFS($I$4:I79,$C$4:C79,C79),SUMIFS($I$4:I79,$C$4:C79,C80)))","v":0},0]
[78,null,{"$f":"IFERROR(VLOOKUP(D81,Nomenclature!$B$2:$C$196,2,0),\"\")","v":""},null,null,null,null,{"$f":"IF(C81=\"\",0,IF(SUMIFS($G$5:G81,$C$5:C81,C81)-SUMIFS($I$4:I80,$C$4:C80,C81)<0,0,SUMIFS($G$5:G81,$C$5:C81,C81)-SUMIFS($I$4:I80,$C$4:C80,C81)))","v":0},null,{"$f":"IF(C81=\"\",0,IF(C81=$C$4,SUMIFS($I$4:I80,$C$4:C80,C80),SUMIFS($I$4:I80,$C$4:C80,C81)))","v":0},0]
[79,null,{"$f":"IFERROR(VLOOKUP(D82,Nomenclature!$B$2:$C$196,2,0),\"\")","v":""},null,null,null,null,{"$f":"IF(C82=\"\",0,IF(SUMIFS($G$5:G82,$C$5:C82,C82)-SUMIFS($I$4:I81,$C$4:C81,C82)<0,0,SUMIFS($G$5:G82,$C$5:C82,C82)-SUMIFS($I$4:I81,$C$4:C81,C82)))","v":0},null,{"$f":"IF(C82=\"\",0,IF(C82=$C$4,SUMIFS($I$4:I81,$C$4:C81,C81),SUMIFS($I$4:I81,$C$4:C81,C82)))","v":0},0]
[80,null,{"$f":"IFERROR(VLOOKUP(D83,Nomenclature!$B$2:$C$196,2,0),\"\")","v":""},null,null,null,null,{"$f":"IF(C83=\"\",0,IF(SUMIFS($G$5:G83,$C$5:C83,C83)-SUMIFS($I$4:I82,$C$4:C82,C83)<0,0,SUMIFS($G$5:G83,$C$5:C83,C83)-SUMIFS($I$4:I82,$C$4:C82,C83)))","v":0},null,{"$f":"IF(C83=\"\",0,IF(C83=$C$4,SUMIFS($I$4:I82,$C$4:C82,C82),SUMIFS($I$4:I82,$C$4:C82,C83)))","v":0},0]
[81,null,{"$f":"IFERROR(VLOOKUP(D84,Nomenclature!$B$2:$C$196,2,0),\"\")","v":""},null,null,null,null,{"$f":"IF(C84=\"\",0,IF(SUMIFS($G$5:G84,$C$5:C84,C84)-SUMIFS($I$4:I83,$C$4:C83,C84)<0,0,SUMIFS($G$5:G84,$C$5:C84,C84)-SUMIFS($I$4:I83,$C$4:C83,C84)))","v":0},null,{"$f":"IF(C84=\"\",0,IF(C84=$C$4,SUMIFS($I$4:I83,$C$4:C83,C83),SUMIFS($I$4:I83,$C$4:C83,C84)))","v":0},0]
[82,null,{"$f":"IFERROR(VLOOKUP(D85,Nomenclature!$B$2:$C$196,2,0),\"\")","v":""},null,null,null,null,{"$f":"IF(C85=\"\",0,IF(SUMIFS($G$5:G85,$C$5:C85,C85)-SUMIFS($I$4:I84,$C$4:C84,C85)<0,0,SUMIFS($G$5:G85,$C$5:C85,C85)-SUMIFS($I$4:I84,$C$4:C84,C85)))","v":0},null,{"$f":"IF(C85=\"\",0,IF(C85=$C$4,SUMIFS($I$4:I84,$C$4:C84,C84),SUMIFS($I$4:I84,$C$4:C84,C85)))","v":0},0]
[83,null,{"$f":"IFERROR(VLOOKUP(D86,Nomenclature!$B$2:$C$196,2,0),\"\")","v":""},null,null,null,null,{"$f":"IF(C86=\"\",0,IF(SUMIFS($G$5:G86,$C$5:C86,C86)-SUMIFS($I$4:I85,$C$4:C85,C86)<0,0,SUMIFS($G$5:G86,$C$5:C86,C86)-SUMIFS($I$4:I85,$C$4:C85,C86)))","v":0},null,{"$f":"IF(C86=\"\",0,IF(C86=$C$4,SUMIFS($I$4:I85,$C$4:C85,C85),SUMIFS($I$4:I85,$C$4:C85,C86)))","v":0},0]
[84,null,{"$f":"IFERROR(VLOOKUP(D87,Nomenclature!$B$2:$C$196,2,0),\"\")","v":""},null,null,null,null,{"$f":"IF(C87=\"\",0,IF(SUMIFS($G$5:G87,$C$5:C87,C87)-SUMIFS($I$4:I86,$C$4:C86,C87)<0,0,SUMIFS($G$5:G87,$C$5:C87,C87)-SUMIFS($I$4:I86,$C$4:C86,C87)))","v":0},null,{"$f":"IF(C87=\"\",0,IF(C87=$C$4,SUMIFS($I$4:I86,$C$4:C86,C86),SUMIFS($I$4:I86,$C$4:C86,C87)))","v":0},0]
[85,null,{"$f":"IFERROR(VLOOKUP(D88,Nomenclature!$B$2:$C$196,2,0),\"\")","v":""},null,null,null,null,{"$f":"IF(C88=\"\",0,IF(SUMIFS($G$5:G88,$C$5:C88,C88)-SUMIFS($I$4:I87,$C$4:C87,C88)<0,0,SUMIFS($G$5:G88,$C$5:C88,C88)-SUMIFS($I$4:I87,$C$4:C87,C88)))","v":0},null,{"$f":"IF(C88=\"\",0,IF(C88=$C$4,SUMIFS($I$4:I87,$C$4:C87,C87),SUMIFS($I$4:I87,$C$4:C87,C88)))","v":0},0]
[86,null,{"$f":"IFERROR(VLOOKUP(D89,Nomenclature!$B$2:$C$196,2,0),\"\")","v":""},null,null,null,null,{"$f":"IF(C89=\"\",0,IF(SUMIFS($G$5:G89,$C$5:C89,C89)-SUMIFS($I$4:I88,$C$4:C88,C89)<0,0,SUMIFS($G$5:G89,$C$5:C89,C89)-SUMIFS($I$4:I88,$C$4:C88,C89)))","v":0},null,{"$f":"IF(C89=\"\",0,IF(C89=$C$4,SUMIFS($I$4:I88,$C$4:C88,C88),SUMIFS($I$4:I88,$C$4:C88,C89)))","v":0},0]
[87,null,{"$f":"IFERROR(VLOOKUP(D90,Nomenclature!$B$2:$C$196,2,0),\"\")","v":""},null,null,null,null,{"$f":"IF(C90=\"\",0,IF(SUMIFS($G$5:G90,$C$5:C90,C90)-SUMIFS($I$4:I89,$C$4:C89,C90)<0,0,SUMIFS($G$5:G90,$C$5:C90,C90)-SUMIFS($I$4:I89,$C$4:C89,C90)))","v":0},null,{"$f":"IF(C90=\"\",0,IF(C90=$C$4,SUMIFS($I$4:I89,$C$4:C89,C89),SUMIFS($I$4:I89,$C$4:C89,C90)))","v":0},0]
[88,null,{"$f":"IFERROR(VLOOKUP(D91,Nomenclature!$B$2:$C$196,2,0),\"\")","v":""},null,null,null,null,{"$f":"IF(C91=\"\",0,IF(SUMIFS($G$5:G91,$C$5:C91,C91)-SUMIFS($I$4:I90,$C$4:C90,C91)<0,0,SUMIFS($G$5:G91,$C$5:C91,C91)-SUMIFS($I$4:I90,$C$4:C90,C91)))","v":0},null,{"$f":"IF(C91=\"\",0,IF(C91=$C$4,SUMIFS($I$4:I90,$C$4:C90,C90),SUMIFS($I$4:I90,$C$4:C90,C91)))","v":0},0]
[89,null,{"$f":"IFERROR(VLOOKUP(D92,Nomenclature!$B$2:$C$196,2,0),\"\")","v":""},null,null,null,null,{"$f":"IF(C92=\"\",0,IF(SUMIFS($G$5:G92,$C$5:C92,C92)-SUMIFS($I$4:I91,$C$4:C91,C92)<0,0,SUMIFS($G$5:G92,$C$5:C92,C92)-SUMIFS($I$4:I91,$C$4:C91,C92)))","v":0},null,{"$f":"IF(C92=\"\",0,IF(C92=$C$4,SUMIFS($I$4:I91,$C$4:C91,C91),SUMIFS($I$4:I91,$C$4:C91,C92)))","v":0},0]
[90,null,{"$f":"IFERROR(VLOOKUP(D93,Nomenclature!$B$2:$C$196,2,0),\"\")","v":""},null,null,null,null,{"$f":"IF(C93=\"\",0,IF(SUMIFS($G$5:G93,$C$5:C93,C93)-SUMIFS($I$4:I92,$C$4:C92,C93)<0,0,SUMIFS($G$5:G93,$C$5:C93,C93)-SUMIFS($I$4:I92,$C$4:C92,C93)))","v":0},null,{"$f":"IF(C93=\"\",0,IF(C93=$C$4,SUMIFS($I$4:I92,$C$4:C92,C92),SUMIFS($I$4:I92,$C$4:C92,C93)))","v":0},0]
[91,null,{"$f":"IFERROR(VLOOKUP(D94,Nomenclature!$B$2:$C$196,2,0),\"\")","v":""},null,null,null,null,{"$f":"IF(C94=\"\",0,IF(SUMIFS($G$5:G94,$C$5:C94,C94)-SUMIFS($I$4:I93,$C$4:C93,C94)<0,0,SUMIFS($G$5:G94,$C$5:C94,C94)-SUMIFS($I$4:I93,$C$4:C93,C94)))","v":0},null,{"$f":"IF(C94=\"\",0,IF(C94=$C$4,SUMIFS($I$4:I93,$C$4:C93,C93),SUMIFS($I$4:I93,$C$4:C93,C94)))","v":0},0]
[92,null,{"$f":"IFERROR(VLOOKUP(D95,Nomenclature!$B$2:$C$196,2,0),\"\")","v":""},null,null,null,null,{"$f":"IF(C95=\"\",0,IF(SUMIFS($G$5:G95,$C$5:C95,C95)-SUMIFS($I$4:I94,$C$4:C94,C95)<0,0,SUMIFS($G$5:G95,$C$5:C95,C95)-SUMIFS($I$4:I94,$C$4:C94,C95)))","v":0},null,{"$f":"IF(C95=\"\",0,IF(C95=$C$4,SUMIFS($I$4:I94,$C$4:C94,C94),SUMIFS($I$4:I94,$C$4:C94,C95)))","v":0},0]
[93,null,{"$f":"IFERROR(VLOOKUP(D96,Nomenclature!$B$2:$C$196,2,0),\"\")","v":""},null,null,null,null,{"$f":"IF(C96=\"\",0,IF(SUMIFS($G$5:G96,$C$5:C96,C96)-SUMIFS($I$4:I95,$C$4:C95,C96)<0,0,SUMIFS($G$5:G96,$C$5:C96,C96)-SUMIFS($I$4:I95,$C$4:C95,C96)))","v":0},null,{"$f":"IF(C96=\"\",0,IF(C96=$C$4,SUMIFS($I$4:I95,$C$4:C95,C95),SUMIFS($I$4:I95,$C$4:C95,C96)))","v":0},0]
[94,null,{"$f":"IFERROR(VLOOKUP(D97,Nomenclature!$B$2:$C$196,2,0),\"\")","v":""},null,null,null,null,{"$f":"IF(C97=\"\",0,IF(SUMIFS($G$5:G97,$C$5:C97,C97)-SUMIFS($I$4:I96,$C$4:C96,C97)<0,0,SUMIFS($G$5:G97,$C$5:C97,C97)-SUMIFS($I$4:I96,$C$4:C96,C97)))","v":0},null,{"$f":"IF(C97=\"\",0,IF(C97=$C$4,SUMIFS($I$4:I96,$C$4:C96,C96),SUMIFS($I$4:I96,$C$4:C96,C97)))","v":0},0]
[95,null,{"$f":"IFERROR(VLOOKUP(D98,Nomenclature!$B$2:$C$196,2,0),\"\")","v":""},null,null,null,null,{"$f":"IF(C98=\"\",0,IF(SUMIFS($G$5:G98,$C$5:C98,C98)-SUMIFS($I$4:I97,$C$4:C97,C98)<0,0,SUMIFS($G$5:G98,$C$5:C98,C98)-SUMIFS($I$4:I97,$C$4:C97,C98)))","v":0},null,{"$f":"IF(C98=\"\",0,IF(C98=$C$4,SUMIFS($I$4:I97,$C$4:C97,C97),SUMIFS($I$4:I97,$C$4:C97,C98)))","v":0},0]
[96,null,{"$f":"IFERROR(VLOOKUP(D99,Nomenclature!$B$2:$C$196,2,0),\"\")","v":""},null,null,null,null,{"$f":"IF(C99=\"\",0,IF(SUMIFS($G$5:G99,$C$5:C99,C99)-SUMIFS($I$4:I98,$C$4:C98,C99)<0,0,SUMIFS($G$5:G99,$C$5:C99,C99)-SUMIFS($I$4:I98,$C$4:C98,C99)))","v":0},null,{"$f":"IF(C99=\"\",0,IF(C99=$C$4,SUMIFS($I$4:I98,$C$4:C98,C98),SUMIFS($I$4:I98,$C$4:C98,C99)))","v":0},0]
[97,null,{"$f":"IFERROR(VLOOKUP(D100,Nomenclature!$B$2:$C$196,2,0),\"\")","v":""},null,null,null,null,{"$f":"IF(C100=\"\",0,IF(SUMIFS($G$5:G100,$C$5:C100,C100)-SUMIFS($I$4:I99,$C$4:C99,C100)<0,0,SUMIFS($G$5:G100,$C$5:C100,C100)-SUMIFS($I$4:I99,$C$4:C99,C100)))","v":0},null,{"$f":"IF(C100=\"\",0,IF(C100=$C$4,SUMIFS($I$4:I99,$C$4:C99,C99),SUMIFS($I$4:I99,$C$4:C99,C100)))","v":0},{"$f":"IF(C100=\"\",0,H100-I100)","v":0}]
[98,null,{"$f":"IFERROR(VLOOKUP(D101,Nomenclature!$B$2:$C$196,2,0),\"\")","v":""},null,null,null,null,{"$f":"IF(C101=\"\",0,IF(SUMIFS($G$5:G101,$C$5:C101,C101)-SUMIFS($I$4:I100,$C$4:C100,C101)<0,0,SUMIFS($G$5:G101,$C$5:C101,C101)-SUMIFS($I$4:I100,$C$4:C100,C101)))","v":0},null,{"$f":"IF(C101=\"\",0,IF(C101=$C$4,SUMIFS($I$4:I100,$C$4:C100,C100),SUMIFS($I$4:I100,$C$4:C100,C101)))","v":0},0]
[99,null,{"$f":"IFERROR(VLOOKUP(D102,Nomenclature!$B$2:$C$196,2,0),\"\")","v":""},null,null,null,null,{"$f":"IF(C102=\"\",0,IF(SUMIFS($G$5:G102,$C$5:C102,C102)-SUMIFS($I$4:I101,$C$4:C101,C102)<0,0,SUMIFS($G$5:G102,$C$5:C102,C102)-SUMIFS($I$4:I101,$C$4:C101,C102)))","v":0},null,{"$f":"IF(C102=\"\",0,IF(C102=$C$4,SUMIFS($I$4:I101,$C$4:C101,C101),SUMIFS($I$4:I101,$C$4:C101,C102)))","v":0},0]
[100,null,{"$f":"IFERROR(VLOOKUP(D103,Nomenclature!$B$2:$C$196,2,0),\"\")","v":""},null,null,null,null,{"$f":"IF(C103=\"\",0,IF(SUMIFS($G$5:G103,$C$5:C103,C103)-SUMIFS($I$4:I102,$C$4:C102,C103)<0,0,SUMIFS($G$5:G103,$C$5:C103,C103)-SUMIFS($I$4:I102,$C$4:C102,C103)))","v":0},null,{"$f":"IF(C103=\"\",0,IF(C103=$C$4,SUMIFS($I$4:I102,$C$4:C102,C102),SUMIFS($I$4:I102,$C$4:C102,C103)))","v":0},0]
[101,null,{"$f":"IFERROR(VLOOKUP(D104,Nomenclature!$B$2:$C$196,2,0),\"\")","v":""},null,null,null,null,{"$f":"IF(C104=\"\",0,IF(SUMIFS($G$5:G104,$C$5:C104,C104)-SUMIFS($I$4:I103,$C$4:C103,C104)<0,0,SUMIFS($G$5:G104,$C$5:C104,C104)-SUMIFS($I$4:I103,$C$4:C103,C104)))","v":0},null,{"$f":"IF(C104=\"\",0,IF(C104=$C$4,SUMIFS($I$4:I103,$C$4:C103,C103),SUMIFS($I$4:I103,$C$4:C103,C104)))","v":0},0]
[102,null,{"$f":"IFERROR(VLOOKUP(D105,Nomenclature!$B$2:$C$196,2,0),\"\")","v":""},null,null,null,null,{"$f":"IF(C105=\"\",0,IF(SUMIFS($G$5:G105,$C$5:C105,C105)-SUMIFS($I$4:I104,$C$4:C104,C105)<0,0,SUMIFS($G$5:G105,$C$5:C105,C105)-SUMIFS($I$4:I104,$C$4:C104,C105)))","v":0},null,{"$f":"IF(C105=\"\",0,IF(C105=$C$4,SUMIFS($I$4:I104,$C$4:C104,C104),SUMIFS($I$4:I104,$C$4:C104,C105)))","v":0},0]
[103,null,{"$f":"IFERROR(VLOOKUP(D106,Nomenclature!$B$2:$C$196,2,0),\"\")","v":""},null,null,null,null,{"$f":"IF(C106=\"\",0,IF(SUMIFS($G$5:G106,$C$5:C106,C106)-SUMIFS($I$4:I105,$C$4:C105,C106)<0,0,SUMIFS($G$5:G106,$C$5:C106,C106)-SUMIFS($I$4:I105,$C$4:C105,C106)))","v":0},null,{"$f":"IF(C106=\"\",0,IF(C106=$C$4,SUMIFS($I$4:I105,$C$4:C105,C105),SUMIFS($I$4:I105,$C$4:C105,C106)))","v":0},0]
[104,null,{"$f":"IFERROR(VLOOKUP(D107,Nomenclature!$B$2:$C$196,2,0),\"\")","v":""},null,null,null,null,{"$f":"IF(C107=\"\",0,IF(SUMIFS($G$5:G107,$C$5:C107,C107)-SUMIFS($I$4:I106,$C$4:C106,C107)<0,0,SUMIFS($G$5:G107,$C$5:C107,C107)-SUMIFS($I$4:I106,$C$4:C106,C107)))","v":0},null,{"$f":"IF(C107=\"\",0,IF(C107=$C$4,SUMIFS($I$4:I106,$C$4:C106,C106),SUMIFS($I$4:I106,$C$4:C106,C107)))","v":0},0]
[105,null,{"$f":"IFERROR(VLOOKUP(D108,Nomenclature!$B$2:$C$196,2,0),\"\")","v":""},null,null,null,null,{"$f":"IF(C108=\"\",0,IF(SUMIFS($G$5:G108,$C$5:C108,C108)-SUMIFS($I$4:I107,$C$4:C107,C108)<0,0,SUMIFS($G$5:G108,$C$5:C108,C108)-SUMIFS($I$4:I107,$C$4:C107,C108)))","v":0},null,{"$f":"IF(C108=\"\",0,IF(C108=$C$4,SUMIFS($I$4:I107,$C$4:C107,C107),SUMIFS($I$4:I107,$C$4:C107,C108)))","v":0},0]
[106,null,{"$f":"IFERROR(VLOOKUP(D109,Nomenclature!$B$2:$C$196,2,0),\"\")","v":""},null,null,null,null,{"$f":"IF(C109=\"\",0,IF(SUMIFS($G$5:G109,$C$5:C109,C109)-SUMIFS($I$4:I108,$C$4:C108,C109)<0,0,SUMIFS($G$5:G109,$C$5:C109,C109)-SUMIFS($I$4:I108,$C$4:C108,C109)))","v":0},null,{"$f":"IF(C109=\"\",0,IF(C109=$C$4,SUMIFS($I$4:I108,$C$4:C108,C108),SUMIFS($I$4:I108,$C$4:C108,C109)))","v":0},0]
[107,null,{"$f":"IFERROR(VLOOKUP(D110,Nomenclature!$B$2:$C$196,2,0),\"\")","v":""},null,null,null,null,{"$f":"IF(C110=\"\",0,IF(SUMIFS($G$5:G110,$C$5:C110,C110)-SUMIFS($I$4:I109,$C$4:C109,C110)<0,0,SUMIFS($G$5:G110,$C$5:C110,C110)-SUMIFS($I$4:I109,$C$4:C109,C110)))","v":0},null,{"$f":"IF(C110=\"\",0,IF(C110=$C$4,SUMIFS($I$4:I109,$C$4:C109,C109),SUMIFS($I$4:I109,$C$4:C109,C110)))","v":0},0]
[108,null,{"$f":"IFERROR(VLOOKUP(D111,Nomenclature!$B$2:$C$196,2,0),\"\")","v":""},null,null,null,null,{"$f":"IF(C111=\"\",0,IF(SUMIFS($G$5:G111,$C$5:C111,C111)-SUMIFS($I$4:I110,$C$4:C110,C111)<0,0,SUMIFS($G$5:G111,$C$5:C111,C111)-SUMIFS($I$4:I110,$C$4:C110,C111)))","v":0},null,{"$f":"IF(C111=\"\",0,IF(C111=$C$4,SUMIFS($I$4:I110,$C$4:C110,C110),SUMIFS($I$4:I110,$C$4:C110,C111)))","v":0},0]
[109,null,{"$f":"IFERROR(VLOOKUP(D112,Nomenclature!$B$2:$C$196,2,0),\"\")","v":""},null,null,null,null,{"$f":"IF(C112=\"\",0,IF(SUMIFS($G$5:G112,$C$5:C112,C112)-SUMIFS($I$4:I111,$C$4:C111,C112)<0,0,SUMIFS($G$5:G112,$C$5:C112,C112)-SUMIFS($I$4:I111,$C$4:C111,C112)))","v":0},null,{"$f":"IF(C112=\"\",0,IF(C112=$C$4,SUMIFS($I$4:I111,$C$4:C111,C111),SUMIFS($I$4:I111,$C$4:C111,C112)))","v":0},0]
[110,null,{"$f":"IFERROR(VLOOKUP(D113,Nomenclature!$B$2:$C$196,2,0),\"\")","v":""},null,null,null,null,{"$f":"IF(C113=\"\",0,IF(SUMIFS($G$5:G113,$C$5:C113,C113)-SUMIFS($I$4:I112,$C$4:C112,C113)<0,0,SUMIFS($G$5:G113,$C$5:C113,C113)-SUMIFS($I$4:I112,$C$4:C112,C113)))","v":0},null,{"$f":"IF(C113=\"\",0,IF(C113=$C$4,SUMIFS($I$4:I112,$C$4:C112,C112),SUMIFS($I$4:I112,$C$4:C112,C113)))","v":0},0]
[111,null,{"$f":"IFERROR(VLOOKUP(D114,Nomenclature!$B$2:$C$196,2,0),\"\")","v":""},null,null,null,null,{"$f":"IF(C114=\"\",0,IF(SUMIFS($G$5:G114,$C$5:C114,C114)-SUMIFS($I$4:I113,$C$4:C113,C114)<0,0,SUMIFS($G$5:G114,$C$5:C114,C114)-SUMIFS($I$4:I113,$C$4:C113,C114)))","v":0},null,{"$f":"IF(C114=\"\",0,IF(C114=$C$4,SUMIFS($I$4:I113,$C$4:C113,C113),SUMIFS($I$4:I113,$C$4:C113,C114)))","v":0},0]
[112,null,{"$f":"IFERROR(VLOOKUP(D115,Nomenclature!$B$2:$C$196,2,0),\"\")","v":""},null,null,null,null,{"$f":"IF(C115=\"\",0,IF(SUMIFS($G$5:G115,$C$5:C115,C115)-SUMIFS($I$4:I114,$C$4:C114,C115)<0,0,SUMIFS($G$5:G115,$C$5:C115,C115)-SUMIFS($I$4:I114,$C$4:C114,C115)))","v":0},null,{"$f":"IF(C115=\"\",0,IF(C115=$C$4,SUMIFS($I$4:I114,$C$4:C114,C114),SUMIFS($I$4:I114,$C$4:C114,C115)))","v":0},0]
[113,null,{"$f":"IFERROR(VLOOKUP(D116,Nomenclature!$B$2:$C$196,2,0),\"\")","v":""},null,null,null,null,{"$f":"IF(C116=\"\",0,IF(SUMIFS($G$5:G116,$C$5:C116,C116)-SUMIFS($I$4:I115,$C$4:C115,C116)<0,0,SUMIFS($G$5:G116,$C$5:C116,C116)-SUMIFS($I$4:I115,$C$4:C115,C116)))","v":0},null,{"$f":"IF(C116=\"\",0,IF(C116=$C$4,SUMIFS($I$4:I115,$C$4:C115,C115),SUMIFS($I$4:I115,$C$4:C115,C116)))","v":0},0]
[114,null,{"$f":"IFERROR(VLOOKUP(D117,Nomenclature!$B$2:$C$196,2,0),\"\")","v":""},null,null,null,null,{"$f":"IF(C117=\"\",0,IF(SUMIFS($G$5:G117,$C$5:C117,C117)-SUMIFS($I$4:I116,$C$4:C116,C117)<0,0,SUMIFS($G$5:G117,$C$5:C117,C117)-SUMIFS($I$4:I116,$C$4:C116,C117)))","v":0},null,{"$f":"IF(C117=\"\",0,IF(C117=$C$4,SUMIFS($I$4:I116,$C$4:C116,C116),SUMIFS($I$4:I116,$C$4:C116,C117)))","v":0},0]
[115,null,{"$f":"IFERROR(VLOOKUP(D118,Nomenclature!$B$2:$C$196,2,0),\"\")","v":""},null,null,null,null,{"$f":"IF(C118=\"\",0,IF(SUMIFS($G$5:G118,$C$5:C118,C118)-SUMIFS($I$4:I117,$C$4:C117,C118)<0,0,SUMIFS($G$5:G118,$C$5:C118,C118)-SUMIFS($I$4:I117,$C$4:C117,C118)))","v":0},null,{"$f":"IF(C118=\"\",0,IF(C118=$C$4,SUMIFS($I$4:I117,$C$4:C117,C117),SUMIFS($I$4:I117,$C$4:C117,C118)))","v":0},0]
[116,null,{"$f":"IFERROR(VLOOKUP(D119,Nomenclature!$B$2:$C$196,2,0),\"\")","v":""},null,null,null,null,{"$f":"IF(C119=\"\",0,IF(SUMIFS($G$5:G119,$C$5:C119,C119)-SUMIFS($I$4:I118,$C$4:C118,C119)<0,0,SUMIFS($G$5:G119,$C$5:C119,C119)-SUMIFS($I$4:I118,$C$4:C118,C119)))","v":0},null,{"$f":"IF(C119=\"\",0,IF(C119=$C$4,SUMIFS($I$4:I118,$C$4:C118,C118),SUMIFS($I$4:I118,$C$4:C118,C119)))","v":0},0]
[117,null,{"$f":"IFERROR(VLOOKUP(D120,Nomenclature!$B$2:$C$196,2,0),\"\")","v":""},null,null,null,null,{"$f":"IF(C120=\"\",0,IF(SUMIFS($G$5:G120,$C$5:C120,C120)-SUMIFS($I$4:I119,$C$4:C119,C120)<0,0,SUMIFS($G$5:G120,$C$5:C120,C120)-SUMIFS($I$4:I119,$C$4:C119,C120)))","v":0},null,{"$f":"IF(C120=\"\",0,IF(C120=$C$4,SUMIFS($I$4:I119,$C$4:C119,C119),SUMIFS($I$4:I119,$C$4:C119,C120)))","v":0},0]
[118,null,{"$f":"IFERROR(VLOOKUP(D121,Nomenclature!$B$2:$C$196,2,0),\"\")","v":""},null,null,null,null,{"$f":"IF(C121=\"\",0,IF(SUMIFS($G$5:G121,$C$5:C121,C121)-SUMIFS($I$4:I120,$C$4:C120,C121)<0,0,SUMIFS($G$5:G121,$C$5:C121,C121)-SUMIFS($I$4:I120,$C$4:C120,C121)))","v":0},null,{"$f":"IF(C121=\"\",0,IF(C121=$C$4,SUMIFS($I$4:I120,$C$4:C120,C120),SUMIFS($I$4:I120,$C$4:C120,C121)))","v":0},0]
[119,null,{"$f":"IFERROR(VLOOKUP(D122,Nomenclature!$B$2:$C$196,2,0),\"\")","v":""},null,null,null,null,{"$f":"IF(C122=\"\",0,IF(SUMIFS($G$5:G122,$C$5:C122,C122)-SUMIFS($I$4:I121,$C$4:C121,C122)<0,0,SUMIFS($G$5:G122,$C$5:C122,C122)-SUMIFS($I$4:I121,$C$4:C121,C122)))","v":0},null,{"$f":"IF(C122=\"\",0,IF(C122=$C$4,SUMIFS($I$4:I121,$C$4:C121,C121),SUMIFS($I$4:I121,$C$4:C121,C122)))","v":0},0]
[120,null,{"$f":"IFERROR(VLOOKUP(D123,Nomenclature!$B$2:$C$196,2,0),\"\")","v":""},null,null,null,null,{"$f":"IF(C123=\"\",0,IF(SUMIFS($G$5:G123,$C$5:C123,C123)-SUMIFS($I$4:I122,$C$4:C122,C123)<0,0,SUMIFS($G$5:G123,$C$5:C123,C123)-SUMIFS($I$4:I122,$C$4:C122,C123)))","v":0},null,{"$f":"IF(C123=\"\",0,IF(C123=$C$4,SUMIFS($I$4:I122,$C$4:C122,C122),SUMIFS($I$4:I122,$C$4:C122,C123)))","v":0},0]
[121,null,{"$f":"IFERROR(VLOOKUP(D124,Nomenclature!$B$2:$C$196,2,0),\"\")","v":""},null,null,null,null,{"$f":"IF(C124=\"\",0,IF(SUMIFS($G$5:G124,$C$5:C124,C124)-SUMIFS($I$4:I123,$C$4:C123,C124)<0,0,SUMIFS($G$5:G124,$C$5:C124,C124)-SUMIFS($I$4:I123,$C$4:C123,C124)))","v":0},null,{"$f":"IF(C124=\"\",0,IF(C124=$C$4,SUMIFS($I$4:I123,$C$4:C123,C123),SUMIFS($I$4:I123,$C$4:C123,C124)))","v":0},0]
[122,null,{"$f":"IFERROR(VLOOKUP(D125,Nomenclature!$B$2:$C$196,2,0),\"\")","v":""},null,null,null,null,{"$f":"IF(C125=\"\",0,IF(SUMIFS($G$5:G125,$C$5:C125,C125)-SUMIFS($I$4:I124,$C$4:C124,C125)<0,0,SUMIFS($G$5:G125,$C$5:C125,C125)-SUMIFS($I$4:I124,$C$4:C124,C125)))","v":0},null,{"$f":"IF(C125=\"\",0,IF(C125=$C$4,SUMIFS($I$4:I124,$C$4:C124,C124),SUMIFS($I$4:I124,$C$4:C124,C125)))","v":0},0]
[123,null,{"$f":"IFERROR(VLOOKUP(D126,Nomenclature!$B$2:$C$196,2,0),\"\")","v":""},null,null,null,null,{"$f":"IF(C126=\"\",0,IF(SUMIFS($G$5:G126,$C$5:C126,C126)-SUMIFS($I$4:I125,$C$4:C125,C126)<0,0,SUMIFS($G$5:G126,$C$5:C126,C126)-SUMIFS($I$4:I125,$C$4:C125,C126)))","v":0},null,{"$f":"IF(C126=\"\",0,IF(C126=$C$4,SUMIFS($I$4:I125,$C$4:C125,C125),SUMIFS($I$4:I125,$C$4:C125,C126)))","v":0},0]
[124,null,{"$f":"IFERROR(VLOOKUP(D127,Nomenclature!$B$2:$C$196,2,0),\"\")","v":""},null,null,null,null,{"$f":"IF(C127=\"\",0,IF(SUMIFS($G$5:G127,$C$5:C127,C127)-SUMIFS($I$4:I126,$C$4:C126,C127)<0,0,SUMIFS($G$5:G127,$C$5:C127,C127)-SUMIFS($I$4:I126,$C$4:C126,C127)))","v":0},null,{"$f":"IF(C127=\"\",0,IF(C127=$C$4,SUMIFS($I$4:I126,$C$4:C126,C126),SUMIFS($I$4:I126,$C$4:C126,C127)))","v":0},0]
[125,null,{"$f":"IFERROR(VLOOKUP(D128,Nomenclature!$B$2:$C$196,2,0),\"\")","v":""},null,null,null,null,{"$f":"IF(C128=\"\",0,IF(SUMIFS($G$5:G128,$C$5:C128,C128)-SUMIFS($I$4:I127,$C$4:C127,C128)<0,0,SUMIFS($G$5:G128,$C$5:C128,C128)-SUMIFS($I$4:I127,$C$4:C127,C128)))","v":0},null,{"$f":"IF(C128=\"\",0,IF(C128=$C$4,SUMIFS($I$4:I127,$C$4:C127,C127),SUMIFS($I$4:I127,$C$4:C127,C128)))","v":0},0]
[126,null,{"$f":"IFERROR(VLOOKUP(D129,Nomenclature!$B$2:$C$196,2,0),\"\")","v":""},null,null,null,null,{"$f":"IF(C129=\"\",0,IF(SUMIFS($G$5:G129,$C$5:C129,C129)-SUMIFS($I$4:I128,$C$4:C128,C129)<0,0,SUMIFS($G$5:G129,$C$5:C129,C129)-SUMIFS($I$4:I128,$C$4:C128,C129)))","v":0},null,{"$f":"IF(C129=\"\",0,IF(C129=$C$4,SUMIFS($I$4:I128,$C$4:C128,C128),SUMIFS($I$4:I128,$C$4:C128,C129)))","v":0},0]
[127,null,{"$f":"IFERROR(VLOOKUP(D130,Nomenclature!$B$2:$C$196,2,0),\"\")","v":""},null,null,null,null,{"$f":"IF(C130=\"\",0,IF(SUMIFS($G$5:G130,$C$5:C130,C130)-SUMIFS($I$4:I129,$C$4:C129,C130)<0,0,SUMIFS($G$5:G130,$C$5:C130,C130)-SUMIFS($I$4:I129,$C$4:C129,C130)))","v":0},null,{"$f":"IF(C130=\"\",0,IF(C130=$C$4,SUMIFS($I$4:I129,$C$4:C129,C129),SUMIFS($I$4:I129,$C$4:C129,C130)))","v":0},0]
[128,null,{"$f":"IFERROR(VLOOKUP(D131,Nomenclature!$B$2:$C$196,2,0),\"\")","v":""},null,null,null,null,{"$f":"IF(C131=\"\",0,IF(SUMIFS($G$5:G131,$C$5:C131,C131)-SUMIFS($I$4:I130,$C$4:C130,C131)<0,0,SUMIFS($G$5:G131,$C$5:C131,C131)-SUMIFS($I$4:I130,$C$4:C130,C131)))","v":0},null,{"$f":"IF(C131=\"\",0,IF(C131=$C$4,SUMIFS($I$4:I130,$C$4:C130,C130),SUMIFS($I$4:I130,$C$4:C130,C131)))","v":0},0]
[129,null,{"$f":"IFERROR(VLOOKUP(D132,Nomenclature!$B$2:$C$196,2,0),\"\")","v":""},null,null,null,null,{"$f":"IF(C132=\"\",0,IF(SUMIFS($G$5:G132,$C$5:C132,C132)-SUMIFS($I$4:I131,$C$4:C131,C132)<0,0,SUMIFS($G$5:G132,$C$5:C132,C132)-SUMIFS($I$4:I131,$C$4:C131,C132)))","v":0},null,{"$f":"IF(C132=\"\",0,IF(C132=$C$4,SUMIFS($I$4:I131,$C$4:C131,C131),SUMIFS($I$4:I131,$C$4:C131,C132)))","v":0},{"$f":"IF(C132=\"\",0,H132-I132)","v":0}]
[130,null,{"$f":"IFERROR(VLOOKUP(D133,Nomenclature!$B$2:$C$196,2,0),\"\")","v":""},null,null,null,null,{"$f":"IF(C133=\"\",0,IF(SUMIFS($G$5:G133,$C$5:C133,C133)-SUMIFS($I$4:I132,$C$4:C132,C133)<0,0,SUMIFS($G$5:G133,$C$5:C133,C133)-SUMIFS($I$4:I132,$C$4:C132,C133)))","v":0},null,{"$f":"IF(C133=\"\",0,IF(C133=$C$4,SUMIFS($I$4:I132,$C$4:C132,C132),SUMIFS($I$4:I132,$C$4:C132,C133)))","v":0},0]
[131,null,{"$f":"IFERROR(VLOOKUP(D134,Nomenclature!$B$2:$C$196,2,0),\"\")","v":""},null,null,null,null,{"$f":"IF(C134=\"\",0,IF(SUMIFS($G$5:G134,$C$5:C134,C134)-SUMIFS($I$4:I133,$C$4:C133,C134)<0,0,SUMIFS($G$5:G134,$C$5:C134,C134)-SUMIFS($I$4:I133,$C$4:C133,C134)))","v":0},null,{"$f":"IF(C134=\"\",0,IF(C134=$C$4,SUMIFS($I$4:I133,$C$4:C133,C133),SUMIFS($I$4:I133,$C$4:C133,C134)))","v":0},0]
[132,null,{"$f":"IFERROR(VLOOKUP(D135,Nomenclature!$B$2:$C$196,2,0),\"\")","v":""},null,null,null,null,{"$f":"IF(C135=\"\",0,IF(SUMIFS($G$5:G135,$C$5:C135,C135)-SUMIFS($I$4:I134,$C$4:C134,C135)<0,0,SUMIFS($G$5:G135,$C$5:C135,C135)-SUMIFS($I$4:I134,$C$4:C134,C135)))","v":0},null,{"$f":"IF(C135=\"\",0,IF(C135=$C$4,SUMIFS($I$4:I134,$C$4:C134,C134),SUMIFS($I$4:I134,$C$4:C134,C135)))","v":0},0]
[133,null,{"$f":"IFERROR(VLOOKUP(D136,Nomenclature!$B$2:$C$196,2,0),\"\")","v":""},null,null,null,null,{"$f":"IF(C136=\"\",0,IF(SUMIFS($G$5:G136,$C$5:C136,C136)-SUMIFS($I$4:I135,$C$4:C135,C136)<0,0,SUMIFS($G$5:G136,$C$5:C136,C136)-SUMIFS($I$4:I135,$C$4:C135,C136)))","v":0},null,{"$f":"IF(C136=\"\",0,IF(C136=$C$4,SUMIFS($I$4:I135,$C$4:C135,C135),SUMIFS($I$4:I135,$C$4:C135,C136)))","v":0},0]
[134,null,{"$f":"IFERROR(VLOOKUP(D137,Nomenclature!$B$2:$C$196,2,0),\"\")","v":""},null,null,null,null,{"$f":"IF(C137=\"\",0,IF(SUMIFS($G$5:G137,$C$5:C137,C137)-SUMIFS($I$4:I136,$C$4:C136,C137)<0,0,SUMIFS($G$5:G137,$C$5:C137,C137)-SUMIFS($I$4:I136,$C$4:C136,C137)))","v":0},null,{"$f":"IF(C137=\"\",0,IF(C137=$C$4,SUMIFS($I$4:I136,$C$4:C136,C136),SUMIFS($I$4:I136,$C$4:C136,C137)))","v":0},0]
[135,null,{"$f":"IFERROR(VLOOKUP(D138,Nomenclature!$B$2:$C$196,2,0),\"\")","v":""},null,null,null,null,{"$f":"IF(C138=\"\",0,IF(SUMIFS($G$5:G138,$C$5:C138,C138)-SUMIFS($I$4:I137,$C$4:C137,C138)<0,0,SUMIFS($G$5:G138,$C$5:C138,C138)-SUMIFS($I$4:I137,$C$4:C137,C138)))","v":0},null,{"$f":"IF(C138=\"\",0,IF(C138=$C$4,SUMIFS($I$4:I137,$C$4:C137,C137),SUMIFS($I$4:I137,$C$4:C137,C138)))","v":0},0]
[136,null,{"$f":"IFERROR(VLOOKUP(D139,Nomenclature!$B$2:$C$196,2,0),\"\")","v":""},null,null,null,null,{"$f":"IF(C139=\"\",0,IF(SUMIFS($G$5:G139,$C$5:C139,C139)-SUMIFS($I$4:I138,$C$4:C138,C139)<0,0,SUMIFS($G$5:G139,$C$5:C139,C139)-SUMIFS($I$4:I138,$C$4:C138,C139)))","v":0},null,{"$f":"IF(C139=\"\",0,IF(C139=$C$4,SUMIFS($I$4:I138,$C$4:C138,C138),SUMIFS($I$4:I138,$C$4:C138,C139)))","v":0},0]
[137,null,{"$f":"IFERROR(VLOOKUP(D140,Nomenclature!$B$2:$C$196,2,0),\"\")","v":""},null,null,null,null,{"$f":"IF(C140=\"\",0,IF(SUMIFS($G$5:G140,$C$5:C140,C140)-SUMIFS($I$4:I139,$C$4:C139,C140)<0,0,SUMIFS($G$5:G140,$C$5:C140,C140)-SUMIFS($I$4:I139,$C$4:C139,C140)))","v":0},null,{"$f":"IF(C140=\"\",0,IF(C140=$C$4,SUMIFS($I$4:I139,$C$4:C139,C139),SUMIFS($I$4:I139,$C$4:C139,C140)))","v":0},0]
[138,null,{"$f":"IFERROR(VLOOKUP(D141,Nomenclature!$B$2:$C$196,2,0),\"\")","v":""},null,null,null,null,{"$f":"IF(C141=\"\",0,IF(SUMIFS($G$5:G141,$C$5:C141,C141)-SUMIFS($I$4:I140,$C$4:C140,C141)<0,0,SUMIFS($G$5:G141,$C$5:C141,C141)-SUMIFS($I$4:I140,$C$4:C140,C141)))","v":0},null,{"$f":"IF(C141=\"\",0,IF(C141=$C$4,SUMIFS($I$4:I140,$C$4:C140,C140),SUMIFS($I$4:I140,$C$4:C140,C141)))","v":0},0]
[139,null,{"$f":"IFERROR(VLOOKUP(D142,Nomenclature!$B$2:$C$196,2,0),\"\")","v":""},null,null,null,null,{"$f":"IF(C142=\"\",0,IF(SUMIFS($G$5:G142,$C$5:C142,C142)-SUMIFS($I$4:I141,$C$4:C141,C142)<0,0,SUMIFS($G$5:G142,$C$5:C142,C142)-SUMIFS($I$4:I141,$C$4:C141,C142)))","v":0},null,{"$f":"IF(C142=\"\",0,IF(C142=$C$4,SUMIFS($I$4:I141,$C$4:C141,C141),SUMIFS($I$4:I141,$C$4:C141,C142)))","v":0},0]
[140,null,{"$f":"IFERROR(VLOOKUP(D143,Nomenclature!$B$2:$C$196,2,0),\"\")","v":""},null,null,null,null,{"$f":"IF(C143=\"\",0,IF(SUMIFS($G$5:G143,$C$5:C143,C143)-SUMIFS($I$4:I142,$C$4:C142,C143)<0,0,SUMIFS($G$5:G143,$C$5:C143,C143)-SUMIFS($I$4:I142,$C$4:C142,C143)))","v":0},null,{"$f":"IF(C143=\"\",0,IF(C143=$C$4,SUMIFS($I$4:I142,$C$4:C142,C142),SUMIFS($I$4:I142,$C$4:C142,C143)))","v":0},0]
[141,null,{"$f":"IFERROR(VLOOKUP(D144,Nomenclature!$B$2:$C$196,2,0),\"\")","v":""},null,null,null,null,{"$f":"IF(C144=\"\",0,IF(SUMIFS($G$5:G144,$C$5:C144,C144)-SUMIFS($I$4:I143,$C$4:C143,C144)<0,0,SUMIFS($G$5:G144,$C$5:C144,C144)-SUMIFS($I$4:I143,$C$4:C143,C144)))","v":0},null,{"$f":"IF(C144=\"\",0,IF(C144=$C$4,SUMIFS($I$4:I143,$C$4:C143,C143),SUMIFS($I$4:I143,$C$4:C143,C144)))","v":0},0]
[142,null,{"$f":"IFERROR(VLOOKUP(D145,Nomenclature!$B$2:$C$196,2,0),\"\")","v":""},null,null,null,null,{"$f":"IF(C145=\"\",0,IF(SUMIFS($G$5:G145,$C$5:C145,C145)-SUMIFS($I$4:I144,$C$4:C144,C145)<0,0,SUMIFS($G$5:G145,$C$5:C145,C145)-SUMIFS($I$4:I144,$C$4:C144,C145)))","v":0},null,{"$f":"IF(C145=\"\",0,IF(C145=$C$4,SUMIFS($I$4:I144,$C$4:C144,C144),SUMIFS($I$4:I144,$C$4:C144,C145)))","v":0},0]
[143,null,{"$f":"IFERROR(VLOOKUP(D146,Nomenclature!$B$2:$C$196,2,0),\"\")","v":""},null,null,null,null,{"$f":"IF(C146=\"\",0,IF(SUMIFS($G$5:G146,$C$5:C146,C146)-SUMIFS($I$4:I145,$C$4:C145,C146)<0,0,SUMIFS($G$5:G146,$C$5:C146,C146)-SUMIFS($I$4:I145,$C$4:C145,C146)))","v":0},null,{"$f":"IF(C146=\"\",0,IF(C146=$C$4,SUMIFS($I$4:I145,$C$4:C145,C145),SUMIFS($I$4:I145,$C$4:C145,C146)))","v":0},0]
[144,null,{"$f":"IFERROR(VLOOKUP(D147,Nomenclature!$B$2:$C$196,2,0),\"\")","v":""},null,null,null,null,{"$f":"IF(C147=\"\",0,IF(SUMIFS($G$5:G147,$C$5:C147,C147)-SUMIFS($I$4:I146,$C$4:C146,C147)<0,0,SUMIFS($G$5:G147,$C$5:C147,C147)-SUMIFS($I$4:I146,$C$4:C146,C147)))","v":0},null,{"$f":"IF(C147=\"\",0,IF(C147=$C$4,SUMIFS($I$4:I146,$C$4:C146,C146),SUMIFS($I$4:I146,$C$4:C146,C147)))","v":0},0]
[145,null,{"$f":"IFERROR(VLOOKUP(D148,Nomenclature!$B$2:$C$196,2,0),\"\")","v":""},null,null,null,null,{"$f":"IF(C148=\"\",0,IF(SUMIFS($G$5:G148,$C$5:C148,C148)-SUMIFS($I$4:I147,$C$4:C147,C148)<0,0,SUMIFS($G$5:G148,$C$5:C148,C148)-SUMIFS($I$4:I147,$C$4:C147,C148)))","v":0},null,{"$f":"IF(C148=\"\",0,IF(C148=$C$4,SUMIFS($I$4:I147,$C$4:C147,C147),SUMIFS($I$4:I147,$C$4:C147,C148)))","v":0},0]
[146,null,{"$f":"IFERROR(VLOOKUP(D149,Nomenclature!$B$2:$C$196,2,0),\"\")","v":""},null,null,null,null,{"$f":"IF(C149=\"\",0,IF(SUMIFS($G$5:G149,$C$5:C149,C149)-SUMIFS($I$4:I148,$C$4:C148,C149)<0,0,SUMIFS($G$5:G149,$C$5:C149,C149)-SUMIFS($I$4:I148,$C$4:C148,C149)))","v":0},null,{"$f":"IF(C149=\"\",0,IF(C149=$C$4,SUMIFS($I$4:I148,$C$4:C148,C148),SUMIFS($I$4:I148,$C$4:C148,C149)))","v":0},0]
[147,null,{"$f":"IFERROR(VLOOKUP(D150,Nomenclature!$B$2:$C$196,2,0),\"\")","v":""},null,null,null,null,{"$f":"IF(C150=\"\",0,IF(SUMIFS($G$5:G150,$C$5:C150,C150)-SUMIFS($I$4:I149,$C$4:C149,C150)<0,0,SUMIFS($G$5:G150,$C$5:C150,C150)-SUMIFS($I$4:I149,$C$4:C149,C150)))","v":0},null,{"$f":"IF(C150=\"\",0,IF(C150=$C$4,SUMIFS($I$4:I149,$C$4:C149,C149),SUMIFS($I$4:I149,$C$4:C149,C150)))","v":0},0]
[148,null,{"$f":"IFERROR(VLOOKUP(D151,Nomenclature!$B$2:$C$196,2,0),\"\")","v":""},null,null,null,null,{"$f":"IF(C151=\"\",0,IF(SUMIFS($G$5:G151,$C$5:C151,C151)-SUMIFS($I$4:I150,$C$4:C150,C151)<0,0,SUMIFS($G$5:G151,$C$5:C151,C151)-SUMIFS($I$4:I150,$C$4:C150,C151)))","v":0},null,{"$f":"IF(C151=\"\",0,IF(C151=$C$4,SUMIFS($I$4:I150,$C$4:C150,C150),SUMIFS($I$4:I150,$C$4:C150,C151)))","v":0},0]
[149,null,{"$f":"IFERROR(VLOOKUP(D152,Nomenclature!$B$2:$C$196,2,0),\"\")","v":""},null,null,null,null,{"$f":"IF(C152=\"\",0,IF(SUMIFS($G$5:G152,$C$5:C152,C152)-SUMIFS($I$4:I151,$C$4:C151,C152)<0,0,SUMIFS($G$5:G152,$C$5:C152,C152)-SUMIFS($I$4:I151,$C$4:C151,C152)))","v":0},null,{"$f":"IF(C152=\"\",0,IF(C152=$C$4,SUMIFS($I$4:I151,$C$4:C151,C151),SUMIFS($I$4:I151,$C$4:C151,C152)))","v":0},0]
[150,null,{"$f":"IFERROR(VLOOKUP(D153,Nomenclature!$B$2:$C$196,2,0),\"\")","v":""},null,null,null,null,{"$f":"IF(C153=\"\",0,IF(SUMIFS($G$5:G153,$C$5:C153,C153)-SUMIFS($I$4:I152,$C$4:C152,C153)<0,0,SUMIFS($G$5:G153,$C$5:C153,C153)-SUMIFS($I$4:I152,$C$4:C152,C153)))","v":0},null,{"$f":"IF(C153=\"\",0,IF(C153=$C$4,SUMIFS($I$4:I152,$C$4:C152,C152),SUMIFS($I$4:I152,$C$4:C152,C153)))","v":0},0]
[151,null,{"$f":"IFERROR(VLOOKUP(D154,Nomenclature!$B$2:$C$196,2,0),\"\")","v":""},null,null,null,null,{"$f":"IF(C154=\"\",0,IF(SUMIFS($G$5:G154,$C$5:C154,C154)-SUMIFS($I$4:I153,$C$4:C153,C154)<0,0,SUMIFS($G$5:G154,$C$5:C154,C154)-SUMIFS($I$4:I153,$C$4:C153,C154)))","v":0},null,{"$f":"IF(C154=\"\",0,IF(C154=$C$4,SUMIFS($I$4:I153,$C$4:C153,C153),SUMIFS($I$4:I153,$C$4:C153,C154)))","v":0},0]
[152,null,{"$f":"IFERROR(VLOOKUP(D155,Nomenclature!$B$2:$C$196,2,0),\"\")","v":""},null,null,null,null,{"$f":"IF(C155=\"\",0,IF(SUMIFS($G$5:G155,$C$5:C155,C155)-SUMIFS($I$4:I154,$C$4:C154,C155)<0,0,SUMIFS($G$5:G155,$C$5:C155,C155)-SUMIFS($I$4:I154,$C$4:C154,C155)))","v":0},null,{"$f":"IF(C155=\"\",0,IF(C155=$C$4,SUMIFS($I$4:I154,$C$4:C154,C154),SUMIFS($I$4:I154,$C$4:C154,C155)))","v":0},0]
[153,null,{"$f":"IFERROR(VLOOKUP(D156,Nomenclature!$B$2:$C$196,2,0),\"\")","v":""},null,null,null,null,{"$f":"IF(C156=\"\",0,IF(SUMIFS($G$5:G156,$C$5:C156,C156)-SUMIFS($I$4:I155,$C$4:C155,C156)<0,0,SUMIFS($G$5:G156,$C$5:C156,C156)-SUMIFS($I$4:I155,$C$4:C155,C156)))","v":0},null,{"$f":"IF(C156=\"\",0,IF(C156=$C$4,SUMIFS($I$4:I155,$C$4:C155,C155),SUMIFS($I$4:I155,$C$4:C155,C156)))","v":0},0]
[154,null,{"$f":"IFERROR(VLOOKUP(D157,Nomenclature!$B$2:$C$196,2,0),\"\")","v":""},null,null,null,null,{"$f":"IF(C157=\"\",0,IF(SUMIFS($G$5:G157,$C$5:C157,C157)-SUMIFS($I$4:I156,$C$4:C156,C157)<0,0,SUMIFS($G$5:G157,$C$5:C157,C157)-SUMIFS($I$4:I156,$C$4:C156,C157)))","v":0},null,{"$f":"IF(C157=\"\",0,IF(C157=$C$4,SUMIFS($I$4:I156,$C$4:C156,C156),SUMIFS($I$4:I156,$C$4:C156,C157)))","v":0},0]
[155,null,{"$f":"IFERROR(VLOOKUP(D158,Nomenclature!$B$2:$C$196,2,0),\"\")","v":""},null,null,null,null,{"$f":"IF(C158=\"\",0,IF(SUMIFS($G$5:G158,$C$5:C158,C158)-SUMIFS($I$4:I157,$C$4:C157,C158)<0,0,SUMIFS($G$5:G158,$C$5:C158,C158)-SUMIFS($I$4:I157,$C$4:C157,C158)))","v":0},null,{"$f":"IF(C158=\"\",0,IF(C158=$C$4,SUMIFS($I$4:I157,$C$4:C157,C157),SUMIFS($I$4:I157,$C$4:C157,C158)))","v":0},0]
[156,null,{"$f":"IFERROR(VLOOKUP(D159,Nomenclature!$B$2:$C$196,2,0),\"\")","v":""},null,null,null,null,{"$f":"IF(C159=\"\",0,IF(SUMIFS($G$5:G159,$C$5:C159,C159)-SUMIFS($I$4:I158,$C$4:C158,C159)<0,0,SUMIFS($G$5:G159,$C$5:C159,C159)-SUMIFS($I$4:I158,$C$4:C158,C159)))","v":0},null,{"$f":"IF(C159=\"\",0,IF(C159=$C$4,SUMIFS($I$4:I158,$C$4:C158,C158),SUMIFS($I$4:I158,$C$4:C158,C159)))","v":0},0]
[157,null,{"$f":"IFERROR(VLOOKUP(D160,Nomenclature!$B$2:$C$196,2,0),\"\")","v":""},null,null,null,null,{"$f":"IF(C160=\"\",0,IF(SUMIFS($G$5:G160,$C$5:C160,C160)-SUMIFS($I$4:I159,$C$4:C159,C160)<0,0,SUMIFS($G$5:G160,$C$5:C160,C160)-SUMIFS($I$4:I159,$C$4:C159,C160)))","v":0},null,{"$f":"IF(C160=\"\",0,IF(C160=$C$4,SUMIFS($I$4:I159,$C$4:C159,C159),SUMIFS($I$4:I159,$C$4:C159,C160)))","v":0},0]
[158,null,{"$f":"IFERROR(VLOOKUP(D161,Nomenclature!$B$2:$C$196,2,0),\"\")","v":""},null,null,null,null,{"$f":"IF(C161=\"\",0,IF(SUMIFS($G$5:G161,$C$5:C161,C161)-SUMIFS($I$4:I160,$C$4:C160,C161)<0,0,SUMIFS($G$5:G161,$C$5:C161,C161)-SUMIFS($I$4:I160,$C$4:C160,C161)))","v":0},null,{"$f":"IF(C161=\"\",0,IF(C161=$C$4,SUMIFS($I$4:I160,$C$4:C160,C160),SUMIFS($I$4:I160,$C$4:C160,C161)))","v":0},0]
[159,null,{"$f":"IFERROR(VLOOKUP(D162,Nomenclature!$B$2:$C$196,2,0),\"\")","v":""},null,null,null,null,{"$f":"IF(C162=\"\",0,IF(SUMIFS($G$5:G162,$C$5:C162,C162)-SUMIFS($I$4:I161,$C$4:C161,C162)<0,0,SUMIFS($G$5:G162,$C$5:C162,C162)-SUMIFS($I$4:I161,$C$4:C161,C162)))","v":0},null,{"$f":"IF(C162=\"\",0,IF(C162=$C$4,SUMIFS($I$4:I161,$C$4:C161,C161),SUMIFS($I$4:I161,$C$4:C161,C162)))","v":0},0]
[160,null,{"$f":"IFERROR(VLOOKUP(D163,Nomenclature!$B$2:$C$196,2,0),\"\")","v":""},null,null,null,null,{"$f":"IF(C163=\"\",0,IF(SUMIFS($G$5:G163,$C$5:C163,C163)-SUMIFS($I$4:I162,$C$4:C162,C163)<0,0,SUMIFS($G$5:G163,$C$5:C163,C163)-SUMIFS($I$4:I162,$C$4:C162,C163)))","v":0},null,{"$f":"IF(C163=\"\",0,IF(C163=$C$4,SUMIFS($I$4:I162,$C$4:C162,C162),SUMIFS($I$4:I162,$C$4:C162,C163)))","v":0},0]
[161,null,{"$f":"IFERROR(VLOOKUP(D164,Nomenclature!$B$2:$C$196,2,0),\"\")","v":""},null,null,null,null,{"$f":"IF(C164=\"\",0,IF(SUMIFS($G$5:G164,$C$5:C164,C164)-SUMIFS($I$4:I163,$C$4:C163,C164)<0,0,SUMIFS($G$5:G164,$C$5:C164,C164)-SUMIFS($I$4:I163,$C$4:C163,C164)))","v":0},null,{"$f":"IF(C164=\"\",0,IF(C164=$C$4,SUMIFS($I$4:I163,$C$4:C163,C163),SUMIFS($I$4:I163,$C$4:C163,C164)))","v":0},{"$f":"IF(C164=\"\",0,H164-I164)","v":0}]
[162,null,{"$f":"IFERROR(VLOOKUP(D165,Nomenclature!$B$2:$C$196,2,0),\"\")","v":""},null,null,null,null,{"$f":"IF(C165=\"\",0,IF(SUMIFS($G$5:G165,$C$5:C165,C165)-SUMIFS($I$4:I164,$C$4:C164,C165)<0,0,SUMIFS($G$5:G165,$C$5:C165,C165)-SUMIFS($I$4:I164,$C$4:C164,C165)))","v":0},null,{"$f":"IF(C165=\"\",0,IF(C165=$C$4,SUMIFS($I$4:I164,$C$4:C164,C164),SUMIFS($I$4:I164,$C$4:C164,C165)))","v":0},0]
[163,null,{"$f":"IFERROR(VLOOKUP(D166,Nomenclature!$B$2:$C$196,2,0),\"\")","v":""},null,null,null,null,{"$f":"IF(C166=\"\",0,IF(SUMIFS($G$5:G166,$C$5:C166,C166)-SUMIFS($I$4:I165,$C$4:C165,C166)<0,0,SUMIFS($G$5:G166,$C$5:C166,C166)-SUMIFS($I$4:I165,$C$4:C165,C166)))","v":0},null,{"$f":"IF(C166=\"\",0,IF(C166=$C$4,SUMIFS($I$4:I165,$C$4:C165,C165),SUMIFS($I$4:I165,$C$4:C165,C166)))","v":0},0]
[164,null,{"$f":"IFERROR(VLOOKUP(D167,Nomenclature!$B$2:$C$196,2,0),\"\")","v":""},null,null,null,null,{"$f":"IF(C167=\"\",0,IF(SUMIFS($G$5:G167,$C$5:C167,C167)-SUMIFS($I$4:I166,$C$4:C166,C167)<0,0,SUMIFS($G$5:G167,$C$5:C167,C167)-SUMIFS($I$4:I166,$C$4:C166,C167)))","v":0},null,{"$f":"IF(C167=\"\",0,IF(C167=$C$4,SUMIFS($I$4:I166,$C$4:C166,C166),SUMIFS($I$4:I166,$C$4:C166,C167)))","v":0},0]
[165,null,{"$f":"IFERROR(VLOOKUP(D168,Nomenclature!$B$2:$C$196,2,0),\"\")","v":""},null,null,null,null,{"$f":"IF(C168=\"\",0,IF(SUMIFS($G$5:G168,$C$5:C168,C168)-SUMIFS($I$4:I167,$C$4:C167,C168)<0,0,SUMIFS($G$5:G168,$C$5:C168,C168)-SUMIFS($I$4:I167,$C$4:C167,C168)))","v":0},null,{"$f":"IF(C168=\"\",0,IF(C168=$C$4,SUMIFS($I$4:I167,$C$4:C167,C167),SUMIFS($I$4:I167,$C$4:C167,C168)))","v":0},0]
[166,null,{"$f":"IFERROR(VLOOKUP(D169,Nomenclature!$B$2:$C$196,2,0),\"\")","v":""},null,null,null,null,{"$f":"IF(C169=\"\",0,IF(SUMIFS($G$5:G169,$C$5:C169,C169)-SUMIFS($I$4:I168,$C$4:C168,C169)<0,0,SUMIFS($G$5:G169,$C$5:C169,C169)-SUMIFS($I$4:I168,$C$4:C168,C169)))","v":0},null,{"$f":"IF(C169=\"\",0,IF(C169=$C$4,SUMIFS($I$4:I168,$C$4:C168,C168),SUMIFS($I$4:I168,$C$4:C168,C169)))","v":0},0]
[167,null,{"$f":"IFERROR(VLOOKUP(D170,Nomenclature!$B$2:$C$196,2,0),\"\")","v":""},null,null,null,null,{"$f":"IF(C170=\"\",0,IF(SUMIFS($G$5:G170,$C$5:C170,C170)-SUMIFS($I$4:I169,$C$4:C169,C170)<0,0,SUMIFS($G$5:G170,$C$5:C170,C170)-SUMIFS($I$4:I169,$C$4:C169,C170)))","v":0},null,{"$f":"IF(C170=\"\",0,IF(C170=$C$4,SUMIFS($I$4:I169,$C$4:C169,C169),SUMIFS($I$4:I169,$C$4:C169,C170)))","v":0},0]
[168,null,{"$f":"IFERROR(VLOOKUP(D171,Nomenclature!$B$2:$C$196,2,0),\"\")","v":""},null,null,null,null,{"$f":"IF(C171=\"\",0,IF(SUMIFS($G$5:G171,$C$5:C171,C171)-SUMIFS($I$4:I170,$C$4:C170,C171)<0,0,SUMIFS($G$5:G171,$C$5:C171,C171)-SUMIFS($I$4:I170,$C$4:C170,C171)))","v":0},null,{"$f":"IF(C171=\"\",0,IF(C171=$C$4,SUMIFS($I$4:I170,$C$4:C170,C170),SUMIFS($I$4:I170,$C$4:C170,C171)))","v":0},0]
[169,null,{"$f":"IFERROR(VLOOKUP(D172,Nomenclature!$B$2:$C$196,2,0),\"\")","v":""},null,null,null,null,{"$f":"IF(C172=\"\",0,IF(SUMIFS($G$5:G172,$C$5:C172,C172)-SUMIFS($I$4:I171,$C$4:C171,C172)<0,0,SUMIFS($G$5:G172,$C$5:C172,C172)-SUMIFS($I$4:I171,$C$4:C171,C172)))","v":0},null,{"$f":"IF(C172=\"\",0,IF(C172=$C$4,SUMIFS($I$4:I171,$C$4:C171,C171),SUMIFS($I$4:I171,$C$4:C171,C172)))","v":0},0]
[170,null,{"$f":"IFERROR(VLOOKUP(D173,Nomenclature!$B$2:$C$196,2,0),\"\")","v":""},null,null,null,null,{"$f":"IF(C173=\"\",0,IF(SUMIFS($G$5:G173,$C$5:C173,C173)-SUMIFS($I$4:I172,$C$4:C172,C173)<0,0,SUMIFS($G$5:G173,$C$5:C173,C173)-SUMIFS($I$4:I172,$C$4:C172,C173)))","v":0},null,{"$f":"IF(C173=\"\",0,IF(C173=$C$4,SUMIFS($I$4:I172,$C$4:C172,C172),SUMIFS($I$4:I172,$C$4:C172,C173)))","v":0},0]
[171,null,{"$f":"IFERROR(VLOOKUP(D174,Nomenclature!$B$2:$C$196,2,0),\"\")","v":""},null,null,null,null,{"$f":"IF(C174=\"\",0,IF(SUMIFS($G$5:G174,$C$5:C174,C174)-SUMIFS($I$4:I173,$C$4:C173,C174)<0,0,SUMIFS($G$5:G174,$C$5:C174,C174)-SUMIFS($I$4:I173,$C$4:C173,C174)))","v":0},null,{"$f":"IF(C174=\"\",0,IF(C174=$C$4,SUMIFS($I$4:I173,$C$4:C173,C173),SUMIFS($I$4:I173,$C$4:C173,C174)))","v":0},0]
[172,null,{"$f":"IFERROR(VLOOKUP(D175,Nomenclature!$B$2:$C$196,2,0),\"\")","v":""},null,null,null,null,{"$f":"IF(C175=\"\",0,IF(SUMIFS($G$5:G175,$C$5:C175,C175)-SUMIFS($I$4:I174,$C$4:C174,C175)<0,0,SUMIFS($G$5:G175,$C$5:C175,C175)-SUMIFS($I$4:I174,$C$4:C174,C175)))","v":0},null,{"$f":"IF(C175=\"\",0,IF(C175=$C$4,SUMIFS($I$4:I174,$C$4:C174,C174),SUMIFS($I$4:I174,$C$4:C174,C175)))","v":0},0]
[173,null,{"$f":"IFERROR(VLOOKUP(D176,Nomenclature!$B$2:$C$196,2,0),\"\")","v":""},null,null,null,null,{"$f":"IF(C176=\"\",0,IF(SUMIFS($G$5:G176,$C$5:C176,C176)-SUMIFS($I$4:I175,$C$4:C175,C176)<0,0,SUMIFS($G$5:G176,$C$5:C176,C176)-SUMIFS($I$4:I175,$C$4:C175,C176)))","v":0},null,{"$f":"IF(C176=\"\",0,IF(C176=$C$4,SUMIFS($I$4:I175,$C$4:C175,C175),SUMIFS($I$4:I175,$C$4:C175,C176)))","v":0},0]
[174,null,{"$f":"IFERROR(VLOOKUP(D177,Nomenclature!$B$2:$C$196,2,0),\"\")","v":""},null,null,null,null,{"$f":"IF(C177=\"\",0,IF(SUMIFS($G$5:G177,$C$5:C177,C177)-SUMIFS($I$4:I176,$C$4:C176,C177)<0,0,SUMIFS($G$5:G177,$C$5:C177,C177)-SUMIFS($I$4:I176,$C$4:C176,C177)))","v":0},null,{"$f":"IF(C177=\"\",0,IF(C177=$C$4,SUMIFS($I$4:I176,$C$4:C176,C176),SUMIFS($I$4:I176,$C$4:C176,C177)))","v":0},0]
[175,null,{"$f":"IFERROR(VLOOKUP(D178,Nomenclature!$B$2:$C$196,2,0),\"\")","v":""},null,null,null,null,{"$f":"IF(C178=\"\",0,IF(SUMIFS($G$5:G178,$C$5:C178,C178)-SUMIFS($I$4:I177,$C$4:C177,C178)<0,0,SUMIFS($G$5:G178,$C$5:C178,C178)-SUMIFS($I$4:I177,$C$4:C177,C178)))","v":0},null,{"$f":"IF(C178=\"\",0,IF(C178=$C$4,SUMIFS($I$4:I177,$C$4:C177,C177),SUMIFS($I$4:I177,$C$4:C177,C178)))","v":0},0]
[176,null,{"$f":"IFERROR(VLOOKUP(D179,Nomenclature!$B$2:$C$196,2,0),\"\")","v":""},null,null,null,null,{"$f":"IF(C179=\"\",0,IF(SUMIFS($G$5:G179,$C$5:C179,C179)-SUMIFS($I$4:I178,$C$4:C178,C179)<0,0,SUMIFS($G$5:G179,$C$5:C179,C179)-SUMIFS($I$4:I178,$C$4:C178,C179)))","v":0},null,{"$f":"IF(C179=\"\",0,IF(C179=$C$4,SUMIFS($I$4:I178,$C$4:C178,C178),SUMIFS($I$4:I178,$C$4:C178,C179)))","v":0},0]
[177,null,{"$f":"IFERROR(VLOOKUP(D180,Nomenclature!$B$2:$C$196,2,0),\"\")","v":""},null,null,null,null,{"$f":"IF(C180=\"\",0,IF(SUMIFS($G$5:G180,$C$5:C180,C180)-SUMIFS($I$4:I179,$C$4:C179,C180)<0,0,SUMIFS($G$5:G180,$C$5:C180,C180)-SUMIFS($I$4:I179,$C$4:C179,C180)))","v":0},null,{"$f":"IF(C180=\"\",0,IF(C180=$C$4,SUMIFS($I$4:I179,$C$4:C179,C179),SUMIFS($I$4:I179,$C$4:C179,C180)))","v":0},0]
[178,null,{"$f":"IFERROR(VLOOKUP(D181,Nomenclature!$B$2:$C$196,2,0),\"\")","v":""},null,null,null,null,{"$f":"IF(C181=\"\",0,IF(SUMIFS($G$5:G181,$C$5:C181,C181)-SUMIFS($I$4:I180,$C$4:C180,C181)<0,0,SUMIFS($G$5:G181,$C$5:C181,C181)-SUMIFS($I$4:I180,$C$4:C180,C181)))","v":0},null,{"$f":"IF(C181=\"\",0,IF(C181=$C$4,SUMIFS($I$4:I180,$C$4:C180,C180),SUMIFS($I$4:I180,$C$4:C180,C181)))","v":0},0]
[179,null,{"$f":"IFERROR(VLOOKUP(D182,Nomenclature!$B$2:$C$196,2,0),\"\")","v":""},null,null,null,null,{"$f":"IF(C182=\"\",0,IF(SUMIFS($G$5:G182,$C$5:C182,C182)-SUMIFS($I$4:I181,$C$4:C181,C182)<0,0,SUMIFS($G$5:G182,$C$5:C182,C182)-SUMIFS($I$4:I181,$C$4:C181,C182)))","v":0},null,{"$f":"IF(C182=\"\",0,IF(C182=$C$4,SUMIFS($I$4:I181,$C$4:C181,C181),SUMIFS($I$4:I181,$C$4:C181,C182)))","v":0},0]
[180,null,{"$f":"IFERROR(VLOOKUP(D183,Nomenclature!$B$2:$C$196,2,0),\"\")","v":""},null,null,null,null,{"$f":"IF(C183=\"\",0,IF(SUMIFS($G$5:G183,$C$5:C183,C183)-SUMIFS($I$4:I182,$C$4:C182,C183)<0,0,SUMIFS($G$5:G183,$C$5:C183,C183)-SUMIFS($I$4:I182,$C$4:C182,C183)))","v":0},null,{"$f":"IF(C183=\"\",0,IF(C183=$C$4,SUMIFS($I$4:I182,$C$4:C182,C182),SUMIFS($I$4:I182,$C$4:C182,C183)))","v":0},0]
[181,null,{"$f":"IFERROR(VLOOKUP(D184,Nomenclature!$B$2:$C$196,2,0),\"\")","v":""},null,null,null,null,{"$f":"IF(C184=\"\",0,IF(SUMIFS($G$5:G184,$C$5:C184,C184)-SUMIFS($I$4:I183,$C$4:C183,C184)<0,0,SUMIFS($G$5:G184,$C$5:C184,C184)-SUMIFS($I$4:I183,$C$4:C183,C184)))","v":0},null,{"$f":"IF(C184=\"\",0,IF(C184=$C$4,SUMIFS($I$4:I183,$C$4:C183,C183),SUMIFS($I$4:I183,$C$4:C183,C184)))","v":0},0]
[182,null,{"$f":"IFERROR(VLOOKUP(D185,Nomenclature!$B$2:$C$196,2,0),\"\")","v":""},null,null,null,null,{"$f":"IF(C185=\"\",0,IF(SUMIFS($G$5:G185,$C$5:C185,C185)-SUMIFS($I$4:I184,$C$4:C184,C185)<0,0,SUMIFS($G$5:G185,$C$5:C185,C185)-SUMIFS($I$4:I184,$C$4:C184,C185)))","v":0},null,{"$f":"IF(C185=\"\",0,IF(C185=$C$4,SUMIFS($I$4:I184,$C$4:C184,C184),SUMIFS($I$4:I184,$C$4:C184,C185)))","v":0},0]
[183,null,{"$f":"IFERROR(VLOOKUP(D186,Nomenclature!$B$2:$C$196,2,0),\"\")","v":""},null,null,null,null,{"$f":"IF(C186=\"\",0,IF(SUMIFS($G$5:G186,$C$5:C186,C186)-SUMIFS($I$4:I185,$C$4:C185,C186)<0,0,SUMIFS($G$5:G186,$C$5:C186,C186)-SUMIFS($I$4:I185,$C$4:C185,C186)))","v":0},null,{"$f":"IF(C186=\"\",0,IF(C186=$C$4,SUMIFS($I$4:I185,$C$4:C185,C185),SUMIFS($I$4:I185,$C$4:C185,C186)))","v":0},0]
[184,null,{"$f":"IFERROR(VLOOKUP(D187,Nomenclature!$B$2:$C$196,2,0),\"\")","v":""},null,null,null,null,{"$f":"IF(C187=\"\",0,IF(SUMIFS($G$5:G187,$C$5:C187,C187)-SUMIFS($I$4:I186,$C$4:C186,C187)<0,0,SUMIFS($G$5:G187,$C$5:C187,C187)-SUMIFS($I$4:I186,$C$4:C186,C187)))","v":0},null,{"$f":"IF(C187=\"\",0,IF(C187=$C$4,SUMIFS($I$4:I186,$C$4:C186,C186),SUMIFS($I$4:I186,$C$4:C186,C187)))","v":0},0]
[185,null,{"$f":"IFERROR(VLOOKUP(D188,Nomenclature!$B$2:$C$196,2,0),\"\")","v":""},null,null,null,null,{"$f":"IF(C188=\"\",0,IF(SUMIFS($G$5:G188,$C$5:C188,C188)-SUMIFS($I$4:I187,$C$4:C187,C188)<0,0,SUMIFS($G$5:G188,$C$5:C188,C188)-SUMIFS($I$4:I187,$C$4:C187,C188)))","v":0},null,{"$f":"IF(C188=\"\",0,IF(C188=$C$4,SUMIFS($I$4:I187,$C$4:C187,C187),SUMIFS($I$4:I187,$C$4:C187,C188)))","v":0},0]
[186,null,{"$f":"IFERROR(VLOOKUP(D189,Nomenclature!$B$2:$C$196,2,0),\"\")","v":""},null,null,null,null,{"$f":"IF(C189=\"\",0,IF(SUMIFS($G$5:G189,$C$5:C189,C189)-SUMIFS($I$4:I188,$C$4:C188,C189)<0,0,SUMIFS($G$5:G189,$C$5:C189,C189)-SUMIFS($I$4:I188,$C$4:C188,C189)))","v":0},null,{"$f":"IF(C189=\"\",0,IF(C189=$C$4,SUMIFS($I$4:I188,$C$4:C188,C188),SUMIFS($I$4:I188,$C$4:C188,C189)))","v":0},0]
[187,null,{"$f":"IFERROR(VLOOKUP(D190,Nomenclature!$B$2:$C$196,2,0),\"\")","v":""},null,null,null,null,{"$f":"IF(C190=\"\",0,IF(SUMIFS($G$5:G190,$C$5:C190,C190)-SUMIFS($I$4:I189,$C$4:C189,C190)<0,0,SUMIFS($G$5:G190,$C$5:C190,C190)-SUMIFS($I$4:I189,$C$4:C189,C190)))","v":0},null,{"$f":"IF(C190=\"\",0,IF(C190=$C$4,SUMIFS($I$4:I189,$C$4:C189,C189),SUMIFS($I$4:I189,$C$4:C189,C190)))","v":0},0]
[188,null,{"$f":"IFERROR(VLOOKUP(D191,Nomenclature!$B$2:$C$196,2,0),\"\")","v":""},null,null,null,null,{"$f":"IF(C191=\"\",0,IF(SUMIFS($G$5:G191,$C$5:C191,C191)-SUMIFS($I$4:I190,$C$4:C190,C191)<0,0,SUMIFS($G$5:G191,$C$5:C191,C191)-SUMIFS($I$4:I190,$C$4:C190,C191)))","v":0},null,{"$f":"IF(C191=\"\",0,IF(C191=$C$4,SUMIFS($I$4:I190,$C$4:C190,C190),SUMIFS($I$4:I190,$C$4:C190,C191)))","v":0},0]
[189,null,{"$f":"IFERROR(VLOOKUP(D192,Nomenclature!$B$2:$C$196,2,0),\"\")","v":""},null,null,null,null,{"$f":"IF(C192=\"\",0,IF(SUMIFS($G$5:G192,$C$5:C192,C192)-SUMIFS($I$4:I191,$C$4:C191,C192)<0,0,SUMIFS($G$5:G192,$C$5:C192,C192)-SUMIFS($I$4:I191,$C$4:C191,C192)))","v":0},null,{"$f":"IF(C192=\"\",0,IF(C192=$C$4,SUMIFS($I$4:I191,$C$4:C191,C191),SUMIFS($I$4:I191,$C$4:C191,C192)))","v":0},0]
[190,null,{"$f":"IFERROR(VLOOKUP(D193,Nomenclature!$B$2:$C$196,2,0),\"\")","v":""},null,null,null,null,{"$f":"IF(C193=\"\",0,IF(SUMIFS($G$5:G193,$C$5:C193,C193)-SUMIFS($I$4:I192,$C$4:C192,C193)<0,0,SUMIFS($G$5:G193,$C$5:C193,C193)-SUMIFS($I$4:I192,$C$4:C192,C193)))","v":0},null,{"$f":"IF(C193=\"\",0,IF(C193=$C$4,SUMIFS($I$4:I192,$C$4:C192,C192),SUMIFS($I$4:I192,$C$4:C192,C193)))","v":0},0]
[191,null,{"$f":"IFERROR(VLOOKUP(D194,Nomenclature!$B$2:$C$196,2,0),\"\")","v":""},null,null,null,null,{"$f":"IF(C194=\"\",0,IF(SUMIFS($G$5:G194,$C$5:C194,C194)-SUMIFS($I$4:I193,$C$4:C193,C194)<0,0,SUMIFS($G$5:G194,$C$5:C194,C194)-SUMIFS($I$4:I193,$C$4:C193,C194)))","v":0},null,{"$f":"IF(C194=\"\",0,IF(C194=$C$4,SUMIFS($I$4:I193,$C$4:C193,C193),SUMIFS($I$4:I193,$C$4:C193,C194)))","v":0},0]
[192,null,{"$f":"IFERROR(VLOOKUP(D195,Nomenclature!$B$2:$C$196,2,0),\"\")","v":""},null,null,null,null,{"$f":"IF(C195=\"\",0,IF(SUMIFS($G$5:G195,$C$5:C195,C195)-SUMIFS($I$4:I194,$C$4:C194,C195)<0,0,SUMIFS($G$5:G195,$C$5:C195,C195)-SUMIFS($I$4:I194,$C$4:C194,C195)))","v":0},null,{"$f":"IF(C195=\"\",0,IF(C195=$C$4,SUMIFS($I$4:I194,$C$4:C194,C194),SUMIFS($I$4:I194,$C$4:C194,C195)))","v":0},0]
[193,null,{"$f":"IFERROR(VLOOKUP(D196,Nomenclature!$B$2:$C$196,2,0),\"\")","v":""},null,null,null,null,{"$f":"IF(C196=\"\",0,IF(SUMIFS($G$5:G196,$C$5:C196,C196)-SUMIFS($I$4:I195,$C$4:C195,C196)<0,0,SUMIFS($G$5:G196,$C$5:C196,C196)-SUMIFS($I$4:I195,$C$4:C195,C196)))","v":0},null,{"$f":"IF(C196=\"\",0,IF(C196=$C$4,SUMIFS($I$4:I195,$C$4:C195,C195),SUMIFS($I$4:I195,$C$4:C195,C196)))","v":0},{"$f":"IF(C196=\"\",0,H196-I196)","v":0}]
[194,null,{"$f":"IFERROR(VLOOKUP(D197,Nomenclature!$B$2:$C$196,2,0),\"\")","v":""},null,null,null,null,{"$f":"IF(C197=\"\",0,IF(SUMIFS($G$5:G197,$C$5:C197,C197)-SUMIFS($I$4:I196,$C$4:C196,C197)<0,0,SUMIFS($G$5:G197,$C$5:C197,C197)-SUMIFS($I$4:I196,$C$4:C196,C197)))","v":0},null,{"$f":"IF(C197=\"\",0,IF(C197=$C$4,SUMIFS($I$4:I196,$C$4:C196,C196),SUMIFS($I$4:I196,$C$4:C196,C197)))","v":0},0]
[195,null,{"$f":"IFERROR(VLOOKUP(D198,Nomenclature!$B$2:$C$196,2,0),\"\")","v":""},null,null,null,null,{"$f":"IF(C198=\"\",0,IF(SUMIFS($G$5:G198,$C$5:C198,C198)-SUMIFS($I$4:I197,$C$4:C197,C198)<0,0,SUMIFS($G$5:G198,$C$5:C198,C198)-SUMIFS($I$4:I197,$C$4:C197,C198)))","v":0},null,{"$f":"IF(C198=\"\",0,IF(C198=$C$4,SUMIFS($I$4:I197,$C$4:C197,C197),SUMIFS($I$4:I197,$C$4:C197,C198)))","v":0},0]
[196,null,{"$f":"IFERROR(VLOOKUP(D199,Nomenclature!$B$2:$C$196,2,0),\"\")","v":""},null,null,null,null,{"$f":"IF(C199=\"\",0,IF(SUMIFS($G$5:G199,$C$5:C199,C199)-SUMIFS($I$4:I198,$C$4:C198,C199)<0,0,SUMIFS($G$5:G199,$C$5:C199,C199)-SUMIFS($I$4:I198,$C$4:C198,C199)))","v":0},null,{"$f":"IF(C199=\"\",0,IF(C199=$C$4,SUMIFS($I$4:I198,$C$4:C198,C198),SUMIFS($I$4:I198,$C$4:C198,C199)))","v":0},0]
[197,null,{"$f":"IFERROR(VLOOKUP(D200,Nomenclature!$B$2:$C$196,2,0),\"\")","v":""},null,null,null,null,{"$f":"IF(C200=\"\",0,IF(SUMIFS($G$5:G200,$C$5:C200,C200)-SUMIFS($I$4:I199,$C$4:C199,C200)<0,0,SUMIFS($G$5:G200,$C$5:C200,C200)-SUMIFS($I$4:I199,$C$4:C199,C200)))","v":0},null,{"$f":"IF(C200=\"\",0,IF(C200=$C$4,SUMIFS($I$4:I199,$C$4:C199,C199),SUMIFS($I$4:I199,$C$4:C199,C200)))","v":0},0]
[198,null,{"$f":"IFERROR(VLOOKUP(D201,Nomenclature!$B$2:$C$196,2,0),\"\")","v":""},null,null,null,null,{"$f":"IF(C201=\"\",0,IF(SUMIFS($G$5:G201,$C$5:C201,C201)-SUMIFS($I$4:I200,$C$4:C200,C201)<0,0,SUMIFS($G$5:G201,$C$5:C201,C201)-SUMIFS($I$4:I200,$C$4:C200,C201)))","v":0},null,{"$f":"IF(C201=\"\",0,IF(C201=$C$4,SUMIFS($I$4:I200,$C$4:C200,C200),SUMIFS($I$4:I200,$C$4:C200,C201)))","v":0},0]
[199,null,{"$f":"IFERROR(VLOOKUP(D202,Nomenclature!$B$2:$C$196,2,0),\"\")","v":""},null,null,null,null,{"$f":"IF(C202=\"\",0,IF(SUMIFS($G$5:G202,$C$5:C202,C202)-SUMIFS($I$4:I201,$C$4:C201,C202)<0,0,SUMIFS($G$5:G202,$C$5:C202,C202)-SUMIFS($I$4:I201,$C$4:C201,C202)))","v":0},null,{"$f":"IF(C202=\"\",0,IF(C202=$C$4,SUMIFS($I$4:I201,$C$4:C201,C201),SUMIFS($I$4:I201,$C$4:C201,C202)))","v":0},0]
[200,null,{"$f":"IFERROR(VLOOKUP(D203,Nomenclature!$B$2:$C$196,2,0),\"\")","v":""},null,null,null,null,{"$f":"IF(C203=\"\",0,IF(SUMIFS($G$5:G203,$C$5:C203,C203)-SUMIFS($I$4:I202,$C$4:C202,C203)<0,0,SUMIFS($G$5:G203,$C$5:C203,C203)-SUMIFS($I$4:I202,$C$4:C202,C203)))","v":0},null,{"$f":"IF(C203=\"\",0,IF(C203=$C$4,SUMIFS($I$4:I202,$C$4:C202,C202),SUMIFS($I$4:I202,$C$4:C202,C203)))","v":0},0]

{"sheet":"12000","index":2,"n_rows":203,"n_cols":44,"rows_kept":203,"cut":false,"hidden":false,"merged":[[50,23,50,24],[44,14,45,18],[44,22,45,26],[44,29,44,30],[46,14,47,18],[46,22,47,26],[47,29,47,30],[50,15,50,16],[33,14,33,17],[34,14,37,41],[39,14,39,17],[39,18,40,41],[42,14,42,27],[42,28,42,41],[28,38,29,41],[30,14,31,17],[30,18,31,21],[30,22,31,25],[30,26,31,29],[30,30,31,33],[30,34,31,37],[30,38,31,41],[28,14,29,17],[28,18,29,21],[28,22,29,25],[28,26,29,29],[28,30,29,33],[28,34,29,37],[19,14,19,15],[26,38,27,41],[20,22,20,32],[21,18,21,21],[21,22,21,32],[22,18,22,21],[22,22,22,32],[23,17,25,41],[20,18,20,21],[26,14,27,21],[26,22,27,25],[26,26,27,29],[26,30,27,33],[26,34,27,37],[15,19,15,20],[16,14,16,18],[16,19,16,20],[14,14,14,18],[14,19,14,27],[0,13,2,15],[3,14,3,41],[3,42,58,42],[4,14,4,18],[4,19,4,27],[5,14,5,18],[5,19,5,27],[6,14,6,18],[6,19,6,27],[10,15,11,19],[10,20,11,23],[10,31,11,32],[10,33,11,38],[13,14,13,18],[13,19,13,20],[15,14,15,18],[0,11,2,11],[0,0,2,0],[0,1,2,1],[0,2,2,2],[0,3,2,3],[0,4,2,4],[0,5,1,5],[0,6,1,6],[0,7,2,7],[0,8,1,8],[0,9,2,9],[0,10,1,10]]}
["رقم\nالاستمارة","التاريخ","الترميز","الصنف / الصنف الفرعي","ملاحظات المصلحة","AP Cat",{"$f":"IF(SUM(G4:G203)-SUM(F4:F203)<0,\"نقص في توزيع الاعتمادات على الاصناف الفرعية\",\nIF(SUM(G4:G203)-SUM(F4:F203)>0,\"تجاوز في الاعتمادات الموزعة على الاصناف الفرعية\",\"AP S.Cat\"))","v":"AP S.Cat"},"AP Sous_Cat",{"$f":"IF(I3>G3,\"تجاوز في الالتزامات\",\"∑ Engagements\")","v":"∑ Engagements"},"∑ Eng Sous_Cat","Reste","السند القانوني للعنوان الرابع",null,1]
[]
[null,null,null,null,null,{"$f":"SUM(F4:F203)","v":10500000},{"$f":"SUM(G4:G203)","v":10500000},null,{"$f":"SUM(I5:I203)","v":0},null,{"$f":"SUM(K4:K104)","v":10500000}]
[1,"2023-03-13",{"$f":"IFERROR(VLOOKUP(D4,Nomenclature!$B$2:$C$196,2,0),\"\")","v":12000},"العلاوات و التعويضات","تكفل برخصة الالتزام المفتوحة لسنة 2023.",10500000,null,{"$f":"IF(C4=\"\",0,IF(SUMIFS($G4:G$5,$C4:C$5,C4)-SUMIFS($I3:I$4,$C3:C$4,C4)<0,0,SUMIFS($G4:G$5,$C4:C$5,C4)-SUMIFS($I3:I$4,$C3:C$4,C4)))","v":0},null,{"$f":"IF(I4=0,0,IF(C4=\"\",0,SUMIFS($I4:I$4,$C4:C$4,C4)))","v":0},{"$f":"IF(C4=\"\",0,H4-I4)","v":0},null,null,null,"الجمهورية الجزائرية الديمقراطية الشعبية"]
[2,"2023-04-01",{"$f":"IFERROR(VLOOKUP(D5,Nomenclature!$B$2:$C$196,2,0),\"\")","v":12100},"علاوات و تعويضات الموظفين و الأعوان العموميين","التزام في الجدول الأصلي الأولي رقم 2023/01 الخاص بالمرتبات الشهرية للموظفين من 2023/01/01 إلى غاية 2023/12/31",null,6500000,{"$f":"IF(C5=\"\",0,IF(SUMIFS($G$5:G5,$C$5:C5,C5)-SUMIFS($I$4:I4,$C$4:C4,C5)<0,0,SUMIFS($G$5:G5,$C$5:C5,C5)-SUMIFS($I$4:I4,$C$4:C4,C5)))","v":6500000},null,{"$f":"IF(C5=\"\",0,IF(C5=$C$4,SUMIFS($I$4:I4,$C$4:C4,C4),SUMIFS($I$4:I4,$C$4:C4,C5)))","v":0},6500000,null,null,null,"الـوزارة:",null,null,null,null,{"$f":"الواجهة!C2","v":"وزارة البيئة و الطاقات المتجددة"}]
[3,null,{"$f":"IFERROR(VLOOKUP(D6,Nomenclature!$B$2:$C$196,2,0),\"\")","v":12200},"علاوات و تعويضات المستخدمين المتعاقدين","التزام في الجدول الأصلي الأولي رقم 2023/02 الخاص بالمرتبات الشهرية للاعوان المتعاقدين بالتوقيت الكامل من 2023/01/01 إلى غاية 2023/12/31",null,4000000,{"$f":"IF(C6=\"\",0,IF(SUMIFS($G$5:G6,$C$5:C6,C6)-SUMIFS($I$4:I5,$C$4:C5,C6)<0,0,SUMIFS($G$5:G6,$C$5:C6,C6)-SUMIFS($I$4:I5,$C$4:C5,C6)))","v":4000000},null,{"$f":"IF(C6=\"\",0,IF(C6=$C$4,SUMIFS($I$4:I5,$C$4:C5,C5),SUMIFS($I$4:I5,$C$4:C5,C6)))","v":0},4000000,null,null,null,"الهيئة الإدارية:",null,null,null,null,{"$f":"الواجهة!C3","v":"مديرية البيئة لولاية المسيلة"}]
[4,null,{"$f":"IFERROR(VLOOKUP(D7,Nomenclature!$B$2:$C$196,2,0),\"\")","v":""},null,null,null,null,{"$f":"IF(C7=\"\",0,IF(SUMIFS($G$5:G7,$C$5:C7,C7)-SUMIFS($I$4:I6,$C$4:C6,C7)<0,0,SUMIFS($G$5:G7,$C$5:C7,C7)-SUMIFS($I$4:I6,$C$4:C6,C7)))","v":0},null,{"$f":"IF(C7=\"\",0,IF(C7=$C$4,SUMIFS($I$4:I6,$C$4:C6,C6),SUMIFS($I$4:I6,$C$4:C6,C7)))","v":0},0,null,null,null,"رمز الآمر بالصرف:",null,null,null,null,{"$f":"الواجهة!C4","v":"144 0 28 01"}]
[5,null,{"$f":"IFERROR(VLOOKUP(D8,Nomenclature!$B$2:$C$196,2,0),\"\")","v":""},null,null,null,null,{"$f":"IF(C8=\"\",0,IF(SUMIFS($G$5:G8,$C$5:C8,C8)-SUMIFS($I$4:I7,$C$4:C7,C8)<0,0,SUMIFS($G$5:G8,$C$5:C8,C8)-SUMIFS($I$4:I7,$C$4:C7,C8)))","v":0},null,{"$f":"IF(C8=\"\",0,IF(C8=$C$4,SUMIFS($I$4:I7,$C$4:C7,C7),SUMIFS($I$4:I7,$C$4:C7,C8)))","v":0},0,null,null,null,null,null,null,null,null,null,null,null,null,null,null,null,null,null,null,null,null,null,null,"."]
[6,null,{"$f":"IFERROR(VLOOKUP(D9,Nomenclature!$B$2:$C$196,2,0),\"\")","v":""},null,null,null,null,{"$f":"IF(C9=\"\",0,IF(SUMIFS($G$5:G9,$C$5:C9,C9)-SUMIFS($I$4:I8,$C$4:C8,C9)<0,0,SUMIFS($G$5:G9,$C$5:C9,C9)-SUMIFS($I$4:I8,$C$4:C8,C9)))","v":0},null,{"$f":"IF(C9=\"\",0,IF(C9=$C$4,SUMIFS($I$4:I8,$C$4:C8,C8),SUMIFS($I$4:I8,$C$4:C8,C9)))","v":0},0]
[7,null,{"$f":"IFERROR(VLOOKUP(D10,Nomenclature!$B$2:$C$196,2,0),\"\")","v":""},null,null,null,null,{"$f":"IF(C10=\"\",0,IF(SUMIFS($G$5:G10,$C$5:C10,C10)-SUMIFS($I$4:I9,$C$4:C9,C10)<0,0,SUMIFS($G$5:G10,$C$5:C10,C10)-SUMIFS($I$4:I9,$C$4:C9,C10)))","v":0},null,{"$f":"IF(C10=\"\",0,IF(C10=$C$4,SUMIFS($I$4:I9,$C$4:C9,C9),SUMIFS($I$4:I9,$C$4:C9,C10)))","v":0},0]
[8,null,{"$f":"IFERROR(VLOOKUP(D11,Nomenclature!$B$2:$C$196,2,0),\"\")","v":""},null,null,null,null,{"$f":"IF(C11=\"\",0,IF(SUMIFS($G$5:G11,$C$5:C11,C11)-SUMIFS($I$4:I10,$C$4:C10,C11)<0,0,SUMIFS($G$5:G11,$C$5:C11,C11)-SUMIFS($I$4:I10,$C$4:C10,C11)))","v":0},null,{"$f":"IF(C11=\"\",0,IF(C11=$C$4,SUMIFS($I$4:I10,$C$4:C10,C10),SUMIFS($I$4:I10,$C$4:C10,C11)))","v":0},0,null,null,null,null,"رقم بطاقة الالتزام:",null,null,null,null,{"$f":"IFERROR(VLOOKUP(N1,A4:L203,1,0),0)","v":1},null,null,null,null,null,null,null,null,null,null,"التاريخ:",null,{"$f":"IF(IFERROR(VLOOKUP(N1,A4:L203,2,0),0)=0,\"\",IFERROR(VLOOKUP(N1,A4:L203,2,0),0))","v":"2023-03-13"}]
[9,null,{"$f":"IFERROR(VLOOKUP(D12,Nomenclature!$B$2:$C$196,2,0),\"\")","v":""},null,null,null,null,{"$f":"IF(C12=\"\",0,IF(SUMIFS($G$5:G12,$C$5:C12,C12)-SUMIFS($I$4:I11,$C$4:C11,C12)<0,0,SUMIFS($G$5:G12,$C$5:C12,C12)-SUMIFS($I$4:I11,$C$4:C11,C12)))","v":0},null,{"$f":"IF(C12=\"\",0,IF(C12=$C$4,SUMIFS($I$4:I11,$C$4:C11,C11),SUMIFS($I$4:I11,$C$4:C11,C12)))","v":0},0]
[10,null,{"$f":"IFERROR(VLOOKUP(D13,Nomenclature!$B$2:$C$196,2,0),\"\")","v":""},null,null,null,null,{"$f":"IF(C13=\"\",0,IF(SUMIFS($G$5:G13,$C$5:C13,C13)-SUMIFS($I$4:I12,$C$4:C12,C13)<0,0,SUMIFS($G$5:G13,$C$5:C13,C13)-SUMIFS($I$4:I12,$C$4:C12,C13)))","v":0},null,{"$f":"IF(C13=\"\",0,IF(C13=$C$4,SUMIFS($I$4:I12,$C$4:C12,C12),SUMIFS($I$4:I12,$C$4:C12,C13)))","v":0},0]
[11,null,{"$f":"IFERROR(VLOOKUP(D14,Nomenclature!$B$2:$C$196,2,0),\"\")","v":""},null,null,null,null,{"$f":"IF(C14=\"\",0,IF(SUMIFS($G$5:G14,$C$5:C14,C14)-SUMIFS($I$4:I13,$C$4:C13,C14)<0,0,SUMIFS($G$5:G14,$C$5:C14,C14)-SUMIFS($I$4:I13,$C$4:C13,C14)))","v":0},null,{"$f":"IF(C14=\"\",0,IF(C14=$C$4,SUMIFS($I$4:I13,$C$4:C13,C13),SUMIFS($I$4:I13,$C$4:C13,C14)))","v":0},0,null,null,null,"رمز البرنــامج:",null,null,null,null,{"$f":"الواجهة!C7","v":"116"}]
[12,null,{"$f":"IFERROR(VLOOKUP(D15,Nomenclature!$B$2:$C$196,2,0),\"\")","v":""},null,null,null,null,{"$f":"IF(C15=\"\",0,IF(SUMIFS($G$5:G15,$C$5:C15,C15)-SUMIFS($I$4:I14,$C$4:C14,C15)<0,0,SUMIFS($G$5:G15,$C$5:C15,C15)-SUMIFS($I$4:I14,$C$4:C14,C15)))","v":0},null,{"$f":"IF(C15=\"\",0,IF(C15=$C$4,SUMIFS($I$4:I14,$C$4:C14,C14),SUMIFS($I$4:I14,$C$4:C14,C15)))","v":0},0,null,null,null,"رمز النشــاط:",null,null,null,null,{"$f":"الواجهة!C6&\" \"&الواجهة!C7&\" \"&الواجهة!C10&\" \"&الواجهة!C8&\" \"&الواجهة!C9&\" \"&الواجهة!C11","v":"030 116 02 2001 000 028"}]
[13,null,{"$f":"IFERROR(VLOOKUP(D16,Nomenclature!$B$2:$C$196,2,0),\"\")","v":""},null,null,null,null,{"$f":"IF(C16=\"\",0,IF(SUMIFS($G$5:G16,$C$5:C16,C16)-SUMIFS($I$4:I15,$C$4:C15,C16)<0,0,SUMIFS($G$5:G16,$C$5:C16,C16)-SUMIFS($I$4:I15,$C$4:C15,C16)))","v":0},null,{"$f":"IF(C16=\"\",0,IF(C16=$C$4,SUMIFS($I$4:I15,$C$4:C15,C15),SUMIFS($I$4:I15,$C$4:C15,C16)))","v":0},0,null,null,null,"رمز النشــاط الفرعي:",null,null,null,null,{"$f":"الواجهة!C9","v":"000"}]
[14,null,{"$f":"IFERROR(VLOOKUP(D17,Nomenclature!$B$2:$C$196,2,0),\"\")","v":""},null,null,null,null,{"$f":"IF(C17=\"\",0,IF(SUMIFS($G$5:G17,$C$5:C17,C17)-SUMIFS($I$4:I16,$C$4:C16,C17)<0,0,SUMIFS($G$5:G17,$C$5:C17,C17)-SUMIFS($I$4:I16,$C$4:C16,C17)))","v":0},null,{"$f":"IF(C17=\"\",0,IF(C17=$C$4,SUMIFS($I$4:I16,$C$4:C16,C16),SUMIFS($I$4:I16,$C$4:C16,C17)))","v":0},0,null,null,null,"رمز البرنـامج الفرعي:",null,null,null,null,{"$f":"الواجهة!C10","v":"02"}]
[15,null,{"$f":"IFERROR(VLOOKUP(D18,Nomenclature!$B$2:$C$196,2,0),\"\")","v":""},null,null,null,null,{"$f":"IF(C18=\"\",0,IF(SUMIFS($G$5:G18,$C$5:C18,C18)-SUMIFS($I$4:I17,$C$4:C17,C18)<0,0,SUMIFS($G$5:G18,$C$5:C18,C18)-SUMIFS($I$4:I17,$C$4:C17,C18)))","v":0},null,{"$f":"IF(C18=\"\",0,IF(C18=$C$4,SUMIFS($I$4:I17,$C$4:C17,C17),SUMIFS($I$4:I17,$C$4:C17,C18)))","v":0},0,null,null,null,null,null,null,null,null,null,null,null,null,null,null,null,null,null,null,null,null,null,null,null,null,null,null,null,null,null,null,null,null,"\n\n\n"]
[16,null,{"$f":"IFERROR(VLOOKUP(D19,Nomenclature!$B$2:$C$196,2,0),\"\")","v":""},null,null,null,null,{"$f":"IF(C19=\"\",0,IF(SUMIFS($G$5:G19,$C$5:C19,C19)-SUMIFS($I$4:I18,$C$4:C18,C19)<0,0,SUMIFS($G$5:G19,$C$5:C19,C19)-SUMIFS($I$4:I18,$C$4:C18,C19)))","v":0},null,{"$f":"IF(C19=\"\",0,IF(C19=$C$4,SUMIFS($I$4:I18,$C$4:C18,C18),SUMIFS($I$4:I18,$C$4:C18,C19)))","v":0},0]
[17,null,{"$f":"IFERROR(VLOOKUP(D20,Nomenclature!$B$2:$C$196,2,0),\"\")","v":""},null,null,null,null,{"$f":"IF(C20=\"\",0,IF(SUMIFS($G$5:G20,$C$5:C20,C20)-SUMIFS($I$4:I19,$C$4:C19,C20)<0,0,SUMIFS($G$5:G20,$C$5:C20,C20)-SUMIFS($I$4:I19,$C$4:C19,C20)))","v":0},null,{"$f":"IF(C20=\"\",0,IF(C20=$C$4,SUMIFS($I$4:I19,$C$4:C19,C19),SUMIFS($I$4:I19,$C$4:C19,C20)))","v":0},0,null,null,null,"العنوان:"]
[18,null,{"$f":"IFERROR(VLOOKUP(D21,Nomenclature!$B$2:$C$196,2,0),\"\")","v":""},null,null,null,null,{"$f":"IF(C21=\"\",0,IF(SUMIFS($G$5:G21,$C$5:C21,C21)-SUMIFS($I$4:I20,$C$4:C20,C21)<0,0,SUMIFS($G$5:G21,$C$5:C21,C21)-SUMIFS($I$4:I20,$C$4:C20,C21)))","v":0},null,{"$f":"IF(C21=\"\",0,IF(C21=$C$4,SUMIFS($I$4:I20,$C$4:C20,C20),SUMIFS($I$4:I20,$C$4:C20,C21)))","v":0},0,null,null,null,null,null,{"$f":"IF(C4<20000,\"X\",\"\")","v":"X"},null,"العنوان الأول:",null,null,null,"نفقات المستخدمين"]
[19,null,{"$f":"IFERROR(VLOOKUP(D22,Nomenclature!$B$2:$C$196,2,0),\"\")","v":""},null,null,null,null,{"$f":"IF(C22=\"\",0,IF(SUMIFS($G$5:G22,$C$5:C22,C22)-SUMIFS($I$4:I21,$C$4:C21,C22)<0,0,SUMIFS($G$5:G22,$C$5:C22,C22)-SUMIFS($I$4:I21,$C$4:C21,C22)))","v":0},null,{"$f":"IF(C22=\"\",0,IF(C22=$C$4,SUMIFS($I$4:I21,$C$4:C21,C21),SUMIFS($I$4:I21,$C$4:C21,C22)))","v":0},0,null,null,null,null,null,{"$f":"IF(AND(C4>19999,C4<40000),\"X\",\"\")","v":""},null,"العنوان الثاني:",null,null,null,"نفقات تسيير المصالح"]
[20,null,{"$f":"IFERROR(VLOOKUP(D23,Nomenclature!$B$2:$C$196,2,0),\"\")","v":""},null,null,null,null,{"$f":"IF(C23=\"\",0,IF(SUMIFS($G$5:G23,$C$5:C23,C23)-SUMIFS($I$4:I22,$C$4:C22,C23)<0,0,SUMIFS($G$5:G23,$C$5:C23,C23)-SUMIFS($I$4:I22,$C$4:C22,C23)))","v":0},null,{"$f":"IF(C23=\"\",0,IF(C23=$C$4,SUMIFS($I$4:I22,$C$4:C22,C22),SUMIFS($I$4:I22,$C$4:C22,C23)))","v":0},0,null,null,null,null,null,{"$f":"IF(AND(Q21=\"\",Q22=\"\"),\"X\",\"\")","v":""},null,"العنوان الرابع:",null,null,null,"نفقات التحويل"]
[21,null,{"$f":"IFERROR(VLOOKUP(D24,Nomenclature!$B$2:$C$196,2,0),\"\")","v":""},null,null,null,null,{"$f":"IF(C24=\"\",0,IF(SUMIFS($G$5:G24,$C$5:C24,C24)-SUMIFS($I$4:I23,$C$4:C23,C24)<0,0,SUMIFS($G$5:G24,$C$5:C24,C24)-SUMIFS($I$4:I23,$C$4:C23,C24)))","v":0},null,{"$f":"IF(C24=\"\",0,IF(C24=$C$4,SUMIFS($I$4:I23,$C$4:C23,C23),SUMIFS($I$4:I23,$C$4:C23,C24)))","v":0},0,null,null,null,null,null,null,{"$f":"IF(VLOOKUP(N1,A4:L203,12,0)=\"\",\"- - - - - - - - - - - - - - - - - - - - - - - - - - - - - - - - - - - - - - - - - - - - - - - / / / - - - - - - - - - - - - - - - - - - - - - - - - - - - - - - - - - - - - - - - - - - - - - - -\"& CHAR(10)&\"- - - - - - - - - - - - - - - - - - - - - - - - - - - - - - - - - - - - - - - - - - - - - - - / / / - - - - - - - - - - - - - - - - - - - - - - - - - - - - - - - - - - - - - - - - - - - - - - -\",VLOOKUP(N1,A4:L203,12,0))","v":"- - - - - - - - - - - - - - - - - - - - - - - - - - - - - - - - - - - - - - - - - - - - - - - / / / - - - - - - - - - - - - - - - - - - - - - - - - - - - - - - - - - - - - - - - - - - - - - - -\n- - - - - - - - - - - - - - - - - - - - - - - - - - - - - - - - - - - - - - - - - - - - - - - / / / - - - - - - - - - - - - - - - - - - - - - - - - - - - - - - - - - - - - - - - - - - - - - - -"}]
[22,null,{"$f":"IFERROR(VLOOKUP(D25,Nomenclature!$B$2:$C$196,2,0),\"\")","v":""},null,null,null,null,{"$f":"IF(C25=\"\",0,IF(SUMIFS($G$5:G25,$C$5:C25,C25)-SUMIFS($I$4:I24,$C$4:C24,C25)<0,0,SUMIFS($G$5:G25,$C$5:C25,C25)-SUMIFS($I$4:I24,$C$4:C24,C25)))","v":0},null,{"$f":"IF(C25=\"\",0,IF(C25=$C$4,SUMIFS($I$4:I24,$C$4:C24,C24),SUMIFS($I$4:I24,$C$4:C24,C25)))","v":0},0]
[23,null,{"$f":"IFERROR(VLOOKUP(D26,Nomenclature!$B$2:$C$196,2,0),\"\")","v":""},null,null,null,null,{"$f":"IF(C26=\"\",0,IF(SUMIFS($G$5:G26,$C$5:C26,C26)-SUMIFS($I$4:I25,$C$4:C25,C26)<0,0,SUMIFS($G$5:G26,$C$5:C26,C26)-SUMIFS($I$4:I25,$C$4:C25,C26)))","v":0},null,{"$f":"IF(C26=\"\",0,IF(C26=$C$4,SUMIFS($I$4:I25,$C$4:C25,C25),SUMIFS($I$4:I25,$C$4:C25,C26)))","v":0},0]
[24,null,{"$f":"IFERROR(VLOOKUP(D27,Nomenclature!$B$2:$C$196,2,0),\"\")","v":""},null,null,null,null,{"$f":"IF(C27=\"\",0,IF(SUMIFS($G$5:G27,$C$5:C27,C27)-SUMIFS($I$4:I26,$C$4:C26,C27)<0,0,SUMIFS($G$5:G27,$C$5:C27,C27)-SUMIFS($I$4:I26,$C$4:C26,C27)))","v":0},null,{"$f":"IF(C27=\"\",0,IF(C27=$C$4,SUMIFS($I$4:I26,$C$4:C26,C26),SUMIFS($I$4:I26,$C$4:C26,C27)))","v":0},0,null,null,null,"الصنف / الصنف الفرعي",null,null,null,null,null,null,null,"رخصة الالتزام\nالمفتوحة/المعدلة",null,null,null,"مجموع الالتزامات السابقة",null,null,null,"الرصيد\nالأولي",null,null,null,"الالتزام\nالمقترح",null,null,null,"الرصيد المتبقى"]
[25,null,{"$f":"IFERROR(VLOOKUP(D28,Nomenclature!$B$2:$C$196,2,0),\"\")","v":""},null,null,null,null,{"$f":"IF(C28=\"\",0,IF(SUMIFS($G$5:G28,$C$5:C28,C28)-SUMIFS($I$4:I27,$C$4:C27,C28)<0,0,SUMIFS($G$5:G28,$C$5:C28,C28)-SUMIFS($I$4:I27,$C$4:C27,C28)))","v":0},null,{"$f":"IF(C28=\"\",0,IF(C28=$C$4,SUMIFS($I$4:I27,$C$4:C27,C27),SUMIFS($I$4:I27,$C$4:C27,C28)))","v":0},0]
[26,null,{"$f":"IFERROR(VLOOKUP(D29,Nomenclature!$B$2:$C$196,2,0),\"\")","v":""},null,null,null,null,{"$f":"IF(C29=\"\",0,IF(SUMIFS($G$5:G29,$C$5:C29,C29)-SUMIFS($I$4:I28,$C$4:C28,C29)<0,0,SUMIFS($G$5:G29,$C$5:C29,C29)-SUMIFS($I$4:I28,$C$4:C28,C29)))","v":0},null,{"$f":"IF(C29=\"\",0,IF(C29=$C$4,SUMIFS($I$4:I28,$C$4:C28,C28),SUMIFS($I$4:I28,$C$4:C28,C29)))","v":0},0,null,null,null,"الصنف",null,null,null,{"$f":"C4","v":12000},null,null,null,{"$f":"SUM($F$4:INDIRECT(\"f\"&N1+3))","v":10500000},null,null,null,{"$f":"SUM($I$4:INDIRECT(\"i\"&N1+2))","v":0},null,null,null,{"$f":"W29-AA29","v":10500000},null,null,null,{"$f":"IF(S31=\"\",0,VLOOKUP(N1,A4:L103,9,0))","v":0},null,null,null,{"$f":"IF((AE29-AI29)<0,\"رصيد غير كاف\",AE29-AI29)","v":10500000}]
[27,null,{"$f":"IFERROR(VLOOKUP(D30,Nomenclature!$B$2:$C$196,2,0),\"\")","v":""},null,null,null,null,{"$f":"IF(C30=\"\",0,IF(SUMIFS($G$5:G30,$C$5:C30,C30)-SUMIFS($I$4:I29,$C$4:C29,C30)<0,0,SUMIFS($G$5:G30,$C$5:C30,C30)-SUMIFS($I$4:I29,$C$4:C29,C30)))","v":0},null,{"$f":"IF(C30=\"\",0,IF(C30=$C$4,SUMIFS($I$4:I29,$C$4:C29,C29),SUMIFS($I$4:I29,$C$4:C29,C30)))","v":0},0]
[28,null,{"$f":"IFERROR(VLOOKUP(D31,Nomenclature!$B$2:$C$196,2,0),\"\")","v":""},null,null,null,null,{"$f":"IF(C31=\"\",0,IF(SUMIFS($G$5:G31,$C$5:C31,C31)-SUMIFS($I$4:I30,$C$4:C30,C31)<0,0,SUMIFS($G$5:G31,$C$5:C31,C31)-SUMIFS($I$4:I30,$C$4:C30,C31)))","v":0},null,{"$f":"IF(C31=\"\",0,IF(C31=$C$4,SUMIFS($I$4:I30,$C$4:C30,C30),SUMIFS($I$4:I30,$C$4:C30,C31)))","v":0},0,null,null,null,"الصنف الفرعي",null,null,null,{"$f":"IF(IFERROR(VLOOKUP(N1,A4:L103,3,0),\"انتبه خطأ\")=S29,\"\",IFERROR(VLOOKUP(N1,A4:L103,3,0),\"انتبه خطأ\"))","v":""},null,null,null,{"$f":"IF(S31=\"\",\"\",VLOOKUP(N1,A4:L103,8,0))","v":""},null,null,null,{"$f":"IF(S31=\"\",\"\",VLOOKUP(N1,A4:L103,10,0))","v":""},null,null,null,{"$f":"IF(S31=\"\",\"\",W31-AA31)","v":""},null,null,null,{"$f":"IF(S31=\"\",\"\",VLOOKUP(N1,A4:L103,9,0))","v":""},null,null,null,{"$f":"IF(S31=\"\",\"\",IF((AE31-AI31)<0,\"رصيد غير كاف\",AE31-AI31))","v":""}]
[29,null,{"$f":"IFERROR(VLOOKUP(D32,Nomenclature!$B$2:$C$196,2,0),\"\")","v":""},null,null,null,null,{"$f":"IF(C32=\"\",0,IF(SUMIFS($G$5:G32,$C$5:C32,C32)-SUMIFS($I$4:I31,$C$4:C31,C32)<0,0,SUMIFS($G$5:G32,$C$5:C32,C32)-SUMIFS($I$4:I31,$C$4:C31,C32)))","v":0},null,{"$f":"IF(C32=\"\",0,IF(C32=$C$4,SUMIFS($I$4:I31,$C$4:C31,C31),SUMIFS($I$4:I31,$C$4:C31,C32)))","v":0},0]
[30,null,{"$f":"IFERROR(VLOOKUP(D33,Nomenclature!$B$2:$C$196,2,0),\"\")","v":""},null,null,null,null,{"$f":"IF(C33=\"\",0,IF(SUMIFS($G$5:G33,$C$5:C33,C33)-SUMIFS($I$4:I32,$C$4:C32,C33)<0,0,SUMIFS($G$5:G33,$C$5:C33,C33)-SUMIFS($I$4:I32,$C$4:C32,C33)))","v":0},null,{"$f":"IF(C33=\"\",0,IF(C33=$C$4,SUMIFS($I$4:I32,$C$4:C32,C32),SUMIFS($I$4:I32,$C$4:C32,C33)))","v":0},0]
[31,null,{"$f":"IFERROR(VLOOKUP(D34,Nomenclature!$B$2:$C$196,2,0),\"\")","v":""},null,null,null,null,{"$f":"IF(C34=\"\",0,IF(SUMIFS($G$5:G34,$C$5:C34,C34)-SUMIFS($I$4:I33,$C$4:C33,C34)<0,0,SUMIFS($G$5:G34,$C$5:C34,C34)-SUMIFS($I$4:I33,$C$4:C33,C34)))","v":0},null,{"$f":"IF(C34=\"\",0,IF(C34=$C$4,SUMIFS($I$4:I33,$C$4:C33,C33),SUMIFS($I$4:I33,$C$4:C33,C34)))","v":0},0,null,null,null,"موضوع الالتزام:"]
[32,null,{"$f":"IFERROR(VLOOKUP(D35,Nomenclature!$B$2:$C$196,2,0),\"\")","v":""},null,null,null,null,{"$f":"IF(C35=\"\",0,IF(SUMIFS($G$5:G35,$C$5:C35,C35)-SUMIFS($I$4:I34,$C$4:C34,C35)<0,0,SUMIFS($G$5:G35,$C$5:C35,C35)-SUMIFS($I$4:I34,$C$4:C34,C35)))","v":0},null,{"$f":"IF(C35=\"\",0,IF(C35=$C$4,SUMIFS($I$4:I34,$C$4:C34,C34),SUMIFS($I$4:I34,$C$4:C34,C35)))","v":0},0,null,null,null,{"$f":"IF(VLOOKUP(N1,A4:L203,5,0)=0,\"\",IFERROR(VLOOKUP(N1,A4:L203,5,0),\"انتبه خطأ\"))","v":"تكفل برخصة الالتزام المفتوحة لسنة 2023."}]
[33,null,{"$f":"IFERROR(VLOOKUP(D36,Nomenclature!$B$2:$C$196,2,0),\"\")","v":""},null,null,null,null,{"$f":"IF(C36=\"\",0,IF(SUMIFS($G$5:G36,$C$5:C36,C36)-SUMIFS($I$4:I35,$C$4:C35,C36)<0,0,SUMIFS($G$5:G36,$C$5:C36,C36)-SUMIFS($I$4:I35,$C$4:C35,C36)))","v":0},null,{"$f":"IF(C36=\"\",0,IF(C36=$C$4,SUMIFS($I$4:I35,$C$4:C35,C35),SUMIFS($I$4:I35,$C$4:C35,C36)))","v":0},0]
[34,null,{"$f":"IFERROR(VLOOKUP(D37,Nomenclature!$B$2:$C$196,2,0),\"\")","v":""},null,null,null,null,{"$f":"IF(C37=\"\",0,IF(SUMIFS($G$5:G37,$C$5:C37,C37)-SUMIFS($I$4:I36,$C$4:C36,C37)<0,0,SUMIFS($G$5:G37,$C$5:C37,C37)-SUMIFS($I$4:I36,$C$4:C36,C37)))","v":0},null,{"$f":"IF(C37=\"\",0,IF(C37=$C$4,SUMIFS($I$4:I36,$C$4:C36,C36),SUMIFS($I$4:I36,$C$4:C36,C37)))","v":0},0]
[35,null,{"$f":"IFERROR(VLOOKUP(D38,Nomenclature!$B$2:$C$196,2,0),\"\")","v":""},null,null,null,null,{"$f":"IF(C38=\"\",0,IF(SUMIFS($G$5:G38,$C$5:C38,C38)-SUMIFS($I$4:I37,$C$4:C37,C38)<0,0,SUMIFS($G$5:G38,$C$5:C38,C38)-SUMIFS($I$4:I37,$C$4:C37,C38)))","v":0},null,{"$f":"IF(C38=\"\",0,IF(C38=$C$4,SUMIFS($I$4:I37,$C$4:C37,C37),SUMIFS($I$4:I37,$C$4:C37,C38)))","v":0},0]
[36,null,{"$f":"IFERROR(VLOOKUP(D39,Nomenclature!$B$2:$C$196,2,0),\"\")","v":""},null,null,null,null,{"$f":"IF(C39=\"\",0,IF(SUMIFS($G$5:G39,$C$5:C39,C39)-SUMIFS($I$4:I38,$C$4:C38,C39)<0,0,SUMIFS($G$5:G39,$C$5:C39,C39)-SUMIFS($I$4:I38,$C$4:C38,C39)))","v":0},null,{"$f":"IF(C39=\"\",0,IF(C39=$C$4,SUMIFS($I$4:I38,$C$4:C38,C38),SUMIFS($I$4:I38,$C$4:C38,C39)))","v":0},0]
[37,null,{"$f":"IFERROR(VLOOKUP(D40,Nomenclature!$B$2:$C$196,2,0),\"\")","v":""},null,null,null,null,{"$f":"IF(C40=\"\",0,IF(SUMIFS($G$5:G40,$C$5:C40,C40)-SUMIFS($I$4:I39,$C$4:C39,C40)<0,0,SUMIFS($G$5:G40,$C$5:C40,C40)-SUMIFS($I$4:I39,$C$4:C39,C40)))","v":0},null,{"$f":"IF(C40=\"\",0,IF(C40=$C$4,SUMIFS($I$4:I39,$C$4:C39,C39),SUMIFS($I$4:I39,$C$4:C39,C40)))","v":0},0,null,null,null,"المبلغ بالحروف:",null,null,null,{"$f":"IFERROR(arretera(AI31),\"\")","v":""}]
[38,null,{"$f":"IFERROR(VLOOKUP(D41,Nomenclature!$B$2:$C$196,2,0),\"\")","v":""},null,null,null,null,{"$f":"IF(C41=\"\",0,IF(SUMIFS($G$5:G41,$C$5:C41,C41)-SUMIFS($I$4:I40,$C$4:C40,C41)<0,0,SUMIFS($G$5:G41,$C$5:C41,C41)-SUMIFS($I$4:I40,$C$4:C40,C41)))","v":0},null,{"$f":"IF(C41=\"\",0,IF(C41=$C$4,SUMIFS($I$4:I40,$C$4:C40,C40),SUMIFS($I$4:I40,$C$4:C40,C41)))","v":0},0]
[39,null,{"$f":"IFERROR(VLOOKUP(D42,Nomenclature!$B$2:$C$196,2,0),\"\")","v":""},null,null,null,null,{"$f":"IF(C42=\"\",0,IF(SUMIFS($G$5:G42,$C$5:C42,C42)-SUMIFS($I$4:I41,$C$4:C41,C42)<0,0,SUMIFS($G$5:G42,$C$5:C42,C42)-SUMIFS($I$4:I41,$C$4:C41,C42)))","v":0},null,{"$f":"IF(C42=\"\",0,IF(C42=$C$4,SUMIFS($I$4:I41,$C$4:C41,C41),SUMIFS($I$4:I41,$C$4:C41,C42)))","v":0},0]
[40,null,{"$f":"IFERROR(VLOOKUP(D43,Nomenclature!$B$2:$C$196,2,0),\"\")","v":""},null,null,null,null,{"$f":"IF(C43=\"\",0,IF(SUMIFS($G$5:G43,$C$5:C43,C43)-SUMIFS($I$4:I42,$C$4:C42,C43)<0,0,SUMIFS($G$5:G43,$C$5:C43,C43)-SUMIFS($I$4:I42,$C$4:C42,C43)))","v":0},null,{"$f":"IF(C43=\"\",0,IF(C43=$C$4,SUMIFS($I$4:I42,$C$4:C42,C42),SUMIFS($I$4:I42,$C$4:C42,C43)))","v":0},0,null,null,null,"إطار مخصص للمراقب الميزانياتي",null,null,null,null,null,null,null,null,null,null,null,null,null,"إطار مخصص للآمر بالصرف"]
[41,null,{"$f":"IFERROR(VLOOKUP(D44,Nomenclature!$B$2:$C$196,2,0),\"\")","v":""},null,null,null,null,{"$f":"IF(C44=\"\",0,IF(SUMIFS($G$5:G44,$C$5:C44,C44)-SUMIFS($I$4:I43,$C$4:C43,C44)<0,0,SUMIFS($G$5:G44,$C$5:C44,C44)-SUMIFS($I$4:I43,$C$4:C43,C44)))","v":0},null,{"$f":"IF(C44=\"\",0,IF(C44=$C$4,SUMIFS($I$4:I43,$C$4:C43,C43),SUMIFS($I$4:I43,$C$4:C43,C44)))","v":0},0]
[42,null,{"$f":"IFERROR(VLOOKUP(D45,Nomenclature!$B$2:$C$196,2,0),\"\")","v":""},null,null,null,null,{"$f":"IF(C45=\"\",0,IF(SUMIFS($G$5:G45,$C$5:C45,C45)-SUMIFS($I$4:I44,$C$4:C44,C45)<0,0,SUMIFS($G$5:G45,$C$5:C45,C45)-SUMIFS($I$4:I44,$C$4:C44,C45)))","v":0},null,{"$f":"IF(C45=\"\",0,IF(C45=$C$4,SUMIFS($I$4:I44,$C$4:C44,C44),SUMIFS($I$4:I44,$C$4:C44,C45)))","v":0},0,null,null,null,"رقم التأشيرة:",null,null,null,null,null,null,null,null,null,null,null,null,null,null,"ختم"]
[43,null,{"$f":"IFERROR(VLOOKUP(D46,Nomenclature!$B$2:$C$196,2,0),\"\")","v":""},null,null,null,null,{"$f":"IF(C46=\"\",0,IF(SUMIFS($G$5:G46,$C$5:C46,C46)-SUMIFS($I$4:I45,$C$4:C45,C46)<0,0,SUMIFS($G$5:G46,$C$5:C46,C46)-SUMIFS($I$4:I45,$C$4:C45,C46)))","v":0},null,{"$f":"IF(C46=\"\",0,IF(C46=$C$4,SUMIFS($I$4:I45,$C$4:C45,C45),SUMIFS($I$4:I45,$C$4:C45,C46)))","v":0},0]
[44,null,{"$f":"IFERROR(VLOOKUP(D47,Nomenclature!$B$2:$C$196,2,0),\"\")","v":""},null,null,null,null,{"$f":"IF(C47=\"\",0,IF(SUMIFS($G$5:G47,$C$5:C47,C47)-SUMIFS($I$4:I46,$C$4:C46,C47)<0,0,SUMIFS($G$5:G47,$C$5:C47,C47)-SUMIFS($I$4:I46,$C$4:C46,C47)))","v":0},null,{"$f":"IF(C47=\"\",0,IF(C47=$C$4,SUMIFS($I$4:I46,$C$4:C46,C46),SUMIFS($I$4:I46,$C$4:C46,C47)))","v":0},0,null,null,null,"تاريخ التأشيرة:"]
[45,null,{"$f":"IFERROR(VLOOKUP(D48,Nomenclature!$B$2:$C$196,2,0),\"\")","v":""},null,null,null,null,{"$f":"IF(C48=\"\",0,IF(SUMIFS($G$5:G48,$C$5:C48,C48)-SUMIFS($I$4:I47,$C$4:C47,C48)<0,0,SUMIFS($G$5:G48,$C$5:C48,C48)-SUMIFS($I$4:I47,$C$4:C47,C48)))","v":0},null,{"$f":"IF(C48=\"\",0,IF(C48=$C$4,SUMIFS($I$4:I47,$C$4:C47,C47),SUMIFS($I$4:I47,$C$4:C47,C48)))","v":0},0,null,null,null,null,null,null,null,null,null,null,null,null,null,null,null,null,null,null,"امضاء"]
[46,null,{"$f":"IFERROR(VLOOKUP(D49,Nomenclature!$B$2:$C$196,2,0),\"\")","v":""},null,null,null,null,{"$f":"IF(C49=\"\",0,IF(SUMIFS($G$5:G49,$C$5:C49,C49)-SUMIFS($I$4:I48,$C$4:C48,C49)<0,0,SUMIFS($G$5:G49,$C$5:C49,C49)-SUMIFS($I$4:I48,$C$4:C48,C49)))","v":0},null,{"$f":"IF(C49=\"\",0,IF(C49=$C$4,SUMIFS($I$4:I48,$C$4:C48,C48),SUMIFS($I$4:I48,$C$4:C48,C49)))","v":0},0]
[47,null,{"$f":"IFERROR(VLOOKUP(D50,Nomenclature!$B$2:$C$196,2,0),\"\")","v":""},null,null,null,null,{"$f":"IF(C50=\"\",0,IF(SUMIFS($G$5:G50,$C$5:C50,C50)-SUMIFS($I$4:I49,$C$4:C49,C50)<0,0,SUMIFS($G$5:G50,$C$5:C50,C50)-SUMIFS($I$4:I49,$C$4:C49,C50)))","v":0},null,{"$f":"IF(C50=\"\",0,IF(C50=$C$4,SUMIFS($I$4:I49,$C$4:C49,C49),SUMIFS($I$4:I49,$C$4:C49,C50)))","v":0},0]
[48,null,{"$f":"IFERROR(VLOOKUP(D51,Nomenclature!$B$2:$C$196,2,0),\"\")","v":""},null,null,null,null,{"$f":"IF(C51=\"\",0,IF(SUMIFS($G$5:G51,$C$5:C51,C51)-SUMIFS($I$4:I50,$C$4:C50,C51)<0,0,SUMIFS($G$5:G51,$C$5:C51,C51)-SUMIFS($I$4:I50,$C$4:C50,C51)))","v":0},null,{"$f":"IF(C51=\"\",0,IF(C51=$C$4,SUMIFS($I$4:I50,$C$4:C50,C50),SUMIFS($I$4:I50,$C$4:C50,C51)))","v":0},0,null,null,null,null,{"$f":"AD48","v":"امضاء"},null,null,null,null,null,null,null,{"$f":"AD45","v":"ختم"}]
[49,null,{"$f":"IFERROR(VLOOKUP(D52,Nomenclature!$B$2:$C$196,2,0),\"\")","v":""},null,null,null,null,{"$f":"IF(C52=\"\",0,IF(SUMIFS($G$5:G52,$C$5:C52,C52)-SUMIFS($I$4:I51,$C$4:C51,C52)<0,0,SUMIFS($G$5:G52,$C$5:C52,C52)-SUMIFS($I$4:I51,$C$4:C51,C52)))","v":0},null,{"$f":"IF(C52=\"\",0,IF(C52=$C$4,SUMIFS($I$4:I51,$C$4:C51,C51),SUMIFS($I$4:I51,$C$4:C51,C52)))","v":0},0]
[50,null,{"$f":"IFERROR(VLOOKUP(D53,Nomenclature!$B$2:$C$196,2,0),\"\")","v":""},null,null,null,null,{"$f":"IF(C53=\"\",0,IF(SUMIFS($G$5:G53,$C$5:C53,C53)-SUMIFS($I$4:I52,$C$4:C52,C53)<0,0,SUMIFS($G$5:G53,$C$5:C53,C53)-SUMIFS($I$4:I52,$C$4:C52,C53)))","v":0},null,{"$f":"IF(C53=\"\",0,IF(C53=$C$4,SUMIFS($I$4:I52,$C$4:C52,C52),SUMIFS($I$4:I52,$C$4:C52,C53)))","v":0},0]
[51,null,{"$f":"IFERROR(VLOOKUP(D54,Nomenclature!$B$2:$C$196,2,0),\"\")","v":""},null,null,null,null,{"$f":"IF(C54=\"\",0,IF(SUMIFS($G$5:G54,$C$5:C54,C54)-SUMIFS($I$4:I53,$C$4:C53,C54)<0,0,SUMIFS($G$5:G54,$C$5:C54,C54)-SUMIFS($I$4:I53,$C$4:C53,C54)))","v":0},null,{"$f":"IF(C54=\"\",0,IF(C54=$C$4,SUMIFS($I$4:I53,$C$4:C53,C53),SUMIFS($I$4:I53,$C$4:C53,C54)))","v":0},0]
[52,null,{"$f":"IFERROR(VLOOKUP(D55,Nomenclature!$B$2:$C$196,2,0),\"\")","v":""},null,null,null,null,{"$f":"IF(C55=\"\",0,IF(SUMIFS($G$5:G55,$C$5:C55,C55)-SUMIFS($I$4:I54,$C$4:C54,C55)<0,0,SUMIFS($G$5:G55,$C$5:C55,C55)-SUMIFS($I$4:I54,$C$4:C54,C55)))","v":0},null,{"$f":"IF(C55=\"\",0,IF(C55=$C$4,SUMIFS($I$4:I54,$C$4:C54,C54),SUMIFS($I$4:I54,$C$4:C54,C55)))","v":0},0]
[53,null,{"$f":"IFERROR(VLOOKUP(D56,Nomenclature!$B$2:$C$196,2,0),\"\")","v":""},null,null,null,null,{"$f":"IF(C56=\"\",0,IF(SUMIFS($G$5:G56,$C$5:C56,C56)-SUMIFS($I$4:I55,$C$4:C55,C56)<0,0,SUMIFS($G$5:G56,$C$5:C56,C56)-SUMIFS($I$4:I55,$C$4:C55,C56)))","v":0},null,{"$f":"IF(C56=\"\",0,IF(C56=$C$4,SUMIFS($I$4:I55,$C$4:C55,C55),SUMIFS($I$4:I55,$C$4:C55,C56)))","v":0},0]
[54,null,{"$f":"IFERROR(VLOOKUP(D57,Nomenclature!$B$2:$C$196,2,0),\"\")","v":""},null,null,null,null,{"$f":"IF(C57=\"\",0,IF(SUMIFS($G$5:G57,$C$5:C57,C57)-SUMIFS($I$4:I56,$C$4:C56,C57)<0,0,SUMIFS($G$5:G57,$C$5:C57,C57)-SUMIFS($I$4:I56,$C$4:C56,C57)))","v":0},null,{"$f":"IF(C57=\"\",0,IF(C57=$C$4,SUMIFS($I$4:I56,$C$4:C56,C56),SUMIFS($I$4:I56,$C$4:C56,C57)))","v":0},0]
[55,null,{"$f":"IFERROR(VLOOKUP(D58,Nomenclature!$B$2:$C$196,2,0),\"\")","v":""},null,null,null,null,{"$f":"IF(C58=\"\",0,IF(SUMIFS($G$5:G58,$C$5:C58,C58)-SUMIFS($I$4:I57,$C$4:C57,C58)<0,0,SUMIFS($G$5:G58,$C$5:C58,C58)-SUMIFS($I$4:I57,$C$4:C57,C58)))","v":0},null,{"$f":"IF(C58=\"\",0,IF(C58=$C$4,SUMIFS($I$4:I57,$C$4:C57,C57),SUMIFS($I$4:I57,$C$4:C57,C58)))","v":0},0]
[56,null,{"$f":"IFERROR(VLOOKUP(D59,Nomenclature!$B$2:$C$196,2,0),\"\")","v":""},null,null,null,null,{"$f":"IF(C59=\"\",0,IF(SUMIFS($G$5:G59,$C$5:C59,C59)-SUMIFS($I$4:I58,$C$4:C58,C59)<0,0,SUMIFS($G$5:G59,$C$5:C59,C59)-SUMIFS($I$4:I58,$C$4:C58,C59)))","v":0},null,{"$f":"IF(C59=\"\",0,IF(C59=$C$4,SUMIFS($I$4:I58,$C$4:C58,C58),SUMIFS($I$4:I58,$C$4:C58,C59)))","v":0},0]
[57,null,{"$f":"IFERROR(VLOOKUP(D60,Nomenclature!$B$2:$C$196,2,0),\"\")","v":""},null,null,null,null,{"$f":"IF(C60=\"\",0,IF(SUMIFS($G$5:G60,$C$5:C60,C60)-SUMIFS($I$4:I59,$C$4:C59,C60)<0,0,SUMIFS($G$5:G60,$C$5:C60,C60)-SUMIFS($I$4:I59,$C$4:C59,C60)))","v":0},null,{"$f":"IF(C60=\"\",0,IF(C60=$C$4,SUMIFS($I$4:I59,$C$4:C59,C59),SUMIFS($I$4:I59,$C$4:C59,C60)))","v":0},0]
[58,null,{"$f":"IFERROR(VLOOKUP(D61,Nomenclature!$B$2:$C$196,2,0),\"\")","v":""},null,null,null,null,{"$f":"IF(C61=\"\",0,IF(SUMIFS($G$5:G61,$C$5:C61,C61)-SUMIFS($I$4:I60,$C$4:C60,C61)<0,0,SUMIFS($G$5:G61,$C$5:C61,C61)-SUMIFS($I$4:I60,$C$4:C60,C61)))","v":0},null,{"$f":"IF(C61=\"\",0,IF(C61=$C$4,SUMIFS($I$4:I60,$C$4:C60,C60),SUMIFS($I$4:I60,$C$4:C60,C61)))","v":0},0]
[59,null,{"$f":"IFERROR(VLOOKUP(D62,Nomenclature!$B$2:$C$196,2,0),\"\")","v":""},null,null,null,null,{"$f":"IF(C62=\"\",0,IF(SUMIFS($G$5:G62,$C$5:C62,C62)-SUMIFS($I$4:I61,$C$4:C61,C62)<0,0,SUMIFS($G$5:G62,$C$5:C62,C62)-SUMIFS($I$4:I61,$C$4:C61,C62)))","v":0},null,{"$f":"IF(C62=\"\",0,IF(C62=$C$4,SUMIFS($I$4:I61,$C$4:C61,C61),SUMIFS($I$4:I61,$C$4:C61,C62)))","v":0},0]
[60,null,{"$f":"IFERROR(VLOOKUP(D63,Nomenclature!$B$2:$C$196,2,0),\"\")","v":""},null,null,null,null,{"$f":"IF(C63=\"\",0,IF(SUMIFS($G$5:G63,$C$5:C63,C63)-SUMIFS($I$4:I62,$C$4:C62,C63)<0,0,SUMIFS($G$5:G63,$C$5:C63,C63)-SUMIFS($I$4:I62,$C$4:C62,C63)))","v":0},null,{"$f":"IF(C63=\"\",0,IF(C63=$C$4,SUMIFS($I$4:I62,$C$4:C62,C62),SUMIFS($I$4:I62,$C$4:C62,C63)))","v":0},0]
[61,null,{"$f":"IFERROR(VLOOKUP(D64,Nomenclature!$B$2:$C$196,2,0),\"\")","v":""},null,null,null,null,{"$f":"IF(C64=\"\",0,IF(SUMIFS($G$5:G64,$C$5:C64,C64)-SUMIFS($I$4:I63,$C$4:C63,C64)<0,0,SUMIFS($G$5:G64,$C$5:C64,C64)-SUMIFS($I$4:I63,$C$4:C63,C64)))","v":0},null,{"$f":"IF(C64=\"\",0,IF(C64=$C$4,SUMIFS($I$4:I63,$C$4:C63,C63),SUMIFS($I$4:I63,$C$4:C63,C64)))","v":0},0]
[62,null,{"$f":"IFERROR(VLOOKUP(D65,Nomenclature!$B$2:$C$196,2,0),\"\")","v":""},null,null,null,null,{"$f":"IF(C65=\"\",0,IF(SUMIFS($G$5:G65,$C$5:C65,C65)-SUMIFS($I$4:I64,$C$4:C64,C65)<0,0,SUMIFS($G$5:G65,$C$5:C65,C65)-SUMIFS($I$4:I64,$C$4:C64,C65)))","v":0},null,{"$f":"IF(C65=\"\",0,IF(C65=$C$4,SUMIFS($I$4:I64,$C$4:C64,C64),SUMIFS($I$4:I64,$C$4:C64,C65)))","v":0},0]
[63,null,{"$f":"IFERROR(VLOOKUP(D66,Nomenclature!$B$2:$C$196,2,0),\"\")","v":""},null,null,null,null,{"$f":"IF(C66=\"\",0,IF(SUMIFS($G$5:G66,$C$5:C66,C66)-SUMIFS($I$4:I65,$C$4:C65,C66)<0,0,SUMIFS($G$5:G66,$C$5:C66,C66)-SUMIFS($I$4:I65,$C$4:C65,C66)))","v":0},null,{"$f":"IF(C66=\"\",0,IF(C66=$C$4,SUMIFS($I$4:I65,$C$4:C65,C65),SUMIFS($I$4:I65,$C$4:C65,C66)))","v":0},0]
[64,null,{"$f":"IFERROR(VLOOKUP(D67,Nomenclature!$B$2:$C$196,2,0),\"\")","v":""},null,null,null,null,{"$f":"IF(C67=\"\",0,IF(SUMIFS($G$5:G67,$C$5:C67,C67)-SUMIFS($I$4:I66,$C$4:C66,C67)<0,0,SUMIFS($G$5:G67,$C$5:C67,C67)-SUMIFS($I$4:I66,$C$4:C66,C67)))","v":0},null,{"$f":"IF(C67=\"\",0,IF(C67=$C$4,SUMIFS($I$4:I66,$C$4:C66,C66),SUMIFS($I$4:I66,$C$4:C66,C67)))","v":0},0]
[65,null,{"$f":"IFERROR(VLOOKUP(D68,Nomenclature!$B$2:$C$196,2,0),\"\")","v":""},null,null,null,null,{"$f":"IF(C68=\"\",0,IF(SUMIFS($G$5:G68,$C$5:C68,C68)-SUMIFS($I$4:I67,$C$4:C67,C68)<0,0,SUMIFS($G$5:G68,$C$5:C68,C68)-SUMIFS($I$4:I67,$C$4:C67,C68)))","v":0},null,{"$f":"IF(C68=\"\",0,IF(C68=$C$4,SUMIFS($I$4:I67,$C$4:C67,C67),SUMIFS($I$4:I67,$C$4:C67,C68)))","v":0},{"$f":"IF(C68=\"\",0,H68-I68)","v":0}]
[66,null,{"$f":"IFERROR(VLOOKUP(D69,Nomenclature!$B$2:$C$196,2,0),\"\")","v":""},null,null,null,null,{"$f":"IF(C69=\"\",0,IF(SUMIFS($G$5:G69,$C$5:C69,C69)-SUMIFS($I$4:I68,$C$4:C68,C69)<0,0,SUMIFS($G$5:G69,$C$5:C69,C69)-SUMIFS($I$4:I68,$C$4:C68,C69)))","v":0},null,{"$f":"IF(C69=\"\",0,IF(C69=$C$4,SUMIFS($I$4:I68,$C$4:C68,C68),SUMIFS($I$4:I68,$C$4:C68,C69)))","v":0},0]
[67,null,{"$f":"IFERROR(VLOOKUP(D70,Nomenclature!$B$2:$C$196,2,0),\"\")","v":""},null,null,null,null,{"$f":"IF(C70=\"\",0,IF(SUMIFS($G$5:G70,$C$5:C70,C70)-SUMIFS($I$4:I69,$C$4:C69,C70)<0,0,SUMIFS($G$5:G70,$C$5:C70,C70)-SUMIFS($I$4:I69,$C$4:C69,C70)))","v":0},null,{"$f":"IF(C70=\"\",0,IF(C70=$C$4,SUMIFS($I$4:I69,$C$4:C69,C69),SUMIFS($I$4:I69,$C$4:C69,C70)))","v":0},0]
[68,null,{"$f":"IFERROR(VLOOKUP(D71,Nomenclature!$B$2:$C$196,2,0),\"\")","v":""},null,null,null,null,{"$f":"IF(C71=\"\",0,IF(SUMIFS($G$5:G71,$C$5:C71,C71)-SUMIFS($I$4:I70,$C$4:C70,C71)<0,0,SUMIFS($G$5:G71,$C$5:C71,C71)-SUMIFS($I$4:I70,$C$4:C70,C71)))","v":0},null,{"$f":"IF(C71=\"\",0,IF(C71=$C$4,SUMIFS($I$4:I70,$C$4:C70,C70),SUMIFS($I$4:I70,$C$4:C70,C71)))","v":0},0]
[69,null,{"$f":"IFERROR(VLOOKUP(D72,Nomenclature!$B$2:$C$196,2,0),\"\")","v":""},null,null,null,null,{"$f":"IF(C72=\"\",0,IF(SUMIFS($G$5:G72,$C$5:C72,C72)-SUMIFS($I$4:I71,$C$4:C71,C72)<0,0,SUMIFS($G$5:G72,$C$5:C72,C72)-SUMIFS($I$4:I71,$C$4:C71,C72)))","v":0},null,{"$f":"IF(C72=\"\",0,IF(C72=$C$4,SUMIFS($I$4:I71,$C$4:C71,C71),SUMIFS($I$4:I71,$C$4:C71,C72)))","v":0},0]
[70,null,{"$f":"IFERROR(VLOOKUP(D73,Nomenclature!$B$2:$C$196,2,0),\"\")","v":""},null,null,null,null,{"$f":"IF(C73=\"\",0,IF(SUMIFS($G$5:G73,$C$5:C73,C73)-SUMIFS($I$4:I72,$C$4:C72,C73)<0,0,SUMIFS($G$5:G73,$C$5:C73,C73)-SUMIFS($I$4:I72,$C$4:C72,C73)))","v":0},null,{"$f":"IF(C73=\"\",0,IF(C73=$C$4,SUMIFS($I$4:I72,$C$4:C72,C72),SUMIFS($I$4:I72,$C$4:C72,C73)))","v":0},0]
[71,null,{"$f":"IFERROR(VLOOKUP(D74,Nomenclature!$B$2:$C$196,2,0),\"\")","v":""},null,null,null,null,{"$f":"IF(C74=\"\",0,IF(SUMIFS($G$5:G74,$C$5:C74,C74)-SUMIFS($I$4:I73,$C$4:C73,C74)<0,0,SUMIFS($G$5:G74,$C$5:C74,C74)-SUMIFS($I$4:I73,$C$4:C73,C74)))","v":0},null,{"$f":"IF(C74=\"\",0,IF(C74=$C$4,SUMIFS($I$4:I73,$C$4:C73,C73),SUMIFS($I$4:I73,$C$4:C73,C74)))","v":0},0]
[72,null,{"$f":"IFERROR(VLOOKUP(D75,Nomenclature!$B$2:$C$196,2,0),\"\")","v":""},null,null,null,null,{"$f":"IF(C75=\"\",0,IF(SUMIFS($G$5:G75,$C$5:C75,C75)-SUMIFS($I$4:I74,$C$4:C74,C75)<0,0,SUMIFS($G$5:G75,$C$5:C75,C75)-SUMIFS($I$4:I74,$C$4:C74,C75)))","v":0},null,{"$f":"IF(C75=\"\",0,IF(C75=$C$4,SUMIFS($I$4:I74,$C$4:C74,C74),SUMIFS($I$4:I74,$C$4:C74,C75)))","v":0},0]
[73,null,{"$f":"IFERROR(VLOOKUP(D76,Nomenclature!$B$2:$C$196,2,0),\"\")","v":""},null,null,null,null,{"$f":"IF(C76=\"\",0,IF(SUMIFS($G$5:G76,$C$5:C76,C76)-SUMIFS($I$4:I75,$C$4:C75,C76)<0,0,SUMIFS($G$5:G76,$C$5:C76,C76)-SUMIFS($I$4:I75,$C$4:C75,C76)))","v":0},null,{"$f":"IF(C76=\"\",0,IF(C76=$C$4,SUMIFS($I$4:I75,$C$4:C75,C75),SUMIFS($I$4:I75,$C$4:C75,C76)))","v":0},0]
[74,null,{"$f":"IFERROR(VLOOKUP(D77,Nomenclature!$B$2:$C$196,2,0),\"\")","v":""},null,null,null,null,{"$f":"IF(C77=\"\",0,IF(SUMIFS($G$5:G77,$C$5:C77,C77)-SUMIFS($I$4:I76,$C$4:C76,C77)<0,0,SUMIFS($G$5:G77,$C$5:C77,C77)-SUMIFS($I$4:I76,$C$4:C76,C77)))","v":0},null,{"$f":"IF(C77=\"\",0,IF(C77=$C$4,SUMIFS($I$4:I76,$C$4:C76,C76),SUMIFS($I$4:I76,$C$4:C76,C77)))","v":0},0]
[75,null,{"$f":"IFERROR(VLOOKUP(D78,Nomenclature!$B$2:$C$196,2,0),\"\")","v":""},null,null,null,null,{"$f":"IF(C78=\"\",0,IF(SUMIFS($G$5:G78,$C$5:C78,C78)-SUMIFS($I$4:I77,$C$4:C77,C78)<0,0,SUMIFS($G$5:G78,$C$5:C78,C78)-SUMIFS($I$4:I77,$C$4:C77,C78)))","v":0},null,{"$f":"IF(C78=\"\",0,IF(C78=$C$4,SUMIFS($I$4:I77,$C$4:C77,C77),SUMIFS($I$4:I77,$C$4:C77,C78)))","v":0},0]
[76,null,{"$f":"IFERROR(VLOOKUP(D79,Nomenclature!$B$2:$C$196,2,0),\"\")","v":""},null,null,null,null,{"$f":"IF(C79=\"\",0,IF(SUMIFS($G$5:G79,$C$5:C79,C79)-SUMIFS($I$4:I78,$C$4:C78,C79)<0,0,SUMIFS($G$5:G79,$C$5:C79,C79)-SUMIFS($I$4:I78,$C$4:C78,C79)))","v":0},null,{"$f":"IF(C79=\"\",0,IF(C79=$C$4,SUMIFS($I$4:I78,$C$4:C78,C78),SUMIFS($I$4:I78,$C$4:C78,C79)))","v":0},0]
[77,null,{"$f":"IFERROR(VLOOKUP(D80,Nomenclature!$B$2:$C$196,2,0),\"\")","v":""},null,null,null,null,{"$f":"IF(C80=\"\",0,IF(SUMIFS($G$5:G80,$C$5:C80,C80)-SUMIFS($I$4:I79,$C$4:C79,C80)<0,0,SUMIFS($G$5:G80,$C$5:C80,C80)-SUMIFS($I$4:I79,$C$4:C79,C80)))","v":0},null,{"$f":"IF(C80=\"\",0,IF(C80=$C$4,SUMIFS($I$4:I79,$C$4:C79,C79),SUMIFS($I$4:I79,$C$4:C79,C80)))","v":0},0]
[78,null,{"$f":"IFERROR(VLOOKUP(D81,Nomenclature!$B$2:$C$196,2,0),\"\")","v":""},null,null,null,null,{"$f":"IF(C81=\"\",0,IF(SUMIFS($G$5:G81,$C$5:C81,C81)-SUMIFS($I$4:I80,$C$4:C80,C81)<0,0,SUMIFS($G$5:G81,$C$5:C81,C81)-SUMIFS($I$4:I80,$C$4:C80,C81)))","v":0},null,{"$f":"IF(C81=\"\",0,IF(C81=$C$4,SUMIFS($I$4:I80,$C$4:C80,C80),SUMIFS($I$4:I80,$C$4:C80,C81)))","v":0},0]
[79,null,{"$f":"IFERROR(VLOOKUP(D82,Nomenclature!$B$2:$C$196,2,0),\"\")","v":""},null,null,null,null,{"$f":"IF(C82=\"\",0,IF(SUMIFS($G$5:G82,$C$5:C82,C82)-SUMIFS($I$4:I81,$C$4:C81,C82)<0,0,SUMIFS($G$5:G82,$C$5:C82,C82)-SUMIFS($I$4:I81,$C$4:C81,C82)))","v":0},null,{"$f":"IF(C82=\"\",0,IF(C82=$C$4,SUMIFS($I$4:I81,$C$4:C81,C81),SUMIFS($I$4:I81,$C$4:C81,C82)))","v":0},0]
[80,null,{"$f":"IFERROR(VLOOKUP(D83,Nomenclature!$B$2:$C$196,2,0),\"\")","v":""},null,null,null,null,{"$f":"IF(C83=\"\",0,IF(SUMIFS($G$5:G83,$C$5:C83,C83)-SUMIFS($I$4:I82,$C$4:C82,C83)<0,0,SUMIFS($G$5:G83,$C$5:C83,C83)-SUMIFS($I$4:I82,$C$4:C82,C83)))","v":0},null,{"$f":"IF(C83=\"\",0,IF(C83=$C$4,SUMIFS($I$4:I82,$C$4:C82,C82),SUMIFS($I$4:I82,$C$4:C82,C83)))","v":0},0]
[81,null,{"$f":"IFERROR(VLOOKUP(D84,Nomenclature!$B$2:$C$196,2,0),\"\")","v":""},null,null,null,null,{"$f":"IF(C84=\"\",0,IF(SUMIFS($G$5:G84,$C$5:C84,C84)-SUMIFS($I$4:I83,$C$4:C83,C84)<0,0,SUMIFS($G$5:G84,$C$5:C84,C84)-SUMIFS($I$4:I83,$C$4:C83,C84)))","v":0},null,{"$f":"IF(C84=\"\",0,IF(C84=$C$4,SUMIFS($I$4:I83,$C$4:C83,C83),SUMIFS($I$4:I83,$C$4:C83,C84)))","v":0},0]
[82,null,{"$f":"IFERROR(VLOOKUP(D85,Nomenclature!$B$2:$C$196,2,0),\"\")","v":""},null,null,null,null,{"$f":"IF(C85=\"\",0,IF(SUMIFS($G$5:G85,$C$5:C85,C85)-SUMIFS($I$4:I84,$C$4:C84,C85)<0,0,SUMIFS($G$5:G85,$C$5:C85,C85)-SUMIFS($I$4:I84,$C$4:C84,C85)))","v":0},null,{"$f":"IF(C85=\"\",0,IF(C85=$C$4,SUMIFS($I$4:I84,$C$4:C84,C84),SUMIFS($I$4:I84,$C$4:C84,C85)))","v":0},0]
[83,null,{"$f":"IFERROR(VLOOKUP(D86,Nomenclature!$B$2:$C$196,2,0),\"\")","v":""},null,null,null,null,{"$f":"IF(C86=\"\",0,IF(SUMIFS($G$5:G86,$C$5:C86,C86)-SUMIFS($I$4:I85,$C$4:C85,C86)<0,0,SUMIFS($G$5:G86,$C$5:C86,C86)-SUMIFS($I$4:I85,$C$4:C85,C86)))","v":0},null,{"$f":"IF(C86=\"\",0,IF(C86=$C$4,SUMIFS($I$4:I85,$C$4:C85,C85),SUMIFS($I$4:I85,$C$4:C85,C86)))","v":0},0]
[84,null,{"$f":"IFERROR(VLOOKUP(D87,Nomenclature!$B$2:$C$196,2,0),\"\")","v":""},null,null,null,null,{"$f":"IF(C87=\"\",0,IF(SUMIFS($G$5:G87,$C$5:C87,C87)-SUMIFS($I$4:I86,$C$4:C86,C87)<0,0,SUMIFS($G$5:G87,$C$5:C87,C87)-SUMIFS($I$4:I86,$C$4:C86,C87)))","v":0},null,{"$f":"IF(C87=\"\",0,IF(C87=$C$4,SUMIFS($I$4:I86,$C$4:C86,C86),SUMIFS($I$4:I86,$C$4:C86,C87)))","v":0},0]
[85,null,{"$f":"IFERROR(VLOOKUP(D88,Nomenclature!$B$2:$C$196,2,0),\"\")","v":""},null,null,null,null,{"$f":"IF(C88=\"\",0,IF(SUMIFS($G$5:G88,$C$5:C88,C88)-SUMIFS($I$4:I87,$C$4:C87,C88)<0,0,SUMIFS($G$5:G88,$C$5:C88,C88)-SUMIFS($I$4:I87,$C$4:C87,C88)))","v":0},null,{"$f":"IF(C88=\"\",0,IF(C88=$C$4,SUMIFS($I$4:I87,$C$4:C87,C87),SUMIFS($I$4:I87,$C$4:C87,C88)))","v":0},0]
[86,null,{"$f":"IFERROR(VLOOKUP(D89,Nomenclature!$B$2:$C$196,2,0),\"\")","v":""},null,null,null,null,{"$f":"IF(C89=\"\",0,IF(SUMIFS($G$5:G89,$C$5:C89,C89)-SUMIFS($I$4:I88,$C$4:C88,C89)<0,0,SUMIFS($G$5:G89,$C$5:C89,C89)-SUMIFS($I$4:I88,$C$4:C88,C89)))","v":0},null,{"$f":"IF(C89=\"\",0,IF(C89=$C$4,SUMIFS($I$4:I88,$C$4:C88,C88),SUMIFS($I$4:I88,$C$4:C88,C89)))","v":0},0]
[87,null,{"$f":"IFERROR(VLOOKUP(D90,Nomenclature!$B$2:$C$196,2,0),\"\")","v":""},null,null,null,null,{"$f":"IF(C90=\"\",0,IF(SUMIFS($G$5:G90,$C$5:C90,C90)-SUMIFS($I$4:I89,$C$4:C89,C90)<0,0,SUMIFS($G$5:G90,$C$5:C90,C90)-SUMIFS($I$4:I89,$C$4:C89,C90)))","v":0},null,{"$f":"IF(C90=\"\",0,IF(C90=$C$4,SUMIFS($I$4:I89,$C$4:C89,C89),SUMIFS($I$4:I89,$C$4:C89,C90)))","v":0},0]
[88,null,{"$f":"IFERROR(VLOOKUP(D91,Nomenclature!$B$2:$C$196,2,0),\"\")","v":""},null,null,null,null,{"$f":"IF(C91=\"\",0,IF(SUMIFS($G$5:G91,$C$5:C91,C91)-SUMIFS($I$4:I90,$C$4:C90,C91)<0,0,SUMIFS($G$5:G91,$C$5:C91,C91)-SUMIFS($I$4:I90,$C$4:C90,C91)))","v":0},null,{"$f":"IF(C91=\"\",0,IF(C91=$C$4,SUMIFS($I$4:I90,$C$4:C90,C90),SUMIFS($I$4:I90,$C$4:C90,C91)))","v":0},0]
[89,null,{"$f":"IFERROR(VLOOKUP(D92,Nomenclature!$B$2:$C$196,2,0),\"\")","v":""},null,null,null,null,{"$f":"IF(C92=\"\",0,IF(SUMIFS($G$5:G92,$C$5:C92,C92)-SUMIFS($I$4:I91,$C$4:C91,C92)<0,0,SUMIFS($G$5:G92,$C$5:C92,C92)-SUMIFS($I$4:I91,$C$4:C91,C92)))","v":0},null,{"$f":"IF(C92=\"\",0,IF(C92=$C$4,SUMIFS($I$4:I91,$C$4:C91,C91),SUMIFS($I$4:I91,$C$4:C91,C92)))","v":0},0]
[90,null,{"$f":"IFERROR(VLOOKUP(D93,Nomenclature!$B$2:$C$196,2,0),\"\")","v":""},null,null,null,null,{"$f":"IF(C93=\"\",0,IF(SUMIFS($G$5:G93,$C$5:C93,C93)-SUMIFS($I$4:I92,$C$4:C92,C93)<0,0,SUMIFS($G$5:G93,$C$5:C93,C93)-SUMIFS($I$4:I92,$C$4:C92,C93)))","v":0},null,{"$f":"IF(C93=\"\",0,IF(C93=$C$4,SUMIFS($I$4:I92,$C$4:C92,C92),SUMIFS($I$4:I92,$C$4:C92,C93)))","v":0},0]
[91,null,{"$f":"IFERROR(VLOOKUP(D94,Nomenclature!$B$2:$C$196,2,0),\"\")","v":""},null,null,null,null,{"$f":"IF(C94=\"\",0,IF(SUMIFS($G$5:G94,$C$5:C94,C94)-SUMIFS($I$4:I93,$C$4:C93,C94)<0,0,SUMIFS($G$5:G94,$C$5:C94,C94)-SUMIFS($I$4:I93,$C$4:C93,C94)))","v":0},null,{"$f":"IF(C94=\"\",0,IF(C94=$C$4,SUMIFS($I$4:I93,$C$4:C93,C93),SUMIFS($I$4:I93,$C$4:C93,C94)))","v":0},0]
[92,null,{"$f":"IFERROR(VLOOKUP(D95,Nomenclature!$B$2:$C$196,2,0),\"\")","v":""},null,null,null,null,{"$f":"IF(C95=\"\",0,IF(SUMIFS($G$5:G95,$C$5:C95,C95)-SUMIFS($I$4:I94,$C$4:C94,C95)<0,0,SUMIFS($G$5:G95,$C$5:C95,C95)-SUMIFS($I$4:I94,$C$4:C94,C95)))","v":0},null,{"$f":"IF(C95=\"\",0,IF(C95=$C$4,SUMIFS($I$4:I94,$C$4:C94,C94),SUMIFS($I$4:I94,$C$4:C94,C95)))","v":0},0]
[93,null,{"$f":"IFERROR(VLOOKUP(D96,Nomenclature!$B$2:$C$196,2,0),\"\")","v":""},null,null,null,null,{"$f":"IF(C96=\"\",0,IF(SUMIFS($G$5:G96,$C$5:C96,C96)-SUMIFS($I$4:I95,$C$4:C95,C96)<0,0,SUMIFS($G$5:G96,$C$5:C96,C96)-SUMIFS($I$4:I95,$C$4:C95,C96)))","v":0},null,{"$f":"IF(C96=\"\",0,IF(C96=$C$4,SUMIFS($I$4:I95,$C$4:C95,C95),SUMIFS($I$4:I95,$C$4:C95,C96)))","v":0},0]
[94,null,{"$f":"IFERROR(VLOOKUP(D97,Nomenclature!$B$2:$C$196,2,0),\"\")","v":""},null,null,null,null,{"$f":"IF(C97=\"\",0,IF(SUMIFS($G$5:G97,$C$5:C97,C97)-SUMIFS($I$4:I96,$C$4:C96,C97)<0,0,SUMIFS($G$5:G97,$C$5:C97,C97)-SUMIFS($I$4:I96,$C$4:C96,C97)))","v":0},null,{"$f":"IF(C97=\"\",0,IF(C97=$C$4,SUMIFS($I$4:I96,$C$4:C96,C96),SUMIFS($I$4:I96,$C$4:C96,C97)))","v":0},0]
[95,null,{"$f":"IFERROR(VLOOKUP(D98,Nomenclature!$B$2:$C$196,2,0),\"\")","v":""},null,null,null,null,{"$f":"IF(C98=\"\",0,IF(SUMIFS($G$5:G98,$C$5:C98,C98)-SUMIFS($I$4:I97,$C$4:C97,C98)<0,0,SUMIFS($G$5:G98,$C$5:C98,C98)-SUMIFS($I$4:I97,$C$4:C97,C98)))","v":0},null,{"$f":"IF(C98=\"\",0,IF(C98=$C$4,SUMIFS($I$4:I97,$C$4:C97,C97),SUMIFS($I$4:I97,$C$4:C97,C98)))","v":0},0]
[96,null,{"$f":"IFERROR(VLOOKUP(D99,Nomenclature!$B$2:$C$196,2,0),\"\")","v":""},null,null,null,null,{"$f":"IF(C99=\"\",0,IF(SUMIFS($G$5:G99,$C$5:C99,C99)-SUMIFS($I$4:I98,$C$4:C98,C99)<0,0,SUMIFS($G$5:G99,$C$5:C99,C99)-SUMIFS($I$4:I98,$C$4:C98,C99)))","v":0},null,{"$f":"IF(C99=\"\",0,IF(C99=$C$4,SUMIFS($I$4:I98,$C$4:C98,C98),SUMIFS($I$4:I98,$C$4:C98,C99)))","v":0},0]
[97,null,{"$f":"IFERROR(VLOOKUP(D100,Nomenclature!$B$2:$C$196,2,0),\"\")","v":""},null,null,null,null,{"$f":"IF(C100=\"\",0,IF(SUMIFS($G$5:G100,$C$5:C100,C100)-SUMIFS($I$4:I99,$C$4:C99,C100)<0,0,SUMIFS($G$5:G100,$C$5:C100,C100)-SUMIFS($I$4:I99,$C$4:C99,C100)))","v":0},null,{"$f":"IF(C100=\"\",0,IF(C100=$C$4,SUMIFS($I$4:I99,$C$4:C99,C99),SUMIFS($I$4:I99,$C$4:C99,C100)))","v":0},0]
[98,null,{"$f":"IFERROR(VLOOKUP(D101,Nomenclature!$B$2:$C$196,2,0),\"\")","v":""},null,null,null,null,{"$f":"IF(C101=\"\",0,IF(SUMIFS($G$5:G101,$C$5:C101,C101)-SUMIFS($I$4:I100,$C$4:C100,C101)<0,0,SUMIFS($G$5:G101,$C$5:C101,C101)-SUMIFS($I$4:I100,$C$4:C100,C101)))","v":0},null,{"$f":"IF(C101=\"\",0,IF(C101=$C$4,SUMIFS($I$4:I100,$C$4:C100,C100),SUMIFS($I$4:I100,$C$4:C100,C101)))","v":0},0]
[99,null,{"$f":"IFERROR(VLOOKUP(D102,Nomenclature!$B$2:$C$196,2,0),\"\")","v":""},null,null,null,null,{"$f":"IF(C102=\"\",0,IF(SUMIFS($G$5:G102,$C$5:C102,C102)-SUMIFS($I$4:I101,$C$4:C101,C102)<0,0,SUMIFS($G$5:G102,$C$5:C102,C102)-SUMIFS($I$4:I101,$C$4:C101,C102)))","v":0},null,{"$f":"IF(C102=\"\",0,IF(C102=$C$4,SUMIFS($I$4:I101,$C$4:C101,C101),SUMIFS($I$4:I101,$C$4:C101,C102)))","v":0},0]
[100,null,{"$f":"IFERROR(VLOOKUP(D103,Nomenclature!$B$2:$C$196,2,0),\"\")","v":""},null,null,null,null,{"$f":"IF(C103=\"\",0,IF(SUMIFS($G$5:G103,$C$5:C103,C103)-SUMIFS($I$4:I102,$C$4:C102,C103)<0,0,SUMIFS($G$5:G103,$C$5:C103,C103)-SUMIFS($I$4:I102,$C$4:C102,C103)))","v":0},null,{"$f":"IF(C103=\"\",0,IF(C103=$C$4,SUMIFS($I$4:I102,$C$4:C102,C102),SUMIFS($I$4:I102,$C$4:C102,C103)))","v":0},0]
[101,null,{"$f":"IFERROR(VLOOKUP(D104,Nomenclature!$B$2:$C$196,2,0),\"\")","v":""},null,null,null,null,{"$f":"IF(C104=\"\",0,IF(SUMIFS($G$5:G104,$C$5:C104,C104)-SUMIFS($I$4:I103,$C$4:C103,C104)<0,0,SUMIFS($G$5:G104,$C$5:C104,C104)-SUMIFS($I$4:I103,$C$4:C103,C104)))","v":0},null,{"$f":"IF(C104=\"\",0,IF(C104=$C$4,SUMIFS($I$4:I103,$C$4:C103,C103),SUMIFS($I$4:I103,$C$4:C103,C104)))","v":0},0]
[102,null,{"$f":"IFERROR(VLOOKUP(D105,Nomenclature!$B$2:$C$196,2,0),\"\")","v":""},null,null,null,null,{"$f":"IF(C105=\"\",0,IF(SUMIFS($G$5:G105,$C$5:C105,C105)-SUMIFS($I$4:I104,$C$4:C104,C105)<0,0,SUMIFS($G$5:G105,$C$5:C105,C105)-SUMIFS($I$4:I104,$C$4:C104,C105)))","v":0},null,{"$f":"IF(C105=\"\",0,IF(C105=$C$4,SUMIFS($I$4:I104,$C$4:C104,C104),SUMIFS($I$4:I104,$C$4:C104,C105)))","v":0},0]
[103,null,{"$f":"IFERROR(VLOOKUP(D106,Nomenclature!$B$2:$C$196,2,0),\"\")","v":""},null,null,null,null,{"$f":"IF(C106=\"\",0,IF(SUMIFS($G$5:G106,$C$5:C106,C106)-SUMIFS($I$4:I105,$C$4:C105,C106)<0,0,SUMIFS($G$5:G106,$C$5:C106,C106)-SUMIFS($I$4:I105,$C$4:C105,C106)))","v":0},null,{"$f":"IF(C106=\"\",0,IF(C106=$C$4,SUMIFS($I$4:I105,$C$4:C105,C105),SUMIFS($I$4:I105,$C$4:C105,C106)))","v":0},0]
[104,null,{"$f":"IFERROR(VLOOKUP(D107,Nomenclature!$B$2:$C$196,2,0),\"\")","v":""},null,null,null,null,{"$f":"IF(C107=\"\",0,IF(SUMIFS($G$5:G107,$C$5:C107,C107)-SUMIFS($I$4:I106,$C$4:C106,C107)<0,0,SUMIFS($G$5:G107,$C$5:C107,C107)-SUMIFS($I$4:I106,$C$4:C106,C107)))","v":0},null,{"$f":"IF(C107=\"\",0,IF(C107=$C$4,SUMIFS($I$4:I106,$C$4:C106,C106),SUMIFS($I$4:I106,$C$4:C106,C107)))","v":0},0]
[105,null,{"$f":"IFERROR(VLOOKUP(D108,Nomenclature!$B$2:$C$196,2,0),\"\")","v":""},null,null,null,null,{"$f":"IF(C108=\"\",0,IF(SUMIFS($G$5:G108,$C$5:C108,C108)-SUMIFS($I$4:I107,$C$4:C107,C108)<0,0,SUMIFS($G$5:G108,$C$5:C108,C108)-SUMIFS($I$4:I107,$C$4:C107,C108)))","v":0},null,{"$f":"IF(C108=\"\",0,IF(C108=$C$4,SUMIFS($I$4:I107,$C$4:C107,C107),SUMIFS($I$4:I107,$C$4:C107,C108)))","v":0},0]
[106,null,{"$f":"IFERROR(VLOOKUP(D109,Nomenclature!$B$2:$C$196,2,0),\"\")","v":""},null,null,null,null,{"$f":"IF(C109=\"\",0,IF(SUMIFS($G$5:G109,$C$5:C109,C109)-SUMIFS($I$4:I108,$C$4:C108,C109)<0,0,SUMIFS($G$5:G109,$C$5:C109,C109)-SUMIFS($I$4:I108,$C$4:C108,C109)))","v":0},null,{"$f":"IF(C109=\"\",0,IF(C109=$C$4,SUMIFS($I$4:I108,$C$4:C108,C108),SUMIFS($I$4:I108,$C$4:C108,C109)))","v":0},0]
[107,null,{"$f":"IFERROR(VLOOKUP(D110,Nomenclature!$B$2:$C$196,2,0),\"\")","v":""},null,null,null,null,{"$f":"IF(C110=\"\",0,IF(SUMIFS($G$5:G110,$C$5:C110,C110)-SUMIFS($I$4:I109,$C$4:C109,C110)<0,0,SUMIFS($G$5:G110,$C$5:C110,C110)-SUMIFS($I$4:I109,$C$4:C109,C110)))","v":0},null,{"$f":"IF(C110=\"\",0,IF(C110=$C$4,SUMIFS($I$4:I109,$C$4:C109,C109),SUMIFS($I$4:I109,$C$4:C109,C110)))","v":0},0]
[108,null,{"$f":"IFERROR(VLOOKUP(D111,Nomenclature!$B$2:$C$196,2,0),\"\")","v":""},null,null,null,null,{"$f":"IF(C111=\"\",0,IF(SUMIFS($G$5:G111,$C$5:C111,C111)-SUMIFS($I$4:I110,$C$4:C110,C111)<0,0,SUMIFS($G$5:G111,$C$5:C111,C111)-SUMIFS($I$4:I110,$C$4:C110,C111)))","v":0},null,{"$f":"IF(C111=\"\",0,IF(C111=$C$4,SUMIFS($I$4:I110,$C$4:C110,C110),SUMIFS($I$4:I110,$C$4:C110,C111)))","v":0},0]
[109,null,{"$f":"IFERROR(VLOOKUP(D112,Nomenclature!$B$2:$C$196,2,0),\"\")","v":""},null,null,null,null,{"$f":"IF(C112=\"\",0,IF(SUMIFS($G$5:G112,$C$5:C112,C112)-SUMIFS($I$4:I111,$C$4:C111,C112)<0,0,SUMIFS($G$5:G112,$C$5:C112,C112)-SUMIFS($I$4:I111,$C$4:C111,C112)))","v":0},null,{"$f":"IF(C112=\"\",0,IF(C112=$C$4,SUMIFS($I$4:I111,$C$4:C111,C111),SUMIFS($I$4:I111,$C$4:C111,C112)))","v":0},0]
[110,null,{"$f":"IFERROR(VLOOKUP(D113,Nomenclature!$B$2:$C$196,2,0),\"\")","v":""},null,null,null,null,{"$f":"IF(C113=\"\",0,IF(SUMIFS($G$5:G113,$C$5:C113,C113)-SUMIFS($I$4:I112,$C$4:C112,C113)<0,0,SUMIFS($G$5:G113,$C$5:C113,C113)-SUMIFS($I$4:I112,$C$4:C112,C113)))","v":0},null,{"$f":"IF(C113=\"\",0,IF(C113=$C$4,SUMIFS($I$4:I112,$C$4:C112,C112),SUMIFS($I$4:I112,$C$4:C112,C113)))","v":0},0]
[111,null,{"$f":"IFERROR(VLOOKUP(D114,Nomenclature!$B$2:$C$196,2,0),\"\")","v":""},null,null,null,null,{"$f":"IF(C114=\"\",0,IF(SUMIFS($G$5:G114,$C$5:C114,C114)-SUMIFS($I$4:I113,$C$4:C113,C114)<0,0,SUMIFS($G$5:G114,$C$5:C114,C114)-SUMIFS($I$4:I113,$C$4:C113,C114)))","v":0},null,{"$f":"IF(C114=\"\",0,IF(C114=$C$4,SUMIFS($I$4:I113,$C$4:C113,C113),SUMIFS($I$4:I113,$C$4:C113,C114)))","v":0},0]
[112,null,{"$f":"IFERROR(VLOOKUP(D115,Nomenclature!$B$2:$C$196,2,0),\"\")","v":""},null,null,null,null,{"$f":"IF(C115=\"\",0,IF(SUMIFS($G$5:G115,$C$5:C115,C115)-SUMIFS($I$4:I114,$C$4:C114,C115)<0,0,SUMIFS($G$5:G115,$C$5:C115,C115)-SUMIFS($I$4:I114,$C$4:C114,C115)))","v":0},null,{"$f":"IF(C115=\"\",0,IF(C115=$C$4,SUMIFS($I$4:I114,$C$4:C114,C114),SUMIFS($I$4:I114,$C$4:C114,C115)))","v":0},0]
[113,null,{"$f":"IFERROR(VLOOKUP(D116,Nomenclature!$B$2:$C$196,2,0),\"\")","v":""},null,null,null,null,{"$f":"IF(C116=\"\",0,IF(SUMIFS($G$5:G116,$C$5:C116,C116)-SUMIFS($I$4:I115,$C$4:C115,C116)<0,0,SUMIFS($G$5:G116,$C$5:C116,C116)-SUMIFS($I$4:I115,$C$4:C115,C116)))","v":0},null,{"$f":"IF(C116=\"\",0,IF(C116=$C$4,SUMIFS($I$4:I115,$C$4:C115,C115),SUMIFS($I$4:I115,$C$4:C115,C116)))","v":0},0]
[114,null,{"$f":"IFERROR(VLOOKUP(D117,Nomenclature!$B$2:$C$196,2,0),\"\")","v":""},null,null,null,null,{"$f":"IF(C117=\"\",0,IF(SUMIFS($G$5:G117,$C$5:C117,C117)-SUMIFS($I$4:I116,$C$4:C116,C117)<0,0,SUMIFS($G$5:G117,$C$5:C117,C117)-SUMIFS($I$4:I116,$C$4:C116,C117)))","v":0},null,{"$f":"IF(C117=\"\",0,IF(C117=$C$4,SUMIFS($I$4:I116,$C$4:C116,C116),SUMIFS($I$4:I116,$C$4:C116,C117)))","v":0},0]
[115,null,{"$f":"IFERROR(VLOOKUP(D118,Nomenclature!$B$2:$C$196,2,0),\"\")","v":""},null,null,null,null,{"$f":"IF(C118=\"\",0,IF(SUMIFS($G$5:G118,$C$5:C118,C118)-SUMIFS($I$4:I117,$C$4:C117,C118)<0,0,SUMIFS($G$5:G118,$C$5:C118,C118)-SUMIFS($I$4:I117,$C$4:C117,C118)))","v":0},null,{"$f":"IF(C118=\"\",0,IF(C118=$C$4,SUMIFS($I$4:I117,$C$4:C117,C117),SUMIFS($I$4:I117,$C$4:C117,C118)))","v":0},0]
[116,null,{"$f":"IFERROR(VLOOKUP(D119,Nomenclature!$B$2:$C$196,2,0),\"\")","v":""},null,null,null,null,{"$f":"IF(C119=\"\",0,IF(SUMIFS($G$5:G119,$C$5:C119,C119)-SUMIFS($I$4:I118,$C$4:C118,C119)<0,0,SUMIFS($G$5:G119,$C$5:C119,C119)-SUMIFS($I$4:I118,$C$4:C118,C119)))","v":0},null,{"$f":"IF(C119=\"\",0,IF(C119=$C$4,SUMIFS($I$4:I118,$C$4:C118,C118),SUMIFS($I$4:I118,$C$4:C118,C119)))","v":0},0]
[117,null,{"$f":"IFERROR(VLOOKUP(D120,Nomenclature!$B$2:$C$196,2,0),\"\")","v":""},null,null,null,null,{"$f":"IF(C120=\"\",0,IF(SUMIFS($G$5:G120,$C$5:C120,C120)-SUMIFS($I$4:I119,$C$4:C119,C120)<0,0,SUMIFS($G$5:G120,$C$5:C120,C120)-SUMIFS($I$4:I119,$C$4:C119,C120)))","v":0},null,{"$f":"IF(C120=\"\",0,IF(C120=$C$4,SUMIFS($I$4:I119,$C$4:C119,C119),SUMIFS($I$4:I119,$C$4:C119,C120)))","v":0},0]
[118,null,{"$f":"IFERROR(VLOOKUP(D121,Nomenclature!$B$2:$C$196,2,0),\"\")","v":""},null,null,null,null,{"$f":"IF(C121=\"\",0,IF(SUMIFS($G$5:G121,$C$5:C121,C121)-SUMIFS($I$4:I120,$C$4:C120,C121)<0,0,SUMIFS($G$5:G121,$C$5:C121,C121)-SUMIFS($I$4:I120,$C$4:C120,C121)))","v":0},null,{"$f":"IF(C121=\"\",0,IF(C121=$C$4,SUMIFS($I$4:I120,$C$4:C120,C120),SUMIFS($I$4:I120,$C$4:C120,C121)))","v":0},0]
[119,null,{"$f":"IFERROR(VLOOKUP(D122,Nomenclature!$B$2:$C$196,2,0),\"\")","v":""},null,null,null,null,{"$f":"IF(C122=\"\",0,IF(SUMIFS($G$5:G122,$C$5:C122,C122)-SUMIFS($I$4:I121,$C$4:C121,C122)<0,0,SUMIFS($G$5:G122,$C$5:C122,C122)-SUMIFS($I$4:I121,$C$4:C121,C122)))","v":0},null,{"$f":"IF(C122=\"\",0,IF(C122=$C$4,SUMIFS($I$4:I121,$C$4:C121,C121),SUMIFS($I$4:I121,$C$4:C121,C122)))","v":0},0]
[120,null,{"$f":"IFERROR(VLOOKUP(D123,Nomenclature!$B$2:$C$196,2,0),\"\")","v":""},null,null,null,null,{"$f":"IF(C123=\"\",0,IF(SUMIFS($G$5:G123,$C$5:C123,C123)-SUMIFS($I$4:I122,$C$4:C122,C123)<0,0,SUMIFS($G$5:G123,$C$5:C123,C123)-SUMIFS($I$4:I122,$C$4:C122,C123)))","v":0},null,{"$f":"IF(C123=\"\",0,IF(C123=$C$4,SUMIFS($I$4:I122,$C$4:C122,C122),SUMIFS($I$4:I122,$C$4:C122,C123)))","v":0},0]
[121,null,{"$f":"IFERROR(VLOOKUP(D124,Nomenclature!$B$2:$C$196,2,0),\"\")","v":""},null,null,null,null,{"$f":"IF(C124=\"\",0,IF(SUMIFS($G$5:G124,$C$5:C124,C124)-SUMIFS($I$4:I123,$C$4:C123,C124)<0,0,SUMIFS($G$5:G124,$C$5:C124,C124)-SUMIFS($I$4:I123,$C$4:C123,C124)))","v":0},null,{"$f":"IF(C124=\"\",0,IF(C124=$C$4,SUMIFS($I$4:I123,$C$4:C123,C123),SUMIFS($I$4:I123,$C$4:C123,C124)))","v":0},0]
[122,null,{"$f":"IFERROR(VLOOKUP(D125,Nomenclature!$B$2:$C$196,2,0),\"\")","v":""},null,null,null,null,{"$f":"IF(C125=\"\",0,IF(SUMIFS($G$5:G125,$C$5:C125,C125)-SUMIFS($I$4:I124,$C$4:C124,C125)<0,0,SUMIFS($G$5:G125,$C$5:C125,C125)-SUMIFS($I$4:I124,$C$4:C124,C125)))","v":0},null,{"$f":"IF(C125=\"\",0,IF(C125=$C$4,SUMIFS($I$4:I124,$C$4:C124,C124),SUMIFS($I$4:I124,$C$4:C124,C125)))","v":0},0]
[123,null,{"$f":"IFERROR(VLOOKUP(D126,Nomenclature!$B$2:$C$196,2,0),\"\")","v":""},null,null,null,null,{"$f":"IF(C126=\"\",0,IF(SUMIFS($G$5:G126,$C$5:C126,C126)-SUMIFS($I$4:I125,$C$4:C125,C126)<0,0,SUMIFS($G$5:G126,$C$5:C126,C126)-SUMIFS($I$4:I125,$C$4:C125,C126)))","v":0},null,{"$f":"IF(C126=\"\",0,IF(C126=$C$4,SUMIFS($I$4:I125,$C$4:C125,C125),SUMIFS($I$4:I125,$C$4:C125,C126)))","v":0},0]
[124,null,{"$f":"IFERROR(VLOOKUP(D127,Nomenclature!$B$2:$C$196,2,0),\"\")","v":""},null,null,null,null,{"$f":"IF(C127=\"\",0,IF(SUMIFS($G$5:G127,$C$5:C127,C127)-SUMIFS($I$4:I126,$C$4:C126,C127)<0,0,SUMIFS($G$5:G127,$C$5:C127,C127)-SUMIFS($I$4:I126,$C$4:C126,C127)))","v":0},null,{"$f":"IF(C127=\"\",0,IF(C127=$C$4,SUMIFS($I$4:I126,$C$4:C126,C126),SUMIFS($I$4:I126,$C$4:C126,C127)))","v":0},0]
[125,null,{"$f":"IFERROR(VLOOKUP(D128,Nomenclature!$B$2:$C$196,2,0),\"\")","v":""},null,null,null,null,{"$f":"IF(C128=\"\",0,IF(SUMIFS($G$5:G128,$C$5:C128,C128)-SUMIFS($I$4:I127,$C$4:C127,C128)<0,0,SUMIFS($G$5:G128,$C$5:C128,C128)-SUMIFS($I$4:I127,$C$4:C127,C128)))","v":0},null,{"$f":"IF(C128=\"\",0,IF(C128=$C$4,SUMIFS($I$4:I127,$C$4:C127,C127),SUMIFS($I$4:I127,$C$4:C127,C128)))","v":0},0]
[126,null,{"$f":"IFERROR(VLOOKUP(D129,Nomenclature!$B$2:$C$196,2,0),\"\")","v":""},null,null,null,null,{"$f":"IF(C129=\"\",0,IF(SUMIFS($G$5:G129,$C$5:C129,C129)-SUMIFS($I$4:I128,$C$4:C128,C129)<0,0,SUMIFS($G$5:G129,$C$5:C129,C129)-SUMIFS($I$4:I128,$C$4:C128,C129)))","v":0},null,{"$f":"IF(C129=\"\",0,IF(C129=$C$4,SUMIFS($I$4:I128,$C$4:C128,C128),SUMIFS($I$4:I128,$C$4:C128,C129)))","v":0},0]
[127,null,{"$f":"IFERROR(VLOOKUP(D130,Nomenclature!$B$2:$C$196,2,0),\"\")","v":""},null,null,null,null,{"$f":"IF(C130=\"\",0,IF(SUMIFS($G$5:G130,$C$5:C130,C130)-SUMIFS($I$4:I129,$C$4:C129,C130)<0,0,SUMIFS($G$5:G130,$C$5:C130,C130)-SUMIFS($I$4:I129,$C$4:C129,C130)))","v":0},null,{"$f":"IF(C130=\"\",0,IF(C130=$C$4,SUMIFS($I$4:I129,$C$4:C129,C129),SUMIFS($I$4:I129,$C$4:C129,C130)))","v":0},0]
[128,null,{"$f":"IFERROR(VLOOKUP(D131,Nomenclature!$B$2:$C$196,2,0),\"\")","v":""},null,null,null,null,{"$f":"IF(C131=\"\",0,IF(SUMIFS($G$5:G131,$C$5:C131,C131)-SUMIFS($I$4:I130,$C$4:C130,C131)<0,0,SUMIFS($G$5:G131,$C$5:C131,C131)-SUMIFS($I$4:I130,$C$4:C130,C131)))","v":0},null,{"$f":"IF(C131=\"\",0,IF(C131=$C$4,SUMIFS($I$4:I130,$C$4:C130,C130),SUMIFS($I$4:I130,$C$4:C130,C131)))","v":0},0]
[129,null,{"$f":"IFERROR(VLOOKUP(D132,Nomenclature!$B$2:$C$196,2,0),\"\")","v":""},null,null,null,null,{"$f":"IF(C132=\"\",0,IF(SUMIFS($G$5:G132,$C$5:C132,C132)-SUMIFS($I$4:I131,$C$4:C131,C132)<0,0,SUMIFS($G$5:G132,$C$5:C132,C132)-SUMIFS($I$4:I131,$C$4:C131,C132)))","v":0},null,{"$f":"IF(C132=\"\",0,IF(C132=$C$4,SUMIFS($I$4:I131,$C$4:C131,C131),SUMIFS($I$4:I131,$C$4:C131,C132)))","v":0},{"$f":"IF(C132=\"\",0,H132-I132)","v":0}]
[130,null,{"$f":"IFERROR(VLOOKUP(D133,Nomenclature!$B$2:$C$196,2,0),\"\")","v":""},null,null,null,null,{"$f":"IF(C133=\"\",0,IF(SUMIFS($G$5:G133,$C$5:C133,C133)-SUMIFS($I$4:I132,$C$4:C132,C133)<0,0,SUMIFS($G$5:G133,$C$5:C133,C133)-SUMIFS($I$4:I132,$C$4:C132,C133)))","v":0},null,{"$f":"IF(C133=\"\",0,IF(C133=$C$4,SUMIFS($I$4:I132,$C$4:C132,C132),SUMIFS($I$4:I132,$C$4:C132,C133)))","v":0},0]
[131,null,{"$f":"IFERROR(VLOOKUP(D134,Nomenclature!$B$2:$C$196,2,0),\"\")","v":""},null,null,null,null,{"$f":"IF(C134=\"\",0,IF(SUMIFS($G$5:G134,$C$5:C134,C134)-SUMIFS($I$4:I133,$C$4:C133,C134)<0,0,SUMIFS($G$5:G134,$C$5:C134,C134)-SUMIFS($I$4:I133,$C$4:C133,C134)))","v":0},null,{"$f":"IF(C134=\"\",0,IF(C134=$C$4,SUMIFS($I$4:I133,$C$4:C133,C133),SUMIFS($I$4:I133,$C$4:C133,C134)))","v":0},0]
[132,null,{"$f":"IFERROR(VLOOKUP(D135,Nomenclature!$B$2:$C$196,2,0),\"\")","v":""},null,null,null,null,{"$f":"IF(C135=\"\",0,IF(SUMIFS($G$5:G135,$C$5:C135,C135)-SUMIFS($I$4:I134,$C$4:C134,C135)<0,0,SUMIFS($G$5:G135,$C$5:C135,C135)-SUMIFS($I$4:I134,$C$4:C134,C135)))","v":0},null,{"$f":"IF(C135=\"\",0,IF(C135=$C$4,SUMIFS($I$4:I134,$C$4:C134,C134),SUMIFS($I$4:I134,$C$4:C134,C135)))","v":0},0]
[133,null,{"$f":"IFERROR(VLOOKUP(D136,Nomenclature!$B$2:$C$196,2,0),\"\")","v":""},null,null,null,null,{"$f":"IF(C136=\"\",0,IF(SUMIFS($G$5:G136,$C$5:C136,C136)-SUMIFS($I$4:I135,$C$4:C135,C136)<0,0,SUMIFS($G$5:G136,$C$5:C136,C136)-SUMIFS($I$4:I135,$C$4:C135,C136)))","v":0},null,{"$f":"IF(C136=\"\",0,IF(C136=$C$4,SUMIFS($I$4:I135,$C$4:C135,C135),SUMIFS($I$4:I135,$C$4:C135,C136)))","v":0},0]
[134,null,{"$f":"IFERROR(VLOOKUP(D137,Nomenclature!$B$2:$C$196,2,0),\"\")","v":""},null,null,null,null,{"$f":"IF(C137=\"\",0,IF(SUMIFS($G$5:G137,$C$5:C137,C137)-SUMIFS($I$4:I136,$C$4:C136,C137)<0,0,SUMIFS($G$5:G137,$C$5:C137,C137)-SUMIFS($I$4:I136,$C$4:C136,C137)))","v":0},null,{"$f":"IF(C137=\"\",0,IF(C137=$C$4,SUMIFS($I$4:I136,$C$4:C136,C136),SUMIFS($I$4:I136,$C$4:C136,C137)))","v":0},0]
[135,null,{"$f":"IFERROR(VLOOKUP(D138,Nomenclature!$B$2:$C$196,2,0),\"\")","v":""},null,null,null,null,{"$f":"IF(C138=\"\",0,IF(SUMIFS($G$5:G138,$C$5:C138,C138)-SUMIFS($I$4:I137,$C$4:C137,C138)<0,0,SUMIFS($G$5:G138,$C$5:C138,C138)-SUMIFS($I$4:I137,$C$4:C137,C138)))","v":0},null,{"$f":"IF(C138=\"\",0,IF(C138=$C$4,SUMIFS($I$4:I137,$C$4:C137,C137),SUMIFS($I$4:I137,$C$4:C137,C138)))","v":0},0]
[136,null,{"$f":"IFERROR(VLOOKUP(D139,Nomenclature!$B$2:$C$196,2,0),\"\")","v":""},null,null,null,null,{"$f":"IF(C139=\"\",0,IF(SUMIFS($G$5:G139,$C$5:C139,C139)-SUMIFS($I$4:I138,$C$4:C138,C139)<0,0,SUMIFS($G$5:G139,$C$5:C139,C139)-SUMIFS($I$4:I138,$C$4:C138,C139)))","v":0},null,{"$f":"IF(C139=\"\",0,IF(C139=$C$4,SUMIFS($I$4:I138,$C$4:C138,C138),SUMIFS($I$4:I138,$C$4:C138,C139)))","v":0},0]
[137,null,{"$f":"IFERROR(VLOOKUP(D140,Nomenclature!$B$2:$C$196,2,0),\"\")","v":""},null,null,null,null,{"$f":"IF(C140=\"\",0,IF(SUMIFS($G$5:G140,$C$5:C140,C140)-SUMIFS($I$4:I139,$C$4:C139,C140)<0,0,SUMIFS($G$5:G140,$C$5:C140,C140)-SUMIFS($I$4:I139,$C$4:C139,C140)))","v":0},null,{"$f":"IF(C140=\"\",0,IF(C140=$C$4,SUMIFS($I$4:I139,$C$4:C139,C139),SUMIFS($I$4:I139,$C$4:C139,C140)))","v":0},0]
[138,null,{"$f":"IFERROR(VLOOKUP(D141,Nomenclature!$B$2:$C$196,2,0),\"\")","v":""},null,null,null,null,{"$f":"IF(C141=\"\",0,IF(SUMIFS($G$5:G141,$C$5:C141,C141)-SUMIFS($I$4:I140,$C$4:C140,C141)<0,0,SUMIFS($G$5:G141,$C$5:C141,C141)-SUMIFS($I$4:I140,$C$4:C140,C141)))","v":0},null,{"$f":"IF(C141=\"\",0,IF(C141=$C$4,SUMIFS($I$4:I140,$C$4:C140,C140),SUMIFS($I$4:I140,$C$4:C140,C141)))","v":0},0]
[139,null,{"$f":"IFERROR(VLOOKUP(D142,Nomenclature!$B$2:$C$196,2,0),\"\")","v":""},null,null,null,null,{"$f":"IF(C142=\"\",0,IF(SUMIFS($G$5:G142,$C$5:C142,C142)-SUMIFS($I$4:I141,$C$4:C141,C142)<0,0,SUMIFS($G$5:G142,$C$5:C142,C142)-SUMIFS($I$4:I141,$C$4:C141,C142)))","v":0},null,{"$f":"IF(C142=\"\",0,IF(C142=$C$4,SUMIFS($I$4:I141,$C$4:C141,C141),SUMIFS($I$4:I141,$C$4:C141,C142)))","v":0},0]
[140,null,{"$f":"IFERROR(VLOOKUP(D143,Nomenclature!$B$2:$C$196,2,0),\"\")","v":""},null,null,null,null,{"$f":"IF(C143=\"\",0,IF(SUMIFS($G$5:G143,$C$5:C143,C143)-SUMIFS($I$4:I142,$C$4:C142,C143)<0,0,SUMIFS($G$5:G143,$C$5:C143,C143)-SUMIFS($I$4:I142,$C$4:C142,C143)))","v":0},null,{"$f":"IF(C143=\"\",0,IF(C143=$C$4,SUMIFS($I$4:I142,$C$4:C142,C142),SUMIFS($I$4:I142,$C$4:C142,C143)))","v":0},0]
[141,null,{"$f":"IFERROR(VLOOKUP(D144,Nomenclature!$B$2:$C$196,2,0),\"\")","v":""},null,null,null,null,{"$f":"IF(C144=\"\",0,IF(SUMIFS($G$5:G144,$C$5:C144,C144)-SUMIFS($I$4:I143,$C$4:C143,C144)<0,0,SUMIFS($G$5:G144,$C$5:C144,C144)-SUMIFS($I$4:I143,$C$4:C143,C144)))","v":0},null,{"$f":"IF(C144=\"\",0,IF(C144=$C$4,SUMIFS($I$4:I143,$C$4:C143,C143),SUMIFS($I$4:I143,$C$4:C143,C144)))","v":0},0]
[142,null,{"$f":"IFERROR(VLOOKUP(D145,Nomenclature!$B$2:$C$196,2,0),\"\")","v":""},null,null,null,null,{"$f":"IF(C145=\"\",0,IF(SUMIFS($G$5:G145,$C$5:C145,C145)-SUMIFS($I$4:I144,$C$4:C144,C145)<0,0,SUMIFS($G$5:G145,$C$5:C145,C145)-SUMIFS($I$4:I144,$C$4:C144,C145)))","v":0},null,{"$f":"IF(C145=\"\",0,IF(C145=$C$4,SUMIFS($I$4:I144,$C$4:C144,C144),SUMIFS($I$4:I144,$C$4:C144,C145)))","v":0},0]
[143,null,{"$f":"IFERROR(VLOOKUP(D146,Nomenclature!$B$2:$C$196,2,0),\"\")","v":""},null,null,null,null,{"$f":"IF(C146=\"\",0,IF(SUMIFS($G$5:G146,$C$5:C146,C146)-SUMIFS($I$4:I145,$C$4:C145,C146)<0,0,SUMIFS($G$5:G146,$C$5:C146,C146)-SUMIFS($I$4:I145,$C$4:C145,C146)))","v":0},null,{"$f":"IF(C146=\"\",0,IF(C146=$C$4,SUMIFS($I$4:I145,$C$4:C145,C145),SUMIFS($I$4:I145,$C$4:C145,C146)))","v":0},0]
[144,null,{"$f":"IFERROR(VLOOKUP(D147,Nomenclature!$B$2:$C$196,2,0),\"\")","v":""},null,null,null,null,{"$f":"IF(C147=\"\",0,IF(SUMIFS($G$5:G147,$C$5:C147,C147)-SUMIFS($I$4:I146,$C$4:C146,C147)<0,0,SUMIFS($G$5:G147,$C$5:C147,C147)-SUMIFS($I$4:I146,$C$4:C146,C147)))","v":0},null,{"$f":"IF(C147=\"\",0,IF(C147=$C$4,SUMIFS($I$4:I146,$C$4:C146,C146),SUMIFS($I$4:I146,$C$4:C146,C147)))","v":0},0]
[145,null,{"$f":"IFERROR(VLOOKUP(D148,Nomenclature!$B$2:$C$196,2,0),\"\")","v":""},null,null,null,null,{"$f":"IF(C148=\"\",0,IF(SUMIFS($G$5:G148,$C$5:C148,C148)-SUMIFS($I$4:I147,$C$4:C147,C148)<0,0,SUMIFS($G$5:G148,$C$5:C148,C148)-SUMIFS($I$4:I147,$C$4:C147,C148)))","v":0},null,{"$f":"IF(C148=\"\",0,IF(C148=$C$4,SUMIFS($I$4:I147,$C$4:C147,C147),SUMIFS($I$4:I147,$C$4:C147,C148)))","v":0},0]
[146,null,{"$f":"IFERROR(VLOOKUP(D149,Nomenclature!$B$2:$C$196,2,0),\"\")","v":""},null,null,null,null,{"$f":"IF(C149=\"\",0,IF(SUMIFS($G$5:G149,$C$5:C149,C149)-SUMIFS($I$4:I148,$C$4:C148,C149)<0,0,SUMIFS($G$5:G149,$C$5:C149,C149)-SUMIFS($I$4:I148,$C$4:C148,C149)))","v":0},null,{"$f":"IF(C149=\"\",0,IF(C149=$C$4,SUMIFS($I$4:I148,$C$4:C148,C148),SUMIFS($I$4:I148,$C$4:C148,C149)))","v":0},0]
[147,null,{"$f":"IFERROR(VLOOKUP(D150,Nomenclature!$B$2:$C$196,2,0),\"\")","v":""},null,null,null,null,{"$f":"IF(C150=\"\",0,IF(SUMIFS($G$5:G150,$C$5:C150,C150)-SUMIFS($I$4:I149,$C$4:C149,C150)<0,0,SUMIFS($G$5:G150,$C$5:C150,C150)-SUMIFS($I$4:I149,$C$4:C149,C150)))","v":0},null,{"$f":"IF(C150=\"\",0,IF(C150=$C$4,SUMIFS($I$4:I149,$C$4:C149,C149),SUMIFS($I$4:I149,$C$4:C149,C150)))","v":0},0]
[148,null,{"$f":"IFERROR(VLOOKUP(D151,Nomenclature!$B$2:$C$196,2,0),\"\")","v":""},null,null,null,null,{"$f":"IF(C151=\"\",0,IF(SUMIFS($G$5:G151,$C$5:C151,C151)-SUMIFS($I$4:I150,$C$4:C150,C151)<0,0,SUMIFS($G$5:G151,$C$5:C151,C151)-SUMIFS($I$4:I150,$C$4:C150,C151)))","v":0},null,{"$f":"IF(C151=\"\",0,IF(C151=$C$4,SUMIFS($I$4:I150,$C$4:C150,C150),SUMIFS($I$4:I150,$C$4:C150,C151)))","v":0},0]
[149,null,{"$f":"IFERROR(VLOOKUP(D152,Nomenclature!$B$2:$C$196,2,0),\"\")","v":""},null,null,null,null,{"$f":"IF(C152=\"\",0,IF(SUMIFS($G$5:G152,$C$5:C152,C152)-SUMIFS($I$4:I151,$C$4:C151,C152)<0,0,SUMIFS($G$5:G152,$C$5:C152,C152)-SUMIFS($I$4:I151,$C$4:C151,C152)))","v":0},null,{"$f":"IF(C152=\"\",0,IF(C152=$C$4,SUMIFS($I$4:I151,$C$4:C151,C151),SUMIFS($I$4:I151,$C$4:C151,C152)))","v":0},0]
[150,null,{"$f":"IFERROR(VLOOKUP(D153,Nomenclature!$B$2:$C$196,2,0),\"\")","v":""},null,null,null,null,{"$f":"IF(C153=\"\",0,IF(SUMIFS($G$5:G153,$C$5:C153,C153)-SUMIFS($I$4:I152,$C$4:C152,C153)<0,0,SUMIFS($G$5:G153,$C$5:C153,C153)-SUMIFS($I$4:I152,$C$4:C152,C153)))","v":0},null,{"$f":"IF(C153=\"\",0,IF(C153=$C$4,SUMIFS($I$4:I152,$C$4:C152,C152),SUMIFS($I$4:I152,$C$4:C152,C153)))","v":0},0]
[151,null,{"$f":"IFERROR(VLOOKUP(D154,Nomenclature!$B$2:$C$196,2,0),\"\")","v":""},null,null,null,null,{"$f":"IF(C154=\"\",0,IF(SUMIFS($G$5:G154,$C$5:C154,C154)-SUMIFS($I$4:I153,$C$4:C153,C154)<0,0,SUMIFS($G$5:G154,$C$5:C154,C154)-SUMIFS($I$4:I153,$C$4:C153,C154)))","v":0},null,{"$f":"IF(C154=\"\",0,IF(C154=$C$4,SUMIFS($I$4:I153,$C$4:C153,C153),SUMIFS($I$4:I153,$C$4:C153,C154)))","v":0},0]
[152,null,{"$f":"IFERROR(VLOOKUP(D155,Nomenclature!$B$2:$C$196,2,0),\"\")","v":""},null,null,null,null,{"$f":"IF(C155=\"\",0,IF(SUMIFS($G$5:G155,$C$5:C155,C155)-SUMIFS($I$4:I154,$C$4:C154,C155)<0,0,SUMIFS($G$5:G155,$C$5:C155,C155)-SUMIFS($I$4:I154,$C$4:C154,C155)))","v":0},null,{"$f":"IF(C155=\"\",0,IF(C155=$C$4,SUMIFS($I$4:I154,$C$4:C154,C154),SUMIFS($I$4:I154,$C$4:C154,C155)))","v":0},0]
[153,null,{"$f":"IFERROR(VLOOKUP(D156,Nomenclature!$B$2:$C$196,2,0),\"\")","v":""},null,null,null,null,{"$f":"IF(C156=\"\",0,IF(SUMIFS($G$5:G156,$C$5:C156,C156)-SUMIFS($I$4:I155,$C$4:C155,C156)<0,0,SUMIFS($G$5:G156,$C$5:C156,C156)-SUMIFS($I$4:I155,$C$4:C155,C156)))","v":0},null,{"$f":"IF(C156=\"\",0,IF(C156=$C$4,SUMIFS($I$4:I155,$C$4:C155,C155),SUMIFS($I$4:I155,$C$4:C155,C156)))","v":0},0]
[154,null,{"$f":"IFERROR(VLOOKUP(D157,Nomenclature!$B$2:$C$196,2,0),\"\")","v":""},null,null,null,null,{"$f":"IF(C157=\"\",0,IF(SUMIFS($G$5:G157,$C$5:C157,C157)-SUMIFS($I$4:I156,$C$4:C156,C157)<0,0,SUMIFS($G$5:G157,$C$5:C157,C157)-SUMIFS($I$4:I156,$C$4:C156,C157)))","v":0},null,{"$f":"IF(C157=\"\",0,IF(C157=$C$4,SUMIFS($I$4:I156,$C$4:C156,C156),SUMIFS($I$4:I156,$C$4:C156,C157)))","v":0},0]
[155,null,{"$f":"IFERROR(VLOOKUP(D158,Nomenclature!$B$2:$C$196,2,0),\"\")","v":""},null,null,null,null,{"$f":"IF(C158=\"\",0,IF(SUMIFS($G$5:G158,$C$5:C158,C158)-SUMIFS($I$4:I157,$C$4:C157,C158)<0,0,SUMIFS($G$5:G158,$C$5:C158,C158)-SUMIFS($I$4:I157,$C$4:C157,C158)))","v":0},null,{"$f":"IF(C158=\"\",0,IF(C158=$C$4,SUMIFS($I$4:I157,$C$4:C157,C157),SUMIFS($I$4:I157,$C$4:C157,C158)))","v":0},0]
[156,null,{"$f":"IFERROR(VLOOKUP(D159,Nomenclature!$B$2:$C$196,2,0),\"\")","v":""},null,null,null,null,{"$f":"IF(C159=\"\",0,IF(SUMIFS($G$5:G159,$C$5:C159,C159)-SUMIFS($I$4:I158,$C$4:C158,C159)<0,0,SUMIFS($G$5:G159,$C$5:C159,C159)-SUMIFS($I$4:I158,$C$4:C158,C159)))","v":0},null,{"$f":"IF(C159=\"\",0,IF(C159=$C$4,SUMIFS($I$4:I158,$C$4:C158,C158),SUMIFS($I$4:I158,$C$4:C158,C159)))","v":0},0]
[157,null,{"$f":"IFERROR(VLOOKUP(D160,Nomenclature!$B$2:$C$196,2,0),\"\")","v":""},null,null,null,null,{"$f":"IF(C160=\"\",0,IF(SUMIFS($G$5:G160,$C$5:C160,C160)-SUMIFS($I$4:I159,$C$4:C159,C160)<0,0,SUMIFS($G$5:G160,$C$5:C160,C160)-SUMIFS($I$4:I159,$C$4:C159,C160)))","v":0},null,{"$f":"IF(C160=\"\",0,IF(C160=$C$4,SUMIFS($I$4:I159,$C$4:C159,C159),SUMIFS($I$4:I159,$C$4:C159,C160)))","v":0},0]
[158,null,{"$f":"IFERROR(VLOOKUP(D161,Nomenclature!$B$2:$C$196,2,0),\"\")","v":""},null,null,null,null,{"$f":"IF(C161=\"\",0,IF(SUMIFS($G$5:G161,$C$5:C161,C161)-SUMIFS($I$4:I160,$C$4:C160,C161)<0,0,SUMIFS($G$5:G161,$C$5:C161,C161)-SUMIFS($I$4:I160,$C$4:C160,C161)))","v":0},null,{"$f":"IF(C161=\"\",0,IF(C161=$C$4,SUMIFS($I$4:I160,$C$4:C160,C160),SUMIFS($I$4:I160,$C$4:C160,C161)))","v":0},0]
[159,null,{"$f":"IFERROR(VLOOKUP(D162,Nomenclature!$B$2:$C$196,2,0),\"\")","v":""},null,null,null,null,{"$f":"IF(C162=\"\",0,IF(SUMIFS($G$5:G162,$C$5:C162,C162)-SUMIFS($I$4:I161,$C$4:C161,C162)<0,0,SUMIFS($G$5:G162,$C$5:C162,C162)-SUMIFS($I$4:I161,$C$4:C161,C162)))","v":0},null,{"$f":"IF(C162=\"\",0,IF(C162=$C$4,SUMIFS($I$4:I161,$C$4:C161,C161),SUMIFS($I$4:I161,$C$4:C161,C162)))","v":0},0]
[160,null,{"$f":"IFERROR(VLOOKUP(D163,Nomenclature!$B$2:$C$196,2,0),\"\")","v":""},null,null,null,null,{"$f":"IF(C163=\"\",0,IF(SUMIFS($G$5:G163,$C$5:C163,C163)-SUMIFS($I$4:I162,$C$4:C162,C163)<0,0,SUMIFS($G$5:G163,$C$5:C163,C163)-SUMIFS($I$4:I162,$C$4:C162,C163)))","v":0},null,{"$f":"IF(C163=\"\",0,IF(C163=$C$4,SUMIFS($I$4:I162,$C$4:C162,C162),SUMIFS($I$4:I162,$C$4:C162,C163)))","v":0},0]
[161,null,{"$f":"IFERROR(VLOOKUP(D164,Nomenclature!$B$2:$C$196,2,0),\"\")","v":""},null,null,null,null,{"$f":"IF(C164=\"\",0,IF(SUMIFS($G$5:G164,$C$5:C164,C164)-SUMIFS($I$4:I163,$C$4:C163,C164)<0,0,SUMIFS($G$5:G164,$C$5:C164,C164)-SUMIFS($I$4:I163,$C$4:C163,C164)))","v":0},null,{"$f":"IF(C164=\"\",0,IF(C164=$C$4,SUMIFS($I$4:I163,$C$4:C163,C163),SUMIFS($I$4:I163,$C$4:C163,C164)))","v":0},0]
[162,null,{"$f":"IFERROR(VLOOKUP(D165,Nomenclature!$B$2:$C$196,2,0),\"\")","v":""},null,null,null,null,{"$f":"IF(C165=\"\",0,IF(SUMIFS($G$5:G165,$C$5:C165,C165)-SUMIFS($I$4:I164,$C$4:C164,C165)<0,0,SUMIFS($G$5:G165,$C$5:C165,C165)-SUMIFS($I$4:I164,$C$4:C164,C165)))","v":0},null,{"$f":"IF(C165=\"\",0,IF(C165=$C$4,SUMIFS($I$4:I164,$C$4:C164,C164),SUMIFS($I$4:I164,$C$4:C164,C165)))","v":0},0]
[163,null,{"$f":"IFERROR(VLOOKUP(D166,Nomenclature!$B$2:$C$196,2,0),\"\")","v":""},null,null,null,null,{"$f":"IF(C166=\"\",0,IF(SUMIFS($G$5:G166,$C$5:C166,C166)-SUMIFS($I$4:I165,$C$4:C165,C166)<0,0,SUMIFS($G$5:G166,$C$5:C166,C166)-SUMIFS($I$4:I165,$C$4:C165,C166)))","v":0},null,{"$f":"IF(C166=\"\",0,IF(C166=$C$4,SUMIFS($I$4:I165,$C$4:C165,C165),SUMIFS($I$4:I165,$C$4:C165,C166)))","v":0},0]
[164,null,{"$f":"IFERROR(VLOOKUP(D167,Nomenclature!$B$2:$C$196,2,0),\"\")","v":""},null,null,null,null,{"$f":"IF(C167=\"\",0,IF(SUMIFS($G$5:G167,$C$5:C167,C167)-SUMIFS($I$4:I166,$C$4:C166,C167)<0,0,SUMIFS($G$5:G167,$C$5:C167,C167)-SUMIFS($I$4:I166,$C$4:C166,C167)))","v":0},null,{"$f":"IF(C167=\"\",0,IF(C167=$C$4,SUMIFS($I$4:I166,$C$4:C166,C166),SUMIFS($I$4:I166,$C$4:C166,C167)))","v":0},0]
[165,null,{"$f":"IFERROR(VLOOKUP(D168,Nomenclature!$B$2:$C$196,2,0),\"\")","v":""},null,null,null,null,{"$f":"IF(C168=\"\",0,IF(SUMIFS($G$5:G168,$C$5:C168,C168)-SUMIFS($I$4:I167,$C$4:C167,C168)<0,0,SUMIFS($G$5:G168,$C$5:C168,C168)-SUMIFS($I$4:I167,$C$4:C167,C168)))","v":0},null,{"$f":"IF(C168=\"\",0,IF(C168=$C$4,SUMIFS($I$4:I167,$C$4:C167,C167),SUMIFS($I$4:I167,$C$4:C167,C168)))","v":0},0]
[166,null,{"$f":"IFERROR(VLOOKUP(D169,Nomenclature!$B$2:$C$196,2,0),\"\")","v":""},null,null,null,null,{"$f":"IF(C169=\"\",0,IF(SUMIFS($G$5:G169,$C$5:C169,C169)-SUMIFS($I$4:I168,$C$4:C168,C169)<0,0,SUMIFS($G$5:G169,$C$5:C169,C169)-SUMIFS($I$4:I168,$C$4:C168,C169)))","v":0},null,{"$f":"IF(C169=\"\",0,IF(C169=$C$4,SUMIFS($I$4:I168,$C$4:C168,C168),SUMIFS($I$4:I168,$C$4:C168,C169)))","v":0},0]
[167,null,{"$f":"IFERROR(VLOOKUP(D170,Nomenclature!$B$2:$C$196,2,0),\"\")","v":""},null,null,null,null,{"$f":"IF(C170=\"\",0,IF(SUMIFS($G$5:G170,$C$5:C170,C170)-SUMIFS($I$4:I169,$C$4:C169,C170)<0,0,SUMIFS($G$5:G170,$C$5:C170,C170)-SUMIFS($I$4:I169,$C$4:C169,C170)))","v":0},null,{"$f":"IF(C170=\"\",0,IF(C170=$C$4,SUMIFS($I$4:I169,$C$4:C169,C169),SUMIFS($I$4:I169,$C$4:C169,C170)))","v":0},0]
[168,null,{"$f":"IFERROR(VLOOKUP(D171,Nomenclature!$B$2:$C$196,2,0),\"\")","v":""},null,null,null,null,{"$f":"IF(C171=\"\",0,IF(SUMIFS($G$5:G171,$C$5:C171,C171)-SUMIFS($I$4:I170,$C$4:C170,C171)<0,0,SUMIFS($G$5:G171,$C$5:C171,C171)-SUMIFS($I$4:I170,$C$4:C170,C171)))","v":0},null,{"$f":"IF(C171=\"\",0,IF(C171=$C$4,SUMIFS($I$4:I170,$C$4:C170,C170),SUMIFS($I$4:I170,$C$4:C170,C171)))","v":0},0]
[169,null,{"$f":"IFERROR(VLOOKUP(D172,Nomenclature!$B$2:$C$196,2,0),\"\")","v":""},null,null,null,null,{"$f":"IF(C172=\"\",0,IF(SUMIFS($G$5:G172,$C$5:C172,C172)-SUMIFS($I$4:I171,$C$4:C171,C172)<0,0,SUMIFS($G$5:G172,$C$5:C172,C172)-SUMIFS($I$4:I171,$C$4:C171,C172)))","v":0},null,{"$f":"IF(C172=\"\",0,IF(C172=$C$4,SUMIFS($I$4:I171,$C$4:C171,C171),SUMIFS($I$4:I171,$C$4:C171,C172)))","v":0},0]
[170,null,{"$f":"IFERROR(VLOOKUP(D173,Nomenclature!$B$2:$C$196,2,0),\"\")","v":""},null,null,null,null,{"$f":"IF(C173=\"\",0,IF(SUMIFS($G$5:G173,$C$5:C173,C173)-SUMIFS($I$4:I172,$C$4:C172,C173)<0,0,SUMIFS($G$5:G173,$C$5:C173,C173)-SUMIFS($I$4:I172,$C$4:C172,C173)))","v":0},null,{"$f":"IF(C173=\"\",0,IF(C173=$C$4,SUMIFS($I$4:I172,$C$4:C172,C172),SUMIFS($I$4:I172,$C$4:C172,C173)))","v":0},0]
[171,null,{"$f":"IFERROR(VLOOKUP(D174,Nomenclature!$B$2:$C$196,2,0),\"\")","v":""},null,null,null,null,{"$f":"IF(C174=\"\",0,IF(SUMIFS($G$5:G174,$C$5:C174,C174)-SUMIFS($I$4:I173,$C$4:C173,C174)<0,0,SUMIFS($G$5:G174,$C$5:C174,C174)-SUMIFS($I$4:I173,$C$4:C173,C174)))","v":0},null,{"$f":"IF(C174=\"\",0,IF(C174=$C$4,SUMIFS($I$4:I173,$C$4:C173,C173),SUMIFS($I$4:I173,$C$4:C173,C174)))","v":0},0]
[172,null,{"$f":"IFERROR(VLOOKUP(D175,Nomenclature!$B$2:$C$196,2,0),\"\")","v":""},null,null,null,null,{"$f":"IF(C175=\"\",0,IF(SUMIFS($G$5:G175,$C$5:C175,C175)-SUMIFS($I$4:I174,$C$4:C174,C175)<0,0,SUMIFS($G$5:G175,$C$5:C175,C175)-SUMIFS($I$4:I174,$C$4:C174,C175)))","v":0},null,{"$f":"IF(C175=\"\",0,IF(C175=$C$4,SUMIFS($I$4:I174,$C$4:C174,C174),SUMIFS($I$4:I174,$C$4:C174,C175)))","v":0},0]
[173,null,{"$f":"IFERROR(VLOOKUP(D176,Nomenclature!$B$2:$C$196,2,0),\"\")","v":""},null,null,null,null,{"$f":"IF(C176=\"\",0,IF(SUMIFS($G$5:G176,$C$5:C176,C176)-SUMIFS($I$4:I175,$C$4:C175,C176)<0,0,SUMIFS($G$5:G176,$C$5:C176,C176)-SUMIFS($I$4:I175,$C$4:C175,C176)))","v":0},null,{"$f":"IF(C176=\"\",0,IF(C176=$C$4,SUMIFS($I$4:I175,$C$4:C175,C175),SUMIFS($I$4:I175,$C$4:C175,C176)))","v":0},0]
[174,null,{"$f":"IFERROR(VLOOKUP(D177,Nomenclature!$B$2:$C$196,2,0),\"\")","v":""},null,null,null,null,{"$f":"IF(C177=\"\",0,IF(SUMIFS($G$5:G177,$C$5:C177,C177)-SUMIFS($I$4:I176,$C$4:C176,C177)<0,0,SUMIFS($G$5:G177,$C$5:C177,C177)-SUMIFS($I$4:I176,$C$4:C176,C177)))","v":0},null,{"$f":"IF(C177=\"\",0,IF(C177=$C$4,SUMIFS($I$4:I176,$C$4:C176,C176),SUMIFS($I$4:I176,$C$4:C176,C177)))","v":0},0]
[175,null,{"$f":"IFERROR(VLOOKUP(D178,Nomenclature!$B$2:$C$196,2,0),\"\")","v":""},null,null,null,null,{"$f":"IF(C178=\"\",0,IF(SUMIFS($G$5:G178,$C$5:C178,C178)-SUMIFS($I$4:I177,$C$4:C177,C178)<0,0,SUMIFS($G$5:G178,$C$5:C178,C178)-SUMIFS($I$4:I177,$C$4:C177,C178)))","v":0},null,{"$f":"IF(C178=\"\",0,IF(C178=$C$4,SUMIFS($I$4:I177,$C$4:C177,C177),SUMIFS($I$4:I177,$C$4:C177,C178)))","v":0},0]
[176,null,{"$f":"IFERROR(VLOOKUP(D179,Nomenclature!$B$2:$C$196,2,0),\"\")","v":""},null,null,null,null,{"$f":"IF(C179=\"\",0,IF(SUMIFS($G$5:G179,$C$5:C179,C179)-SUMIFS($I$4:I178,$C$4:C178,C179)<0,0,SUMIFS($G$5:G179,$C$5:C179,C179)-SUMIFS($I$4:I178,$C$4:C178,C179)))","v":0},null,{"$f":"IF(C179=\"\",0,IF(C179=$C$4,SUMIFS($I$4:I178,$C$4:C178,C178),SUMIFS($I$4:I178,$C$4:C178,C179)))","v":0},0]
[177,null,{"$f":"IFERROR(VLOOKUP(D180,Nomenclature!$B$2:$C$196,2,0),\"\")","v":""},null,null,null,null,{"$f":"IF(C180=\"\",0,IF(SUMIFS($G$5:G180,$C$5:C180,C180)-SUMIFS($I$4:I179,$C$4:C179,C180)<0,0,SUMIFS($G$5:G180,$C$5:C180,C180)-SUMIFS($I$4:I179,$C$4:C179,C180)))","v":0},null,{"$f":"IF(C180=\"\",0,IF(C180=$C$4,SUMIFS($I$4:I179,$C$4:C179,C179),SUMIFS($I$4:I179,$C$4:C179,C180)))","v":0},0]
[178,null,{"$f":"IFERROR(VLOOKUP(D181,Nomenclature!$B$2:$C$196,2,0),\"\")","v":""},null,null,null,null,{"$f":"IF(C181=\"\",0,IF(SUMIFS($G$5:G181,$C$5:C181,C181)-SUMIFS($I$4:I180,$C$4:C180,C181)<0,0,SUMIFS($G$5:G181,$C$5:C181,C181)-SUMIFS($I$4:I180,$C$4:C180,C181)))","v":0},null,{"$f":"IF(C181=\"\",0,IF(C181=$C$4,SUMIFS($I$4:I180,$C$4:C180,C180),SUMIFS($I$4:I180,$C$4:C180,C181)))","v":0},0]
[179,null,{"$f":"IFERROR(VLOOKUP(D182,Nomenclature!$B$2:$C$196,2,0),\"\")","v":""},null,null,null,null,{"$f":"IF(C182=\"\",0,IF(SUMIFS($G$5:G182,$C$5:C182,C182)-SUMIFS($I$4:I181,$C$4:C181,C182)<0,0,SUMIFS($G$5:G182,$C$5:C182,C182)-SUMIFS($I$4:I181,$C$4:C181,C182)))","v":0},null,{"$f":"IF(C182=\"\",0,IF(C182=$C$4,SUMIFS($I$4:I181,$C$4:C181,C181),SUMIFS($I$4:I181,$C$4:C181,C182)))","v":0},0]
[180,null,{"$f":"IFERROR(VLOOKUP(D183,Nomenclature!$B$2:$C$196,2,0),\"\")","v":""},null,null,null,null,{"$f":"IF(C183=\"\",0,IF(SUMIFS($G$5:G183,$C$5:C183,C183)-SUMIFS($I$4:I182,$C$4:C182,C183)<0,0,SUMIFS($G$5:G183,$C$5:C183,C183)-SUMIFS($I$4:I182,$C$4:C182,C183)))","v":0},null,{"$f":"IF(C183=\"\",0,IF(C183=$C$4,SUMIFS($I$4:I182,$C$4:C182,C182),SUMIFS($I$4:I182,$C$4:C182,C183)))","v":0},0]
[181,null,{"$f":"IFERROR(VLOOKUP(D184,Nomenclature!$B$2:$C$196,2,0),\"\")","v":""},null,null,null,null,{"$f":"IF(C184=\"\",0,IF(SUMIFS($G$5:G184,$C$5:C184,C184)-SUMIFS($I$4:I183,$C$4:C183,C184)<0,0,SUMIFS($G$5:G184,$C$5:C184,C184)-SUMIFS($I$4:I183,$C$4:C183,C184)))","v":0},null,{"$f":"IF(C184=\"\",0,IF(C184=$C$4,SUMIFS($I$4:I183,$C$4:C183,C183),SUMIFS($I$4:I183,$C$4:C183,C184)))","v":0},0]
[182,null,{"$f":"IFERROR(VLOOKUP(D185,Nomenclature!$B$2:$C$196,2,0),\"\")","v":""},null,null,null,null,{"$f":"IF(C185=\"\",0,IF(SUMIFS($G$5:G185,$C$5:C185,C185)-SUMIFS($I$4:I184,$C$4:C184,C185)<0,0,SUMIFS($G$5:G185,$C$5:C185,C185)-SUMIFS($I$4:I184,$C$4:C184,C185)))","v":0},null,{"$f":"IF(C185=\"\",0,IF(C185=$C$4,SUMIFS($I$4:I184,$C$4:C184,C184),SUMIFS($I$4:I184,$C$4:C184,C185)))","v":0},0]
[183,null,{"$f":"IFERROR(VLOOKUP(D186,Nomenclature!$B$2:$C$196,2,0),\"\")","v":""},null,null,null,null,{"$f":"IF(C186=\"\",0,IF(SUMIFS($G$5:G186,$C$5:C186,C186)-SUMIFS($I$4:I185,$C$4:C185,C186)<0,0,SUMIFS($G$5:G186,$C$5:C186,C186)-SUMIFS($I$4:I185,$C$4:C185,C186)))","v":0},null,{"$f":"IF(C186=\"\",0,IF(C186=$C$4,SUMIFS($I$4:I185,$C$4:C185,C185),SUMIFS($I$4:I185,$C$4:C185,C186)))","v":0},0]
[184,null,{"$f":"IFERROR(VLOOKUP(D187,Nomenclature!$B$2:$C$196,2,0),\"\")","v":""},null,null,null,null,{"$f":"IF(C187=\"\",0,IF(SUMIFS($G$5:G187,$C$5:C187,C187)-SUMIFS($I$4:I186,$C$4:C186,C187)<0,0,SUMIFS($G$5:G187,$C$5:C187,C187)-SUMIFS($I$4:I186,$C$4:C186,C187)))","v":0},null,{"$f":"IF(C187=\"\",0,IF(C187=$C$4,SUMIFS($I$4:I186,$C$4:C186,C186),SUMIFS($I$4:I186,$C$4:C186,C187)))","v":0},0]
[185,null,{"$f":"IFERROR(VLOOKUP(D188,Nomenclature!$B$2:$C$196,2,0),\"\")","v":""},null,null,null,null,{"$f":"IF(C188=\"\",0,IF(SUMIFS($G$5:G188,$C$5:C188,C188)-SUMIFS($I$4:I187,$C$4:C187,C188)<0,0,SUMIFS($G$5:G188,$C$5:C188,C188)-SUMIFS($I$4:I187,$C$4:C187,C188)))","v":0},null,{"$f":"IF(C188=\"\",0,IF(C188=$C$4,SUMIFS($I$4:I187,$C$4:C187,C187),SUMIFS($I$4:I187,$C$4:C187,C188)))","v":0},0]
[186,null,{"$f":"IFERROR(VLOOKUP(D189,Nomenclature!$B$2:$C$196,2,0),\"\")","v":""},null,null,null,null,{"$f":"IF(C189=\"\",0,IF(SUMIFS($G$5:G189,$C$5:C189,C189)-SUMIFS($I$4:I188,$C$4:C188,C189)<0,0,SUMIFS($G$5:G189,$C$5:C189,C189)-SUMIFS($I$4:I188,$C$4:C188,C189)))","v":0},null,{"$f":"IF(C189=\"\",0,IF(C189=$C$4,SUMIFS($I$4:I188,$C$4:C188,C188),SUMIFS($I$4:I188,$C$4:C188,C189)))","v":0},0]
[187,null,{"$f":"IFERROR(VLOOKUP(D190,Nomenclature!$B$2:$C$196,2,0),\"\")","v":""},null,null,null,null,{"$f":"IF(C190=\"\",0,IF(SUMIFS($G$5:G190,$C$5:C190,C190)-SUMIFS($I$4:I189,$C$4:C189,C190)<0,0,SUMIFS($G$5:G190,$C$5:C190,C190)-SUMIFS($I$4:I189,$C$4:C189,C190)))","v":0},null,{"$f":"IF(C190=\"\",0,IF(C190=$C$4,SUMIFS($I$4:I189,$C$4:C189,C189),SUMIFS($I$4:I189,$C$4:C189,C190)))","v":0},0]
[188,null,{"$f":"IFERROR(VLOOKUP(D191,Nomenclature!$B$2:$C$196,2,0),\"\")","v":""},null,null,null,null,{"$f":"IF(C191=\"\",0,IF(SUMIFS($G$5:G191,$C$5:C191,C191)-SUMIFS($I$4:I190,$C$4:C190,C191)<0,0,SUMIFS($G$5:G191,$C$5:C191,C191)-SUMIFS($I$4:I190,$C$4:C190,C191)))","v":0},null,{"$f":"IF(C191=\"\",0,IF(C191=$C$4,SUMIFS($I$4:I190,$C$4:C190,C190),SUMIFS($I$4:I190,$C$4:C190,C191)))","v":0},0]
[189,null,{"$f":"IFERROR(VLOOKUP(D192,Nomenclature!$B$2:$C$196,2,0),\"\")","v":""},null,null,null,null,{"$f":"IF(C192=\"\",0,IF(SUMIFS($G$5:G192,$C$5:C192,C192)-SUMIFS($I$4:I191,$C$4:C191,C192)<0,0,SUMIFS($G$5:G192,$C$5:C192,C192)-SUMIFS($I$4:I191,$C$4:C191,C192)))","v":0},null,{"$f":"IF(C192=\"\",0,IF(C192=$C$4,SUMIFS($I$4:I191,$C$4:C191,C191),SUMIFS($I$4:I191,$C$4:C191,C192)))","v":0},0]
[190,null,{"$f":"IFERROR(VLOOKUP(D193,Nomenclature!$B$2:$C$196,2,0),\"\")","v":""},null,null,null,null,{"$f":"IF(C193=\"\",0,IF(SUMIFS($G$5:G193,$C$5:C193,C193)-SUMIFS($I$4:I192,$C$4:C192,C193)<0,0,SUMIFS($G$5:G193,$C$5:C193,C193)-SUMIFS($I$4:I192,$C$4:C192,C193)))","v":0},null,{"$f":"IF(C193=\"\",0,IF(C193=$C$4,SUMIFS($I$4:I192,$C$4:C192,C192),SUMIFS($I$4:I192,$C$4:C192,C193)))","v":0},0]
[191,null,{"$f":"IFERROR(VLOOKUP(D194,Nomenclature!$B$2:$C$196,2,0),\"\")","v":""},null,null,null,null,{"$f":"IF(C194=\"\",0,IF(SUMIFS($G$5:G194,$C$5:C194,C194)-SUMIFS($I$4:I193,$C$4:C193,C194)<0,0,SUMIFS($G$5:G194,$C$5:C194,C194)-SUMIFS($I$4:I193,$C$4:C193,C194)))","v":0},null,{"$f":"IF(C194=\"\",0,IF(C194=$C$4,SUMIFS($I$4:I193,$C$4:C193,C193),SUMIFS($I$4:I193,$C$4:C193,C194)))","v":0},0]
[192,null,{"$f":"IFERROR(VLOOKUP(D195,Nomenclature!$B$2:$C$196,2,0),\"\")","v":""},null,null,null,null,{"$f":"IF(C195=\"\",0,IF(SUMIFS($G$5:G195,$C$5:C195,C195)-SUMIFS($I$4:I194,$C$4:C194,C195)<0,0,SUMIFS($G$5:G195,$C$5:C195,C195)-SUMIFS($I$4:I194,$C$4:C194,C195)))","v":0},null,{"$f":"IF(C195=\"\",0,IF(C195=$C$4,SUMIFS($I$4:I194,$C$4:C194,C194),SUMIFS($I$4:I194,$C$4:C194,C195)))","v":0},0]
[193,null,{"$f":"IFERROR(VLOOKUP(D196,Nomenclature!$B$2:$C$196,2,0),\"\")","v":""},null,null,null,null,{"$f":"IF(C196=\"\",0,IF(SUMIFS($G$5:G196,$C$5:C196,C196)-SUMIFS($I$4:I195,$C$4:C195,C196)<0,0,SUMIFS($G$5:G196,$C$5:C196,C196)-SUMIFS($I$4:I195,$C$4:C195,C196)))","v":0},null,{"$f":"IF(C196=\"\",0,IF(C196=$C$4,SUMIFS($I$4:I195,$C$4:C195,C195),SUMIFS($I$4:I195,$C$4:C195,C196)))","v":0},{"$f":"IF(C196=\"\",0,H196-I196)","v":0}]
[194,null,{"$f":"IFERROR(VLOOKUP(D197,Nomenclature!$B$2:$C$196,2,0),\"\")","v":""},null,null,null,null,{"$f":"IF(C197=\"\",0,IF(SUMIFS($G$5:G197,$C$5:C197,C197)-SUMIFS($I$4:I196,$C$4:C196,C197)<0,0,SUMIFS($G$5:G197,$C$5:C197,C197)-SUMIFS($I$4:I196,$C$4:C196,C197)))","v":0},null,{"$f":"IF(C197=\"\",0,IF(C197=$C$4,SUMIFS($I$4:I196,$C$4:C196,C196),SUMIFS($I$4:I196,$C$4:C196,C197)))","v":0},0]
[195,null,{"$f":"IFERROR(VLOOKUP(D198,Nomenclature!$B$2:$C$196,2,0),\"\")","v":""},null,null,null,null,{"$f":"IF(C198=\"\",0,IF(SUMIFS($G$5:G198,$C$5:C198,C198)-SUMIFS($I$4:I197,$C$4:C197,C198)<0,0,SUMIFS($G$5:G198,$C$5:C198,C198)-SUMIFS($I$4:I197,$C$4:C197,C198)))","v":0},null,{"$f":"IF(C198=\"\",0,IF(C198=$C$4,SUMIFS($I$4:I197,$C$4:C197,C197),SUMIFS($I$4:I197,$C$4:C197,C198)))","v":0},0]
[196,null,{"$f":"IFERROR(VLOOKUP(D199,Nomenclature!$B$2:$C$196,2,0),\"\")","v":""},null,null,null,null,{"$f":"IF(C199=\"\",0,IF(SUMIFS($G$5:G199,$C$5:C199,C199)-SUMIFS($I$4:I198,$C$4:C198,C199)<0,0,SUMIFS($G$5:G199,$C$5:C199,C199)-SUMIFS($I$4:I198,$C$4:C198,C199)))","v":0},null,{"$f":"IF(C199=\"\",0,IF(C199=$C$4,SUMIFS($I$4:I198,$C$4:C198,C198),SUMIFS($I$4:I198,$C$4:C198,C199)))","v":0},0]
[197,null,{"$f":"IFERROR(VLOOKUP(D200,Nomenclature!$B$2:$C$196,2,0),\"\")","v":""},null,null,null,null,{"$f":"IF(C200=\"\",0,IF(SUMIFS($G$5:G200,$C$5:C200,C200)-SUMIFS($I$4:I199,$C$4:C199,C200)<0,0,SUMIFS($G$5:G200,$C$5:C200,C200)-SUMIFS($I$4:I199,$C$4:C199,C200)))","v":0},null,{"$f":"IF(C200=\"\",0,IF(C200=$C$4,SUMIFS($I$4:I199,$C$4:C199,C199),SUMIFS($I$4:I199,$C$4:C199,C200)))","v":0},0]
[198,null,{"$f":"IFERROR(VLOOKUP(D201,Nomenclature!$B$2:$C$196,2,0),\"\")","v":""},null,null,null,null,{"$f":"IF(C201=\"\",0,IF(SUMIFS($G$5:G201,$C$5:C201,C201)-SUMIFS($I$4:I200,$C$4:C200,C201)<0,0,SUMIFS($G$5:G201,$C$5:C201,C201)-SUMIFS($I$4:I200,$C$4:C200,C201)))","v":0},null,{"$f":"IF(C201=\"\",0,IF(C201=$C$4,SUMIFS($I$4:I200,$C$4:C200,C200),SUMIFS($I$4:I200,$C$4:C200,C201)))","v":0},0]
[199,null,{"$f":"IFERROR(VLOOKUP(D202,Nomenclature!$B$2:$C$196,2,0),\"\")","v":""},null,null,null,null,{"$f":"IF(C202=\"\",0,IF(SUMIFS($G$5:G202,$C$5:C202,C202)-SUMIFS($I$4:I201,$C$4:C201,C202)<0,0,SUMIFS($G$5:G202,$C$5:C202,C202)-SUMIFS($I$4:I201,$C$4:C201,C202)))","v":0},null,{"$f":"IF(C202=\"\",0,IF(C202=$C$4,SUMIFS($I$4:I201,$C$4:C201,C201),SUMIFS($I$4:I201,$C$4:C201,C202)))","v":0},0]
[200,null,{"$f":"IFERROR(VLOOKUP(D203,Nomenclature!$B$2:$C$196,2,0),\"\")","v":""},null,null,null,null,{"$f":"IF(C203=\"\",0,IF(SUMIFS($G$5:G203,$C$5:C203,C203)-SUMIFS($I$4:I202,$C$4:C202,C203)<0,0,SUMIFS($G$5:G203,$C$5:C203,C203)-SUMIFS($I$4:I202,$C$4:C202,C203)))","v":0},null,{"$f":"IF(C203=\"\",0,IF(C203=$C$4,SUMIFS($I$4:I202,$C$4:C202,C202),SUMIFS($I$4:I202,$C$4:C202,C203)))","v":0},0]

{"sheet":"13000","index":3,"n_rows":203,"n_cols":44,"rows_kept":203,"cut":false,"hidden":false,"merged":[[50,23,50,24],[44,14,45,18],[44,22,45,26],[44,29,44,30],[46,14,47,18],[46,22,47,26],[47,29,47,30],[50,15,50,16],[33,14,33,17],[34,14,37,41],[39,14,39,17],[39,18,40,41],[42,14,42,27],[42,28,42,41],[28,38,29,41],[30,14,31,17],[30,18,31,21],[30,22,31,25],[30,26,31,29],[30,30,31,33],[30,34,31,37],[30,38,31,41],[28,14,29,17],[28,18,29,21],[28,22,29,25],[28,26,29,29],[28,30,29,33],[28,34,29,37],[19,14,19,15],[26,38,27,41],[20,22,20,32],[21,18,21,21],[21,22,21,32],[22,18,22,21],[22,22,22,32],[23,17,25,41],[20,18,20,21],[26,14,27,21],[26,22,27,25],[26,26,27,29],[26,30,27,33],[26,34,27,37],[15,19,15,20],[16,14,16,18],[16,19,16,20],[14,14,14,18],[14,19,14,27],[0,13,2,15],[3,14,3,41],[3,42,58,42],[4,14,4,18],[4,19,4,27],[5,14,5,18],[5,19,5,27],[6,14,6,18],[6,19,6,27],[10,15,11,19],[10,20,11,23],[10,31,11,32],[10,33,11,38],[13,14,13,18],[13,19,13,20],[15,14,15,18],[0,11,2,11],[0,0,2,0],[0,1,2,1],[0,2,2,2],[0,3,2,3],[0,4,2,4],[0,5,1,5],[0,6,1,6],[0,7,2,7],[0,8,1,8],[0,9,2,9],[0,10,1,10]]}
["رقم\nالاستمارة","التاريخ","الترميز","الصنف / الصنف الفرعي","ملاحظات المصلحة","AP Cat",{"$f":"IF(SUM(G4:G203)-SUM(F4:F203)<0,\"نقص في توزيع الاعتمادات على الاصناف الفرعية\",\nIF(SUM(G4:G203)-SUM(F4:F203)>0,\"تجاوز في الاعتمادات الموزعة على الاصناف الفرعية\",\"AP S.Cat\"))","v":"AP S.Cat"},"AP Sous_Cat",{"$f":"IF(I3>G3,\"تجاوز في الالتزامات\",\"∑ Engagements\")","v":"∑ Engagements"},"∑ Eng Sous_Cat","Reste","السند القانوني للعنوان الرابع",null,1]
[]
[null,null,null,null,null,{"$f":"SUM(F4:F203)","v":6500000},{"$f":"SUM(G4:G203)","v":6500000},null,{"$f":"SUM(I5:I203)","v":0},null,{"$f":"SUM(K4:K104)","v":6500000}]
[1,"2023-03-13",{"$f":"IFERROR(VLOOKUP(D4,Nomenclature!$B$2:$C$196,2,0),\"\")","v":13000},"الزيادات","تكفل برخصة الالتزام المفتوحة لسنة 2023.",6500000,null,{"$f":"IF(C4=\"\",0,IF(SUMIFS($G4:G$5,$C4:C$5,C4)-SUMIFS($I3:I$4,$C3:C$4,C4)<0,0,SUMIFS($G4:G$5,$C4:C$5,C4)-SUMIFS($I3:I$4,$C3:C$4,C4)))","v":0},null,{"$f":"IF(I4=0,0,IF(C4=\"\",0,SUMIFS($I4:I$4,$C4:C$4,C4)))","v":0},{"$f":"IF(C4=\"\",0,H4-I4)","v":0},null,null,null,"الجمهورية الجزائرية الديمقراطية الشعبية"]
[2,"2023-04-01",{"$f":"IFERROR(VLOOKUP(D5,Nomenclature!$B$2:$C$196,2,0),\"\")","v":13100},"الزيادات الاستدلالية","التزام في الجدول الأصلي الأولي رقم 2023/01 الخاص بالمرتبات الشهرية للموظفين من 2023/01/01 إلى غاية 2023/12/31",null,6500000,{"$f":"IF(C5=\"\",0,IF(SUMIFS($G$5:G5,$C$5:C5,C5)-SUMIFS($I$4:I4,$C$4:C4,C5)<0,0,SUMIFS($G$5:G5,$C$5:C5,C5)-SUMIFS($I$4:I4,$C$4:C4,C5)))","v":6500000},null,{"$f":"IF(C5=\"\",0,IF(C5=$C$4,SUMIFS($I$4:I4,$C$4:C4,C4),SUMIFS($I$4:I4,$C$4:C4,C5)))","v":0},6500000,null,null,null,"الـوزارة:",null,null,null,null,{"$f":"الواجهة!C2","v":"وزارة البيئة و الطاقات المتجددة"}]
[3,null,{"$f":"IFERROR(VLOOKUP(D6,Nomenclature!$B$2:$C$196,2,0),\"\")","v":""},null,null,null,null,{"$f":"IF(C6=\"\",0,IF(SUMIFS($G$5:G6,$C$5:C6,C6)-SUMIFS($I$4:I5,$C$4:C5,C6)<0,0,SUMIFS($G$5:G6,$C$5:C6,C6)-SUMIFS($I$4:I5,$C$4:C5,C6)))","v":0},null,{"$f":"IF(C6=\"\",0,IF(C6=$C$4,SUMIFS($I$4:I5,$C$4:C5,C5),SUMIFS($I$4:I5,$C$4:C5,C6)))","v":0},0,null,null,null,"الهيئة الإدارية:",null,null,null,null,{"$f":"الواجهة!C3","v":"مديرية البيئة لولاية المسيلة"}]
[4,null,{"$f":"IFERROR(VLOOKUP(D7,Nomenclature!$B$2:$C$196,2,0),\"\")","v":""},null,null,null,null,{"$f":"IF(C7=\"\",0,IF(SUMIFS($G$5:G7,$C$5:C7,C7)-SUMIFS($I$4:I6,$C$4:C6,C7)<0,0,SUMIFS($G$5:G7,$C$5:C7,C7)-SUMIFS($I$4:I6,$C$4:C6,C7)))","v":0},null,{"$f":"IF(C7=\"\",0,IF(C7=$C$4,SUMIFS($I$4:I6,$C$4:C6,C6),SUMIFS($I$4:I6,$C$4:C6,C7)))","v":0},0,null,null,null,"رمز الآمر بالصرف:",null,null,null,null,{"$f":"الواجهة!C4","v":"144 0 28 01"}]
[5,null,{"$f":"IFERROR(VLOOKUP(D8,Nomenclature!$B$2:$C$196,2,0),\"\")","v":""},null,null,null,null,{"$f":"IF(C8=\"\",0,IF(SUMIFS($G$5:G8,$C$5:C8,C8)-SUMIFS($I$4:I7,$C$4:C7,C8)<0,0,SUMIFS($G$5:G8,$C$5:C8,C8)-SUMIFS($I$4:I7,$C$4:C7,C8)))","v":0},null,{"$f":"IF(C8=\"\",0,IF(C8=$C$4,SUMIFS($I$4:I7,$C$4:C7,C7),SUMIFS($I$4:I7,$C$4:C7,C8)))","v":0},0,null,null,null,null,null,null,null,null,null,null,null,null,null,null,null,null,null,null,null,null,null,null,"."]
[6,null,{"$f":"IFERROR(VLOOKUP(D9,Nomenclature!$B$2:$C$196,2,0),\"\")","v":""},null,null,null,null,{"$f":"IF(C9=\"\",0,IF(SUMIFS($G$5:G9,$C$5:C9,C9)-SUMIFS($I$4:I8,$C$4:C8,C9)<0,0,SUMIFS($G$5:G9,$C$5:C9,C9)-SUMIFS($I$4:I8,$C$4:C8,C9)))","v":0},null,{"$f":"IF(C9=\"\",0,IF(C9=$C$4,SUMIFS($I$4:I8,$C$4:C8,C8),SUMIFS($I$4:I8,$C$4:C8,C9)))","v":0},0]
[7,null,{"$f":"IFERROR(VLOOKUP(D10,Nomenclature!$B$2:$C$196,2,0),\"\")","v":""},null,null,null,null,{"$f":"IF(C10=\"\",0,IF(SUMIFS($G$5:G10,$C$5:C10,C10)-SUMIFS($I$4:I9,$C$4:C9,C10)<0,0,SUMIFS($G$5:G10,$C$5:C10,C10)-SUMIFS($I$4:I9,$C$4:C9,C10)))","v":0},null,{"$f":"IF(C10=\"\",0,IF(C10=$C$4,SUMIFS($I$4:I9,$C$4:C9,C9),SUMIFS($I$4:I9,$C$4:C9,C10)))","v":0},0]
[8,null,{"$f":"IFERROR(VLOOKUP(D11,Nomenclature!$B$2:$C$196,2,0),\"\")","v":""},null,null,null,null,{"$f":"IF(C11=\"\",0,IF(SUMIFS($G$5:G11,$C$5:C11,C11)-SUMIFS($I$4:I10,$C$4:C10,C11)<0,0,SUMIFS($G$5:G11,$C$5:C11,C11)-SUMIFS($I$4:I10,$C$4:C10,C11)))","v":0},null,{"$f":"IF(C11=\"\",0,IF(C11=$C$4,SUMIFS($I$4:I10,$C$4:C10,C10),SUMIFS($I$4:I10,$C$4:C10,C11)))","v":0},0,null,null,null,null,"رقم بطاقة الالتزام:",null,null,null,null,{"$f":"IFERROR(VLOOKUP(N1,A4:L203,1,0),0)","v":1},null,null,null,null,null,null,null,null,null,null,"التاريخ:",null,{"$f":"IF(IFERROR(VLOOKUP(N1,A4:L203,2,0),0)=0,\"\",IFERROR(VLOOKUP(N1,A4:L203,2,0),0))","v":"2023-03-13"}]
[9,null,{"$f":"IFERROR(VLOOKUP(D12,Nomenclature!$B$2:$C$196,2,0),\"\")","v":""},null,null,null,null,{"$f":"IF(C12=\"\",0,IF(SUMIFS($G$5:G12,$C$5:C12,C12)-SUMIFS($I$4:I11,$C$4:C11,C12)<0,0,SUMIFS($G$5:G12,$C$5:C12,C12)-SUMIFS($I$4:I11,$C$4:C11,C12)))","v":0},null,{"$f":"IF(C12=\"\",0,IF(C12=$C$4,SUMIFS($I$4:I11,$C$4:C11,C11),SUMIFS($I$4:I11,$C$4:C11,C12)))","v":0},0]
[10,null,{"$f":"IFERROR(VLOOKUP(D13,Nomenclature!$B$2:$C$196,2,0),\"\")","v":""},null,null,null,null,{"$f":"IF(C13=\"\",0,IF(SUMIFS($G$5:G13,$C$5:C13,C13)-SUMIFS($I$4:I12,$C$4:C12,C13)<0,0,SUMIFS($G$5:G13,$C$5:C13,C13)-SUMIFS($I$4:I12,$C$4:C12,C13)))","v":0},null,{"$f":"IF(C13=\"\",0,IF(C13=$C$4,SUMIFS($I$4:I12,$C$4:C12,C12),SUMIFS($I$4:I12,$C$4:C12,C13)))","v":0},0]
[11,null,{"$f":"IFERROR(VLOOKUP(D14,Nomenclature!$B$2:$C$196,2,0),\"\")","v":""},null,null,null,null,{"$f":"IF(C14=\"\",0,IF(SUMIFS($G$5:G14,$C$5:C14,C14)-SUMIFS($I$4:I13,$C$4:C13,C14)<0,0,SUMIFS($G$5:G14,$C$5:C14,C14)-SUMIFS($I$4:I13,$C$4:C13,C14)))","v":0},null,{"$f":"IF(C14=\"\",0,IF(C14=$C$4,SUMIFS($I$4:I13,$C$4:C13,C13),SUMIFS($I$4:I13,$C$4:C13,C14)))","v":0},0,null,null,null,"رمز البرنــامج:",null,null,null,null,{"$f":"الواجهة!C7","v":"116"}]
[12,null,{"$f":"IFERROR(VLOOKUP(D15,Nomenclature!$B$2:$C$196,2,0),\"\")","v":""},null,null,null,null,{"$f":"IF(C15=\"\",0,IF(SUMIFS($G$5:G15,$C$5:C15,C15)-SUMIFS($I$4:I14,$C$4:C14,C15)<0,0,SUMIFS($G$5:G15,$C$5:C15,C15)-SUMIFS($I$4:I14,$C$4:C14,C15)))","v":0},null,{"$f":"IF(C15=\"\",0,IF(C15=$C$4,SUMIFS($I$4:I14,$C$4:C14,C14),SUMIFS($I$4:I14,$C$4:C14,C15)))","v":0},0,null,null,null,"رمز النشــاط:",null,null,null,null,{"$f":"الواجهة!C6&\" \"&الواجهة!C7&\" \"&الواجهة!C10&\" \"&الواجهة!C8&\" \"&الواجهة!C9&\" \"&الواجهة!C11","v":"030 116 02 2001 000 028"}]
[13,null,{"$f":"IFERROR(VLOOKUP(D16,Nomenclature!$B$2:$C$196,2,0),\"\")","v":""},null,null,null,null,{"$f":"IF(C16=\"\",0,IF(SUMIFS($G$5:G16,$C$5:C16,C16)-SUMIFS($I$4:I15,$C$4:C15,C16)<0,0,SUMIFS($G$5:G16,$C$5:C16,C16)-SUMIFS($I$4:I15,$C$4:C15,C16)))","v":0},null,{"$f":"IF(C16=\"\",0,IF(C16=$C$4,SUMIFS($I$4:I15,$C$4:C15,C15),SUMIFS($I$4:I15,$C$4:C15,C16)))","v":0},0,null,null,null,"رمز النشــاط الفرعي:",null,null,null,null,{"$f":"الواجهة!C9","v":"000"}]
[14,null,{"$f":"IFERROR(VLOOKUP(D17,Nomenclature!$B$2:$C$196,2,0),\"\")","v":""},null,null,null,null,{"$f":"IF(C17=\"\",0,IF(SUMIFS($G$5:G17,$C$5:C17,C17)-SUMIFS($I$4:I16,$C$4:C16,C17)<0,0,SUMIFS($G$5:G17,$C$5:C17,C17)-SUMIFS($I$4:I16,$C$4:C16,C17)))","v":0},null,{"$f":"IF(C17=\"\",0,IF(C17=$C$4,SUMIFS($I$4:I16,$C$4:C16,C16),SUMIFS($I$4:I16,$C$4:C16,C17)))","v":0},0,null,null,null,"رمز البرنـامج الفرعي:",null,null,null,null,{"$f":"الواجهة!C10","v":"02"}]
[15,null,{"$f":"IFERROR(VLOOKUP(D18,Nomenclature!$B$2:$C$196,2,0),\"\")","v":""},null,null,null,null,{"$f":"IF(C18=\"\",0,IF(SUMIFS($G$5:G18,$C$5:C18,C18)-SUMIFS($I$4:I17,$C$4:C17,C18)<0,0,SUMIFS($G$5:G18,$C$5:C18,C18)-SUMIFS($I$4:I17,$C$4:C17,C18)))","v":0},null,{"$f":"IF(C18=\"\",0,IF(C18=$C$4,SUMIFS($I$4:I17,$C$4:C17,C17),SUMIFS($I$4:I17,$C$4:C17,C18)))","v":0},0,null,null,null,null,null,null,null,null,null,null,null,null,null,null,null,null,null,null,null,null,null,null,null,null,null,null,null,null,null,null,null,null,"\n\n\n"]
[16,null,{"$f":"IFERROR(VLOOKUP(D19,Nomenclature!$B$2:$C$196,2,0),\"\")","v":""},null,null,null,null,{"$f":"IF(C19=\"\",0,IF(SUMIFS($G$5:G19,$C$5:C19,C19)-SUMIFS($I$4:I18,$C$4:C18,C19)<0,0,SUMIFS($G$5:G19,$C$5:C19,C19)-SUMIFS($I$4:I18,$C$4:C18,C19)))","v":0},null,{"$f":"IF(C19=\"\",0,IF(C19=$C$4,SUMIFS($I$4:I18,$C$4:C18,C18),SUMIFS($I$4:I18,$C$4:C18,C19)))","v":0},0]
[17,null,{"$f":"IFERROR(VLOOKUP(D20,Nomenclature!$B$2:$C$196,2,0),\"\")","v":""},null,null,null,null,{"$f":"IF(C20=\"\",0,IF(SUMIFS($G$5:G20,$C$5:C20,C20)-SUMIFS($I$4:I19,$C$4:C19,C20)<0,0,SUMIFS($G$5:G20,$C$5:C20,C20)-SUMIFS($I$4:I19,$C$4:C19,C20)))","v":0},null,{"$f":"IF(C20=\"\",0,IF(C20=$C$4,SUMIFS($I$4:I19,$C$4:C19,C19),SUMIFS($I$4:I19,$C$4:C19,C20)))","v":0},0,null,null,null,"العنوان:"]
[18,null,{"$f":"IFERROR(VLOOKUP(D21,Nomenclature!$B$2:$C$196,2,0),\"\")","v":""},null,null,null,null,{"$f":"IF(C21=\"\",0,IF(SUMIFS($G$5:G21,$C$5:C21,C21)-SUMIFS($I$4:I20,$C$4:C20,C21)<0,0,SUMIFS($G$5:G21,$C$5:C21,C21)-SUMIFS($I$4:I20,$C$4:C20,C21)))","v":0},null,{"$f":"IF(C21=\"\",0,IF(C21=$C$4,SUMIFS($I$4:I20,$C$4:C20,C20),SUMIFS($I$4:I20,$C$4:C20,C21)))","v":0},0,null,null,null,null,null,{"$f":"IF(C4<20000,\"X\",\"\")","v":"X"},null,"العنوان الأول:",null,null,null,"نفقات المستخدمين"]
[19,null,{"$f":"IFERROR(VLOOKUP(D22,Nomenclature!$B$2:$C$196,2,0),\"\")","v":""},null,null,null,null,{"$f":"IF(C22=\"\",0,IF(SUMIFS($G$5:G22,$C$5:C22,C22)-SUMIFS($I$4:I21,$C$4:C21,C22)<0,0,SUMIFS($G$5:G22,$C$5:C22,C22)-SUMIFS($I$4:I21,$C$4:C21,C22)))","v":0},null,{"$f":"IF(C22=\"\",0,IF(C22=$C$4,SUMIFS($I$4:I21,$C$4:C21,C21),SUMIFS($I$4:I21,$C$4:C21,C22)))","v":0},0,null,null,null,null,null,{"$f":"IF(AND(C4>19999,C4<40000),\"X\",\"\")","v":""},null,"العنوان الثاني:",null,null,null,"نفقات تسيير المصالح"]
[20,null,{"$f":"IFERROR(VLOOKUP(D23,Nomenclature!$B$2:$C$196,2,0),\"\")","v":""},null,null,null,null,{"$f":"IF(C23=\"\",0,IF(SUMIFS($G$5:G23,$C$5:C23,C23)-SUMIFS($I$4:I22,$C$4:C22,C23)<0,0,SUMIFS($G$5:G23,$C$5:C23,C23)-SUMIFS($I$4:I22,$C$4:C22,C23)))","v":0},null,{"$f":"IF(C23=\"\",0,IF(C23=$C$4,SUMIFS($I$4:I22,$C$4:C22,C22),SUMIFS($I$4:I22,$C$4:C22,C23)))","v":0},0,null,null,null,null,null,{"$f":"IF(AND(Q21=\"\",Q22=\"\"),\"X\",\"\")","v":""},null,"العنوان الرابع:",null,null,null,"نفقات التحويل"]
[21,null,{"$f":"IFERROR(VLOOKUP(D24,Nomenclature!$B$2:$C$196,2,0),\"\")","v":""},null,null,null,null,{"$f":"IF(C24=\"\",0,IF(SUMIFS($G$5:G24,$C$5:C24,C24)-SUMIFS($I$4:I23,$C$4:C23,C24)<0,0,SUMIFS($G$5:G24,$C$5:C24,C24)-SUMIFS($I$4:I23,$C$4:C23,C24)))","v":0},null,{"$f":"IF(C24=\"\",0,IF(C24=$C$4,SUMIFS($I$4:I23,$C$4:C23,C23),SUMIFS($I$4:I23,$C$4:C23,C24)))","v":0},0,null,null,null,null,null,null,{"$f":"IF(VLOOKUP(N1,A4:L203,12,0)=\"\",\"- - - - - - - - - - - - - - - - - - - - - - - - - - - - - - - - - - - - - - - - - - - - - - - / / / - - - - - - - - - - - - - - - - - - - - - - - - - - - - - - - - - - - - - - - - - - - - - - -\"& CHAR(10)&\"- - - - - - - - - - - - - - - - - - - - - - - - - - - - - - - - - - - - - - - - - - - - - - - / / / - - - - - - - - - - - - - - - - - - - - - - - - - - - - - - - - - - - - - - - - - - - - - - -\",VLOOKUP(N1,A4:L203,12,0))","v":"- - - - - - - - - - - - - - - - - - - - - - - - - - - - - - - - - - - - - - - - - - - - - - - / / / - - - - - - - - - - - - - - - - - - - - - - - - - - - - - - - - - - - - - - - - - - - - - - -\n- - - - - - - - - - - - - - - - - - - - - - - - - - - - - - - - - - - - - - - - - - - - - - - / / / - - - - - - - - - - - - - - - - - - - - - - - - - - - - - - - - - - - - - - - - - - - - - - -"}]
[22,null,{"$f":"IFERROR(VLOOKUP(D25,Nomenclature!$B$2:$C$196,2,0),\"\")","v":""},null,null,null,null,{"$f":"IF(C25=\"\",0,IF(SUMIFS($G$5:G25,$C$5:C25,C25)-SUMIFS($I$4:I24,$C$4:C24,C25)<0,0,SUMIFS($G$5:G25,$C$5:C25,C25)-SUMIFS($I$4:I24,$C$4:C24,C25)))","v":0},null,{"$f":"IF(C25=\"\",0,IF(C25=$C$4,SUMIFS($I$4:I24,$C$4:C24,C24),SUMIFS($I$4:I24,$C$4:C24,C25)))","v":0},0]
[23,null,{"$f":"IFERROR(VLOOKUP(D26,Nomenclature!$B$2:$C$196,2,0),\"\")","v":""},null,null,null,null,{"$f":"IF(C26=\"\",0,IF(SUMIFS($G$5:G26,$C$5:C26,C26)-SUMIFS($I$4:I25,$C$4:C25,C26)<0,0,SUMIFS($G$5:G26,$C$5:C26,C26)-SUMIFS($I$4:I25,$C$4:C25,C26)))","v":0},null,{"$f":"IF(C26=\"\",0,IF(C26=$C$4,SUMIFS($I$4:I25,$C$4:C25,C25),SUMIFS($I$4:I25,$C$4:C25,C26)))","v":0},0]
[24,null,{"$f":"IFERROR(VLOOKUP(D27,Nomenclature!$B$2:$C$196,2,0),\"\")","v":""},null,null,null,null,{"$f":"IF(C27=\"\",0,IF(SUMIFS($G$5:G27,$C$5:C27,C27)-SUMIFS($I$4:I26,$C$4:C26,C27)<0,0,SUMIFS($G$5:G27,$C$5:C27,C27)-SUMIFS($I$4:I26,$C$4:C26,C27)))","v":0},null,{"$f":"IF(C27=\"\",0,IF(C27=$C$4,SUMIFS($I$4:I26,$C$4:C26,C26),SUMIFS($I$4:I26,$C$4:C26,C27)))","v":0},0,null,null,null,"الصنف / الصنف الفرعي",null,null,null,null,null,null,null,"رخصة الالتزام\nالمفتوحة/المعدلة",null,null,null,"مجموع الالتزامات السابقة",null,null,null,"الرصيد\nالأولي",null,null,null,"الالتزام\nالمقترح",null,null,null,"الرصيد المتبقى"]
[25,null,{"$f":"IFERROR(VLOOKUP(D28,Nomenclature!$B$2:$C$196,2,0),\"\")","v":""},null,null,null,null,{"$f":"IF(C28=\"\",0,IF(SUMIFS($G$5:G28,$C$5:C28,C28)-SUMIFS($I$4:I27,$C$4:C27,C28)<0,0,SUMIFS($G$5:G28,$C$5:C28,C28)-SUMIFS($I$4:I27,$C$4:C27,C28)))","v":0},null,{"$f":"IF(C28=\"\",0,IF(C28=$C$4,SUMIFS($I$4:I27,$C$4:C27,C27),SUMIFS($I$4:I27,$C$4:C27,C28)))","v":0},0]
[26,null,{"$f":"IFERROR(VLOOKUP(D29,Nomenclature!$B$2:$C$196,2,0),\"\")","v":""},null,null,null,null,{"$f":"IF(C29=\"\",0,IF(SUMIFS($G$5:G29,$C$5:C29,C29)-SUMIFS($I$4:I28,$C$4:C28,C29)<0,0,SUMIFS($G$5:G29,$C$5:C29,C29)-SUMIFS($I$4:I28,$C$4:C28,C29)))","v":0},null,{"$f":"IF(C29=\"\",0,IF(C29=$C$4,SUMIFS($I$4:I28,$C$4:C28,C28),SUMIFS($I$4:I28,$C$4:C28,C29)))","v":0},0,null,null,null,"الصنف",null,null,null,{"$f":"C4","v":13000},null,null,null,{"$f":"SUM($F$4:INDIRECT(\"f\"&N1+3))","v":6500000},null,null,null,{"$f":"SUM($I$4:INDIRECT(\"i\"&N1+2))","v":0},null,null,null,{"$f":"W29-AA29","v":6500000},null,null,null,{"$f":"IF(S31=\"\",0,VLOOKUP(N1,A4:L103,9,0))","v":0},null,null,null,{"$f":"IF((AE29-AI29)<0,\"رصيد غير كاف\",AE29-AI29)","v":6500000}]
[27,null,{"$f":"IFERROR(VLOOKUP(D30,Nomenclature!$B$2:$C$196,2,0),\"\")","v":""},null,null,null,null,{"$f":"IF(C30=\"\",0,IF(SUMIFS($G$5:G30,$C$5:C30,C30)-SUMIFS($I$4:I29,$C$4:C29,C30)<0,0,SUMIFS($G$5:G30,$C$5:C30,C30)-SUMIFS($I$4:I29,$C$4:C29,C30)))","v":0},null,{"$f":"IF(C30=\"\",0,IF(C30=$C$4,SUMIFS($I$4:I29,$C$4:C29,C29),SUMIFS($I$4:I29,$C$4:C29,C30)))","v":0},0]
[28,null,{"$f":"IFERROR(VLOOKUP(D31,Nomenclature!$B$2:$C$196,2,0),\"\")","v":""},null,null,null,null,{"$f":"IF(C31=\"\",0,IF(SUMIFS($G$5:G31,$C$5:C31,C31)-SUMIFS($I$4:I30,$C$4:C30,C31)<0,0,SUMIFS($G$5:G31,$C$5:C31,C31)-SUMIFS($I$4:I30,$C$4:C30,C31)))","v":0},null,{"$f":"IF(C31=\"\",0,IF(C31=$C$4,SUMIFS($I$4:I30,$C$4:C30,C30),SUMIFS($I$4:I30,$C$4:C30,C31)))","v":0},0,null,null,null,"الصنف الفرعي",null,null,null,{"$f":"IF(IFERROR(VLOOKUP(N1,A4:L103,3,0),\"انتبه خطأ\")=S29,\"\",IFERROR(VLOOKUP(N1,A4:L103,3,0),\"انتبه خطأ\"))","v":""},null,null,null,{"$f":"IF(S31=\"\",\"\",VLOOKUP(N1,A4:L103,8,0))","v":""},null,null,null,{"$f":"IF(S31=\"\",\"\",VLOOKUP(N1,A4:L103,10,0))","v":""},null,null,null,{"$f":"IF(S31=\"\",\"\",W31-AA31)","v":""},null,null,null,{"$f":"IF(S31=\"\",\"\",VLOOKUP(N1,A4:L103,9,0))","v":""},null,null,null,{"$f":"IF(S31=\"\",\"\",IF((AE31-AI31)<0,\"رصيد غير كاف\",AE31-AI31))","v":""}]
[29,null,{"$f":"IFERROR(VLOOKUP(D32,Nomenclature!$B$2:$C$196,2,0),\"\")","v":""},null,null,null,null,{"$f":"IF(C32=\"\",0,IF(SUMIFS($G$5:G32,$C$5:C32,C32)-SUMIFS($I$4:I31,$C$4:C31,C32)<0,0,SUMIFS($G$5:G32,$C$5:C32,C32)-SUMIFS($I$4:I31,$C$4:C31,C32)))","v":0},null,{"$f":"IF(C32=\"\",0,IF(C32=$C$4,SUMIFS($I$4:I31,$C$4:C31,C31),SUMIFS($I$4:I31,$C$4:C31,C32)))","v":0},0]
[30,null,{"$f":"IFERROR(VLOOKUP(D33,Nomenclature!$B$2:$C$196,2,0),\"\")","v":""},null,null,null,null,{"$f":"IF(C33=\"\",0,IF(SUMIFS($G$5:G33,$C$5:C33,C33)-SUMIFS($I$4:I32,$C$4:C32,C33)<0,0,SUMIFS($G$5:G33,$C$5:C33,C33)-SUMIFS($I$4:I32,$C$4:C32,C33)))","v":0},null,{"$f":"IF(C33=\"\",0,IF(C33=$C$4,SUMIFS($I$4:I32,$C$4:C32,C32),SUMIFS($I$4:I32,$C$4:C32,C33)))","v":0},0]
[31,null,{"$f":"IFERROR(VLOOKUP(D34,Nomenclature!$B$2:$C$196,2,0),\"\")","v":""},null,null,null,null,{"$f":"IF(C34=\"\",0,IF(SUMIFS($G$5:G34,$C$5:C34,C34)-SUMIFS($I$4:I33,$C$4:C33,C34)<0,0,SUMIFS($G$5:G34,$C$5:C34,C34)-SUMIFS($I$4:I33,$C$4:C33,C34)))","v":0},null,{"$f":"IF(C34=\"\",0,IF(C34=$C$4,SUMIFS($I$4:I33,$C$4:C33,C33),SUMIFS($I$4:I33,$C$4:C33,C34)))","v":0},0,null,null,null,"موضوع الالتزام:"]
[32,null,{"$f":"IFERROR(VLOOKUP(D35,Nomenclature!$B$2:$C$196,2,0),\"\")","v":""},null,null,null,null,{"$f":"IF(C35=\"\",0,IF(SUMIFS($G$5:G35,$C$5:C35,C35)-SUMIFS($I$4:I34,$C$4:C34,C35)<0,0,SUMIFS($G$5:G35,$C$5:C35,C35)-SUMIFS($I$4:I34,$C$4:C34,C35)))","v":0},null,{"$f":"IF(C35=\"\",0,IF(C35=$C$4,SUMIFS($I$4:I34,$C$4:C34,C34),SUMIFS($I$4:I34,$C$4:C34,C35)))","v":0},0,null,null,null,{"$f":"IF(VLOOKUP(N1,A4:L203,5,0)=0,\"\",IFERROR(VLOOKUP(N1,A4:L203,5,0),\"انتبه خطأ\"))","v":"تكفل برخصة الالتزام المفتوحة لسنة 2023."}]
[33,null,{"$f":"IFERROR(VLOOKUP(D36,Nomenclature!$B$2:$C$196,2,0),\"\")","v":""},null,null,null,null,{"$f":"IF(C36=\"\",0,IF(SUMIFS($G$5:G36,$C$5:C36,C36)-SUMIFS($I$4:I35,$C$4:C35,C36)<0,0,SUMIFS($G$5:G36,$C$5:C36,C36)-SUMIFS($I$4:I35,$C$4:C35,C36)))","v":0},null,{"$f":"IF(C36=\"\",0,IF(C36=$C$4,SUMIFS($I$4:I35,$C$4:C35,C35),SUMIFS($I$4:I35,$C$4:C35,C36)))","v":0},0]
[34,null,{"$f":"IFERROR(VLOOKUP(D37,Nomenclature!$B$2:$C$196,2,0),\"\")","v":""},null,null,null,null,{"$f":"IF(C37=\"\",0,IF(SUMIFS($G$5:G37,$C$5:C37,C37)-SUMIFS($I$4:I36,$C$4:C36,C37)<0,0,SUMIFS($G$5:G37,$C$5:C37,C37)-SUMIFS($I$4:I36,$C$4:C36,C37)))","v":0},null,{"$f":"IF(C37=\"\",0,IF(C37=$C$4,SUMIFS($I$4:I36,$C$4:C36,C36),SUMIFS($I$4:I36,$C$4:C36,C37)))","v":0},0]
[35,null,{"$f":"IFERROR(VLOOKUP(D38,Nomenclature!$B$2:$C$196,2,0),\"\")","v":""},null,null,null,null,{"$f":"IF(C38=\"\",0,IF(SUMIFS($G$5:G38,$C$5:C38,C38)-SUMIFS($I$4:I37,$C$4:C37,C38)<0,0,SUMIFS($G$5:G38,$C$5:C38,C38)-SUMIFS($I$4:I37,$C$4:C37,C38)))","v":0},null,{"$f":"IF(C38=\"\",0,IF(C38=$C$4,SUMIFS($I$4:I37,$C$4:C37,C37),SUMIFS($I$4:I37,$C$4:C37,C38)))","v":0},0]
[36,null,{"$f":"IFERROR(VLOOKUP(D39,Nomenclature!$B$2:$C$196,2,0),\"\")","v":""},null,null,null,null,{"$f":"IF(C39=\"\",0,IF(SUMIFS($G$5:G39,$C$5:C39,C39)-SUMIFS($I$4:I38,$C$4:C38,C39)<0,0,SUMIFS($G$5:G39,$C$5:C39,C39)-SUMIFS($I$4:I38,$C$4:C38,C39)))","v":0},null,{"$f":"IF(C39=\"\",0,IF(C39=$C$4,SUMIFS($I$4:I38,$C$4:C38,C38),SUMIFS($I$4:I38,$C$4:C38,C39)))","v":0},0]
[37,null,{"$f":"IFERROR(VLOOKUP(D40,Nomenclature!$B$2:$C$196,2,0),\"\")","v":""},null,null,null,null,{"$f":"IF(C40=\"\",0,IF(SUMIFS($G$5:G40,$C$5:C40,C40)-SUMIFS($I$4:I39,$C$4:C39,C40)<0,0,SUMIFS($G$5:G40,$C$5:C40,C40)-SUMIFS($I$4:I39,$C$4:C39,C40)))","v":0},null,{"$f":"IF(C40=\"\",0,IF(C40=$C$4,SUMIFS($I$4:I39,$C$4:C39,C39),SUMIFS($I$4:I39,$C$4:C39,C40)))","v":0},0,null,null,null,"المبلغ بالحروف:",null,null,null,{"$f":"IFERROR(arretera(AI31),\"\")","v":""}]
[38,null,{"$f":"IFERROR(VLOOKUP(D41,Nomenclature!$B$2:$C$196,2,0),\"\")","v":""},null,null,null,null,{"$f":"IF(C41=\"\",0,IF(SUMIFS($G$5:G41,$C$5:C41,C41)-SUMIFS($I$4:I40,$C$4:C40,C41)<0,0,SUMIFS($G$5:G41,$C$5:C41,C41)-SUMIFS($I$4:I40,$C$4:C40,C41)))","v":0},null,{"$f":"IF(C41=\"\",0,IF(C41=$C$4,SUMIFS($I$4:I40,$C$4:C40,C40),SUMIFS($I$4:I40,$C$4:C40,C41)))","v":0},0]
[39,null,{"$f":"IFERROR(VLOOKUP(D42,Nomenclature!$B$2:$C$196,2,0),\"\")","v":""},null,null,null,null,{"$f":"IF(C42=\"\",0,IF(SUMIFS($G$5:G42,$C$5:C42,C42)-SUMIFS($I$4:I41,$C$4:C41,C42)<0,0,SUMIFS($G$5:G42,$C$5:C42,C42)-SUMIFS($I$4:I41,$C$4:C41,C42)))","v":0},null,{"$f":"IF(C42=\"\",0,IF(C42=$C$4,SUMIFS($I$4:I41,$C$4:C41,C41),SUMIFS($I$4:I41,$C$4:C41,C42)))","v":0},0]
[40,null,{"$f":"IFERROR(VLOOKUP(D43,Nomenclature!$B$2:$C$196,2,0),\"\")","v":""},null,null,null,null,{"$f":"IF(C43=\"\",0,IF(SUMIFS($G$5:G43,$C$5:C43,C43)-SUMIFS($I$4:I42,$C$4:C42,C43)<0,0,SUMIFS($G$5:G43,$C$5:C43,C43)-SUMIFS($I$4:I42,$C$4:C42,C43)))","v":0},null,{"$f":"IF(C43=\"\",0,IF(C43=$C$4,SUMIFS($I$4:I42,$C$4:C42,C42),SUMIFS($I$4:I42,$C$4:C42,C43)))","v":0},0,null,null,null,"إطار مخصص للمراقب الميزانياتي",null,null,null,null,null,null,null,null,null,null,null,null,null,"إطار مخصص للآمر بالصرف"]
[41,null,{"$f":"IFERROR(VLOOKUP(D44,Nomenclature!$B$2:$C$196,2,0),\"\")","v":""},null,null,null,null,{"$f":"IF(C44=\"\",0,IF(SUMIFS($G$5:G44,$C$5:C44,C44)-SUMIFS($I$4:I43,$C$4:C43,C44)<0,0,SUMIFS($G$5:G44,$C$5:C44,C44)-SUMIFS($I$4:I43,$C$4:C43,C44)))","v":0},null,{"$f":"IF(C44=\"\",0,IF(C44=$C$4,SUMIFS($I$4:I43,$C$4:C43,C43),SUMIFS($I$4:I43,$C$4:C43,C44)))","v":0},0]
[42,null,{"$f":"IFERROR(VLOOKUP(D45,Nomenclature!$B$2:$C$196,2,0),\"\")","v":""},null,null,null,null,{"$f":"IF(C45=\"\",0,IF(SUMIFS($G$5:G45,$C$5:C45,C45)-SUMIFS($I$4:I44,$C$4:C44,C45)<0,0,SUMIFS($G$5:G45,$C$5:C45,C45)-SUMIFS($I$4:I44,$C$4:C44,C45)))","v":0},null,{"$f":"IF(C45=\"\",0,IF(C45=$C$4,SUMIFS($I$4:I44,$C$4:C44,C44),SUMIFS($I$4:I44,$C$4:C44,C45)))","v":0},0,null,null,null,"رقم التأشيرة:",null,null,null,null,null,null,null,null,null,null,null,null,null,null,"ختم"]
[43,null,{"$f":"IFERROR(VLOOKUP(D46,Nomenclature!$B$2:$C$196,2,0),\"\")","v":""},null,null,null,null,{"$f":"IF(C46=\"\",0,IF(SUMIFS($G$5:G46,$C$5:C46,C46)-SUMIFS($I$4:I45,$C$4:C45,C46)<0,0,SUMIFS($G$5:G46,$C$5:C46,C46)-SUMIFS($I$4:I45,$C$4:C45,C46)))","v":0},null,{"$f":"IF(C46=\"\",0,IF(C46=$C$4,SUMIFS($I$4:I45,$C$4:C45,C45),SUMIFS($I$4:I45,$C$4:C45,C46)))","v":0},0]
[44,null,{"$f":"IFERROR(VLOOKUP(D47,Nomenclature!$B$2:$C$196,2,0),\"\")","v":""},null,null,null,null,{"$f":"IF(C47=\"\",0,IF(SUMIFS($G$5:G47,$C$5:C47,C47)-SUMIFS($I$4:I46,$C$4:C46,C47)<0,0,SUMIFS($G$5:G47,$C$5:C47,C47)-SUMIFS($I$4:I46,$C$4:C46,C47)))","v":0},null,{"$f":"IF(C47=\"\",0,IF(C47=$C$4,SUMIFS($I$4:I46,$C$4:C46,C46),SUMIFS($I$4:I46,$C$4:C46,C47)))","v":0},0,null,null,null,"تاريخ التأشيرة:"]
[45,null,{"$f":"IFERROR(VLOOKUP(D48,Nomenclature!$B$2:$C$196,2,0),\"\")","v":""},null,null,null,null,{"$f":"IF(C48=\"\",0,IF(SUMIFS($G$5:G48,$C$5:C48,C48)-SUMIFS($I$4:I47,$C$4:C47,C48)<0,0,SUMIFS($G$5:G48,$C$5:C48,C48)-SUMIFS($I$4:I47,$C$4:C47,C48)))","v":0},null,{"$f":"IF(C48=\"\",0,IF(C48=$C$4,SUMIFS($I$4:I47,$C$4:C47,C47),SUMIFS($I$4:I47,$C$4:C47,C48)))","v":0},0,null,null,null,null,null,null,null,null,null,null,null,null,null,null,null,null,null,null,"امضاء"]
[46,null,{"$f":"IFERROR(VLOOKUP(D49,Nomenclature!$B$2:$C$196,2,0),\"\")","v":""},null,null,null,null,{"$f":"IF(C49=\"\",0,IF(SUMIFS($G$5:G49,$C$5:C49,C49)-SUMIFS($I$4:I48,$C$4:C48,C49)<0,0,SUMIFS($G$5:G49,$C$5:C49,C49)-SUMIFS($I$4:I48,$C$4:C48,C49)))","v":0},null,{"$f":"IF(C49=\"\",0,IF(C49=$C$4,SUMIFS($I$4:I48,$C$4:C48,C48),SUMIFS($I$4:I48,$C$4:C48,C49)))","v":0},0]
[47,null,{"$f":"IFERROR(VLOOKUP(D50,Nomenclature!$B$2:$C$196,2,0),\"\")","v":""},null,null,null,null,{"$f":"IF(C50=\"\",0,IF(SUMIFS($G$5:G50,$C$5:C50,C50)-SUMIFS($I$4:I49,$C$4:C49,C50)<0,0,SUMIFS($G$5:G50,$C$5:C50,C50)-SUMIFS($I$4:I49,$C$4:C49,C50)))","v":0},null,{"$f":"IF(C50=\"\",0,IF(C50=$C$4,SUMIFS($I$4:I49,$C$4:C49,C49),SUMIFS($I$4:I49,$C$4:C49,C50)))","v":0},0]
[48,null,{"$f":"IFERROR(VLOOKUP(D51,Nomenclature!$B$2:$C$196,2,0),\"\")","v":""},null,null,null,null,{"$f":"IF(C51=\"\",0,IF(SUMIFS($G$5:G51,$C$5:C51,C51)-SUMIFS($I$4:I50,$C$4:C50,C51)<0,0,SUMIFS($G$5:G51,$C$5:C51,C51)-SUMIFS($I$4:I50,$C$4:C50,C51)))","v":0},null,{"$f":"IF(C51=\"\",0,IF(C51=$C$4,SUMIFS($I$4:I50,$C$4:C50,C50),SUMIFS($I$4:I50,$C$4:C50,C51)))","v":0},0,null,null,null,null,{"$f":"AD48","v":"امضاء"},null,null,null,null,null,null,null,{"$f":"AD45","v":"ختم"}]
[49,null,{"$f":"IFERROR(VLOOKUP(D52,Nomenclature!$B$2:$C$196,2,0),\"\")","v":""},null,null,null,null,{"$f":"IF(C52=\"\",0,IF(SUMIFS($G$5:G52,$C$5:C52,C52)-SUMIFS($I$4:I51,$C$4:C51,C52)<0,0,SUMIFS($G$5:G52,$C$5:C52,C52)-SUMIFS($I$4:I51,$C$4:C51,C52)))","v":0},null,{"$f":"IF(C52=\"\",0,IF(C52=$C$4,SUMIFS($I$4:I51,$C$4:C51,C51),SUMIFS($I$4:I51,$C$4:C51,C52)))","v":0},0]
[50,null,{"$f":"IFERROR(VLOOKUP(D53,Nomenclature!$B$2:$C$196,2,0),\"\")","v":""},null,null,null,null,{"$f":"IF(C53=\"\",0,IF(SUMIFS($G$5:G53,$C$5:C53,C53)-SUMIFS($I$4:I52,$C$4:C52,C53)<0,0,SUMIFS($G$5:G53,$C$5:C53,C53)-SUMIFS($I$4:I52,$C$4:C52,C53)))","v":0},null,{"$f":"IF(C53=\"\",0,IF(C53=$C$4,SUMIFS($I$4:I52,$C$4:C52,C52),SUMIFS($I$4:I52,$C$4:C52,C53)))","v":0},0]
[51,null,{"$f":"IFERROR(VLOOKUP(D54,Nomenclature!$B$2:$C$196,2,0),\"\")","v":""},null,null,null,null,{"$f":"IF(C54=\"\",0,IF(SUMIFS($G$5:G54,$C$5:C54,C54)-SUMIFS($I$4:I53,$C$4:C53,C54)<0,0,SUMIFS($G$5:G54,$C$5:C54,C54)-SUMIFS($I$4:I53,$C$4:C53,C54)))","v":0},null,{"$f":"IF(C54=\"\",0,IF(C54=$C$4,SUMIFS($I$4:I53,$C$4:C53,C53),SUMIFS($I$4:I53,$C$4:C53,C54)))","v":0},0]
[52,null,{"$f":"IFERROR(VLOOKUP(D55,Nomenclature!$B$2:$C$196,2,0),\"\")","v":""},null,null,null,null,{"$f":"IF(C55=\"\",0,IF(SUMIFS($G$5:G55,$C$5:C55,C55)-SUMIFS($I$4:I54,$C$4:C54,C55)<0,0,SUMIFS($G$5:G55,$C$5:C55,C55)-SUMIFS($I$4:I54,$C$4:C54,C55)))","v":0},null,{"$f":"IF(C55=\"\",0,IF(C55=$C$4,SUMIFS($I$4:I54,$C$4:C54,C54),SUMIFS($I$4:I54,$C$4:C54,C55)))","v":0},0]
[53,null,{"$f":"IFERROR(VLOOKUP(D56,Nomenclature!$B$2:$C$196,2,0),\"\")","v":""},null,null,null,null,{"$f":"IF(C56=\"\",0,IF(SUMIFS($G$5:G56,$C$5:C56,C56)-SUMIFS($I$4:I55,$C$4:C55,C56)<0,0,SUMIFS($G$5:G56,$C$5:C56,C56)-SUMIFS($I$4:I55,$C$4:C55,C56)))","v":0},null,{"$f":"IF(C56=\"\",0,IF(C56=$C$4,SUMIFS($I$4:I55,$C$4:C55,C55),SUMIFS($I$4:I55,$C$4:C55,C56)))","v":0},0]
[54,null,{"$f":"IFERROR(VLOOKUP(D57,Nomenclature!$B$2:$C$196,2,0),\"\")","v":""},null,null,null,null,{"$f":"IF(C57=\"\",0,IF(SUMIFS($G$5:G57,$C$5:C57,C57)-SUMIFS($I$4:I56,$C$4:C56,C57)<0,0,SUMIFS($G$5:G57,$C$5:C57,C57)-SUMIFS($I$4:I56,$C$4:C56,C57)))","v":0},null,{"$f":"IF(C57=\"\",0,IF(C57=$C$4,SUMIFS($I$4:I56,$C$4:C56,C56),SUMIFS($I$4:I56,$C$4:C56,C57)))","v":0},0]
[55,null,{"$f":"IFERROR(VLOOKUP(D58,Nomenclature!$B$2:$C$196,2,0),\"\")","v":""},null,null,null,null,{"$f":"IF(C58=\"\",0,IF(SUMIFS($G$5:G58,$C$5:C58,C58)-SUMIFS($I$4:I57,$C$4:C57,C58)<0,0,SUMIFS($G$5:G58,$C$5:C58,C58)-SUMIFS($I$4:I57,$C$4:C57,C58)))","v":0},null,{"$f":"IF(C58=\"\",0,IF(C58=$C$4,SUMIFS($I$4:I57,$C$4:C57,C57),SUMIFS($I$4:I57,$C$4:C57,C58)))","v":0},0]
[56,null,{"$f":"IFERROR(VLOOKUP(D59,Nomenclature!$B$2:$C$196,2,0),\"\")","v":""},null,null,null,null,{"$f":"IF(C59=\"\",0,IF(SUMIFS($G$5:G59,$C$5:C59,C59)-SUMIFS($I$4:I58,$C$4:C58,C59)<0,0,SUMIFS($G$5:G59,$C$5:C59,C59)-SUMIFS($I$4:I58,$C$4:C58,C59)))","v":0},null,{"$f":"IF(C59=\"\",0,IF(C59=$C$4,SUMIFS($I$4:I58,$C$4:C58,C58),SUMIFS($I$4:I58,$C$4:C58,C59)))","v":0},0]
[57,null,{"$f":"IFERROR(VLOOKUP(D60,Nomenclature!$B$2:$C$196,2,0),\"\")","v":""},null,null,null,null,{"$f":"IF(C60=\"\",0,IF(SUMIFS($G$5:G60,$C$5:C60,C60)-SUMIFS($I$4:I59,$C$4:C59,C60)<0,0,SUMIFS($G$5:G60,$C$5:C60,C60)-SUMIFS($I$4:I59,$C$4:C59,C60)))","v":0},null,{"$f":"IF(C60=\"\",0,IF(C60=$C$4,SUMIFS($I$4:I59,$C$4:C59,C59),SUMIFS($I$4:I59,$C$4:C59,C60)))","v":0},0]
[58,null,{"$f":"IFERROR(VLOOKUP(D61,Nomenclature!$B$2:$C$196,2,0),\"\")","v":""},null,null,null,null,{"$f":"IF(C61=\"\",0,IF(SUMIFS($G$5:G61,$C$5:C61,C61)-SUMIFS($I$4:I60,$C$4:C60,C61)<0,0,SUMIFS($G$5:G61,$C$5:C61,C61)-SUMIFS($I$4:I60,$C$4:C60,C61)))","v":0},null,{"$f":"IF(C61=\"\",0,IF(C61=$C$4,SUMIFS($I$4:I60,$C$4:C60,C60),SUMIFS($I$4:I60,$C$4:C60,C61)))","v":0},0]
[59,null,{"$f":"IFERROR(VLOOKUP(D62,Nomenclature!$B$2:$C$196,2,0),\"\")","v":""},null,null,null,null,{"$f":"IF(C62=\"\",0,IF(SUMIFS($G$5:G62,$C$5:C62,C62)-SUMIFS($I$4:I61,$C$4:C61,C62)<0,0,SUMIFS($G$5:G62,$C$5:C62,C62)-SUMIFS($I$4:I61,$C$4:C61,C62)))","v":0},null,{"$f":"IF(C62=\"\",0,IF(C62=$C$4,SUMIFS($I$4:I61,$C$4:C61,C61),SUMIFS($I$4:I61,$C$4:C61,C62)))","v":0},0]
[60,null,{"$f":"IFERROR(VLOOKUP(D63,Nomenclature!$B$2:$C$196,2,0),\"\")","v":""},null,null,null,null,{"$f":"IF(C63=\"\",0,IF(SUMIFS($G$5:G63,$C$5:C63,C63)-SUMIFS($I$4:I62,$C$4:C62,C63)<0,0,SUMIFS($G$5:G63,$C$5:C63,C63)-SUMIFS($I$4:I62,$C$4:C62,C63)))","v":0},null,{"$f":"IF(C63=\"\",0,IF(C63=$C$4,SUMIFS($I$4:I62,$C$4:C62,C62),SUMIFS($I$4:I62,$C$4:C62,C63)))","v":0},0]
[61,null,{"$f":"IFERROR(VLOOKUP(D64,Nomenclature!$B$2:$C$196,2,0),\"\")","v":""},null,null,null,null,{"$f":"IF(C64=\"\",0,IF(SUMIFS($G$5:G64,$C$5:C64,C64)-SUMIFS($I$4:I63,$C$4:C63,C64)<0,0,SUMIFS($G$5:G64,$C$5:C64,C64)-SUMIFS($I$4:I63,$C$4:C63,C64)))","v":0},null,{"$f":"IF(C64=\"\",0,IF(C64=$C$4,SUMIFS($I$4:I63,$C$4:C63,C63),SUMIFS($I$4:I63,$C$4:C63,C64)))","v":0},0]
[62,null,{"$f":"IFERROR(VLOOKUP(D65,Nomenclature!$B$2:$C$196,2,0),\"\")","v":""},null,null,null,null,{"$f":"IF(C65=\"\",0,IF(SUMIFS($G$5:G65,$C$5:C65,C65)-SUMIFS($I$4:I64,$C$4:C64,C65)<0,0,SUMIFS($G$5:G65,$C$5:C65,C65)-SUMIFS($I$4:I64,$C$4:C64,C65)))","v":0},null,{"$f":"IF(C65=\"\",0,IF(C65=$C$4,SUMIFS($I$4:I64,$C$4:C64,C64),SUMIFS($I$4:I64,$C$4:C64,C65)))","v":0},0]
[63,null,{"$f":"IFERROR(VLOOKUP(D66,Nomenclature!$B$2:$C$196,2,0),\"\")","v":""},null,null,null,null,{"$f":"IF(C66=\"\",0,IF(SUMIFS($G$5:G66,$C$5:C66,C66)-SUMIFS($I$4:I65,$C$4:C65,C66)<0,0,SUMIFS($G$5:G66,$C$5:C66,C66)-SUMIFS($I$4:I65,$C$4:C65,C66)))","v":0},null,{"$f":"IF(C66=\"\",0,IF(C66=$C$4,SUMIFS($I$4:I65,$C$4:C65,C65),SUMIFS($I$4:I65,$C$4:C65,C66)))","v":0},0]
[64,null,{"$f":"IFERROR(VLOOKUP(D67,Nomenclature!$B$2:$C$196,2,0),\"\")","v":""},null,null,null,null,{"$f":"IF(C67=\"\",0,IF(SUMIFS($G$5:G67,$C$5:C67,C67)-SUMIFS($I$4:I66,$C$4:C66,C67)<0,0,SUMIFS($G$5:G67,$C$5:C67,C67)-SUMIFS($I$4:I66,$C$4:C66,C67)))","v":0},null,{"$f":"IF(C67=\"\",0,IF(C67=$C$4,SUMIFS($I$4:I66,$C$4:C66,C66),SUMIFS($I$4:I66,$C$4:C66,C67)))","v":0},0]
[65,null,{"$f":"IFERROR(VLOOKUP(D68,Nomenclature!$B$2:$C$196,2,0),\"\")","v":""},null,null,null,null,{"$f":"IF(C68=\"\",0,IF(SUMIFS($G$5:G68,$C$5:C68,C68)-SUMIFS($I$4:I67,$C$4:C67,C68)<0,0,SUMIFS($G$5:G68,$C$5:C68,C68)-SUMIFS($I$4:I67,$C$4:C67,C68)))","v":0},null,{"$f":"IF(C68=\"\",0,IF(C68=$C$4,SUMIFS($I$4:I67,$C$4:C67,C67),SUMIFS($I$4:I67,$C$4:C67,C68)))","v":0},{"$f":"IF(C68=\"\",0,H68-I68)","v":0}]
[66,null,{"$f":"IFERROR(VLOOKUP(D69,Nomenclature!$B$2:$C$196,2,0),\"\")","v":""},null,null,null,null,{"$f":"IF(C69=\"\",0,IF(SUMIFS($G$5:G69,$C$5:C69,C69)-SUMIFS($I$4:I68,$C$4:C68,C69)<0,0,SUMIFS($G$5:G69,$C$5:C69,C69)-SUMIFS($I$4:I68,$C$4:C68,C69)))","v":0},null,{"$f":"IF(C69=\"\",0,IF(C69=$C$4,SUMIFS($I$4:I68,$C$4:C68,C68),SUMIFS($I$4:I68,$C$4:C68,C69)))","v":0},0]
[67,null,{"$f":"IFERROR(VLOOKUP(D70,Nomenclature!$B$2:$C$196,2,0),\"\")","v":""},null,null,null,null,{"$f":"IF(C70=\"\",0,IF(SUMIFS($G$5:G70,$C$5:C70,C70)-SUMIFS($I$4:I69,$C$4:C69,C70)<0,0,SUMIFS($G$5:G70,$C$5:C70,C70)-SUMIFS($I$4:I69,$C$4:C69,C70)))","v":0},null,{"$f":"IF(C70=\"\",0,IF(C70=$C$4,SUMIFS($I$4:I69,$C$4:C69,C69),SUMIFS($I$4:I69,$C$4:C69,C70)))","v":0},0]
[68,null,{"$f":"IFERROR(VLOOKUP(D71,Nomenclature!$B$2:$C$196,2,0),\"\")","v":""},null,null,null,null,{"$f":"IF(C71=\"\",0,IF(SUMIFS($G$5:G71,$C$5:C71,C71)-SUMIFS($I$4:I70,$C$4:C70,C71)<0,0,SUMIFS($G$5:G71,$C$5:C71,C71)-SUMIFS($I$4:I70,$C$4:C70,C71)))","v":0},null,{"$f":"IF(C71=\"\",0,IF(C71=$C$4,SUMIFS($I$4:I70,$C$4:C70,C70),SUMIFS($I$4:I70,$C$4:C70,C71)))","v":0},0]
[69,null,{"$f":"IFERROR(VLOOKUP(D72,Nomenclature!$B$2:$C$196,2,0),\"\")","v":""},null,null,null,null,{"$f":"IF(C72=\"\",0,IF(SUMIFS($G$5:G72,$C$5:C72,C72)-SUMIFS($I$4:I71,$C$4:C71,C72)<0,0,SUMIFS($G$5:G72,$C$5:C72,C72)-SUMIFS($I$4:I71,$C$4:C71,C72)))","v":0},null,{"$f":"IF(C72=\"\",0,IF(C72=$C$4,SUMIFS($I$4:I71,$C$4:C71,C71),SUMIFS($I$4:I71,$C$4:C71,C72)))","v":0},0]
[70,null,{"$f":"IFERROR(VLOOKUP(D73,Nomenclature!$B$2:$C$196,2,0),\"\")","v":""},null,null,null,null,{"$f":"IF(C73=\"\",0,IF(SUMIFS($G$5:G73,$C$5:C73,C73)-SUMIFS($I$4:I72,$C$4:C72,C73)<0,0,SUMIFS($G$5:G73,$C$5:C73,C73)-SUMIFS($I$4:I72,$C$4:C72,C73)))","v":0},null,{"$f":"IF(C73=\"\",0,IF(C73=$C$4,SUMIFS($I$4:I72,$C$4:C72,C72),SUMIFS($I$4:I72,$C$4:C72,C73)))","v":0},0]
[71,null,{"$f":"IFERROR(VLOOKUP(D74,Nomenclature!$B$2:$C$196,2,0),\"\")","v":""},null,null,null,null,{"$f":"IF(C74=\"\",0,IF(SUMIFS($G$5:G74,$C$5:C74,C74)-SUMIFS($I$4:I73,$C$4:C73,C74)<0,0,SUMIFS($G$5:G74,$C$5:C74,C74)-SUMIFS($I$4:I73,$C$4:C73,C74)))","v":0},null,{"$f":"IF(C74=\"\",0,IF(C74=$C$4,SUMIFS($I$4:I73,$C$4:C73,C73),SUMIFS($I$4:I73,$C$4:C73,C74)))","v":0},0]
[72,null,{"$f":"IFERROR(VLOOKUP(D75,Nomenclature!$B$2:$C$196,2,0),\"\")","v":""},null,null,null,null,{"$f":"IF(C75=\"\",0,IF(SUMIFS($G$5:G75,$C$5:C75,C75)-SUMIFS($I$4:I74,$C$4:C74,C75)<0,0,SUMIFS($G$5:G75,$C$5:C75,C75)-SUMIFS($I$4:I74,$C$4:C74,C75)))","v":0},null,{"$f":"IF(C75=\"\",0,IF(C75=$C$4,SUMIFS($I$4:I74,$C$4:C74,C74),SUMIFS($I$4:I74,$C$4:C74,C75)))","v":0},0]
[73,null,{"$f":"IFERROR(VLOOKUP(D76,Nomenclature!$B$2:$C$196,2,0),\"\")","v":""},null,null,null,null,{"$f":"IF(C76=\"\",0,IF(SUMIFS($G$5:G76,$C$5:C76,C76)-SUMIFS($I$4:I75,$C$4:C75,C76)<0,0,SUMIFS($G$5:G76,$C$5:C76,C76)-SUMIFS($I$4:I75,$C$4:C75,C76)))","v":0},null,{"$f":"IF(C76=\"\",0,IF(C76=$C$4,SUMIFS($I$4:I75,$C$4:C75,C75),SUMIFS($I$4:I75,$C$4:C75,C76)))","v":0},0]
[74,null,{"$f":"IFERROR(VLOOKUP(D77,Nomenclature!$B$2:$C$196,2,0),\"\")","v":""},null,null,null,null,{"$f":"IF(C77=\"\",0,IF(SUMIFS($G$5:G77,$C$5:C77,C77)-SUMIFS($I$4:I76,$C$4:C76,C77)<0,0,SUMIFS($G$5:G77,$C$5:C77,C77)-SUMIFS($I$4:I76,$C$4:C76,C77)))","v":0},null,{"$f":"IF(C77=\"\",0,IF(C77=$C$4,SUMIFS($I$4:I76,$C$4:C76,C76),SUMIFS($I$4:I76,$C$4:C76,C77)))","v":0},0]
[75,null,{"$f":"IFERROR(VLOOKUP(D78,Nomenclature!$B$2:$C$196,2,0),\"\")","v":""},null,null,null,null,{"$f":"IF(C78=\"\",0,IF(SUMIFS($G$5:G78,$C$5:C78,C78)-SUMIFS($I$4:I77,$C$4:C77,C78)<0,0,SUMIFS($G$5:G78,$C$5:C78,C78)-SUMIFS($I$4:I77,$C$4:C77,C78)))","v":0},null,{"$f":"IF(C78=\"\",0,IF(C78=$C$4,SUMIFS($I$4:I77,$C$4:C77,C77),SUMIFS($I$4:I77,$C$4:C77,C78)))","v":0},0]
[76,null,{"$f":"IFERROR(VLOOKUP(D79,Nomenclature!$B$2:$C$196,2,0),\"\")","v":""},null,null,null,null,{"$f":"IF(C79=\"\",0,IF(SUMIFS($G$5:G79,$C$5:C79,C79)-SUMIFS($I$4:I78,$C$4:C78,C79)<0,0,SUMIFS($G$5:G79,$C$5:C79,C79)-SUMIFS($I$4:I78,$C$4:C78,C79)))","v":0},null,{"$f":"IF(C79=\"\",0,IF(C79=$C$4,SUMIFS($I$4:I78,$C$4:C78,C78),SUMIFS($I$4:I78,$C$4:C78,C79)))","v":0},0]
[77,null,{"$f":"IFERROR(VLOOKUP(D80,Nomenclature!$B$2:$C$196,2,0),\"\")","v":""},null,null,null,null,{"$f":"IF(C80=\"\",0,IF(SUMIFS($G$5:G80,$C$5:C80,C80)-SUMIFS($I$4:I79,$C$4:C79,C80)<0,0,SUMIFS($G$5:G80,$C$5:C80,C80)-SUMIFS($I$4:I79,$C$4:C79,C80)))","v":0},null,{"$f":"IF(C80=\"\",0,IF(C80=$C$4,SUMIFS($I$4:I79,$C$4:C79,C79),SUMIFS($I$4:I79,$C$4:C79,C80)))","v":0},0]
[78,null,{"$f":"IFERROR(VLOOKUP(D81,Nomenclature!$B$2:$C$196,2,0),\"\")","v":""},null,null,null,null,{"$f":"IF(C81=\"\",0,IF(SUMIFS($G$5:G81,$C$5:C81,C81)-SUMIFS($I$4:I80,$C$4:C80,C81)<0,0,SUMIFS($G$5:G81,$C$5:C81,C81)-SUMIFS($I$4:I80,$C$4:C80,C81)))","v":0},null,{"$f":"IF(C81=\"\",0,IF(C81=$C$4,SUMIFS($I$4:I80,$C$4:C80,C80),SUMIFS($I$4:I80,$C$4:C80,C81)))","v":0},0]
[79,null,{"$f":"IFERROR(VLOOKUP(D82,Nomenclature!$B$2:$C$196,2,0),\"\")","v":""},null,null,null,null,{"$f":"IF(C82=\"\",0,IF(SUMIFS($G$5:G82,$C$5:C82,C82)-SUMIFS($I$4:I81,$C$4:C81,C82)<0,0,SUMIFS($G$5:G82,$C$5:C82,C82)-SUMIFS($I$4:I81,$C$4:C81,C82)))","v":0},null,{"$f":"IF(C82=\"\",0,IF(C82=$C$4,SUMIFS($I$4:I81,$C$4:C81,C81),SUMIFS($I$4:I81,$C$4:C81,C82)))","v":0},0]
[80,null,{"$f":"IFERROR(VLOOKUP(D83,Nomenclature!$B$2:$C$196,2,0),\"\")","v":""},null,null,null,null,{"$f":"IF(C83=\"\",0,IF(SUMIFS($G$5:G83,$C$5:C83,C83)-SUMIFS($I$4:I82,$C$4:C82,C83)<0,0,SUMIFS($G$5:G83,$C$5:C83,C83)-SUMIFS($I$4:I82,$C$4:C82,C83)))","v":0},null,{"$f":"IF(C83=\"\",0,IF(C83=$C$4,SUMIFS($I$4:I82,$C$4:C82,C82),SUMIFS($I$4:I82,$C$4:C82,C83)))","v":0},0]
[81,null,{"$f":"IFERROR(VLOOKUP(D84,Nomenclature!$B$2:$C$196,2,0),\"\")","v":""},null,null,null,null,{"$f":"IF(C84=\"\",0,IF(SUMIFS($G$5:G84,$C$5:C84,C84)-SUMIFS($I$4:I83,$C$4:C83,C84)<0,0,SUMIFS($G$5:G84,$C$5:C84,C84)-SUMIFS($I$4:I83,$C$4:C83,C84)))","v":0},null,{"$f":"IF(C84=\"\",0,IF(C84=$C$4,SUMIFS($I$4:I83,$C$4:C83,C83),SUMIFS($I$4:I83,$C$4:C83,C84)))","v":0},0]
[82,null,{"$f":"IFERROR(VLOOKUP(D85,Nomenclature!$B$2:$C$196,2,0),\"\")","v":""},null,null,null,null,{"$f":"IF(C85=\"\",0,IF(SUMIFS($G$5:G85,$C$5:C85,C85)-SUMIFS($I$4:I84,$C$4:C84,C85)<0,0,SUMIFS($G$5:G85,$C$5:C85,C85)-SUMIFS($I$4:I84,$C$4:C84,C85)))","v":0},null,{"$f":"IF(C85=\"\",0,IF(C85=$C$4,SUMIFS($I$4:I84,$C$4:C84,C84),SUMIFS($I$4:I84,$C$4:C84,C85)))","v":0},0]
[83,null,{"$f":"IFERROR(VLOOKUP(D86,Nomenclature!$B$2:$C$196,2,0),\"\")","v":""},null,null,null,null,{"$f":"IF(C86=\"\",0,IF(SUMIFS($G$5:G86,$C$5:C86,C86)-SUMIFS($I$4:I85,$C$4:C85,C86)<0,0,SUMIFS($G$5:G86,$C$5:C86,C86)-SUMIFS($I$4:I85,$C$4:C85,C86)))","v":0},null,{"$f":"IF(C86=\"\",0,IF(C86=$C$4,SUMIFS($I$4:I85,$C$4:C85,C85),SUMIFS($I$4:I85,$C$4:C85,C86)))","v":0},0]
[84,null,{"$f":"IFERROR(VLOOKUP(D87,Nomenclature!$B$2:$C$196,2,0),\"\")","v":""},null,null,null,null,{"$f":"IF(C87=\"\",0,IF(SUMIFS($G$5:G87,$C$5:C87,C87)-SUMIFS($I$4:I86,$C$4:C86,C87)<0,0,SUMIFS($G$5:G87,$C$5:C87,C87)-SUMIFS($I$4:I86,$C$4:C86,C87)))","v":0},null,{"$f":"IF(C87=\"\",0,IF(C87=$C$4,SUMIFS($I$4:I86,$C$4:C86,C86),SUMIFS($I$4:I86,$C$4:C86,C87)))","v":0},0]
[85,null,{"$f":"IFERROR(VLOOKUP(D88,Nomenclature!$B$2:$C$196,2,0),\"\")","v":""},null,null,null,null,{"$f":"IF(C88=\"\",0,IF(SUMIFS($G$5:G88,$C$5:C88,C88)-SUMIFS($I$4:I87,$C$4:C87,C88)<0,0,SUMIFS($G$5:G88,$C$5:C88,C88)-SUMIFS($I$4:I87,$C$4:C87,C88)))","v":0},null,{"$f":"IF(C88=\"\",0,IF(C88=$C$4,SUMIFS($I$4:I87,$C$4:C87,C87),SUMIFS($I$4:I87,$C$4:C87,C88)))","v":0},0]
[86,null,{"$f":"IFERROR(VLOOKUP(D89,Nomenclature!$B$2:$C$196,2,0),\"\")","v":""},null,null,null,null,{"$f":"IF(C89=\"\",0,IF(SUMIFS($G$5:G89,$C$5:C89,C89)-SUMIFS($I$4:I88,$C$4:C88,C89)<0,0,SUMIFS($G$5:G89,$C$5:C89,C89)-SUMIFS($I$4:I88,$C$4:C88,C89)))","v":0},null,{"$f":"IF(C89=\"\",0,IF(C89=$C$4,SUMIFS($I$4:I88,$C$4:C88,C88),SUMIFS($I$4:I88,$C$4:C88,C89)))","v":0},0]
[87,null,{"$f":"IFERROR(VLOOKUP(D90,Nomenclature!$B$2:$C$196,2,0),\"\")","v":""},null,null,null,null,{"$f":"IF(C90=\"\",0,IF(SUMIFS($G$5:G90,$C$5:C90,C90)-SUMIFS($I$4:I89,$C$4:C89,C90)<0,0,SUMIFS($G$5:G90,$C$5:C90,C90)-SUMIFS($I$4:I89,$C$4:C89,C90)))","v":0},null,{"$f":"IF(C90=\"\",0,IF(C90=$C$4,SUMIFS($I$4:I89,$C$4:C89,C89),SUMIFS($I$4:I89,$C$4:C89,C90)))","v":0},0]
[88,null,{"$f":"IFERROR(VLOOKUP(D91,Nomenclature!$B$2:$C$196,2,0),\"\")","v":""},null,null,null,null,{"$f":"IF(C91=\"\",0,IF(SUMIFS($G$5:G91,$C$5:C91,C91)-SUMIFS($I$4:I90,$C$4:C90,C91)<0,0,SUMIFS($G$5:G91,$C$5:C91,C91)-SUMIFS($I$4:I90,$C$4:C90,C91)))","v":0},null,{"$f":"IF(C91=\"\",0,IF(C91=$C$4,SUMIFS($I$4:I90,$C$4:C90,C90),SUMIFS($I$4:I90,$C$4:C90,C91)))","v":0},0]
[89,null,{"$f":"IFERROR(VLOOKUP(D92,Nomenclature!$B$2:$C$196,2,0),\"\")","v":""},null,null,null,null,{"$f":"IF(C92=\"\",0,IF(SUMIFS($G$5:G92,$C$5:C92,C92)-SUMIFS($I$4:I91,$C$4:C91,C92)<0,0,SUMIFS($G$5:G92,$C$5:C92,C92)-SUMIFS($I$4:I91,$C$4:C91,C92)))","v":0},null,{"$f":"IF(C92=\"\",0,IF(C92=$C$4,SUMIFS($I$4:I91,$C$4:C91,C91),SUMIFS($I$4:I91,$C$4:C91,C92)))","v":0},0]
[90,null,{"$f":"IFERROR(VLOOKUP(D93,Nomenclature!$B$2:$C$196,2,0),\"\")","v":""},null,null,null,null,{"$f":"IF(C93=\"\",0,IF(SUMIFS($G$5:G93,$C$5:C93,C93)-SUMIFS($I$4:I92,$C$4:C92,C93)<0,0,SUMIFS($G$5:G93,$C$5:C93,C93)-SUMIFS($I$4:I92,$C$4:C92,C93)))","v":0},null,{"$f":"IF(C93=\"\",0,IF(C93=$C$4,SUMIFS($I$4:I92,$C$4:C92,C92),SUMIFS($I$4:I92,$C$4:C92,C93)))","v":0},0]
[91,null,{"$f":"IFERROR(VLOOKUP(D94,Nomenclature!$B$2:$C$196,2,0),\"\")","v":""},null,null,null,null,{"$f":"IF(C94=\"\",0,IF(SUMIFS($G$5:G94,$C$5:C94,C94)-SUMIFS($I$4:I93,$C$4:C93,C94)<0,0,SUMIFS($G$5:G94,$C$5:C94,C94)-SUMIFS($I$4:I93,$C$4:C93,C94)))","v":0},null,{"$f":"IF(C94=\"\",0,IF(C94=$C$4,SUMIFS($I$4:I93,$C$4:C93,C93),SUMIFS($I$4:I93,$C$4:C93,C94)))","v":0},0]
[92,null,{"$f":"IFERROR(VLOOKUP(D95,Nomenclature!$B$2:$C$196,2,0),\"\")","v":""},null,null,null,null,{"$f":"IF(C95=\"\",0,IF(SUMIFS($G$5:G95,$C$5:C95,C95)-SUMIFS($I$4:I94,$C$4:C94,C95)<0,0,SUMIFS($G$5:G95,$C$5:C95,C95)-SUMIFS($I$4:I94,$C$4:C94,C95)))","v":0},null,{"$f":"IF(C95=\"\",0,IF(C95=$C$4,SUMIFS($I$4:I94,$C$4:C94,C94),SUMIFS($I$4:I94,$C$4:C94,C95)))","v":0},0]
[93,null,{"$f":"IFERROR(VLOOKUP(D96,Nomenclature!$B$2:$C$196,2,0),\"\")","v":""},null,null,null,null,{"$f":"IF(C96=\"\",0,IF(SUMIFS($G$5:G96,$C$5:C96,C96)-SUMIFS($I$4:I95,$C$4:C95,C96)<0,0,SUMIFS($G$5:G96,$C$5:C96,C96)-SUMIFS($I$4:I95,$C$4:C95,C96)))","v":0},null,{"$f":"IF(C96=\"\",0,IF(C96=$C$4,SUMIFS($I$4:I95,$C$4:C95,C95),SUMIFS($I$4:I95,$C$4:C95,C96)))","v":0},0]
[94,null,{"$f":"IFERROR(VLOOKUP(D97,Nomenclature!$B$2:$C$196,2,0),\"\")","v":""},null,null,null,null,{"$f":"IF(C97=\"\",0,IF(SUMIFS($G$5:G97,$C$5:C97,C97)-SUMIFS($I$4:I96,$C$4:C96,C97)<0,0,SUMIFS($G$5:G97,$C$5:C97,C97)-SUMIFS($I$4:I96,$C$4:C96,C97)))","v":0},null,{"$f":"IF(C97=\"\",0,IF(C97=$C$4,SUMIFS($I$4:I96,$C$4:C96,C96),SUMIFS($I$4:I96,$C$4:C96,C97)))","v":0},0]
[95,null,{"$f":"IFERROR(VLOOKUP(D98,Nomenclature!$B$2:$C$196,2,0),\"\")","v":""},null,null,null,null,{"$f":"IF(C98=\"\",0,IF(SUMIFS($G$5:G98,$C$5:C98,C98)-SUMIFS($I$4:I97,$C$4:C97,C98)<0,0,SUMIFS($G$5:G98,$C$5:C98,C98)-SUMIFS($I$4:I97,$C$4:C97,C98)))","v":0},null,{"$f":"IF(C98=\"\",0,IF(C98=$C$4,SUMIFS($I$4:I97,$C$4:C97,C97),SUMIFS($I$4:I97,$C$4:C97,C98)))","v":0},0]
[96,null,{"$f":"IFERROR(VLOOKUP(D99,Nomenclature!$B$2:$C$196,2,0),\"\")","v":""},null,null,null,null,{"$f":"IF(C99=\"\",0,IF(SUMIFS($G$5:G99,$C$5:C99,C99)-SUMIFS($I$4:I98,$C$4:C98,C99)<0,0,SUMIFS($G$5:G99,$C$5:C99,C99)-SUMIFS($I$4:I98,$C$4:C98,C99)))","v":0},null,{"$f":"IF(C99=\"\",0,IF(C99=$C$4,SUMIFS($I$4:I98,$C$4:C98,C98),SUMIFS($I$4:I98,$C$4:C98,C99)))","v":0},0]
[97,null,{"$f":"IFERROR(VLOOKUP(D100,Nomenclature!$B$2:$C$196,2,0),\"\")","v":""},null,null,null,null,{"$f":"IF(C100=\"\",0,IF(SUMIFS($G$5:G100,$C$5:C100,C100)-SUMIFS($I$4:I99,$C$4:C99,C100)<0,0,SUMIFS($G$5:G100,$C$5:C100,C100)-SUMIFS($I$4:I99,$C$4:C99,C100)))","v":0},null,{"$f":"IF(C100=\"\",0,IF(C100=$C$4,SUMIFS($I$4:I99,$C$4:C99,C99),SUMIFS($I$4:I99,$C$4:C99,C100)))","v":0},0]
[98,null,{"$f":"IFERROR(VLOOKUP(D101,Nomenclature!$B$2:$C$196,2,0),\"\")","v":""},null,null,null,null,{"$f":"IF(C101=\"\",0,IF(SUMIFS($G$5:G101,$C$5:C101,C101)-SUMIFS($I$4:I100,$C$4:C100,C101)<0,0,SUMIFS($G$5:G101,$C$5:C101,C101)-SUMIFS($I$4:I100,$C$4:C100,C101)))","v":0},null,{"$f":"IF(C101=\"\",0,IF(C101=$C$4,SUMIFS($I$4:I100,$C$4:C100,C100),SUMIFS($I$4:I100,$C$4:C100,C101)))","v":0},0]
[99,null,{"$f":"IFERROR(VLOOKUP(D102,Nomenclature!$B$2:$C$196,2,0),\"\")","v":""},null,null,null,null,{"$f":"IF(C102=\"\",0,IF(SUMIFS($G$5:G102,$C$5:C102,C102)-SUMIFS($I$4:I101,$C$4:C101,C102)<0,0,SUMIFS($G$5:G102,$C$5:C102,C102)-SUMIFS($I$4:I101,$C$4:C101,C102)))","v":0},null,{"$f":"IF(C102=\"\",0,IF(C102=$C$4,SUMIFS($I$4:I101,$C$4:C101,C101),SUMIFS($I$4:I101,$C$4:C101,C102)))","v":0},0]
[100,null,{"$f":"IFERROR(VLOOKUP(D103,Nomenclature!$B$2:$C$196,2,0),\"\")","v":""},null,null,null,null,{"$f":"IF(C103=\"\",0,IF(SUMIFS($G$5:G103,$C$5:C103,C103)-SUMIFS($I$4:I102,$C$4:C102,C103)<0,0,SUMIFS($G$5:G103,$C$5:C103,C103)-SUMIFS($I$4:I102,$C$4:C102,C103)))","v":0},null,{"$f":"IF(C103=\"\",0,IF(C103=$C$4,SUMIFS($I$4:I102,$C$4:C102,C102),SUMIFS($I$4:I102,$C$4:C102,C103)))","v":0},0]
[101,null,{"$f":"IFERROR(VLOOKUP(D104,Nomenclature!$B$2:$C$196,2,0),\"\")","v":""},null,null,null,null,{"$f":"IF(C104=\"\",0,IF(SUMIFS($G$5:G104,$C$5:C104,C104)-SUMIFS($I$4:I103,$C$4:C103,C104)<0,0,SUMIFS($G$5:G104,$C$5:C104,C104)-SUMIFS($I$4:I103,$C$4:C103,C104)))","v":0},null,{"$f":"IF(C104=\"\",0,IF(C104=$C$4,SUMIFS($I$4:I103,$C$4:C103,C103),SUMIFS($I$4:I103,$C$4:C103,C104)))","v":0},0]
[102,null,{"$f":"IFERROR(VLOOKUP(D105,Nomenclature!$B$2:$C$196,2,0),\"\")","v":""},null,null,null,null,{"$f":"IF(C105=\"\",0,IF(SUMIFS($G$5:G105,$C$5:C105,C105)-SUMIFS($I$4:I104,$C$4:C104,C105)<0,0,SUMIFS($G$5:G105,$C$5:C105,C105)-SUMIFS($I$4:I104,$C$4:C104,C105)))","v":0},null,{"$f":"IF(C105=\"\",0,IF(C105=$C$4,SUMIFS($I$4:I104,$C$4:C104,C104),SUMIFS($I$4:I104,$C$4:C104,C105)))","v":0},0]
[103,null,{"$f":"IFERROR(VLOOKUP(D106,Nomenclature!$B$2:$C$196,2,0),\"\")","v":""},null,null,null,null,{"$f":"IF(C106=\"\",0,IF(SUMIFS($G$5:G106,$C$5:C106,C106)-SUMIFS($I$4:I105,$C$4:C105,C106)<0,0,SUMIFS($G$5:G106,$C$5:C106,C106)-SUMIFS($I$4:I105,$C$4:C105,C106)))","v":0},null,{"$f":"IF(C106=\"\",0,IF(C106=$C$4,SUMIFS($I$4:I105,$C$4:C105,C105),SUMIFS($I$4:I105,$C$4:C105,C106)))","v":0},0]
[104,null,{"$f":"IFERROR(VLOOKUP(D107,Nomenclature!$B$2:$C$196,2,0),\"\")","v":""},null,null,null,null,{"$f":"IF(C107=\"\",0,IF(SUMIFS($G$5:G107,$C$5:C107,C107)-SUMIFS($I$4:I106,$C$4:C106,C107)<0,0,SUMIFS($G$5:G107,$C$5:C107,C107)-SUMIFS($I$4:I106,$C$4:C106,C107)))","v":0},null,{"$f":"IF(C107=\"\",0,IF(C107=$C$4,SUMIFS($I$4:I106,$C$4:C106,C106),SUMIFS($I$4:I106,$C$4:C106,C107)))","v":0},0]
[105,null,{"$f":"IFERROR(VLOOKUP(D108,Nomenclature!$B$2:$C$196,2,0),\"\")","v":""},null,null,null,null,{"$f":"IF(C108=\"\",0,IF(SUMIFS($G$5:G108,$C$5:C108,C108)-SUMIFS($I$4:I107,$C$4:C107,C108)<0,0,SUMIFS($G$5:G108,$C$5:C108,C108)-SUMIFS($I$4:I107,$C$4:C107,C108)))","v":0},null,{"$f":"IF(C108=\"\",0,IF(C108=$C$4,SUMIFS($I$4:I107,$C$4:C107,C107),SUMIFS($I$4:I107,$C$4:C107,C108)))","v":0},0]
[106,null,{"$f":"IFERROR(VLOOKUP(D109,Nomenclature!$B$2:$C$196,2,0),\"\")","v":""},null,null,null,null,{"$f":"IF(C109=\"\",0,IF(SUMIFS($G$5:G109,$C$5:C109,C109)-SUMIFS($I$4:I108,$C$4:C108,C109)<0,0,SUMIFS($G$5:G109,$C$5:C109,C109)-SUMIFS($I$4:I108,$C$4:C108,C109)))","v":0},null,{"$f":"IF(C109=\"\",0,IF(C109=$C$4,SUMIFS($I$4:I108,$C$4:C108,C108),SUMIFS($I$4:I108,$C$4:C108,C109)))","v":0},0]
[107,null,{"$f":"IFERROR(VLOOKUP(D110,Nomenclature!$B$2:$C$196,2,0),\"\")","v":""},null,null,null,null,{"$f":"IF(C110=\"\",0,IF(SUMIFS($G$5:G110,$C$5:C110,C110)-SUMIFS($I$4:I109,$C$4:C109,C110)<0,0,SUMIFS($G$5:G110,$C$5:C110,C110)-SUMIFS($I$4:I109,$C$4:C109,C110)))","v":0},null,{"$f":"IF(C110=\"\",0,IF(C110=$C$4,SUMIFS($I$4:I109,$C$4:C109,C109),SUMIFS($I$4:I109,$C$4:C109,C110)))","v":0},0]
[108,null,{"$f":"IFERROR(VLOOKUP(D111,Nomenclature!$B$2:$C$196,2,0),\"\")","v":""},null,null,null,null,{"$f":"IF(C111=\"\",0,IF(SUMIFS($G$5:G111,$C$5:C111,C111)-SUMIFS($I$4:I110,$C$4:C110,C111)<0,0,SUMIFS($G$5:G111,$C$5:C111,C111)-SUMIFS($I$4:I110,$C$4:C110,C111)))","v":0},null,{"$f":"IF(C111=\"\",0,IF(C111=$C$4,SUMIFS($I$4:I110,$C$4:C110,C110),SUMIFS($I$4:I110,$C$4:C110,C111)))","v":0},0]
[109,null,{"$f":"IFERROR(VLOOKUP(D112,Nomenclature!$B$2:$C$196,2,0),\"\")","v":""},null,null,null,null,{"$f":"IF(C112=\"\",0,IF(SUMIFS($G$5:G112,$C$5:C112,C112)-SUMIFS($I$4:I111,$C$4:C111,C112)<0,0,SUMIFS($G$5:G112,$C$5:C112,C112)-SUMIFS($I$4:I111,$C$4:C111,C112)))","v":0},null,{"$f":"IF(C112=\"\",0,IF(C112=$C$4,SUMIFS($I$4:I111,$C$4:C111,C111),SUMIFS($I$4:I111,$C$4:C111,C112)))","v":0},0]
[110,null,{"$f":"IFERROR(VLOOKUP(D113,Nomenclature!$B$2:$C$196,2,0),\"\")","v":""},null,null,null,null,{"$f":"IF(C113=\"\",0,IF(SUMIFS($G$5:G113,$C$5:C113,C113)-SUMIFS($I$4:I112,$C$4:C112,C113)<0,0,SUMIFS($G$5:G113,$C$5:C113,C113)-SUMIFS($I$4:I112,$C$4:C112,C113)))","v":0},null,{"$f":"IF(C113=\"\",0,IF(C113=$C$4,SUMIFS($I$4:I112,$C$4:C112,C112),SUMIFS($I$4:I112,$C$4:C112,C113)))","v":0},0]
[111,null,{"$f":"IFERROR(VLOOKUP(D114,Nomenclature!$B$2:$C$196,2,0),\"\")","v":""},null,null,null,null,{"$f":"IF(C114=\"\",0,IF(SUMIFS($G$5:G114,$C$5:C114,C114)-SUMIFS($I$4:I113,$C$4:C113,C114)<0,0,SUMIFS($G$5:G114,$C$5:C114,C114)-SUMIFS($I$4:I113,$C$4:C113,C114)))","v":0},null,{"$f":"IF(C114=\"\",0,IF(C114=$C$4,SUMIFS($I$4:I113,$C$4:C113,C113),SUMIFS($I$4:I113,$C$4:C113,C114)))","v":0},0]
[112,null,{"$f":"IFERROR(VLOOKUP(D115,Nomenclature!$B$2:$C$196,2,0),\"\")","v":""},null,null,null,null,{"$f":"IF(C115=\"\",0,IF(SUMIFS($G$5:G115,$C$5:C115,C115)-SUMIFS($I$4:I114,$C$4:C114,C115)<0,0,SUMIFS($G$5:G115,$C$5:C115,C115)-SUMIFS($I$4:I114,$C$4:C114,C115)))","v":0},null,{"$f":"IF(C115=\"\",0,IF(C115=$C$4,SUMIFS($I$4:I114,$C$4:C114,C114),SUMIFS($I$4:I114,$C$4:C114,C115)))","v":0},0]
[113,null,{"$f":"IFERROR(VLOOKUP(D116,Nomenclature!$B$2:$C$196,2,0),\"\")","v":""},null,null,null,null,{"$f":"IF(C116=\"\",0,IF(SUMIFS($G$5:G116,$C$5:C116,C116)-SUMIFS($I$4:I115,$C$4:C115,C116)<0,0,SUMIFS($G$5:G116,$C$5:C116,C116)-SUMIFS($I$4:I115,$C$4:C115,C116)))","v":0},null,{"$f":"IF(C116=\"\",0,IF(C116=$C$4,SUMIFS($I$4:I115,$C$4:C115,C115),SUMIFS($I$4:I115,$C$4:C115,C116)))","v":0},0]
[114,null,{"$f":"IFERROR(VLOOKUP(D117,Nomenclature!$B$2:$C$196,2,0),\"\")","v":""},null,null,null,null,{"$f":"IF(C117=\"\",0,IF(SUMIFS($G$5:G117,$C$5:C117,C117)-SUMIFS($I$4:I116,$C$4:C116,C117)<0,0,SUMIFS($G$5:G117,$C$5:C117,C117)-SUMIFS($I$4:I116,$C$4:C116,C117)))","v":0},null,{"$f":"IF(C117=\"\",0,IF(C117=$C$4,SUMIFS($I$4:I116,$C$4:C116,C116),SUMIFS($I$4:I116,$C$4:C116,C117)))","v":0},0]
[115,null,{"$f":"IFERROR(VLOOKUP(D118,Nomenclature!$B$2:$C$196,2,0),\"\")","v":""},null,null,null,null,{"$f":"IF(C118=\"\",0,IF(SUMIFS($G$5:G118,$C$5:C118,C118)-SUMIFS($I$4:I117,$C$4:C117,C118)<0,0,SUMIFS($G$5:G118,$C$5:C118,C118)-SUMIFS($I$4:I117,$C$4:C117,C118)))","v":0},null,{"$f":"IF(C118=\"\",0,IF(C118=$C$4,SUMIFS($I$4:I117,$C$4:C117,C117),SUMIFS($I$4:I117,$C$4:C117,C118)))","v":0},0]
[116,null,{"$f":"IFERROR(VLOOKUP(D119,Nomenclature!$B$2:$C$196,2,0),\"\")","v":""},null,null,null,null,{"$f":"IF(C119=\"\",0,IF(SUMIFS($G$5:G119,$C$5:C119,C119)-SUMIFS($I$4:I118,$C$4:C118,C119)<0,0,SUMIFS($G$5:G119,$C$5:C119,C119)-SUMIFS($I$4:I118,$C$4:C118,C119)))","v":0},null,{"$f":"IF(C119=\"\",0,IF(C119=$C$4,SUMIFS($I$4:I118,$C$4:C118,C118),SUMIFS($I$4:I118,$C$4:C118,C119)))","v":0},0]
[117,null,{"$f":"IFERROR(VLOOKUP(D120,Nomenclature!$B$2:$C$196,2,0),\"\")","v":""},null,null,null,null,{"$f":"IF(C120=\"\",0,IF(SUMIFS($G$5:G120,$C$5:C120,C120)-SUMIFS($I$4:I119,$C$4:C119,C120)<0,0,SUMIFS($G$5:G120,$C$5:C120,C120)-SUMIFS($I$4:I119,$C$4:C119,C120)))","v":0},null,{"$f":"IF(C120=\"\",0,IF(C120=$C$4,SUMIFS($I$4:I119,$C$4:C119,C119),SUMIFS($I$4:I119,$C$4:C119,C120)))","v":0},0]
[118,null,{"$f":"IFERROR(VLOOKUP(D121,Nomenclature!$B$2:$C$196,2,0),\"\")","v":""},null,null,null,null,{"$f":"IF(C121=\"\",0,IF(SUMIFS($G$5:G121,$C$5:C121,C121)-SUMIFS($I$4:I120,$C$4:C120,C121)<0,0,SUMIFS($G$5:G121,$C$5:C121,C121)-SUMIFS($I$4:I120,$C$4:C120,C121)))","v":0},null,{"$f":"IF(C121=\"\",0,IF(C121=$C$4,SUMIFS($I$4:I120,$C$4:C120,C120),SUMIFS($I$4:I120,$C$4:C120,C121)))","v":0},0]
[119,null,{"$f":"IFERROR(VLOOKUP(D122,Nomenclature!$B$2:$C$196,2,0),\"\")","v":""},null,null,null,null,{"$f":"IF(C122=\"\",0,IF(SUMIFS($G$5:G122,$C$5:C122,C122)-SUMIFS($I$4:I121,$C$4:C121,C122)<0,0,SUMIFS($G$5:G122,$C$5:C122,C122)-SUMIFS($I$4:I121,$C$4:C121,C122)))","v":0},null,{"$f":"IF(C122=\"\",0,IF(C122=$C$4,SUMIFS($I$4:I121,$C$4:C121,C121),SUMIFS($I$4:I121,$C$4:C121,C122)))","v":0},0]
[120,null,{"$f":"IFERROR(VLOOKUP(D123,Nomenclature!$B$2:$C$196,2,0),\"\")","v":""},null,null,null,null,{"$f":"IF(C123=\"\",0,IF(SUMIFS($G$5:G123,$C$5:C123,C123)-SUMIFS($I$4:I122,$C$4:C122,C123)<0,0,SUMIFS($G$5:G123,$C$5:C123,C123)-SUMIFS($I$4:I122,$C$4:C122,C123)))","v":0},null,{"$f":"IF(C123=\"\",0,IF(C123=$C$4,SUMIFS($I$4:I122,$C$4:C122,C122),SUMIFS($I$4:I122,$C$4:C122,C123)))","v":0},0]
[121,null,{"$f":"IFERROR(VLOOKUP(D124,Nomenclature!$B$2:$C$196,2,0),\"\")","v":""},null,null,null,null,{"$f":"IF(C124=\"\",0,IF(SUMIFS($G$5:G124,$C$5:C124,C124)-SUMIFS($I$4:I123,$C$4:C123,C124)<0,0,SUMIFS($G$5:G124,$C$5:C124,C124)-SUMIFS($I$4:I123,$C$4:C123,C124)))","v":0},null,{"$f":"IF(C124=\"\",0,IF(C124=$C$4,SUMIFS($I$4:I123,$C$4:C123,C123),SUMIFS($I$4:I123,$C$4:C123,C124)))","v":0},0]
[122,null,{"$f":"IFERROR(VLOOKUP(D125,Nomenclature!$B$2:$C$196,2,0),\"\")","v":""},null,null,null,null,{"$f":"IF(C125=\"\",0,IF(SUMIFS($G$5:G125,$C$5:C125,C125)-SUMIFS($I$4:I124,$C$4:C124,C125)<0,0,SUMIFS($G$5:G125,$C$5:C125,C125)-SUMIFS($I$4:I124,$C$4:C124,C125)))","v":0},null,{"$f":"IF(C125=\"\",0,IF(C125=$C$4,SUMIFS($I$4:I124,$C$4:C124,C124),SUMIFS($I$4:I124,$C$4:C124,C125)))","v":0},0]
[123,null,{"$f":"IFERROR(VLOOKUP(D126,Nomenclature!$B$2:$C$196,2,0),\"\")","v":""},null,null,null,null,{"$f":"IF(C126=\"\",0,IF(SUMIFS($G$5:G126,$C$5:C126,C126)-SUMIFS($I$4:I125,$C$4:C125,C126)<0,0,SUMIFS($G$5:G126,$C$5:C126,C126)-SUMIFS($I$4:I125,$C$4:C125,C126)))","v":0},null,{"$f":"IF(C126=\"\",0,IF(C126=$C$4,SUMIFS($I$4:I125,$C$4:C125,C125),SUMIFS($I$4:I125,$C$4:C125,C126)))","v":0},0]
[124,null,{"$f":"IFERROR(VLOOKUP(D127,Nomenclature!$B$2:$C$196,2,0),\"\")","v":""},null,null,null,null,{"$f":"IF(C127=\"\",0,IF(SUMIFS($G$5:G127,$C$5:C127,C127)-SUMIFS($I$4:I126,$C$4:C126,C127)<0,0,SUMIFS($G$5:G127,$C$5:C127,C127)-SUMIFS($I$4:I126,$C$4:C126,C127)))","v":0},null,{"$f":"IF(C127=\"\",0,IF(C127=$C$4,SUMIFS($I$4:I126,$C$4:C126,C126),SUMIFS($I$4:I126,$C$4:C126,C127)))","v":0},0]
[125,null,{"$f":"IFERROR(VLOOKUP(D128,Nomenclature!$B$2:$C$196,2,0),\"\")","v":""},null,null,null,null,{"$f":"IF(C128=\"\",0,IF(SUMIFS($G$5:G128,$C$5:C128,C128)-SUMIFS($I$4:I127,$C$4:C127,C128)<0,0,SUMIFS($G$5:G128,$C$5:C128,C128)-SUMIFS($I$4:I127,$C$4:C127,C128)))","v":0},null,{"$f":"IF(C128=\"\",0,IF(C128=$C$4,SUMIFS($I$4:I127,$C$4:C127,C127),SUMIFS($I$4:I127,$C$4:C127,C128)))","v":0},0]
[126,null,{"$f":"IFERROR(VLOOKUP(D129,Nomenclature!$B$2:$C$196,2,0),\"\")","v":""},null,null,null,null,{"$f":"IF(C129=\"\",0,IF(SUMIFS($G$5:G129,$C$5:C129,C129)-SUMIFS($I$4:I128,$C$4:C128,C129)<0,0,SUMIFS($G$5:G129,$C$5:C129,C129)-SUMIFS($I$4:I128,$C$4:C128,C129)))","v":0},null,{"$f":"IF(C129=\"\",0,IF(C129=$C$4,SUMIFS($I$4:I128,$C$4:C128,C128),SUMIFS($I$4:I128,$C$4:C128,C129)))","v":0},0]
[127,null,{"$f":"IFERROR(VLOOKUP(D130,Nomenclature!$B$2:$C$196,2,0),\"\")","v":""},null,null,null,null,{"$f":"IF(C130=\"\",0,IF(SUMIFS($G$5:G130,$C$5:C130,C130)-SUMIFS($I$4:I129,$C$4:C129,C130)<0,0,SUMIFS($G$5:G130,$C$5:C130,C130)-SUMIFS($I$4:I129,$C$4:C129,C130)))","v":0},null,{"$f":"IF(C130=\"\",0,IF(C130=$C$4,SUMIFS($I$4:I129,$C$4:C129,C129),SUMIFS($I$4:I129,$C$4:C129,C130)))","v":0},0]
[128,null,{"$f":"IFERROR(VLOOKUP(D131,Nomenclature!$B$2:$C$196,2,0),\"\")","v":""},null,null,null,null,{"$f":"IF(C131=\"\",0,IF(SUMIFS($G$5:G131,$C$5:C131,C131)-SUMIFS($I$4:I130,$C$4:C130,C131)<0,0,SUMIFS($G$5:G131,$C$5:C131,C131)-SUMIFS($I$4:I130,$C$4:C130,C131)))","v":0},null,{"$f":"IF(C131=\"\",0,IF(C131=$C$4,SUMIFS($I$4:I130,$C$4:C130,C130),SUMIFS($I$4:I130,$C$4:C130,C131)))","v":0},0]
[129,null,{"$f":"IFERROR(VLOOKUP(D132,Nomenclature!$B$2:$C$196,2,0),\"\")","v":""},null,null,null,null,{"$f":"IF(C132=\"\",0,IF(SUMIFS($G$5:G132,$C$5:C132,C132)-SUMIFS($I$4:I131,$C$4:C131,C132)<0,0,SUMIFS($G$5:G132,$C$5:C132,C132)-SUMIFS($I$4:I131,$C$4:C131,C132)))","v":0},null,{"$f":"IF(C132=\"\",0,IF(C132=$C$4,SUMIFS($I$4:I131,$C$4:C131,C131),SUMIFS($I$4:I131,$C$4:C131,C132)))","v":0},{"$f":"IF(C132=\"\",0,H132-I132)","v":0}]
[130,null,{"$f":"IFERROR(VLOOKUP(D133,Nomenclature!$B$2:$C$196,2,0),\"\")","v":""},null,null,null,null,{"$f":"IF(C133=\"\",0,IF(SUMIFS($G$5:G133,$C$5:C133,C133)-SUMIFS($I$4:I132,$C$4:C132,C133)<0,0,SUMIFS($G$5:G133,$C$5:C133,C133)-SUMIFS($I$4:I132,$C$4:C132,C133)))","v":0},null,{"$f":"IF(C133=\"\",0,IF(C133=$C$4,SUMIFS($I$4:I132,$C$4:C132,C132),SUMIFS($I$4:I132,$C$4:C132,C133)))","v":0},0]
[131,null,{"$f":"IFERROR(VLOOKUP(D134,Nomenclature!$B$2:$C$196,2,0),\"\")","v":""},null,null,null,null,{"$f":"IF(C134=\"\",0,IF(SUMIFS($G$5:G134,$C$5:C134,C134)-SUMIFS($I$4:I133,$C$4:C133,C134)<0,0,SUMIFS($G$5:G134,$C$5:C134,C134)-SUMIFS($I$4:I133,$C$4:C133,C134)))","v":0},null,{"$f":"IF(C134=\"\",0,IF(C134=$C$4,SUMIFS($I$4:I133,$C$4:C133,C133),SUMIFS($I$4:I133,$C$4:C133,C134)))","v":0},0]
[132,null,{"$f":"IFERROR(VLOOKUP(D135,Nomenclature!$B$2:$C$196,2,0),\"\")","v":""},null,null,null,null,{"$f":"IF(C135=\"\",0,IF(SUMIFS($G$5:G135,$C$5:C135,C135)-SUMIFS($I$4:I134,$C$4:C134,C135)<0,0,SUMIFS($G$5:G135,$C$5:C135,C135)-SUMIFS($I$4:I134,$C$4:C134,C135)))","v":0},null,{"$f":"IF(C135=\"\",0,IF(C135=$C$4,SUMIFS($I$4:I134,$C$4:C134,C134),SUMIFS($I$4:I134,$C$4:C134,C135)))","v":0},0]
[133,null,{"$f":"IFERROR(VLOOKUP(D136,Nomenclature!$B$2:$C$196,2,0),\"\")","v":""},null,null,null,null,{"$f":"IF(C136=\"\",0,IF(SUMIFS($G$5:G136,$C$5:C136,C136)-SUMIFS($I$4:I135,$C$4:C135,C136)<0,0,SUMIFS($G$5:G136,$C$5:C136,C136)-SUMIFS($I$4:I135,$C$4:C135,C136)))","v":0},null,{"$f":"IF(C136=\"\",0,IF(C136=$C$4,SUMIFS($I$4:I135,$C$4:C135,C135),SUMIFS($I$4:I135,$C$4:C135,C136)))","v":0},0]
[134,null,{"$f":"IFERROR(VLOOKUP(D137,Nomenclature!$B$2:$C$196,2,0),\"\")","v":""},null,null,null,null,{"$f":"IF(C137=\"\",0,IF(SUMIFS($G$5:G137,$C$5:C137,C137)-SUMIFS($I$4:I136,$C$4:C136,C137)<0,0,SUMIFS($G$5:G137,$C$5:C137,C137)-SUMIFS($I$4:I136,$C$4:C136,C137)))","v":0},null,{"$f":"IF(C137=\"\",0,IF(C137=$C$4,SUMIFS($I$4:I136,$C$4:C136,C136),SUMIFS($I$4:I136,$C$4:C136,C137)))","v":0},0]
[135,null,{"$f":"IFERROR(VLOOKUP(D138,Nomenclature!$B$2:$C$196,2,0),\"\")","v":""},null,null,null,null,{"$f":"IF(C138=\"\",0,IF(SUMIFS($G$5:G138,$C$5:C138,C138)-SUMIFS($I$4:I137,$C$4:C137,C138)<0,0,SUMIFS($G$5:G138,$C$5:C138,C138)-SUMIFS($I$4:I137,$C$4:C137,C138)))","v":0},null,{"$f":"IF(C138=\"\",0,IF(C138=$C$4,SUMIFS($I$4:I137,$C$4:C137,C137),SUMIFS($I$4:I137,$C$4:C137,C138)))","v":0},0]
[136,null,{"$f":"IFERROR(VLOOKUP(D139,Nomenclature!$B$2:$C$196,2,0),\"\")","v":""},null,null,null,null,{"$f":"IF(C139=\"\",0,IF(SUMIFS($G$5:G139,$C$5:C139,C139)-SUMIFS($I$4:I138,$C$4:C138,C139)<0,0,SUMIFS($G$5:G139,$C$5:C139,C139)-SUMIFS($I$4:I138,$C$4:C138,C139)))","v":0},null,{"$f":"IF(C139=\"\",0,IF(C139=$C$4,SUMIFS($I$4:I138,$C$4:C138,C138),SUMIFS($I$4:I138,$C$4:C138,C139)))","v":0},0]
[137,null,{"$f":"IFERROR(VLOOKUP(D140,Nomenclature!$B$2:$C$196,2,0),\"\")","v":""},null,null,null,null,{"$f":"IF(C140=\"\",0,IF(SUMIFS($G$5:G140,$C$5:C140,C140)-SUMIFS($I$4:I139,$C$4:C139,C140)<0,0,SUMIFS($G$5:G140,$C$5:C140,C140)-SUMIFS($I$4:I139,$C$4:C139,C140)))","v":0},null,{"$f":"IF(C140=\"\",0,IF(C140=$C$4,SUMIFS($I$4:I139,$C$4:C139,C139),SUMIFS($I$4:I139,$C$4:C139,C140)))","v":0},0]
[138,null,{"$f":"IFERROR(VLOOKUP(D141,Nomenclature!$B$2:$C$196,2,0),\"\")","v":""},null,null,null,null,{"$f":"IF(C141=\"\",0,IF(SUMIFS($G$5:G141,$C$5:C141,C141)-SUMIFS($I$4:I140,$C$4:C140,C141)<0,0,SUMIFS($G$5:G141,$C$5:C141,C141)-SUMIFS($I$4:I140,$C$4:C140,C141)))","v":0},null,{"$f":"IF(C141=\"\",0,IF(C141=$C$4,SUMIFS($I$4:I140,$C$4:C140,C140),SUMIFS($I$4:I140,$C$4:C140,C141)))","v":0},0]
[139,null,{"$f":"IFERROR(VLOOKUP(D142,Nomenclature!$B$2:$C$196,2,0),\"\")","v":""},null,null,null,null,{"$f":"IF(C142=\"\",0,IF(SUMIFS($G$5:G142,$C$5:C142,C142)-SUMIFS($I$4:I141,$C$4:C141,C142)<0,0,SUMIFS($G$5:G142,$C$5:C142,C142)-SUMIFS($I$4:I141,$C$4:C141,C142)))","v":0},null,{"$f":"IF(C142=\"\",0,IF(C142=$C$4,SUMIFS($I$4:I141,$C$4:C141,C141),SUMIFS($I$4:I141,$C$4:C141,C142)))","v":0},0]
[140,null,{"$f":"IFERROR(VLOOKUP(D143,Nomenclature!$B$2:$C$196,2,0),\"\")","v":""},null,null,null,null,{"$f":"IF(C143=\"\",0,IF(SUMIFS($G$5:G143,$C$5:C143,C143)-SUMIFS($I$4:I142,$C$4:C142,C143)<0,0,SUMIFS($G$5:G143,$C$5:C143,C143)-SUMIFS($I$4:I142,$C$4:C142,C143)))","v":0},null,{"$f":"IF(C143=\"\",0,IF(C143=$C$4,SUMIFS($I$4:I142,$C$4:C142,C142),SUMIFS($I$4:I142,$C$4:C142,C143)))","v":0},0]
[141,null,{"$f":"IFERROR(VLOOKUP(D144,Nomenclature!$B$2:$C$196,2,0),\"\")","v":""},null,null,null,null,{"$f":"IF(C144=\"\",0,IF(SUMIFS($G$5:G144,$C$5:C144,C144)-SUMIFS($I$4:I143,$C$4:C143,C144)<0,0,SUMIFS($G$5:G144,$C$5:C144,C144)-SUMIFS($I$4:I143,$C$4:C143,C144)))","v":0},null,{"$f":"IF(C144=\"\",0,IF(C144=$C$4,SUMIFS($I$4:I143,$C$4:C143,C143),SUMIFS($I$4:I143,$C$4:C143,C144)))","v":0},0]
[142,null,{"$f":"IFERROR(VLOOKUP(D145,Nomenclature!$B$2:$C$196,2,0),\"\")","v":""},null,null,null,null,{"$f":"IF(C145=\"\",0,IF(SUMIFS($G$5:G145,$C$5:C145,C145)-SUMIFS($I$4:I144,$C$4:C144,C145)<0,0,SUMIFS($G$5:G145,$C$5:C145,C145)-SUMIFS($I$4:I144,$C$4:C144,C145)))","v":0},null,{"$f":"IF(C145=\"\",0,IF(C145=$C$4,SUMIFS($I$4:I144,$C$4:C144,C144),SUMIFS($I$4:I144,$C$4:C144,C145)))","v":0},0]
[143,null,{"$f":"IFERROR(VLOOKUP(D146,Nomenclature!$B$2:$C$196,2,0),\"\")","v":""},null,null,null,null,{"$f":"IF(C146=\"\",0,IF(SUMIFS($G$5:G146,$C$5:C146,C146)-SUMIFS($I$4:I145,$C$4:C145,C146)<0,0,SUMIFS($G$5:G146,$C$5:C146,C146)-SUMIFS($I$4:I145,$C$4:C145,C146)))","v":0},null,{"$f":"IF(C146=\"\",0,IF(C146=$C$4,SUMIFS($I$4:I145,$C$4:C145,C145),SUMIFS($I$4:I145,$C$4:C145,C146)))","v":0},0]
[144,null,{"$f":"IFERROR(VLOOKUP(D147,Nomenclature!$B$2:$C$196,2,0),\"\")","v":""},null,null,null,null,{"$f":"IF(C147=\"\",0,IF(SUMIFS($G$5:G147,$C$5:C147,C147)-SUMIFS($I$4:I146,$C$4:C146,C147)<0,0,SUMIFS($G$5:G147,$C$5:C147,C147)-SUMIFS($I$4:I146,$C$4:C146,C147)))","v":0},null,{"$f":"IF(C147=\"\",0,IF(C147=$C$4,SUMIFS($I$4:I146,$C$4:C146,C146),SUMIFS($I$4:I146,$C$4:C146,C147)))","v":0},0]
[145,null,{"$f":"IFERROR(VLOOKUP(D148,Nomenclature!$B$2:$C$196,2,0),\"\")","v":""},null,null,null,null,{"$f":"IF(C148=\"\",0,IF(SUMIFS($G$5:G148,$C$5:C148,C148)-SUMIFS($I$4:I147,$C$4:C147,C148)<0,0,SUMIFS($G$5:G148,$C$5:C148,C148)-SUMIFS($I$4:I147,$C$4:C147,C148)))","v":0},null,{"$f":"IF(C148=\"\",0,IF(C148=$C$4,SUMIFS($I$4:I147,$C$4:C147,C147),SUMIFS($I$4:I147,$C$4:C147,C148)))","v":0},0]
[146,null,{"$f":"IFERROR(VLOOKUP(D149,Nomenclature!$B$2:$C$196,2,0),\"\")","v":""},null,null,null,null,{"$f":"IF(C149=\"\",0,IF(SUMIFS($G$5:G149,$C$5:C149,C149)-SUMIFS($I$4:I148,$C$4:C148,C149)<0,0,SUMIFS($G$5:G149,$C$5:C149,C149)-SUMIFS($I$4:I148,$C$4:C148,C149)))","v":0},null,{"$f":"IF(C149=\"\",0,IF(C149=$C$4,SUMIFS($I$4:I148,$C$4:C148,C148),SUMIFS($I$4:I148,$C$4:C148,C149)))","v":0},0]
[147,null,{"$f":"IFERROR(VLOOKUP(D150,Nomenclature!$B$2:$C$196,2,0),\"\")","v":""},null,null,null,null,{"$f":"IF(C150=\"\",0,IF(SUMIFS($G$5:G150,$C$5:C150,C150)-SUMIFS($I$4:I149,$C$4:C149,C150)<0,0,SUMIFS($G$5:G150,$C$5:C150,C150)-SUMIFS($I$4:I149,$C$4:C149,C150)))","v":0},null,{"$f":"IF(C150=\"\",0,IF(C150=$C$4,SUMIFS($I$4:I149,$C$4:C149,C149),SUMIFS($I$4:I149,$C$4:C149,C150)))","v":0},0]
[148,null,{"$f":"IFERROR(VLOOKUP(D151,Nomenclature!$B$2:$C$196,2,0),\"\")","v":""},null,null,null,null,{"$f":"IF(C151=\"\",0,IF(SUMIFS($G$5:G151,$C$5:C151,C151)-SUMIFS($I$4:I150,$C$4:C150,C151)<0,0,SUMIFS($G$5:G151,$C$5:C151,C151)-SUMIFS($I$4:I150,$C$4:C150,C151)))","v":0},null,{"$f":"IF(C151=\"\",0,IF(C151=$C$4,SUMIFS($I$4:I150,$C$4:C150,C150),SUMIFS($I$4:I150,$C$4:C150,C151)))","v":0},0]
[149,null,{"$f":"IFERROR(VLOOKUP(D152,Nomenclature!$B$2:$C$196,2,0),\"\")","v":""},null,null,null,null,{"$f":"IF(C152=\"\",0,IF(SUMIFS($G$5:G152,$C$5:C152,C152)-SUMIFS($I$4:I151,$C$4:C151,C152)<0,0,SUMIFS($G$5:G152,$C$5:C152,C152)-SUMIFS($I$4:I151,$C$4:C151,C152)))","v":0},null,{"$f":"IF(C152=\"\",0,IF(C152=$C$4,SUMIFS($I$4:I151,$C$4:C151,C151),SUMIFS($I$4:I151,$C$4:C151,C152)))","v":0},0]
[150,null,{"$f":"IFERROR(VLOOKUP(D153,Nomenclature!$B$2:$C$196,2,0),\"\")","v":""},null,null,null,null,{"$f":"IF(C153=\"\",0,IF(SUMIFS($G$5:G153,$C$5:C153,C153)-SUMIFS($I$4:I152,$C$4:C152,C153)<0,0,SUMIFS($G$5:G153,$C$5:C153,C153)-SUMIFS($I$4:I152,$C$4:C152,C153)))","v":0},null,{"$f":"IF(C153=\"\",0,IF(C153=$C$4,SUMIFS($I$4:I152,$C$4:C152,C152),SUMIFS($I$4:I152,$C$4:C152,C153)))","v":0},0]
[151,null,{"$f":"IFERROR(VLOOKUP(D154,Nomenclature!$B$2:$C$196,2,0),\"\")","v":""},null,null,null,null,{"$f":"IF(C154=\"\",0,IF(SUMIFS($G$5:G154,$C$5:C154,C154)-SUMIFS($I$4:I153,$C$4:C153,C154)<0,0,SUMIFS($G$5:G154,$C$5:C154,C154)-SUMIFS($I$4:I153,$C$4:C153,C154)))","v":0},null,{"$f":"IF(C154=\"\",0,IF(C154=$C$4,SUMIFS($I$4:I153,$C$4:C153,C153),SUMIFS($I$4:I153,$C$4:C153,C154)))","v":0},0]
[152,null,{"$f":"IFERROR(VLOOKUP(D155,Nomenclature!$B$2:$C$196,2,0),\"\")","v":""},null,null,null,null,{"$f":"IF(C155=\"\",0,IF(SUMIFS($G$5:G155,$C$5:C155,C155)-SUMIFS($I$4:I154,$C$4:C154,C155)<0,0,SUMIFS($G$5:G155,$C$5:C155,C155)-SUMIFS($I$4:I154,$C$4:C154,C155)))","v":0},null,{"$f":"IF(C155=\"\",0,IF(C155=$C$4,SUMIFS($I$4:I154,$C$4:C154,C154),SUMIFS($I$4:I154,$C$4:C154,C155)))","v":0},0]
[153,null,{"$f":"IFERROR(VLOOKUP(D156,Nomenclature!$B$2:$C$196,2,0),\"\")","v":""},null,null,null,null,{"$f":"IF(C156=\"\",0,IF(SUMIFS($G$5:G156,$C$5:C156,C156)-SUMIFS($I$4:I155,$C$4:C155,C156)<0,0,SUMIFS($G$5:G156,$C$5:C156,C156)-SUMIFS($I$4:I155,$C$4:C155,C156)))","v":0},null,{"$f":"IF(C156=\"\",0,IF(C156=$C$4,SUMIFS($I$4:I155,$C$4:C155,C155),SUMIFS($I$4:I155,$C$4:C155,C156)))","v":0},0]
[154,null,{"$f":"IFERROR(VLOOKUP(D157,Nomenclature!$B$2:$C$196,2,0),\"\")","v":""},null,null,null,null,{"$f":"IF(C157=\"\",0,IF(SUMIFS($G$5:G157,$C$5:C157,C157)-SUMIFS($I$4:I156,$C$4:C156,C157)<0,0,SUMIFS($G$5:G157,$C$5:C157,C157)-SUMIFS($I$4:I156,$C$4:C156,C157)))","v":0},null,{"$f":"IF(C157=\"\",0,IF(C157=$C$4,SUMIFS($I$4:I156,$C$4:C156,C156),SUMIFS($I$4:I156,$C$4:C156,C157)))","v":0},0]
[155,null,{"$f":"IFERROR(VLOOKUP(D158,Nomenclature!$B$2:$C$196,2,0),\"\")","v":""},null,null,null,null,{"$f":"IF(C158=\"\",0,IF(SUMIFS($G$5:G158,$C$5:C158,C158)-SUMIFS($I$4:I157,$C$4:C157,C158)<0,0,SUMIFS($G$5:G158,$C$5:C158,C158)-SUMIFS($I$4:I157,$C$4:C157,C158)))","v":0},null,{"$f":"IF(C158=\"\",0,IF(C158=$C$4,SUMIFS($I$4:I157,$C$4:C157,C157),SUMIFS($I$4:I157,$C$4:C157,C158)))","v":0},0]
[156,null,{"$f":"IFERROR(VLOOKUP(D159,Nomenclature!$B$2:$C$196,2,0),\"\")","v":""},null,null,null,null,{"$f":"IF(C159=\"\",0,IF(SUMIFS($G$5:G159,$C$5:C159,C159)-SUMIFS($I$4:I158,$C$4:C158,C159)<0,0,SUMIFS($G$5:G159,$C$5:C159,C159)-SUMIFS($I$4:I158,$C$4:C158,C159)))","v":0},null,{"$f":"IF(C159=\"\",0,IF(C159=$C$4,SUMIFS($I$4:I158,$C$4:C158,C158),SUMIFS($I$4:I158,$C$4:C158,C159)))","v":0},0]
[157,null,{"$f":"IFERROR(VLOOKUP(D160,Nomenclature!$B$2:$C$196,2,0),\"\")","v":""},null,null,null,null,{"$f":"IF(C160=\"\",0,IF(SUMIFS($G$5:G160,$C$5:C160,C160)-SUMIFS($I$4:I159,$C$4:C159,C160)<0,0,SUMIFS($G$5:G160,$C$5:C160,C160)-SUMIFS($I$4:I159,$C$4:C159,C160)))","v":0},null,{"$f":"IF(C160=\"\",0,IF(C160=$C$4,SUMIFS($I$4:I159,$C$4:C159,C159),SUMIFS($I$4:I159,$C$4:C159,C160)))","v":0},0]
[158,null,{"$f":"IFERROR(VLOOKUP(D161,Nomenclature!$B$2:$C$196,2,0),\"\")","v":""},null,null,null,null,{"$f":"IF(C161=\"\",0,IF(SUMIFS($G$5:G161,$C$5:C161,C161)-SUMIFS($I$4:I160,$C$4:C160,C161)<0,0,SUMIFS($G$5:G161,$C$5:C161,C161)-SUMIFS($I$4:I160,$C$4:C160,C161)))","v":0},null,{"$f":"IF(C161=\"\",0,IF(C161=$C$4,SUMIFS($I$4:I160,$C$4:C160,C160),SUMIFS($I$4:I160,$C$4:C160,C161)))","v":0},0]
[159,null,{"$f":"IFERROR(VLOOKUP(D162,Nomenclature!$B$2:$C$196,2,0),\"\")","v":""},null,null,null,null,{"$f":"IF(C162=\"\",0,IF(SUMIFS($G$5:G162,$C$5:C162,C162)-SUMIFS($I$4:I161,$C$4:C161,C162)<0,0,SUMIFS($G$5:G162,$C$5:C162,C162)-SUMIFS($I$4:I161,$C$4:C161,C162)))","v":0},null,{"$f":"IF(C162=\"\",0,IF(C162=$C$4,SUMIFS($I$4:I161,$C$4:C161,C161),SUMIFS($I$4:I161,$C$4:C161,C162)))","v":0},0]
[160,null,{"$f":"IFERROR(VLOOKUP(D163,Nomenclature!$B$2:$C$196,2,0),\"\")","v":""},null,null,null,null,{"$f":"IF(C163=\"\",0,IF(SUMIFS($G$5:G163,$C$5:C163,C163)-SUMIFS($I$4:I162,$C$4:C162,C163)<0,0,SUMIFS($G$5:G163,$C$5:C163,C163)-SUMIFS($I$4:I162,$C$4:C162,C163)))","v":0},null,{"$f":"IF(C163=\"\",0,IF(C163=$C$4,SUMIFS($I$4:I162,$C$4:C162,C162),SUMIFS($I$4:I162,$C$4:C162,C163)))","v":0},0]
[161,null,{"$f":"IFERROR(VLOOKUP(D164,Nomenclature!$B$2:$C$196,2,0),\"\")","v":""},null,null,null,null,{"$f":"IF(C164=\"\",0,IF(SUMIFS($G$5:G164,$C$5:C164,C164)-SUMIFS($I$4:I163,$C$4:C163,C164)<0,0,SUMIFS($G$5:G164,$C$5:C164,C164)-SUMIFS($I$4:I163,$C$4:C163,C164)))","v":0},null,{"$f":"IF(C164=\"\",0,IF(C164=$C$4,SUMIFS($I$4:I163,$C$4:C163,C163),SUMIFS($I$4:I163,$C$4:C163,C164)))","v":0},0]
[162,null,{"$f":"IFERROR(VLOOKUP(D165,Nomenclature!$B$2:$C$196,2,0),\"\")","v":""},null,null,null,null,{"$f":"IF(C165=\"\",0,IF(SUMIFS($G$5:G165,$C$5:C165,C165)-SUMIFS($I$4:I164,$C$4:C164,C165)<0,0,SUMIFS($G$5:G165,$C$5:C165,C165)-SUMIFS($I$4:I164,$C$4:C164,C165)))","v":0},null,{"$f":"IF(C165=\"\",0,IF(C165=$C$4,SUMIFS($I$4:I164,$C$4:C164,C164),SUMIFS($I$4:I164,$C$4:C164,C165)))","v":0},0]
[163,null,{"$f":"IFERROR(VLOOKUP(D166,Nomenclature!$B$2:$C$196,2,0),\"\")","v":""},null,null,null,null,{"$f":"IF(C166=\"\",0,IF(SUMIFS($G$5:G166,$C$5:C166,C166)-SUMIFS($I$4:I165,$C$4:C165,C166)<0,0,SUMIFS($G$5:G166,$C$5:C166,C166)-SUMIFS($I$4:I165,$C$4:C165,C166)))","v":0},null,{"$f":"IF(C166=\"\",0,IF(C166=$C$4,SUMIFS($I$4:I165,$C$4:C165,C165),SUMIFS($I$4:I165,$C$4:C165,C166)))","v":0},0]
[164,null,{"$f":"IFERROR(VLOOKUP(D167,Nomenclature!$B$2:$C$196,2,0),\"\")","v":""},null,null,null,null,{"$f":"IF(C167=\"\",0,IF(SUMIFS($G$5:G167,$C$5:C167,C167)-SUMIFS($I$4:I166,$C$4:C166,C167)<0,0,SUMIFS($G$5:G167,$C$5:C167,C167)-SUMIFS($I$4:I166,$C$4:C166,C167)))","v":0},null,{"$f":"IF(C167=\"\",0,IF(C167=$C$4,SUMIFS($I$4:I166,$C$4:C166,C166),SUMIFS($I$4:I166,$C$4:C166,C167)))","v":0},0]
[165,null,{"$f":"IFERROR(VLOOKUP(D168,Nomenclature!$B$2:$C$196,2,0),\"\")","v":""},null,null,null,null,{"$f":"IF(C168=\"\",0,IF(SUMIFS($G$5:G168,$C$5:C168,C168)-SUMIFS($I$4:I167,$C$4:C167,C168)<0,0,SUMIFS($G$5:G168,$C$5:C168,C168)-SUMIFS($I$4:I167,$C$4:C167,C168)))","v":0},null,{"$f":"IF(C168=\"\",0,IF(C168=$C$4,SUMIFS($I$4:I167,$C$4:C167,C167),SUMIFS($I$4:I167,$C$4:C167,C168)))","v":0},0]
[166,null,{"$f":"IFERROR(VLOOKUP(D169,Nomenclature!$B$2:$C$196,2,0),\"\")","v":""},null,null,null,null,{"$f":"IF(C169=\"\",0,IF(SUMIFS($G$5:G169,$C$5:C169,C169)-SUMIFS($I$4:I168,$C$4:C168,C169)<0,0,SUMIFS($G$5:G169,$C$5:C169,C169)-SUMIFS($I$4:I168,$C$4:C168,C169)))","v":0},null,{"$f":"IF(C169=\"\",0,IF(C169=$C$4,SUMIFS($I$4:I168,$C$4:C168,C168),SUMIFS($I$4:I168,$C$4:C168,C169)))","v":0},0]
[167,null,{"$f":"IFERROR(VLOOKUP(D170,Nomenclature!$B$2:$C$196,2,0),\"\")","v":""},null,null,null,null,{"$f":"IF(C170=\"\",0,IF(SUMIFS($G$5:G170,$C$5:C170,C170)-SUMIFS($I$4:I169,$C$4:C169,C170)<0,0,SUMIFS($G$5:G170,$C$5:C170,C170)-SUMIFS($I$4:I169,$C$4:C169,C170)))","v":0},null,{"$f":"IF(C170=\"\",0,IF(C170=$C$4,SUMIFS($I$4:I169,$C$4:C169,C169),SUMIFS($I$4:I169,$C$4:C169,C170)))","v":0},0]
[168,null,{"$f":"IFERROR(VLOOKUP(D171,Nomenclature!$B$2:$C$196,2,0),\"\")","v":""},null,null,null,null,{"$f":"IF(C171=\"\",0,IF(SUMIFS($G$5:G171,$C$5:C171,C171)-SUMIFS($I$4:I170,$C$4:C170,C171)<0,0,SUMIFS($G$5:G171,$C$5:C171,C171)-SUMIFS($I$4:I170,$C$4:C170,C171)))","v":0},null,{"$f":"IF(C171=\"\",0,IF(C171=$C$4,SUMIFS($I$4:I170,$C$4:C170,C170),SUMIFS($I$4:I170,$C$4:C170,C171)))","v":0},0]
[169,null,{"$f":"IFERROR(VLOOKUP(D172,Nomenclature!$B$2:$C$196,2,0),\"\")","v":""},null,null,null,null,{"$f":"IF(C172=\"\",0,IF(SUMIFS($G$5:G172,$C$5:C172,C172)-SUMIFS($I$4:I171,$C$4:C171,C172)<0,0,SUMIFS($G$5:G172,$C$5:C172,C172)-SUMIFS($I$4:I171,$C$4:C171,C172)))","v":0},null,{"$f":"IF(C172=\"\",0,IF(C172=$C$4,SUMIFS($I$4:I171,$C$4:C171,C171),SUMIFS($I$4:I171,$C$4:C171,C172)))","v":0},0]
[170,null,{"$f":"IFERROR(VLOOKUP(D173,Nomenclature!$B$2:$C$196,2,0),\"\")","v":""},null,null,null,null,{"$f":"IF(C173=\"\",0,IF(SUMIFS($G$5:G173,$C$5:C173,C173)-SUMIFS($I$4:I172,$C$4:C172,C173)<0,0,SUMIFS($G$5:G173,$C$5:C173,C173)-SUMIFS($I$4:I172,$C$4:C172,C173)))","v":0},null,{"$f":"IF(C173=\"\",0,IF(C173=$C$4,SUMIFS($I$4:I172,$C$4:C172,C172),SUMIFS($I$4:I172,$C$4:C172,C173)))","v":0},0]
[171,null,{"$f":"IFERROR(VLOOKUP(D174,Nomenclature!$B$2:$C$196,2,0),\"\")","v":""},null,null,null,null,{"$f":"IF(C174=\"\",0,IF(SUMIFS($G$5:G174,$C$5:C174,C174)-SUMIFS($I$4:I173,$C$4:C173,C174)<0,0,SUMIFS($G$5:G174,$C$5:C174,C174)-SUMIFS($I$4:I173,$C$4:C173,C174)))","v":0},null,{"$f":"IF(C174=\"\",0,IF(C174=$C$4,SUMIFS($I$4:I173,$C$4:C173,C173),SUMIFS($I$4:I173,$C$4:C173,C174)))","v":0},0]
[172,null,{"$f":"IFERROR(VLOOKUP(D175,Nomenclature!$B$2:$C$196,2,0),\"\")","v":""},null,null,null,null,{"$f":"IF(C175=\"\",0,IF(SUMIFS($G$5:G175,$C$5:C175,C175)-SUMIFS($I$4:I174,$C$4:C174,C175)<0,0,SUMIFS($G$5:G175,$C$5:C175,C175)-SUMIFS($I$4:I174,$C$4:C174,C175)))","v":0},null,{"$f":"IF(C175=\"\",0,IF(C175=$C$4,SUMIFS($I$4:I174,$C$4:C174,C174),SUMIFS($I$4:I174,$C$4:C174,C175)))","v":0},0]
[173,null,{"$f":"IFERROR(VLOOKUP(D176,Nomenclature!$B$2:$C$196,2,0),\"\")","v":""},null,null,null,null,{"$f":"IF(C176=\"\",0,IF(SUMIFS($G$5:G176,$C$5:C176,C176)-SUMIFS($I$4:I175,$C$4:C175,C176)<0,0,SUMIFS($G$5:G176,$C$5:C176,C176)-SUMIFS($I$4:I175,$C$4:C175,C176)))","v":0},null,{"$f":"IF(C176=\"\",0,IF(C176=$C$4,SUMIFS($I$4:I175,$C$4:C175,C175),SUMIFS($I$4:I175,$C$4:C175,C176)))","v":0},0]
[174,null,{"$f":"IFERROR(VLOOKUP(D177,Nomenclature!$B$2:$C$196,2,0),\"\")","v":""},null,null,null,null,{"$f":"IF(C177=\"\",0,IF(SUMIFS($G$5:G177,$C$5:C177,C177)-SUMIFS($I$4:I176,$C$4:C176,C177)<0,0,SUMIFS($G$5:G177,$C$5:C177,C177)-SUMIFS($I$4:I176,$C$4:C176,C177)))","v":0},null,{"$f":"IF(C177=\"\",0,IF(C177=$C$4,SUMIFS($I$4:I176,$C$4:C176,C176),SUMIFS($I$4:I176,$C$4:C176,C177)))","v":0},0]
[175,null,{"$f":"IFERROR(VLOOKUP(D178,Nomenclature!$B$2:$C$196,2,0),\"\")","v":""},null,null,null,null,{"$f":"IF(C178=\"\",0,IF(SUMIFS($G$5:G178,$C$5:C178,C178)-SUMIFS($I$4:I177,$C$4:C177,C178)<0,0,SUMIFS($G$5:G178,$C$5:C178,C178)-SUMIFS($I$4:I177,$C$4:C177,C178)))","v":0},null,{"$f":"IF(C178=\"\",0,IF(C178=$C$4,SUMIFS($I$4:I177,$C$4:C177,C177),SUMIFS($I$4:I177,$C$4:C177,C178)))","v":0},0]
[176,null,{"$f":"IFERROR(VLOOKUP(D179,Nomenclature!$B$2:$C$196,2,0),\"\")","v":""},null,null,null,null,{"$f":"IF(C179=\"\",0,IF(SUMIFS($G$5:G179,$C$5:C179,C179)-SUMIFS($I$4:I178,$C$4:C178,C179)<0,0,SUMIFS($G$5:G179,$C$5:C179,C179)-SUMIFS($I$4:I178,$C$4:C178,C179)))","v":0},null,{"$f":"IF(C179=\"\",0,IF(C179=$C$4,SUMIFS($I$4:I178,$C$4:C178,C178),SUMIFS($I$4:I178,$C$4:C178,C179)))","v":0},0]
[177,null,{"$f":"IFERROR(VLOOKUP(D180,Nomenclature!$B$2:$C$196,2,0),\"\")","v":""},null,null,null,null,{"$f":"IF(C180=\"\",0,IF(SUMIFS($G$5:G180,$C$5:C180,C180)-SUMIFS($I$4:I179,$C$4:C179,C180)<0,0,SUMIFS($G$5:G180,$C$5:C180,C180)-SUMIFS($I$4:I179,$C$4:C179,C180)))","v":0},null,{"$f":"IF(C180=\"\",0,IF(C180=$C$4,SUMIFS($I$4:I179,$C$4:C179,C179),SUMIFS($I$4:I179,$C$4:C179,C180)))","v":0},0]
[178,null,{"$f":"IFERROR(VLOOKUP(D181,Nomenclature!$B$2:$C$196,2,0),\"\")","v":""},null,null,null,null,{"$f":"IF(C181=\"\",0,IF(SUMIFS($G$5:G181,$C$5:C181,C181)-SUMIFS($I$4:I180,$C$4:C180,C181)<0,0,SUMIFS($G$5:G181,$C$5:C181,C181)-SUMIFS($I$4:I180,$C$4:C180,C181)))","v":0},null,{"$f":"IF(C181=\"\",0,IF(C181=$C$4,SUMIFS($I$4:I180,$C$4:C180,C180),SUMIFS($I$4:I180,$C$4:C180,C181)))","v":0},0]
[179,null,{"$f":"IFERROR(VLOOKUP(D182,Nomenclature!$B$2:$C$196,2,0),\"\")","v":""},null,null,null,null,{"$f":"IF(C182=\"\",0,IF(SUMIFS($G$5:G182,$C$5:C182,C182)-SUMIFS($I$4:I181,$C$4:C181,C182)<0,0,SUMIFS($G$5:G182,$C$5:C182,C182)-SUMIFS($I$4:I181,$C$4:C181,C182)))","v":0},null,{"$f":"IF(C182=\"\",0,IF(C182=$C$4,SUMIFS($I$4:I181,$C$4:C181,C181),SUMIFS($I$4:I181,$C$4:C181,C182)))","v":0},0]
[180,null,{"$f":"IFERROR(VLOOKUP(D183,Nomenclature!$B$2:$C$196,2,0),\"\")","v":""},null,null,null,null,{"$f":"IF(C183=\"\",0,IF(SUMIFS($G$5:G183,$C$5:C183,C183)-SUMIFS($I$4:I182,$C$4:C182,C183)<0,0,SUMIFS($G$5:G183,$C$5:C183,C183)-SUMIFS($I$4:I182,$C$4:C182,C183)))","v":0},null,{"$f":"IF(C183=\"\",0,IF(C183=$C$4,SUMIFS($I$4:I182,$C$4:C182,C182),SUMIFS($I$4:I182,$C$4:C182,C183)))","v":0},0]
[181,null,{"$f":"IFERROR(VLOOKUP(D184,Nomenclature!$B$2:$C$196,2,0),\"\")","v":""},null,null,null,null,{"$f":"IF(C184=\"\",0,IF(SUMIFS($G$5:G184,$C$5:C184,C184)-SUMIFS($I$4:I183,$C$4:C183,C184)<0,0,SUMIFS($G$5:G184,$C$5:C184,C184)-SUMIFS($I$4:I183,$C$4:C183,C184)))","v":0},null,{"$f":"IF(C184=\"\",0,IF(C184=$C$4,SUMIFS($I$4:I183,$C$4:C183,C183),SUMIFS($I$4:I183,$C$4:C183,C184)))","v":0},0]
[182,null,{"$f":"IFERROR(VLOOKUP(D185,Nomenclature!$B$2:$C$196,2,0),\"\")","v":""},null,null,null,null,{"$f":"IF(C185=\"\",0,IF(SUMIFS($G$5:G185,$C$5:C185,C185)-SUMIFS($I$4:I184,$C$4:C184,C185)<0,0,SUMIFS($G$5:G185,$C$5:C185,C185)-SUMIFS($I$4:I184,$C$4:C184,C185)))","v":0},null,{"$f":"IF(C185=\"\",0,IF(C185=$C$4,SUMIFS($I$4:I184,$C$4:C184,C184),SUMIFS($I$4:I184,$C$4:C184,C185)))","v":0},0]
[183,null,{"$f":"IFERROR(VLOOKUP(D186,Nomenclature!$B$2:$C$196,2,0),\"\")","v":""},null,null,null,null,{"$f":"IF(C186=\"\",0,IF(SUMIFS($G$5:G186,$C$5:C186,C186)-SUMIFS($I$4:I185,$C$4:C185,C186)<0,0,SUMIFS($G$5:G186,$C$5:C186,C186)-SUMIFS($I$4:I185,$C$4:C185,C186)))","v":0},null,{"$f":"IF(C186=\"\",0,IF(C186=$C$4,SUMIFS($I$4:I185,$C$4:C185,C185),SUMIFS($I$4:I185,$C$4:C185,C186)))","v":0},0]
[184,null,{"$f":"IFERROR(VLOOKUP(D187,Nomenclature!$B$2:$C$196,2,0),\"\")","v":""},null,null,null,null,{"$f":"IF(C187=\"\",0,IF(SUMIFS($G$5:G187,$C$5:C187,C187)-SUMIFS($I$4:I186,$C$4:C186,C187)<0,0,SUMIFS($G$5:G187,$C$5:C187,C187)-SUMIFS($I$4:I186,$C$4:C186,C187)))","v":0},null,{"$f":"IF(C187=\"\",0,IF(C187=$C$4,SUMIFS($I$4:I186,$C$4:C186,C186),SUMIFS($I$4:I186,$C$4:C186,C187)))","v":0},0]
[185,null,{"$f":"IFERROR(VLOOKUP(D188,Nomenclature!$B$2:$C$196,2,0),\"\")","v":""},null,null,null,null,{"$f":"IF(C188=\"\",0,IF(SUMIFS($G$5:G188,$C$5:C188,C188)-SUMIFS($I$4:I187,$C$4:C187,C188)<0,0,SUMIFS($G$5:G188,$C$5:C188,C188)-SUMIFS($I$4:I187,$C$4:C187,C188)))","v":0},null,{"$f":"IF(C188=\"\",0,IF(C188=$C$4,SUMIFS($I$4:I187,$C$4:C187,C187),SUMIFS($I$4:I187,$C$4:C187,C188)))","v":0},0]
[186,null,{"$f":"IFERROR(VLOOKUP(D189,Nomenclature!$B$2:$C$196,2,0),\"\")","v":""},null,null,null,null,{"$f":"IF(C189=\"\",0,IF(SUMIFS($G$5:G189,$C$5:C189,C189)-SUMIFS($I$4:I188,$C$4:C188,C189)<0,0,SUMIFS($G$5:G189,$C$5:C189,C189)-SUMIFS($I$4:I188,$C$4:C188,C189)))","v":0},null,{"$f":"IF(C189=\"\",0,IF(C189=$C$4,SUMIFS($I$4:I188,$C$4:C188,C188),SUMIFS($I$4:I188,$C$4:C188,C189)))","v":0},0]
[187,null,{"$f":"IFERROR(VLOOKUP(D190,Nomenclature!$B$2:$C$196,2,0),\"\")","v":""},null,null,null,null,{"$f":"IF(C190=\"\",0,IF(SUMIFS($G$5:G190,$C$5:C190,C190)-SUMIFS($I$4:I189,$C$4:C189,C190)<0,0,SUMIFS($G$5:G190,$C$5:C190,C190)-SUMIFS($I$4:I189,$C$4:C189,C190)))","v":0},null,{"$f":"IF(C190=\"\",0,IF(C190=$C$4,SUMIFS($I$4:I189,$C$4:C189,C189),SUMIFS($I$4:I189,$C$4:C189,C190)))","v":0},0]
[188,null,{"$f":"IFERROR(VLOOKUP(D191,Nomenclature!$B$2:$C$196,2,0),\"\")","v":""},null,null,null,null,{"$f":"IF(C191=\"\",0,IF(SUMIFS($G$5:G191,$C$5:C191,C191)-SUMIFS($I$4:I190,$C$4:C190,C191)<0,0,SUMIFS($G$5:G191,$C$5:C191,C191)-SUMIFS($I$4:I190,$C$4:C190,C191)))","v":0},null,{"$f":"IF(C191=\"\",0,IF(C191=$C$4,SUMIFS($I$4:I190,$C$4:C190,C190),SUMIFS($I$4:I190,$C$4:C190,C191)))","v":0},0]
[189,null,{"$f":"IFERROR(VLOOKUP(D192,Nomenclature!$B$2:$C$196,2,0),\"\")","v":""},null,null,null,null,{"$f":"IF(C192=\"\",0,IF(SUMIFS($G$5:G192,$C$5:C192,C192)-SUMIFS($I$4:I191,$C$4:C191,C192)<0,0,SUMIFS($G$5:G192,$C$5:C192,C192)-SUMIFS($I$4:I191,$C$4:C191,C192)))","v":0},null,{"$f":"IF(C192=\"\",0,IF(C192=$C$4,SUMIFS($I$4:I191,$C$4:C191,C191),SUMIFS($I$4:I191,$C$4:C191,C192)))","v":0},0]
[190,null,{"$f":"IFERROR(VLOOKUP(D193,Nomenclature!$B$2:$C$196,2,0),\"\")","v":""},null,null,null,null,{"$f":"IF(C193=\"\",0,IF(SUMIFS($G$5:G193,$C$5:C193,C193)-SUMIFS($I$4:I192,$C$4:C192,C193)<0,0,SUMIFS($G$5:G193,$C$5:C193,C193)-SUMIFS($I$4:I192,$C$4:C192,C193)))","v":0},null,{"$f":"IF(C193=\"\",0,IF(C193=$C$4,SUMIFS($I$4:I192,$C$4:C192,C192),SUMIFS($I$4:I192,$C$4:C192,C193)))","v":0},0]
[191,null,{"$f":"IFERROR(VLOOKUP(D194,Nomenclature!$B$2:$C$196,2,0),\"\")","v":""},null,null,null,null,{"$f":"IF(C194=\"\",0,IF(SUMIFS($G$5:G194,$C$5:C194,C194)-SUMIFS($I$4:I193,$C$4:C193,C194)<0,0,SUMIFS($G$5:G194,$C$5:C194,C194)-SUMIFS($I$4:I193,$C$4:C193,C194)))","v":0},null,{"$f":"IF(C194=\"\",0,IF(C194=$C$4,SUMIFS($I$4:I193,$C$4:C193,C193),SUMIFS($I$4:I193,$C$4:C193,C194)))","v":0},0]
[192,null,{"$f":"IFERROR(VLOOKUP(D195,Nomenclature!$B$2:$C$196,2,0),\"\")","v":""},null,null,null,null,{"$f":"IF(C195=\"\",0,IF(SUMIFS($G$5:G195,$C$5:C195,C195)-SUMIFS($I$4:I194,$C$4:C194,C195)<0,0,SUMIFS($G$5:G195,$C$5:C195,C195)-SUMIFS($I$4:I194,$C$4:C194,C195)))","v":0},null,{"$f":"IF(C195=\"\",0,IF(C195=$C$4,SUMIFS($I$4:I194,$C$4:C194,C194),SUMIFS($I$4:I194,$C$4:C194,C195)))","v":0},0]
[193,null,{"$f":"IFERROR(VLOOKUP(D196,Nomenclature!$B$2:$C$196,2,0),\"\")","v":""},null,null,null,null,{"$f":"IF(C196=\"\",0,IF(SUMIFS($G$5:G196,$C$5:C196,C196)-SUMIFS($I$4:I195,$C$4:C195,C196)<0,0,SUMIFS($G$5:G196,$C$5:C196,C196)-SUMIFS($I$4:I195,$C$4:C195,C196)))","v":0},null,{"$f":"IF(C196=\"\",0,IF(C196=$C$4,SUMIFS($I$4:I195,$C$4:C195,C195),SUMIFS($I$4:I195,$C$4:C195,C196)))","v":0},{"$f":"IF(C196=\"\",0,H196-I196)","v":0}]
[194,null,{"$f":"IFERROR(VLOOKUP(D197,Nomenclature!$B$2:$C$196,2,0),\"\")","v":""},null,null,null,null,{"$f":"IF(C197=\"\",0,IF(SUMIFS($G$5:G197,$C$5:C197,C197)-SUMIFS($I$4:I196,$C$4:C196,C197)<0,0,SUMIFS($G$5:G197,$C$5:C197,C197)-SUMIFS($I$4:I196,$C$4:C196,C197)))","v":0},null,{"$f":"IF(C197=\"\",0,IF(C197=$C$4,SUMIFS($I$4:I196,$C$4:C196,C196),SUMIFS($I$4:I196,$C$4:C196,C197)))","v":0},0]
[195,null,{"$f":"IFERROR(VLOOKUP(D198,Nomenclature!$B$2:$C$196,2,0),\"\")","v":""},null,null,null,null,{"$f":"IF(C198=\"\",0,IF(SUMIFS($G$5:G198,$C$5:C198,C198)-SUMIFS($I$4:I197,$C$4:C197,C198)<0,0,SUMIFS($G$5:G198,$C$5:C198,C198)-SUMIFS($I$4:I197,$C$4:C197,C198)))","v":0},null,{"$f":"IF(C198=\"\",0,IF(C198=$C$4,SUMIFS($I$4:I197,$C$4:C197,C197),SUMIFS($I$4:I197,$C$4:C197,C198)))","v":0},0]
[196,null,{"$f":"IFERROR(VLOOKUP(D199,Nomenclature!$B$2:$C$196,2,0),\"\")","v":""},null,null,null,null,{"$f":"IF(C199=\"\",0,IF(SUMIFS($G$5:G199,$C$5:C199,C199)-SUMIFS($I$4:I198,$C$4:C198,C199)<0,0,SUMIFS($G$5:G199,$C$5:C199,C199)-SUMIFS($I$4:I198,$C$4:C198,C199)))","v":0},null,{"$f":"IF(C199=\"\",0,IF(C199=$C$4,SUMIFS($I$4:I198,$C$4:C198,C198),SUMIFS($I$4:I198,$C$4:C198,C199)))","v":0},0]
[197,null,{"$f":"IFERROR(VLOOKUP(D200,Nomenclature!$B$2:$C$196,2,0),\"\")","v":""},null,null,null,null,{"$f":"IF(C200=\"\",0,IF(SUMIFS($G$5:G200,$C$5:C200,C200)-SUMIFS($I$4:I199,$C$4:C199,C200)<0,0,SUMIFS($G$5:G200,$C$5:C200,C200)-SUMIFS($I$4:I199,$C$4:C199,C200)))","v":0},null,{"$f":"IF(C200=\"\",0,IF(C200=$C$4,SUMIFS($I$4:I199,$C$4:C199,C199),SUMIFS($I$4:I199,$C$4:C199,C200)))","v":0},0]
[198,null,{"$f":"IFERROR(VLOOKUP(D201,Nomenclature!$B$2:$C$196,2,0),\"\")","v":""},null,null,null,null,{"$f":"IF(C201=\"\",0,IF(SUMIFS($G$5:G201,$C$5:C201,C201)-SUMIFS($I$4:I200,$C$4:C200,C201)<0,0,SUMIFS($G$5:G201,$C$5:C201,C201)-SUMIFS($I$4:I200,$C$4:C200,C201)))","v":0},null,{"$f":"IF(C201=\"\",0,IF(C201=$C$4,SUMIFS($I$4:I200,$C$4:C200,C200),SUMIFS($I$4:I200,$C$4:C200,C201)))","v":0},0]
[199,null,{"$f":"IFERROR(VLOOKUP(D202,Nomenclature!$B$2:$C$196,2,0),\"\")","v":""},null,null,null,null,{"$f":"IF(C202=\"\",0,IF(SUMIFS($G$5:G202,$C$5:C202,C202)-SUMIFS($I$4:I201,$C$4:C201,C202)<0,0,SUMIFS($G$5:G202,$C$5:C202,C202)-SUMIFS($I$4:I201,$C$4:C201,C202)))","v":0},null,{"$f":"IF(C202=\"\",0,IF(C202=$C$4,SUMIFS($I$4:I201,$C$4:C201,C201),SUMIFS($I$4:I201,$C$4:C201,C202)))","v":0},0]
[200,null,{"$f":"IFERROR(VLOOKUP(D203,Nomenclature!$B$2:$C$196,2,0),\"\")","v":""},null,null,null,null,{"$f":"IF(C203=\"\",0,IF(SUMIFS($G$5:G203,$C$5:C203,C203)-SUMIFS($I$4:I202,$C$4:C202,C203)<0,0,SUMIFS($G$5:G203,$C$5:C203,C203)-SUMIFS($I$4:I202,$C$4:C202,C203)))","v":0},null,{"$f":"IF(C203=\"\",0,IF(C203=$C$4,SUMIFS($I$4:I202,$C$4:C202,C202),SUMIFS($I$4:I202,$C$4:C202,C203)))","v":0},0]

{"sheet":"14000","index":4,"n_rows":203,"n_cols":44,"rows_kept":203,"cut":false,"hidden":false,"merged":[[50,23,50,24],[44,14,45,18],[44,22,45,26],[44,29,44,30],[46,14,47,18],[46,22,47,26],[47,29,47,30],[50,15,50,16],[33,14,33,17],[34,14,37,41],[39,14,39,17],[39,18,40,41],[42,14,42,27],[42,28,42,41],[28,38,29,41],[30,14,31,17],[30,18,31,21],[30,22,31,25],[30,26,31,29],[30,30,31,33],[30,34,31,37],[30,38,31,41],[28,14,29,17],[28,18,29,21],[28,22,29,25],[28,26,29,29],[28,30,29,33],[28,34,29,37],[19,14,19,15],[26,38,27,41],[20,22,20,32],[21,18,21,21],[21,22,21,32],[22,18,22,21],[22,22,22,32],[23,17,25,41],[20,18,20,21],[26,14,27,21],[26,22,27,25],[26,26,27,29],[26,30,27,33],[26,34,27,37],[15,19,15,20],[16,14,16,18],[16,19,16,20],[14,14,14,18],[14,19,14,27],[0,13,2,15],[3,14,3,41],[3,42,58,42],[4,14,4,18],[4,19,4,27],[5,14,5,18],[5,19,5,27],[6,14,6,18],[6,19,6,27],[10,15,11,19],[10,20,11,23],[10,31,11,32],[10,33,11,38],[13,14,13,18],[13,19,13,20],[15,14,15,18],[0,11,2,11],[0,0,2,0],[0,1,2,1],[0,2,2,2],[0,3,2,3],[0,4,2,4],[0,5,1,5],[0,6,1,6],[0,7,2,7],[0,8,1,8],[0,9,2,9],[0,10,1,10]]}
["رقم\nالاستمارة","التاريخ","الترميز","الصنف / الصنف الفرعي","ملاحظات المصلحة","AP Cat",{"$f":"IF(SUM(G4:G203)-SUM(F4:F203)<0,\"نقص في توزيع الاعتمادات على الاصناف الفرعية\",\nIF(SUM(G4:G203)-SUM(F4:F203)>0,\"تجاوز في الاعتمادات الموزعة على الاصناف الفرعية\",\"AP S.Cat\"))","v":"AP S.Cat"},"AP Sous_Cat",{"$f":"IF(I3>G3,\"تجاوز في الالتزامات\",\"∑ Engagements\")","v":"∑ Engagements"},"∑ Eng Sous_Cat","Reste","السند القانوني للعنوان الرابع",null,1]
[]
[null,null,null,null,null,{"$f":"SUM(F4:F203)","v":6500000},{"$f":"SUM(G4:G203)","v":6500000},null,{"$f":"SUM(I5:I203)","v":0},null,{"$f":"SUM(K4:K104)","v":6500000}]
[1,"2023-03-13",{"$f":"IFERROR(VLOOKUP(D4,Nomenclature!$B$2:$C$196,2,0),\"\")","v":14000},"مساهمات صاحب العمل","تكفل برخصة الالتزام المفتوحة لسنة 2023.",6500000,null,{"$f":"IF(C4=\"\",0,IF(SUMIFS($G4:G$5,$C4:C$5,C4)-SUMIFS($I3:I$4,$C3:C$4,C4)<0,0,SUMIFS($G4:G$5,$C4:C$5,C4)-SUMIFS($I3:I$4,$C3:C$4,C4)))","v":0},null,{"$f":"IF(I4=0,0,IF(C4=\"\",0,SUMIFS($I4:I$4,$C4:C$4,C4)))","v":0},{"$f":"IF(C4=\"\",0,H4-I4)","v":0},null,null,null,"الجمهورية الجزائرية الديمقراطية الشعبية"]
[2,"2023-04-01",{"$f":"IFERROR(VLOOKUP(D5,Nomenclature!$B$2:$C$196,2,0),\"\")","v":14100},"مساهمات في هيئات الضمان الاجتماعي و التقاعد","التزام في الجدول الأصلي الأولي رقم 2023/01 الخاص بالمرتبات الشهرية للموظفين من 2023/01/01 إلى غاية 2023/12/31",null,6500000,{"$f":"IF(C5=\"\",0,IF(SUMIFS($G$5:G5,$C$5:C5,C5)-SUMIFS($I$4:I4,$C$4:C4,C5)<0,0,SUMIFS($G$5:G5,$C$5:C5,C5)-SUMIFS($I$4:I4,$C$4:C4,C5)))","v":6500000},null,{"$f":"IF(C5=\"\",0,IF(C5=$C$4,SUMIFS($I$4:I4,$C$4:C4,C4),SUMIFS($I$4:I4,$C$4:C4,C5)))","v":0},6500000,null,null,null,"الـوزارة:",null,null,null,null,{"$f":"الواجهة!C2","v":"وزارة البيئة و الطاقات المتجددة"}]
[3,null,{"$f":"IFERROR(VLOOKUP(D6,Nomenclature!$B$2:$C$196,2,0),\"\")","v":""},null,null,null,null,{"$f":"IF(C6=\"\",0,IF(SUMIFS($G$5:G6,$C$5:C6,C6)-SUMIFS($I$4:I5,$C$4:C5,C6)<0,0,SUMIFS($G$5:G6,$C$5:C6,C6)-SUMIFS($I$4:I5,$C$4:C5,C6)))","v":0},null,{"$f":"IF(C6=\"\",0,IF(C6=$C$4,SUMIFS($I$4:I5,$C$4:C5,C5),SUMIFS($I$4:I5,$C$4:C5,C6)))","v":0},0,null,null,null,"الهيئة الإدارية:",null,null,null,null,{"$f":"الواجهة!C3","v":"مديرية البيئة لولاية المسيلة"}]
[4,null,{"$f":"IFERROR(VLOOKUP(D7,Nomenclature!$B$2:$C$196,2,0),\"\")","v":""},null,null,null,null,{"$f":"IF(C7=\"\",0,IF(SUMIFS($G$5:G7,$C$5:C7,C7)-SUMIFS($I$4:I6,$C$4:C6,C7)<0,0,SUMIFS($G$5:G7,$C$5:C7,C7)-SUMIFS($I$4:I6,$C$4:C6,C7)))","v":0},null,{"$f":"IF(C7=\"\",0,IF(C7=$C$4,SUMIFS($I$4:I6,$C$4:C6,C6),SUMIFS($I$4:I6,$C$4:C6,C7)))","v":0},0,null,null,null,"رمز الآمر بالصرف:",null,null,null,null,{"$f":"الواجهة!C4","v":"144 0 28 01"}]
[5,null,{"$f":"IFERROR(VLOOKUP(D8,Nomenclature!$B$2:$C$196,2,0),\"\")","v":""},null,null,null,null,{"$f":"IF(C8=\"\",0,IF(SUMIFS($G$5:G8,$C$5:C8,C8)-SUMIFS($I$4:I7,$C$4:C7,C8)<0,0,SUMIFS($G$5:G8,$C$5:C8,C8)-SUMIFS($I$4:I7,$C$4:C7,C8)))","v":0},null,{"$f":"IF(C8=\"\",0,IF(C8=$C$4,SUMIFS($I$4:I7,$C$4:C7,C7),SUMIFS($I$4:I7,$C$4:C7,C8)))","v":0},0,null,null,null,null,null,null,null,null,null,null,null,null,null,null,null,null,null,null,null,null,null,null,"."]
[6,null,{"$f":"IFERROR(VLOOKUP(D9,Nomenclature!$B$2:$C$196,2,0),\"\")","v":""},null,null,null,null,{"$f":"IF(C9=\"\",0,IF(SUMIFS($G$5:G9,$C$5:C9,C9)-SUMIFS($I$4:I8,$C$4:C8,C9)<0,0,SUMIFS($G$5:G9,$C$5:C9,C9)-SUMIFS($I$4:I8,$C$4:C8,C9)))","v":0},null,{"$f":"IF(C9=\"\",0,IF(C9=$C$4,SUMIFS($I$4:I8,$C$4:C8,C8),SUMIFS($I$4:I8,$C$4:C8,C9)))","v":0},0]
[7,null,{"$f":"IFERROR(VLOOKUP(D10,Nomenclature!$B$2:$C$196,2,0),\"\")","v":""},null,null,null,null,{"$f":"IF(C10=\"\",0,IF(SUMIFS($G$5:G10,$C$5:C10,C10)-SUMIFS($I$4:I9,$C$4:C9,C10)<0,0,SUMIFS($G$5:G10,$C$5:C10,C10)-SUMIFS($I$4:I9,$C$4:C9,C10)))","v":0},null,{"$f":"IF(C10=\"\",0,IF(C10=$C$4,SUMIFS($I$4:I9,$C$4:C9,C9),SUMIFS($I$4:I9,$C$4:C9,C10)))","v":0},0]
[8,null,{"$f":"IFERROR(VLOOKUP(D11,Nomenclature!$B$2:$C$196,2,0),\"\")","v":""},null,null,null,null,{"$f":"IF(C11=\"\",0,IF(SUMIFS($G$5:G11,$C$5:C11,C11)-SUMIFS($I$4:I10,$C$4:C10,C11)<0,0,SUMIFS($G$5:G11,$C$5:C11,C11)-SUMIFS($I$4:I10,$C$4:C10,C11)))","v":0},null,{"$f":"IF(C11=\"\",0,IF(C11=$C$4,SUMIFS($I$4:I10,$C$4:C10,C10),SUMIFS($I$4:I10,$C$4:C10,C11)))","v":0},0,null,null,null,null,"رقم بطاقة الالتزام:",null,null,null,null,{"$f":"IFERROR(VLOOKUP(N1,A4:L203,1,0),0)","v":1},null,null,null,null,null,null,null,null,null,null,"التاريخ:",null,{"$f":"IF(IFERROR(VLOOKUP(N1,A4:L203,2,0),0)=0,\"\",IFERROR(VLOOKUP(N1,A4:L203,2,0),0))","v":"2023-03-13"}]
[9,null,{"$f":"IFERROR(VLOOKUP(D12,Nomenclature!$B$2:$C$196,2,0),\"\")","v":""},null,null,null,null,{"$f":"IF(C12=\"\",0,IF(SUMIFS($G$5:G12,$C$5:C12,C12)-SUMIFS($I$4:I11,$C$4:C11,C12)<0,0,SUMIFS($G$5:G12,$C$5:C12,C12)-SUMIFS($I$4:I11,$C$4:C11,C12)))","v":0},null,{"$f":"IF(C12=\"\",0,IF(C12=$C$4,SUMIFS($I$4:I11,$C$4:C11,C11),SUMIFS($I$4:I11,$C$4:C11,C12)))","v":0},0]
[10,null,{"$f":"IFERROR(VLOOKUP(D13,Nomenclature!$B$2:$C$196,2,0),\"\")","v":""},null,null,null,null,{"$f":"IF(C13=\"\",0,IF(SUMIFS($G$5:G13,$C$5:C13,C13)-SUMIFS($I$4:I12,$C$4:C12,C13)<0,0,SUMIFS($G$5:G13,$C$5:C13,C13)-SUMIFS($I$4:I12,$C$4:C12,C13)))","v":0},null,{"$f":"IF(C13=\"\",0,IF(C13=$C$4,SUMIFS($I$4:I12,$C$4:C12,C12),SUMIFS($I$4:I12,$C$4:C12,C13)))","v":0},0]
[11,null,{"$f":"IFERROR(VLOOKUP(D14,Nomenclature!$B$2:$C$196,2,0),\"\")","v":""},null,null,null,null,{"$f":"IF(C14=\"\",0,IF(SUMIFS($G$5:G14,$C$5:C14,C14)-SUMIFS($I$4:I13,$C$4:C13,C14)<0,0,SUMIFS($G$5:G14,$C$5:C14,C14)-SUMIFS($I$4:I13,$C$4:C13,C14)))","v":0},null,{"$f":"IF(C14=\"\",0,IF(C14=$C$4,SUMIFS($I$4:I13,$C$4:C13,C13),SUMIFS($I$4:I13,$C$4:C13,C14)))","v":0},0,null,null,null,"رمز البرنــامج:",null,null,null,null,{"$f":"الواجهة!C7","v":"116"}]
[12,null,{"$f":"IFERROR(VLOOKUP(D15,Nomenclature!$B$2:$C$196,2,0),\"\")","v":""},null,null,null,null,{"$f":"IF(C15=\"\",0,IF(SUMIFS($G$5:G15,$C$5:C15,C15)-SUMIFS($I$4:I14,$C$4:C14,C15)<0,0,SUMIFS($G$5:G15,$C$5:C15,C15)-SUMIFS($I$4:I14,$C$4:C14,C15)))","v":0},null,{"$f":"IF(C15=\"\",0,IF(C15=$C$4,SUMIFS($I$4:I14,$C$4:C14,C14),SUMIFS($I$4:I14,$C$4:C14,C15)))","v":0},0,null,null,null,"رمز النشــاط:",null,null,null,null,{"$f":"الواجهة!C6&\" \"&الواجهة!C7&\" \"&الواجهة!C10&\" \"&الواجهة!C8&\" \"&الواجهة!C9&\" \"&الواجهة!C11","v":"030 116 02 2001 000 028"}]
[13,null,{"$f":"IFERROR(VLOOKUP(D16,Nomenclature!$B$2:$C$196,2,0),\"\")","v":""},null,null,null,null,{"$f":"IF(C16=\"\",0,IF(SUMIFS($G$5:G16,$C$5:C16,C16)-SUMIFS($I$4:I15,$C$4:C15,C16)<0,0,SUMIFS($G$5:G16,$C$5:C16,C16)-SUMIFS($I$4:I15,$C$4:C15,C16)))","v":0},null,{"$f":"IF(C16=\"\",0,IF(C16=$C$4,SUMIFS($I$4:I15,$C$4:C15,C15),SUMIFS($I$4:I15,$C$4:C15,C16)))","v":0},0,null,null,null,"رمز النشــاط الفرعي:",null,null,null,null,{"$f":"الواجهة!C9","v":"000"}]
[14,null,{"$f":"IFERROR(VLOOKUP(D17,Nomenclature!$B$2:$C$196,2,0),\"\")","v":""},null,null,null,null,{"$f":"IF(C17=\"\",0,IF(SUMIFS($G$5:G17,$C$5:C17,C17)-SUMIFS($I$4:I16,$C$4:C16,C17)<0,0,SUMIFS($G$5:G17,$C$5:C17,C17)-SUMIFS($I$4:I16,$C$4:C16,C17)))","v":0},null,{"$f":"IF(C17=\"\",0,IF(C17=$C$4,SUMIFS($I$4:I16,$C$4:C16,C16),SUMIFS($I$4:I16,$C$4:C16,C17)))","v":0},0,null,null,null,"رمز البرنـامج الفرعي:",null,null,null,null,{"$f":"الواجهة!C10","v":"02"}]
[15,null,{"$f":"IFERROR(VLOOKUP(D18,Nomenclature!$B$2:$C$196,2,0),\"\")","v":""},null,null,null,null,{"$f":"IF(C18=\"\",0,IF(SUMIFS($G$5:G18,$C$5:C18,C18)-SUMIFS($I$4:I17,$C$4:C17,C18)<0,0,SUMIFS($G$5:G18,$C$5:C18,C18)-SUMIFS($I$4:I17,$C$4:C17,C18)))","v":0},null,{"$f":"IF(C18=\"\",0,IF(C18=$C$4,SUMIFS($I$4:I17,$C$4:C17,C17),SUMIFS($I$4:I17,$C$4:C17,C18)))","v":0},0,null,null,null,null,null,null,null,null,null,null,null,null,null,null,null,null,null,null,null,null,null,null,null,null,null,null,null,null,null,null,null,null,"\n\n\n"]
[16,null,{"$f":"IFERROR(VLOOKUP(D19,Nomenclature!$B$2:$C$196,2,0),\"\")","v":""},null,null,null,null,{"$f":"IF(C19=\"\",0,IF(SUMIFS($G$5:G19,$C$5:C19,C19)-SUMIFS($I$4:I18,$C$4:C18,C19)<0,0,SUMIFS($G$5:G19,$C$5:C19,C19)-SUMIFS($I$4:I18,$C$4:C18,C19)))","v":0},null,{"$f":"IF(C19=\"\",0,IF(C19=$C$4,SUMIFS($I$4:I18,$C$4:C18,C18),SUMIFS($I$4:I18,$C$4:C18,C19)))","v":0},0]
[17,null,{"$f":"IFERROR(VLOOKUP(D20,Nomenclature!$B$2:$C$196,2,0),\"\")","v":""},null,null,null,null,{"$f":"IF(C20=\"\",0,IF(SUMIFS($G$5:G20,$C$5:C20,C20)-SUMIFS($I$4:I19,$C$4:C19,C20)<0,0,SUMIFS($G$5:G20,$C$5:C20,C20)-SUMIFS($I$4:I19,$C$4:C19,C20)))","v":0},null,{"$f":"IF(C20=\"\",0,IF(C20=$C$4,SUMIFS($I$4:I19,$C$4:C19,C19),SUMIFS($I$4:I19,$C$4:C19,C20)))","v":0},0,null,null,null,"العنوان:"]
[18,null,{"$f":"IFERROR(VLOOKUP(D21,Nomenclature!$B$2:$C$196,2,0),\"\")","v":""},null,null,null,null,{"$f":"IF(C21=\"\",0,IF(SUMIFS($G$5:G21,$C$5:C21,C21)-SUMIFS($I$4:I20,$C$4:C20,C21)<0,0,SUMIFS($G$5:G21,$C$5:C21,C21)-SUMIFS($I$4:I20,$C$4:C20,C21)))","v":0},null,{"$f":"IF(C21=\"\",0,IF(C21=$C$4,SUMIFS($I$4:I20,$C$4:C20,C20),SUMIFS($I$4:I20,$C$4:C20,C21)))","v":0},0,null,null,null,null,null,{"$f":"IF(C4<20000,\"X\",\"\")","v":"X"},null,"العنوان الأول:",null,null,null,"نفقات المستخدمين"]
[19,null,{"$f":"IFERROR(VLOOKUP(D22,Nomenclature!$B$2:$C$196,2,0),\"\")","v":""},null,null,null,null,{"$f":"IF(C22=\"\",0,IF(SUMIFS($G$5:G22,$C$5:C22,C22)-SUMIFS($I$4:I21,$C$4:C21,C22)<0,0,SUMIFS($G$5:G22,$C$5:C22,C22)-SUMIFS($I$4:I21,$C$4:C21,C22)))","v":0},null,{"$f":"IF(C22=\"\",0,IF(C22=$C$4,SUMIFS($I$4:I21,$C$4:C21,C21),SUMIFS($I$4:I21,$C$4:C21,C22)))","v":0},0,null,null,null,null,null,{"$f":"IF(AND(C4>19999,C4<40000),\"X\",\"\")","v":""},null,"العنوان الثاني:",null,null,null,"نفقات تسيير المصالح"]
[20,null,{"$f":"IFERROR(VLOOKUP(D23,Nomenclature!$B$2:$C$196,2,0),\"\")","v":""},null,null,null,null,{"$f":"IF(C23=\"\",0,IF(SUMIFS($G$5:G23,$C$5:C23,C23)-SUMIFS($I$4:I22,$C$4:C22,C23)<0,0,SUMIFS($G$5:G23,$C$5:C23,C23)-SUMIFS($I$4:I22,$C$4:C22,C23)))","v":0},null,{"$f":"IF(C23=\"\",0,IF(C23=$C$4,SUMIFS($I$4:I22,$C$4:C22,C22),SUMIFS($I$4:I22,$C$4:C22,C23)))","v":0},0,null,null,null,null,null,{"$f":"IF(AND(Q21=\"\",Q22=\"\"),\"X\",\"\")","v":""},null,"العنوان الرابع:",null,null,null,"نفقات التحويل"]
[21,null,{"$f":"IFERROR(VLOOKUP(D24,Nomenclature!$B$2:$C$196,2,0),\"\")","v":""},null,null,null,null,{"$f":"IF(C24=\"\",0,IF(SUMIFS($G$5:G24,$C$5:C24,C24)-SUMIFS($I$4:I23,$C$4:C23,C24)<0,0,SUMIFS($G$5:G24,$C$5:C24,C24)-SUMIFS($I$4:I23,$C$4:C23,C24)))","v":0},null,{"$f":"IF(C24=\"\",0,IF(C24=$C$4,SUMIFS($I$4:I23,$C$4:C23,C23),SUMIFS($I$4:I23,$C$4:C23,C24)))","v":0},0,null,null,null,null,null,null,{"$f":"IF(VLOOKUP(N1,A4:L203,12,0)=\"\",\"- - - - - - - - - - - - - - - - - - - - - - - - - - - - - - - - - - - - - - - - - - - - - - - / / / - - - - - - - - - - - - - - - - - - - - - - - - - - - - - - - - - - - - - - - - - - - - - - -\"& CHAR(10)&\"- - - - - - - - - - - - - - - - - - - - - - - - - - - - - - - - - - - - - - - - - - - - - - - / / / - - - - - - - - - - - - - - - - - - - - - - - - - - - - - - - - - - - - - - - - - - - - - - -\",VLOOKUP(N1,A4:L203,12,0))","v":"- - - - - - - - - - - - - - - - - - - - - - - - - - - - - - - - - - - - - - - - - - - - - - - / / / - - - - - - - - - - - - - - - - - - - - - - - - - - - - - - - - - - - - - - - - - - - - - - -\n- - - - - - - - - - - - - - - - - - - - - - - - - - - - - - - - - - - - - - - - - - - - - - - / / / - - - - - - - - - - - - - - - - - - - - - - - - - - - - - - - - - - - - - - - - - - - - - - -"}]
[22,null,{"$f":"IFERROR(VLOOKUP(D25,Nomenclature!$B$2:$C$196,2,0),\"\")","v":""},null,null,null,null,{"$f":"IF(C25=\"\",0,IF(SUMIFS($G$5:G25,$C$5:C25,C25)-SUMIFS($I$4:I24,$C$4:C24,C25)<0,0,SUMIFS($G$5:G25,$C$5:C25,C25)-SUMIFS($I$4:I24,$C$4:C24,C25)))","v":0},null,{"$f":"IF(C25=\"\",0,IF(C25=$C$4,SUMIFS($I$4:I24,$C$4:C24,C24),SUMIFS($I$4:I24,$C$4:C24,C25)))","v":0},0]
[23,null,{"$f":"IFERROR(VLOOKUP(D26,Nomenclature!$B$2:$C$196,2,0),\"\")","v":""},null,null,null,null,{"$f":"IF(C26=\"\",0,IF(SUMIFS($G$5:G26,$C$5:C26,C26)-SUMIFS($I$4:I25,$C$4:C25,C26)<0,0,SUMIFS($G$5:G26,$C$5:C26,C26)-SUMIFS($I$4:I25,$C$4:C25,C26)))","v":0},null,{"$f":"IF(C26=\"\",0,IF(C26=$C$4,SUMIFS($I$4:I25,$C$4:C25,C25),SUMIFS($I$4:I25,$C$4:C25,C26)))","v":0},0]
[24,null,{"$f":"IFERROR(VLOOKUP(D27,Nomenclature!$B$2:$C$196,2,0),\"\")","v":""},null,null,null,null,{"$f":"IF(C27=\"\",0,IF(SUMIFS($G$5:G27,$C$5:C27,C27)-SUMIFS($I$4:I26,$C$4:C26,C27)<0,0,SUMIFS($G$5:G27,$C$5:C27,C27)-SUMIFS($I$4:I26,$C$4:C26,C27)))","v":0},null,{"$f":"IF(C27=\"\",0,IF(C27=$C$4,SUMIFS($I$4:I26,$C$4:C26,C26),SUMIFS($I$4:I26,$C$4:C26,C27)))","v":0},0,null,null,null,"الصنف / الصنف الفرعي",null,null,null,null,null,null,null,"رخصة الالتزام\nالمفتوحة/المعدلة",null,null,null,"مجموع الالتزامات السابقة",null,null,null,"الرصيد\nالأولي",null,null,null,"الالتزام\nالمقترح",null,null,null,"الرصيد المتبقى"]
[25,null,{"$f":"IFERROR(VLOOKUP(D28,Nomenclature!$B$2:$C$196,2,0),\"\")","v":""},null,null,null,null,{"$f":"IF(C28=\"\",0,IF(SUMIFS($G$5:G28,$C$5:C28,C28)-SUMIFS($I$4:I27,$C$4:C27,C28)<0,0,SUMIFS($G$5:G28,$C$5:C28,C28)-SUMIFS($I$4:I27,$C$4:C27,C28)))","v":0},null,{"$f":"IF(C28=\"\",0,IF(C28=$C$4,SUMIFS($I$4:I27,$C$4:C27,C27),SUMIFS($I$4:I27,$C$4:C27,C28)))","v":0},0]
[26,null,{"$f":"IFERROR(VLOOKUP(D29,Nomenclature!$B$2:$C$196,2,0),\"\")","v":""},null,null,null,null,{"$f":"IF(C29=\"\",0,IF(SUMIFS($G$5:G29,$C$5:C29,C29)-SUMIFS($I$4:I28,$C$4:C28,C29)<0,0,SUMIFS($G$5:G29,$C$5:C29,C29)-SUMIFS($I$4:I28,$C$4:C28,C29)))","v":0},null,{"$f":"IF(C29=\"\",0,IF(C29=$C$4,SUMIFS($I$4:I28,$C$4:C28,C28),SUMIFS($I$4:I28,$C$4:C28,C29)))","v":0},0,null,null,null,"الصنف",null,null,null,{"$f":"C4","v":14000},null,null,null,{"$f":"SUM($F$4:INDIRECT(\"f\"&N1+3))","v":6500000},null,null,null,{"$f":"SUM($I$4:INDIRECT(\"i\"&N1+2))","v":0},null,null,null,{"$f":"W29-AA29","v":6500000},null,null,null,{"$f":"IF(S31=\"\",0,VLOOKUP(N1,A4:L103,9,0))","v":0},null,null,null,{"$f":"IF((AE29-AI29)<0,\"رصيد غير كاف\",AE29-AI29)","v":6500000}]
[27,null,{"$f":"IFERROR(VLOOKUP(D30,Nomenclature!$B$2:$C$196,2,0),\"\")","v":""},null,null,null,null,{"$f":"IF(C30=\"\",0,IF(SUMIFS($G$5:G30,$C$5:C30,C30)-SUMIFS($I$4:I29,$C$4:C29,C30)<0,0,SUMIFS($G$5:G30,$C$5:C30,C30)-SUMIFS($I$4:I29,$C$4:C29,C30)))","v":0},null,{"$f":"IF(C30=\"\",0,IF(C30=$C$4,SUMIFS($I$4:I29,$C$4:C29,C29),SUMIFS($I$4:I29,$C$4:C29,C30)))","v":0},0]
[28,null,{"$f":"IFERROR(VLOOKUP(D31,Nomenclature!$B$2:$C$196,2,0),\"\")","v":""},null,null,null,null,{"$f":"IF(C31=\"\",0,IF(SUMIFS($G$5:G31,$C$5:C31,C31)-SUMIFS($I$4:I30,$C$4:C30,C31)<0,0,SUMIFS($G$5:G31,$C$5:C31,C31)-SUMIFS($I$4:I30,$C$4:C30,C31)))","v":0},null,{"$f":"IF(C31=\"\",0,IF(C31=$C$4,SUMIFS($I$4:I30,$C$4:C30,C30),SUMIFS($I$4:I30,$C$4:C30,C31)))","v":0},0,null,null,null,"الصنف الفرعي",null,null,null,{"$f":"IF(IFERROR(VLOOKUP(N1,A4:L103,3,0),\"انتبه خطأ\")=S29,\"\",IFERROR(VLOOKUP(N1,A4:L103,3,0),\"انتبه خطأ\"))","v":""},null,null,null,{"$f":"IF(S31=\"\",\"\",VLOOKUP(N1,A4:L103,8,0))","v":""},null,null,null,{"$f":"IF(S31=\"\",\"\",VLOOKUP(N1,A4:L103,10,0))","v":""},null,null,null,{"$f":"IF(S31=\"\",\"\",W31-AA31)","v":""},null,null,null,{"$f":"IF(S31=\"\",\"\",VLOOKUP(N1,A4:L103,9,0))","v":""},null,null,null,{"$f":"IF(S31=\"\",\"\",IF((AE31-AI31)<0,\"رصيد غير كاف\",AE31-AI31))","v":""}]
[29,null,{"$f":"IFERROR(VLOOKUP(D32,Nomenclature!$B$2:$C$196,2,0),\"\")","v":""},null,null,null,null,{"$f":"IF(C32=\"\",0,IF(SUMIFS($G$5:G32,$C$5:C32,C32)-SUMIFS($I$4:I31,$C$4:C31,C32)<0,0,SUMIFS($G$5:G32,$C$5:C32,C32)-SUMIFS($I$4:I31,$C$4:C31,C32)))","v":0},null,{"$f":"IF(C32=\"\",0,IF(C32=$C$4,SUMIFS($I$4:I31,$C$4:C31,C31),SUMIFS($I$4:I31,$C$4:C31,C32)))","v":0},0]
[30,null,{"$f":"IFERROR(VLOOKUP(D33,Nomenclature!$B$2:$C$196,2,0),\"\")","v":""},null,null,null,null,{"$f":"IF(C33=\"\",0,IF(SUMIFS($G$5:G33,$C$5:C33,C33)-SUMIFS($I$4:I32,$C$4:C32,C33)<0,0,SUMIFS($G$5:G33,$C$5:C33,C33)-SUMIFS($I$4:I32,$C$4:C32,C33)))","v":0},null,{"$f":"IF(C33=\"\",0,IF(C33=$C$4,SUMIFS($I$4:I32,$C$4:C32,C32),SUMIFS($I$4:I32,$C$4:C32,C33)))","v":0},0]
[31,null,{"$f":"IFERROR(VLOOKUP(D34,Nomenclature!$B$2:$C$196,2,0),\"\")","v":""},null,null,null,null,{"$f":"IF(C34=\"\",0,IF(SUMIFS($G$5:G34,$C$5:C34,C34)-SUMIFS($I$4:I33,$C$4:C33,C34)<0,0,SUMIFS($G$5:G34,$C$5:C34,C34)-SUMIFS($I$4:I33,$C$4:C33,C34)))","v":0},null,{"$f":"IF(C34=\"\",0,IF(C34=$C$4,SUMIFS($I$4:I33,$C$4:C33,C33),SUMIFS($I$4:I33,$C$4:C33,C34)))","v":0},0,null,null,null,"موضوع الالتزام:"]
[32,null,{"$f":"IFERROR(VLOOKUP(D35,Nomenclature!$B$2:$C$196,2,0),\"\")","v":""},null,null,null,null,{"$f":"IF(C35=\"\",0,IF(SUMIFS($G$5:G35,$C$5:C35,C35)-SUMIFS($I$4:I34,$C$4:C34,C35)<0,0,SUMIFS($G$5:G35,$C$5:C35,C35)-SUMIFS($I$4:I34,$C$4:C34,C35)))","v":0},null,{"$f":"IF(C35=\"\",0,IF(C35=$C$4,SUMIFS($I$4:I34,$C$4:C34,C34),SUMIFS($I$4:I34,$C$4:C34,C35)))","v":0},0,null,null,null,{"$f":"IF(VLOOKUP(N1,A4:L203,5,0)=0,\"\",IFERROR(VLOOKUP(N1,A4:L203,5,0),\"انتبه خطأ\"))","v":"تكفل برخصة الالتزام المفتوحة لسنة 2023."}]
[33,null,{"$f":"IFERROR(VLOOKUP(D36,Nomenclature!$B$2:$C$196,2,0),\"\")","v":""},null,null,null,null,{"$f":"IF(C36=\"\",0,IF(SUMIFS($G$5:G36,$C$5:C36,C36)-SUMIFS($I$4:I35,$C$4:C35,C36)<0,0,SUMIFS($G$5:G36,$C$5:C36,C36)-SUMIFS($I$4:I35,$C$4:C35,C36)))","v":0},null,{"$f":"IF(C36=\"\",0,IF(C36=$C$4,SUMIFS($I$4:I35,$C$4:C35,C35),SUMIFS($I$4:I35,$C$4:C35,C36)))","v":0},0]
[34,null,{"$f":"IFERROR(VLOOKUP(D37,Nomenclature!$B$2:$C$196,2,0),\"\")","v":""},null,null,null,null,{"$f":"IF(C37=\"\",0,IF(SUMIFS($G$5:G37,$C$5:C37,C37)-SUMIFS($I$4:I36,$C$4:C36,C37)<0,0,SUMIFS($G$5:G37,$C$5:C37,C37)-SUMIFS($I$4:I36,$C$4:C36,C37)))","v":0},null,{"$f":"IF(C37=\"\",0,IF(C37=$C$4,SUMIFS($I$4:I36,$C$4:C36,C36),SUMIFS($I$4:I36,$C$4:C36,C37)))","v":0},0]
[35,null,{"$f":"IFERROR(VLOOKUP(D38,Nomenclature!$B$2:$C$196,2,0),\"\")","v":""},null,null,null,null,{"$f":"IF(C38=\"\",0,IF(SUMIFS($G$5:G38,$C$5:C38,C38)-SUMIFS($I$4:I37,$C$4:C37,C38)<0,0,SUMIFS($G$5:G38,$C$5:C38,C38)-SUMIFS($I$4:I37,$C$4:C37,C38)))","v":0},null,{"$f":"IF(C38=\"\",0,IF(C38=$C$4,SUMIFS($I$4:I37,$C$4:C37,C37),SUMIFS($I$4:I37,$C$4:C37,C38)))","v":0},0]
[36,null,{"$f":"IFERROR(VLOOKUP(D39,Nomenclature!$B$2:$C$196,2,0),\"\")","v":""},null,null,null,null,{"$f":"IF(C39=\"\",0,IF(SUMIFS($G$5:G39,$C$5:C39,C39)-SUMIFS($I$4:I38,$C$4:C38,C39)<0,0,SUMIFS($G$5:G39,$C$5:C39,C39)-SUMIFS($I$4:I38,$C$4:C38,C39)))","v":0},null,{"$f":"IF(C39=\"\",0,IF(C39=$C$4,SUMIFS($I$4:I38,$C$4:C38,C38),SUMIFS($I$4:I38,$C$4:C38,C39)))","v":0},0]
[37,null,{"$f":"IFERROR(VLOOKUP(D40,Nomenclature!$B$2:$C$196,2,0),\"\")","v":""},null,null,null,null,{"$f":"IF(C40=\"\",0,IF(SUMIFS($G$5:G40,$C$5:C40,C40)-SUMIFS($I$4:I39,$C$4:C39,C40)<0,0,SUMIFS($G$5:G40,$C$5:C40,C40)-SUMIFS($I$4:I39,$C$4:C39,C40)))","v":0},null,{"$f":"IF(C40=\"\",0,IF(C40=$C$4,SUMIFS($I$4:I39,$C$4:C39,C39),SUMIFS($I$4:I39,$C$4:C39,C40)))","v":0},0,null,null,null,"المبلغ بالحروف:",null,null,null,{"$f":"IFERROR(arretera(AI31),\"\")","v":""}]
[38,null,{"$f":"IFERROR(VLOOKUP(D41,Nomenclature!$B$2:$C$196,2,0),\"\")","v":""},null,null,null,null,{"$f":"IF(C41=\"\",0,IF(SUMIFS($G$5:G41,$C$5:C41,C41)-SUMIFS($I$4:I40,$C$4:C40,C41)<0,0,SUMIFS($G$5:G41,$C$5:C41,C41)-SUMIFS($I$4:I40,$C$4:C40,C41)))","v":0},null,{"$f":"IF(C41=\"\",0,IF(C41=$C$4,SUMIFS($I$4:I40,$C$4:C40,C40),SUMIFS($I$4:I40,$C$4:C40,C41)))","v":0},0]
[39,null,{"$f":"IFERROR(VLOOKUP(D42,Nomenclature!$B$2:$C$196,2,0),\"\")","v":""},null,null,null,null,{"$f":"IF(C42=\"\",0,IF(SUMIFS($G$5:G42,$C$5:C42,C42)-SUMIFS($I$4:I41,$C$4:C41,C42)<0,0,SUMIFS($G$5:G42,$C$5:C42,C42)-SUMIFS($I$4:I41,$C$4:C41,C42)))","v":0},null,{"$f":"IF(C42=\"\",0,IF(C42=$C$4,SUMIFS($I$4:I41,$C$4:C41,C41),SUMIFS($I$4:I41,$C$4:C41,C42)))","v":0},0]
[40,null,{"$f":"IFERROR(VLOOKUP(D43,Nomenclature!$B$2:$C$196,2,0),\"\")","v":""},null,null,null,null,{"$f":"IF(C43=\"\",0,IF(SUMIFS($G$5:G43,$C$5:C43,C43)-SUMIFS($I$4:I42,$C$4:C42,C43)<0,0,SUMIFS($G$5:G43,$C$5:C43,C43)-SUMIFS($I$4:I42,$C$4:C42,C43)))","v":0},null,{"$f":"IF(C43=\"\",0,IF(C43=$C$4,SUMIFS($I$4:I42,$C$4:C42,C42),SUMIFS($I$4:I42,$C$4:C42,C43)))","v":0},0,null,null,null,"إطار مخصص للمراقب الميزانياتي",null,null,null,null,null,null,null,null,null,null,null,null,null,"إطار مخصص للآمر بالصرف"]
[41,null,{"$f":"IFERROR(VLOOKUP(D44,Nomenclature!$B$2:$C$196,2,0),\"\")","v":""},null,null,null,null,{"$f":"IF(C44=\"\",0,IF(SUMIFS($G$5:G44,$C$5:C44,C44)-SUMIFS($I$4:I43,$C$4:C43,C44)<0,0,SUMIFS($G$5:G44,$C$5:C44,C44)-SUMIFS($I$4:I43,$C$4:C43,C44)))","v":0},null,{"$f":"IF(C44=\"\",0,IF(C44=$C$4,SUMIFS($I$4:I43,$C$4:C43,C43),SUMIFS($I$4:I43,$C$4:C43,C44)))","v":0},0]
[42,null,{"$f":"IFERROR(VLOOKUP(D45,Nomenclature!$B$2:$C$196,2,0),\"\")","v":""},null,null,null,null,{"$f":"IF(C45=\"\",0,IF(SUMIFS($G$5:G45,$C$5:C45,C45)-SUMIFS($I$4:I44,$C$4:C44,C45)<0,0,SUMIFS($G$5:G45,$C$5:C45,C45)-SUMIFS($I$4:I44,$C$4:C44,C45)))","v":0},null,{"$f":"IF(C45=\"\",0,IF(C45=$C$4,SUMIFS($I$4:I44,$C$4:C44,C44),SUMIFS($I$4:I44,$C$4:C44,C45)))","v":0},0,null,null,null,"رقم التأشيرة:",null,null,null,null,null,null,null,null,null,null,null,null,null,null,"ختم"]
[43,null,{"$f":"IFERROR(VLOOKUP(D46,Nomenclature!$B$2:$C$196,2,0),\"\")","v":""},null,null,null,null,{"$f":"IF(C46=\"\",0,IF(SUMIFS($G$5:G46,$C$5:C46,C46)-SUMIFS($I$4:I45,$C$4:C45,C46)<0,0,SUMIFS($G$5:G46,$C$5:C46,C46)-SUMIFS($I$4:I45,$C$4:C45,C46)))","v":0},null,{"$f":"IF(C46=\"\",0,IF(C46=$C$4,SUMIFS($I$4:I45,$C$4:C45,C45),SUMIFS($I$4:I45,$C$4:C45,C46)))","v":0},0]
[44,null,{"$f":"IFERROR(VLOOKUP(D47,Nomenclature!$B$2:$C$196,2,0),\"\")","v":""},null,null,null,null,{"$f":"IF(C47=\"\",0,IF(SUMIFS($G$5:G47,$C$5:C47,C47)-SUMIFS($I$4:I46,$C$4:C46,C47)<0,0,SUMIFS($G$5:G47,$C$5:C47,C47)-SUMIFS($I$4:I46,$C$4:C46,C47)))","v":0},null,{"$f":"IF(C47=\"\",0,IF(C47=$C$4,SUMIFS($I$4:I46,$C$4:C46,C46),SUMIFS($I$4:I46,$C$4:C46,C47)))","v":0},0,null,null,null,"تاريخ التأشيرة:"]
[45,null,{"$f":"IFERROR(VLOOKUP(D48,Nomenclature!$B$2:$C$196,2,0),\"\")","v":""},null,null,null,null,{"$f":"IF(C48=\"\",0,IF(SUMIFS($G$5:G48,$C$5:C48,C48)-SUMIFS($I$4:I47,$C$4:C47,C48)<0,0,SUMIFS($G$5:G48,$C$5:C48,C48)-SUMIFS($I$4:I47,$C$4:C47,C48)))","v":0},null,{"$f":"IF(C48=\"\",0,IF(C48=$C$4,SUMIFS($I$4:I47,$C$4:C47,C47),SUMIFS($I$4:I47,$C$4:C47,C48)))","v":0},0,null,null,null,null,null,null,null,null,null,null,null,null,null,null,null,null,null,null,"امضاء"]
[46,null,{"$f":"IFERROR(VLOOKUP(D49,Nomenclature!$B$2:$C$196,2,0),\"\")","v":""},null,null,null,null,{"$f":"IF(C49=\"\",0,IF(SUMIFS($G$5:G49,$C$5:C49,C49)-SUMIFS($I$4:I48,$C$4:C48,C49)<0,0,SUMIFS($G$5:G49,$C$5:C49,C49)-SUMIFS($I$4:I48,$C$4:C48,C49)))","v":0},null,{"$f":"IF(C49=\"\",0,IF(C49=$C$4,SUMIFS($I$4:I48,$C$4:C48,C48),SUMIFS($I$4:I48,$C$4:C48,C49)))","v":0},0]
[47,null,{"$f":"IFERROR(VLOOKUP(D50,Nomenclature!$B$2:$C$196,2,0),\"\")","v":""},null,null,null,null,{"$f":"IF(C50=\"\",0,IF(SUMIFS($G$5:G50,$C$5:C50,C50)-SUMIFS($I$4:I49,$C$4:C49,C50)<0,0,SUMIFS($G$5:G50,$C$5:C50,C50)-SUMIFS($I$4:I49,$C$4:C49,C50)))","v":0},null,{"$f":"IF(C50=\"\",0,IF(C50=$C$4,SUMIFS($I$4:I49,$C$4:C49,C49),SUMIFS($I$4:I49,$C$4:C49,C50)))","v":0},0]
[48,null,{"$f":"IFERROR(VLOOKUP(D51,Nomenclature!$B$2:$C$196,2,0),\"\")","v":""},null,null,null,null,{"$f":"IF(C51=\"\",0,IF(SUMIFS($G$5:G51,$C$5:C51,C51)-SUMIFS($I$4:I50,$C$4:C50,C51)<0,0,SUMIFS($G$5:G51,$C$5:C51,C51)-SUMIFS($I$4:I50,$C$4:C50,C51)))","v":0},null,{"$f":"IF(C51=\"\",0,IF(C51=$C$4,SUMIFS($I$4:I50,$C$4:C50,C50),SUMIFS($I$4:I50,$C$4:C50,C51)))","v":0},0,null,null,null,null,{"$f":"AD48","v":"امضاء"},null,null,null,null,null,null,null,{"$f":"AD45","v":"ختم"}]
[49,null,{"$f":"IFERROR(VLOOKUP(D52,Nomenclature!$B$2:$C$196,2,0),\"\")","v":""},null,null,null,null,{"$f":"IF(C52=\"\",0,IF(SUMIFS($G$5:G52,$C$5:C52,C52)-SUMIFS($I$4:I51,$C$4:C51,C52)<0,0,SUMIFS($G$5:G52,$C$5:C52,C52)-SUMIFS($I$4:I51,$C$4:C51,C52)))","v":0},null,{"$f":"IF(C52=\"\",0,IF(C52=$C$4,SUMIFS($I$4:I51,$C$4:C51,C51),SUMIFS($I$4:I51,$C$4:C51,C52)))","v":0},0]
[50,null,{"$f":"IFERROR(VLOOKUP(D53,Nomenclature!$B$2:$C$196,2,0),\"\")","v":""},null,null,null,null,{"$f":"IF(C53=\"\",0,IF(SUMIFS($G$5:G53,$C$5:C53,C53)-SUMIFS($I$4:I52,$C$4:C52,C53)<0,0,SUMIFS($G$5:G53,$C$5:C53,C53)-SUMIFS($I$4:I52,$C$4:C52,C53)))","v":0},null,{"$f":"IF(C53=\"\",0,IF(C53=$C$4,SUMIFS($I$4:I52,$C$4:C52,C52),SUMIFS($I$4:I52,$C$4:C52,C53)))","v":0},0]
[51,null,{"$f":"IFERROR(VLOOKUP(D54,Nomenclature!$B$2:$C$196,2,0),\"\")","v":""},null,null,null,null,{"$f":"IF(C54=\"\",0,IF(SUMIFS($G$5:G54,$C$5:C54,C54)-SUMIFS($I$4:I53,$C$4:C53,C54)<0,0,SUMIFS($G$5:G54,$C$5:C54,C54)-SUMIFS($I$4:I53,$C$4:C53,C54)))","v":0},null,{"$f":"IF(C54=\"\",0,IF(C54=$C$4,SUMIFS($I$4:I53,$C$4:C53,C53),SUMIFS($I$4:I53,$C$4:C53,C54)))","v":0},0]
[52,null,{"$f":"IFERROR(VLOOKUP(D55,Nomenclature!$B$2:$C$196,2,0),\"\")","v":""},null,null,null,null,{"$f":"IF(C55=\"\",0,IF(SUMIFS($G$5:G55,$C$5:C55,C55)-SUMIFS($I$4:I54,$C$4:C54,C55)<0,0,SUMIFS($G$5:G55,$C$5:C55,C55)-SUMIFS($I$4:I54,$C$4:C54,C55)))","v":0},null,{"$f":"IF(C55=\"\",0,IF(C55=$C$4,SUMIFS($I$4:I54,$C$4:C54,C54),SUMIFS($I$4:I54,$C$4:C54,C55)))","v":0},0]
[53,null,{"$f":"IFERROR(VLOOKUP(D56,Nomenclature!$B$2:$C$196,2,0),\"\")","v":""},null,null,null,null,{"$f":"IF(C56=\"\",0,IF(SUMIFS($G$5:G56,$C$5:C56,C56)-SUMIFS($I$4:I55,$C$4:C55,C56)<0,0,SUMIFS($G$5:G56,$C$5:C56,C56)-SUMIFS($I$4:I55,$C$4:C55,C56)))","v":0},null,{"$f":"IF(C56=\"\",0,IF(C56=$C$4,SUMIFS($I$4:I55,$C$4:C55,C55),SUMIFS($I$4:I55,$C$4:C55,C56)))","v":0},0]
[54,null,{"$f":"IFERROR(VLOOKUP(D57,Nomenclature!$B$2:$C$196,2,0),\"\")","v":""},null,null,null,null,{"$f":"IF(C57=\"\",0,IF(SUMIFS($G$5:G57,$C$5:C57,C57)-SUMIFS($I$4:I56,$C$4:C56,C57)<0,0,SUMIFS($G$5:G57,$C$5:C57,C57)-SUMIFS($I$4:I56,$C$4:C56,C57)))","v":0},null,{"$f":"IF(C57=\"\",0,IF(C57=$C$4,SUMIFS($I$4:I56,$C$4:C56,C56),SUMIFS($I$4:I56,$C$4:C56,C57)))","v":0},0]
[55,null,{"$f":"IFERROR(VLOOKUP(D58,Nomenclature!$B$2:$C$196,2,0),\"\")","v":""},null,null,null,null,{"$f":"IF(C58=\"\",0,IF(SUMIFS($G$5:G58,$C$5:C58,C58)-SUMIFS($I$4:I57,$C$4:C57,C58)<0,0,SUMIFS($G$5:G58,$C$5:C58,C58)-SUMIFS($I$4:I57,$C$4:C57,C58)))","v":0},null,{"$f":"IF(C58=\"\",0,IF(C58=$C$4,SUMIFS($I$4:I57,$C$4:C57,C57),SUMIFS($I$4:I57,$C$4:C57,C58)))","v":0},0]
[56,null,{"$f":"IFERROR(VLOOKUP(D59,Nomenclature!$B$2:$C$196,2,0),\"\")","v":""},null,null,null,null,{"$f":"IF(C59=\"\",0,IF(SUMIFS($G$5:G59,$C$5:C59,C59)-SUMIFS($I$4:I58,$C$4:C58,C59)<0,0,SUMIFS($G$5:G59,$C$5:C59,C59)-SUMIFS($I$4:I58,$C$4:C58,C59)))","v":0},null,{"$f":"IF(C59=\"\",0,IF(C59=$C$4,SUMIFS($I$4:I58,$C$4:C58,C58),SUMIFS($I$4:I58,$C$4:C58,C59)))","v":0},0]
[57,null,{"$f":"IFERROR(VLOOKUP(D60,Nomenclature!$B$2:$C$196,2,0),\"\")","v":""},null,null,null,null,{"$f":"IF(C60=\"\",0,IF(SUMIFS($G$5:G60,$C$5:C60,C60)-SUMIFS($I$4:I59,$C$4:C59,C60)<0,0,SUMIFS($G$5:G60,$C$5:C60,C60)-SUMIFS($I$4:I59,$C$4:C59,C60)))","v":0},null,{"$f":"IF(C60=\"\",0,IF(C60=$C$4,SUMIFS($I$4:I59,$C$4:C59,C59),SUMIFS($I$4:I59,$C$4:C59,C60)))","v":0},0]
[58,null,{"$f":"IFERROR(VLOOKUP(D61,Nomenclature!$B$2:$C$196,2,0),\"\")","v":""},null,null,null,null,{"$f":"IF(C61=\"\",0,IF(SUMIFS($G$5:G61,$C$5:C61,C61)-SUMIFS($I$4:I60,$C$4:C60,C61)<0,0,SUMIFS($G$5:G61,$C$5:C61,C61)-SUMIFS($I$4:I60,$C$4:C60,C61)))","v":0},null,{"$f":"IF(C61=\"\",0,IF(C61=$C$4,SUMIFS($I$4:I60,$C$4:C60,C60),SUMIFS($I$4:I60,$C$4:C60,C61)))","v":0},0]
[59,null,{"$f":"IFERROR(VLOOKUP(D62,Nomenclature!$B$2:$C$196,2,0),\"\")","v":""},null,null,null,null,{"$f":"IF(C62=\"\",0,IF(SUMIFS($G$5:G62,$C$5:C62,C62)-SUMIFS($I$4:I61,$C$4:C61,C62)<0,0,SUMIFS($G$5:G62,$C$5:C62,C62)-SUMIFS($I$4:I61,$C$4:C61,C62)))","v":0},null,{"$f":"IF(C62=\"\",0,IF(C62=$C$4,SUMIFS($I$4:I61,$C$4:C61,C61),SUMIFS($I$4:I61,$C$4:C61,C62)))","v":0},0]
[60,null,{"$f":"IFERROR(VLOOKUP(D63,Nomenclature!$B$2:$C$196,2,0),\"\")","v":""},null,null,null,null,{"$f":"IF(C63=\"\",0,IF(SUMIFS($G$5:G63,$C$5:C63,C63)-SUMIFS($I$4:I62,$C$4:C62,C63)<0,0,SUMIFS($G$5:G63,$C$5:C63,C63)-SUMIFS($I$4:I62,$C$4:C62,C63)))","v":0},null,{"$f":"IF(C63=\"\",0,IF(C63=$C$4,SUMIFS($I$4:I62,$C$4:C62,C62),SUMIFS($I$4:I62,$C$4:C62,C63)))","v":0},0]
[61,null,{"$f":"IFERROR(VLOOKUP(D64,Nomenclature!$B$2:$C$196,2,0),\"\")","v":""},null,null,null,null,{"$f":"IF(C64=\"\",0,IF(SUMIFS($G$5:G64,$C$5:C64,C64)-SUMIFS($I$4:I63,$C$4:C63,C64)<0,0,SUMIFS($G$5:G64,$C$5:C64,C64)-SUMIFS($I$4:I63,$C$4:C63,C64)))","v":0},null,{"$f":"IF(C64=\"\",0,IF(C64=$C$4,SUMIFS($I$4:I63,$C$4:C63,C63),SUMIFS($I$4:I63,$C$4:C63,C64)))","v":0},0]
[62,null,{"$f":"IFERROR(VLOOKUP(D65,Nomenclature!$B$2:$C$196,2,0),\"\")","v":""},null,null,null,null,{"$f":"IF(C65=\"\",0,IF(SUMIFS($G$5:G65,$C$5:C65,C65)-SUMIFS($I$4:I64,$C$4:C64,C65)<0,0,SUMIFS($G$5:G65,$C$5:C65,C65)-SUMIFS($I$4:I64,$C$4:C64,C65)))","v":0},null,{"$f":"IF(C65=\"\",0,IF(C65=$C$4,SUMIFS($I$4:I64,$C$4:C64,C64),SUMIFS($I$4:I64,$C$4:C64,C65)))","v":0},0]
[63,null,{"$f":"IFERROR(VLOOKUP(D66,Nomenclature!$B$2:$C$196,2,0),\"\")","v":""},null,null,null,null,{"$f":"IF(C66=\"\",0,IF(SUMIFS($G$5:G66,$C$5:C66,C66)-SUMIFS($I$4:I65,$C$4:C65,C66)<0,0,SUMIFS($G$5:G66,$C$5:C66,C66)-SUMIFS($I$4:I65,$C$4:C65,C66)))","v":0},null,{"$f":"IF(C66=\"\",0,IF(C66=$C$4,SUMIFS($I$4:I65,$C$4:C65,C65),SUMIFS($I$4:I65,$C$4:C65,C66)))","v":0},0]
[64,null,{"$f":"IFERROR(VLOOKUP(D67,Nomenclature!$B$2:$C$196,2,0),\"\")","v":""},null,null,null,null,{"$f":"IF(C67=\"\",0,IF(SUMIFS($G$5:G67,$C$5:C67,C67)-SUMIFS($I$4:I66,$C$4:C66,C67)<0,0,SUMIFS($G$5:G67,$C$5:C67,C67)-SUMIFS($I$4:I66,$C$4:C66,C67)))","v":0},null,{"$f":"IF(C67=\"\",0,IF(C67=$C$4,SUMIFS($I$4:I66,$C$4:C66,C66),SUMIFS($I$4:I66,$C$4:C66,C67)))","v":0},0]
[65,null,{"$f":"IFERROR(VLOOKUP(D68,Nomenclature!$B$2:$C$196,2,0),\"\")","v":""},null,null,null,null,{"$f":"IF(C68=\"\",0,IF(SUMIFS($G$5:G68,$C$5:C68,C68)-SUMIFS($I$4:I67,$C$4:C67,C68)<0,0,SUMIFS($G$5:G68,$C$5:C68,C68)-SUMIFS($I$4:I67,$C$4:C67,C68)))","v":0},null,{"$f":"IF(C68=\"\",0,IF(C68=$C$4,SUMIFS($I$4:I67,$C$4:C67,C67),SUMIFS($I$4:I67,$C$4:C67,C68)))","v":0},{"$f":"IF(C68=\"\",0,H68-I68)","v":0}]
[66,null,{"$f":"IFERROR(VLOOKUP(D69,Nomenclature!$B$2:$C$196,2,0),\"\")","v":""},null,null,null,null,{"$f":"IF(C69=\"\",0,IF(SUMIFS($G$5:G69,$C$5:C69,C69)-SUMIFS($I$4:I68,$C$4:C68,C69)<0,0,SUMIFS($G$5:G69,$C$5:C69,C69)-SUMIFS($I$4:I68,$C$4:C68,C69)))","v":0},null,{"$f":"IF(C69=\"\",0,IF(C69=$C$4,SUMIFS($I$4:I68,$C$4:C68,C68),SUMIFS($I$4:I68,$C$4:C68,C69)))","v":0},0]
[67,null,{"$f":"IFERROR(VLOOKUP(D70,Nomenclature!$B$2:$C$196,2,0),\"\")","v":""},null,null,null,null,{"$f":"IF(C70=\"\",0,IF(SUMIFS($G$5:G70,$C$5:C70,C70)-SUMIFS($I$4:I69,$C$4:C69,C70)<0,0,SUMIFS($G$5:G70,$C$5:C70,C70)-SUMIFS($I$4:I69,$C$4:C69,C70)))","v":0},null,{"$f":"IF(C70=\"\",0,IF(C70=$C$4,SUMIFS($I$4:I69,$C$4:C69,C69),SUMIFS($I$4:I69,$C$4:C69,C70)))","v":0},0]
[68,null,{"$f":"IFERROR(VLOOKUP(D71,Nomenclature!$B$2:$C$196,2,0),\"\")","v":""},null,null,null,null,{"$f":"IF(C71=\"\",0,IF(SUMIFS($G$5:G71,$C$5:C71,C71)-SUMIFS($I$4:I70,$C$4:C70,C71)<0,0,SUMIFS($G$5:G71,$C$5:C71,C71)-SUMIFS($I$4:I70,$C$4:C70,C71)))","v":0},null,{"$f":"IF(C71=\"\",0,IF(C71=$C$4,SUMIFS($I$4:I70,$C$4:C70,C70),SUMIFS($I$4:I70,$C$4:C70,C71)))","v":0},0]
[69,null,{"$f":"IFERROR(VLOOKUP(D72,Nomenclature!$B$2:$C$196,2,0),\"\")","v":""},null,null,null,null,{"$f":"IF(C72=\"\",0,IF(SUMIFS($G$5:G72,$C$5:C72,C72)-SUMIFS($I$4:I71,$C$4:C71,C72)<0,0,SUMIFS($G$5:G72,$C$5:C72,C72)-SUMIFS($I$4:I71,$C$4:C71,C72)))","v":0},null,{"$f":"IF(C72=\"\",0,IF(C72=$C$4,SUMIFS($I$4:I71,$C$4:C71,C71),SUMIFS($I$4:I71,$C$4:C71,C72)))","v":0},0]
[70,null,{"$f":"IFERROR(VLOOKUP(D73,Nomenclature!$B$2:$C$196,2,0),\"\")","v":""},null,null,null,null,{"$f":"IF(C73=\"\",0,IF(SUMIFS($G$5:G73,$C$5:C73,C73)-SUMIFS($I$4:I72,$C$4:C72,C73)<0,0,SUMIFS($G$5:G73,$C$5:C73,C73)-SUMIFS($I$4:I72,$C$4:C72,C73)))","v":0},null,{"$f":"IF(C73=\"\",0,IF(C73=$C$4,SUMIFS($I$4:I72,$C$4:C72,C72),SUMIFS($I$4:I72,$C$4:C72,C73)))","v":0},0]
[71,null,{"$f":"IFERROR(VLOOKUP(D74,Nomenclature!$B$2:$C$196,2,0),\"\")","v":""},null,null,null,null,{"$f":"IF(C74=\"\",0,IF(SUMIFS($G$5:G74,$C$5:C74,C74)-SUMIFS($I$4:I73,$C$4:C73,C74)<0,0,SUMIFS($G$5:G74,$C$5:C74,C74)-SUMIFS($I$4:I73,$C$4:C73,C74)))","v":0},null,{"$f":"IF(C74=\"\",0,IF(C74=$C$4,SUMIFS($I$4:I73,$C$4:C73,C73),SUMIFS($I$4:I73,$C$4:C73,C74)))","v":0},0]
[72,null,{"$f":"IFERROR(VLOOKUP(D75,Nomenclature!$B$2:$C$196,2,0),\"\")","v":""},null,null,null,null,{"$f":"IF(C75=\"\",0,IF(SUMIFS($G$5:G75,$C$5:C75,C75)-SUMIFS($I$4:I74,$C$4:C74,C75)<0,0,SUMIFS($G$5:G75,$C$5:C75,C75)-SUMIFS($I$4:I74,$C$4:C74,C75)))","v":0},null,{"$f":"IF(C75=\"\",0,IF(C75=$C$4,SUMIFS($I$4:I74,$C$4:C74,C74),SUMIFS($I$4:I74,$C$4:C74,C75)))","v":0},0]
[73,null,{"$f":"IFERROR(VLOOKUP(D76,Nomenclature!$B$2:$C$196,2,0),\"\")","v":""},null,null,null,null,{"$f":"IF(C76=\"\",0,IF(SUMIFS($G$5:G76,$C$5:C76,C76)-SUMIFS($I$4:I75,$C$4:C75,C76)<0,0,SUMIFS($G$5:G76,$C$5:C76,C76)-SUMIFS($I$4:I75,$C$4:C75,C76)))","v":0},null,{"$f":"IF(C76=\"\",0,IF(C76=$C$4,SUMIFS($I$4:I75,$C$4:C75,C75),SUMIFS($I$4:I75,$C$4:C75,C76)))","v":0},0]
[74,null,{"$f":"IFERROR(VLOOKUP(D77,Nomenclature!$B$2:$C$196,2,0),\"\")","v":""},null,null,null,null,{"$f":"IF(C77=\"\",0,IF(SUMIFS($G$5:G77,$C$5:C77,C77)-SUMIFS($I$4:I76,$C$4:C76,C77)<0,0,SUMIFS($G$5:G77,$C$5:C77,C77)-SUMIFS($I$4:I76,$C$4:C76,C77)))","v":0},null,{"$f":"IF(C77=\"\",0,IF(C77=$C$4,SUMIFS($I$4:I76,$C$4:C76,C76),SUMIFS($I$4:I76,$C$4:C76,C77)))","v":0},0]
[75,null,{"$f":"IFERROR(VLOOKUP(D78,Nomenclature!$B$2:$C$196,2,0),\"\")","v":""},null,null,null,null,{"$f":"IF(C78=\"\",0,IF(SUMIFS($G$5:G78,$C$5:C78,C78)-SUMIFS($I$4:I77,$C$4:C77,C78)<0,0,SUMIFS($G$5:G78,$C$5:C78,C78)-SUMIFS($I$4:I77,$C$4:C77,C78)))","v":0},null,{"$f":"IF(C78=\"\",0,IF(C78=$C$4,SUMIFS($I$4:I77,$C$4:C77,C77),SUMIFS($I$4:I77,$C$4:C77,C78)))","v":0},0]
[76,null,{"$f":"IFERROR(VLOOKUP(D79,Nomenclature!$B$2:$C$196,2,0),\"\")","v":""},null,null,null,null,{"$f":"IF(C79=\"\",0,IF(SUMIFS($G$5:G79,$C$5:C79,C79)-SUMIFS($I$4:I78,$C$4:C78,C79)<0,0,SUMIFS($G$5:G79,$C$5:C79,C79)-SUMIFS($I$4:I78,$C$4:C78,C79)))","v":0},null,{"$f":"IF(C79=\"\",0,IF(C79=$C$4,SUMIFS($I$4:I78,$C$4:C78,C78),SUMIFS($I$4:I78,$C$4:C78,C79)))","v":0},0]
[77,null,{"$f":"IFERROR(VLOOKUP(D80,Nomenclature!$B$2:$C$196,2,0),\"\")","v":""},null,null,null,null,{"$f":"IF(C80=\"\",0,IF(SUMIFS($G$5:G80,$C$5:C80,C80)-SUMIFS($I$4:I79,$C$4:C79,C80)<0,0,SUMIFS($G$5:G80,$C$5:C80,C80)-SUMIFS($I$4:I79,$C$4:C79,C80)))","v":0},null,{"$f":"IF(C80=\"\",0,IF(C80=$C$4,SUMIFS($I$4:I79,$C$4:C79,C79),SUMIFS($I$4:I79,$C$4:C79,C80)))","v":0},0]
[78,null,{"$f":"IFERROR(VLOOKUP(D81,Nomenclature!$B$2:$C$196,2,0),\"\")","v":""},null,null,null,null,{"$f":"IF(C81=\"\",0,IF(SUMIFS($G$5:G81,$C$5:C81,C81)-SUMIFS($I$4:I80,$C$4:C80,C81)<0,0,SUMIFS($G$5:G81,$C$5:C81,C81)-SUMIFS($I$4:I80,$C$4:C80,C81)))","v":0},null,{"$f":"IF(C81=\"\",0,IF(C81=$C$4,SUMIFS($I$4:I80,$C$4:C80,C80),SUMIFS($I$4:I80,$C$4:C80,C81)))","v":0},0]
[79,null,{"$f":"IFERROR(VLOOKUP(D82,Nomenclature!$B$2:$C$196,2,0),\"\")","v":""},null,null,null,null,{"$f":"IF(C82=\"\",0,IF(SUMIFS($G$5:G82,$C$5:C82,C82)-SUMIFS($I$4:I81,$C$4:C81,C82)<0,0,SUMIFS($G$5:G82,$C$5:C82,C82)-SUMIFS($I$4:I81,$C$4:C81,C82)))","v":0},null,{"$f":"IF(C82=\"\",0,IF(C82=$C$4,SUMIFS($I$4:I81,$C$4:C81,C81),SUMIFS($I$4:I81,$C$4:C81,C82)))","v":0},0]
[80,null,{"$f":"IFERROR(VLOOKUP(D83,Nomenclature!$B$2:$C$196,2,0),\"\")","v":""},null,null,null,null,{"$f":"IF(C83=\"\",0,IF(SUMIFS($G$5:G83,$C$5:C83,C83)-SUMIFS($I$4:I82,$C$4:C82,C83)<0,0,SUMIFS($G$5:G83,$C$5:C83,C83)-SUMIFS($I$4:I82,$C$4:C82,C83)))","v":0},null,{"$f":"IF(C83=\"\",0,IF(C83=$C$4,SUMIFS($I$4:I82,$C$4:C82,C82),SUMIFS($I$4:I82,$C$4:C82,C83)))","v":0},0]
[81,null,{"$f":"IFERROR(VLOOKUP(D84,Nomenclature!$B$2:$C$196,2,0),\"\")","v":""},null,null,null,null,{"$f":"IF(C84=\"\",0,IF(SUMIFS($G$5:G84,$C$5:C84,C84)-SUMIFS($I$4:I83,$C$4:C83,C84)<0,0,SUMIFS($G$5:G84,$C$5:C84,C84)-SUMIFS($I$4:I83,$C$4:C83,C84)))","v":0},null,{"$f":"IF(C84=\"\",0,IF(C84=$C$4,SUMIFS($I$4:I83,$C$4:C83,C83),SUMIFS($I$4:I83,$C$4:C83,C84)))","v":0},0]
[82,null,{"$f":"IFERROR(VLOOKUP(D85,Nomenclature!$B$2:$C$196,2,0),\"\")","v":""},null,null,null,null,{"$f":"IF(C85=\"\",0,IF(SUMIFS($G$5:G85,$C$5:C85,C85)-SUMIFS($I$4:I84,$C$4:C84,C85)<0,0,SUMIFS($G$5:G85,$C$5:C85,C85)-SUMIFS($I$4:I84,$C$4:C84,C85)))","v":0},null,{"$f":"IF(C85=\"\",0,IF(C85=$C$4,SUMIFS($I$4:I84,$C$4:C84,C84),SUMIFS($I$4:I84,$C$4:C84,C85)))","v":0},0]
[83,null,{"$f":"IFERROR(VLOOKUP(D86,Nomenclature!$B$2:$C$196,2,0),\"\")","v":""},null,null,null,null,{"$f":"IF(C86=\"\",0,IF(SUMIFS($G$5:G86,$C$5:C86,C86)-SUMIFS($I$4:I85,$C$4:C85,C86)<0,0,SUMIFS($G$5:G86,$C$5:C86,C86)-SUMIFS($I$4:I85,$C$4:C85,C86)))","v":0},null,{"$f":"IF(C86=\"\",0,IF(C86=$C$4,SUMIFS($I$4:I85,$C$4:C85,C85),SUMIFS($I$4:I85,$C$4:C85,C86)))","v":0},0]
[84,null,{"$f":"IFERROR(VLOOKUP(D87,Nomenclature!$B$2:$C$196,2,0),\"\")","v":""},null,null,null,null,{"$f":"IF(C87=\"\",0,IF(SUMIFS($G$5:G87,$C$5:C87,C87)-SUMIFS($I$4:I86,$C$4:C86,C87)<0,0,SUMIFS($G$5:G87,$C$5:C87,C87)-SUMIFS($I$4:I86,$C$4:C86,C87)))","v":0},null,{"$f":"IF(C87=\"\",0,IF(C87=$C$4,SUMIFS($I$4:I86,$C$4:C86,C86),SUMIFS($I$4:I86,$C$4:C86,C87)))","v":0},0]
[85,null,{"$f":"IFERROR(VLOOKUP(D88,Nomenclature!$B$2:$C$196,2,0),\"\")","v":""},null,null,null,null,{"$f":"IF(C88=\"\",0,IF(SUMIFS($G$5:G88,$C$5:C88,C88)-SUMIFS($I$4:I87,$C$4:C87,C88)<0,0,SUMIFS($G$5:G88,$C$5:C88,C88)-SUMIFS($I$4:I87,$C$4:C87,C88)))","v":0},null,{"$f":"IF(C88=\"\",0,IF(C88=$C$4,SUMIFS($I$4:I87,$C$4:C87,C87),SUMIFS($I$4:I87,$C$4:C87,C88)))","v":0},0]
[86,null,{"$f":"IFERROR(VLOOKUP(D89,Nomenclature!$B$2:$C$196,2,0),\"\")","v":""},null,null,null,null,{"$f":"IF(C89=\"\",0,IF(SUMIFS($G$5:G89,$C$5:C89,C89)-SUMIFS($I$4:I88,$C$4:C88,C89)<0,0,SUMIFS($G$5:G89,$C$5:C89,C89)-SUMIFS($I$4:I88,$C$4:C88,C89)))","v":0},null,{"$f":"IF(C89=\"\",0,IF(C89=$C$4,SUMIFS($I$4:I88,$C$4:C88,C88),SUMIFS($I$4:I88,$C$4:C88,C89)))","v":0},0]
[87,null,{"$f":"IFERROR(VLOOKUP(D90,Nomenclature!$B$2:$C$196,2,0),\"\")","v":""},null,null,null,null,{"$f":"IF(C90=\"\",0,IF(SUMIFS($G$5:G90,$C$5:C90,C90)-SUMIFS($I$4:I89,$C$4:C89,C90)<0,0,SUMIFS($G$5:G90,$C$5:C90,C90)-SUMIFS($I$4:I89,$C$4:C89,C90)))","v":0},null,{"$f":"IF(C90=\"\",0,IF(C90=$C$4,SUMIFS($I$4:I89,$C$4:C89,C89),SUMIFS($I$4:I89,$C$4:C89,C90)))","v":0},0]
[88,null,{"$f":"IFERROR(VLOOKUP(D91,Nomenclature!$B$2:$C$196,2,0),\"\")","v":""},null,null,null,null,{"$f":"IF(C91=\"\",0,IF(SUMIFS($G$5:G91,$C$5:C91,C91)-SUMIFS($I$4:I90,$C$4:C90,C91)<0,0,SUMIFS($G$5:G91,$C$5:C91,C91)-SUMIFS($I$4:I90,$C$4:C90,C91)))","v":0},null,{"$f":"IF(C91=\"\",0,IF(C91=$C$4,SUMIFS($I$4:I90,$C$4:C90,C90),SUMIFS($I$4:I90,$C$4:C90,C91)))","v":0},0]
[89,null,{"$f":"IFERROR(VLOOKUP(D92,Nomenclature!$B$2:$C$196,2,0),\"\")","v":""},null,null,null,null,{"$f":"IF(C92=\"\",0,IF(SUMIFS($G$5:G92,$C$5:C92,C92)-SUMIFS($I$4:I91,$C$4:C91,C92)<0,0,SUMIFS($G$5:G92,$C$5:C92,C92)-SUMIFS($I$4:I91,$C$4:C91,C92)))","v":0},null,{"$f":"IF(C92=\"\",0,IF(C92=$C$4,SUMIFS($I$4:I91,$C$4:C91,C91),SUMIFS($I$4:I91,$C$4:C91,C92)))","v":0},0]
[90,null,{"$f":"IFERROR(VLOOKUP(D93,Nomenclature!$B$2:$C$196,2,0),\"\")","v":""},null,null,null,null,{"$f":"IF(C93=\"\",0,IF(SUMIFS($G$5:G93,$C$5:C93,C93)-SUMIFS($I$4:I92,$C$4:C92,C93)<0,0,SUMIFS($G$5:G93,$C$5:C93,C93)-SUMIFS($I$4:I92,$C$4:C92,C93)))","v":0},null,{"$f":"IF(C93=\"\",0,IF(C93=$C$4,SUMIFS($I$4:I92,$C$4:C92,C92),SUMIFS($I$4:I92,$C$4:C92,C93)))","v":0},0]
[91,null,{"$f":"IFERROR(VLOOKUP(D94,Nomenclature!$B$2:$C$196,2,0),\"\")","v":""},null,null,null,null,{"$f":"IF(C94=\"\",0,IF(SUMIFS($G$5:G94,$C$5:C94,C94)-SUMIFS($I$4:I93,$C$4:C93,C94)<0,0,SUMIFS($G$5:G94,$C$5:C94,C94)-SUMIFS($I$4:I93,$C$4:C93,C94)))","v":0},null,{"$f":"IF(C94=\"\",0,IF(C94=$C$4,SUMIFS($I$4:I93,$C$4:C93,C93),SUMIFS($I$4:I93,$C$4:C93,C94)))","v":0},0]
[92,null,{"$f":"IFERROR(VLOOKUP(D95,Nomenclature!$B$2:$C$196,2,0),\"\")","v":""},null,null,null,null,{"$f":"IF(C95=\"\",0,IF(SUMIFS($G$5:G95,$C$5:C95,C95)-SUMIFS($I$4:I94,$C$4:C94,C95)<0,0,SUMIFS($G$5:G95,$C$5:C95,C95)-SUMIFS($I$4:I94,$C$4:C94,C95)))","v":0},null,{"$f":"IF(C95=\"\",0,IF(C95=$C$4,SUMIFS($I$4:I94,$C$4:C94,C94),SUMIFS($I$4:I94,$C$4:C94,C95)))","v":0},0]
[93,null,{"$f":"IFERROR(VLOOKUP(D96,Nomenclature!$B$2:$C$196,2,0),\"\")","v":""},null,null,null,null,{"$f":"IF(C96=\"\",0,IF(SUMIFS($G$5:G96,$C$5:C96,C96)-SUMIFS($I$4:I95,$C$4:C95,C96)<0,0,SUMIFS($G$5:G96,$C$5:C96,C96)-SUMIFS($I$4:I95,$C$4:C95,C96)))","v":0},null,{"$f":"IF(C96=\"\",0,IF(C96=$C$4,SUMIFS($I$4:I95,$C$4:C95,C95),SUMIFS($I$4:I95,$C$4:C95,C96)))","v":0},0]
[94,null,{"$f":"IFERROR(VLOOKUP(D97,Nomenclature!$B$2:$C$196,2,0),\"\")","v":""},null,null,null,null,{"$f":"IF(C97=\"\",0,IF(SUMIFS($G$5:G97,$C$5:C97,C97)-SUMIFS($I$4:I96,$C$4:C96,C97)<0,0,SUMIFS($G$5:G97,$C$5:C97,C97)-SUMIFS($I$4:I96,$C$4:C96,C97)))","v":0},null,{"$f":"IF(C97=\"\",0,IF(C97=$C$4,SUMIFS($I$4:I96,$C$4:C96,C96),SUMIFS($I$4:I96,$C$4:C96,C97)))","v":0},0]
[95,null,{"$f":"IFERROR(VLOOKUP(D98,Nomenclature!$B$2:$C$196,2,0),\"\")","v":""},null,null,null,null,{"$f":"IF(C98=\"\",0,IF(SUMIFS($G$5:G98,$C$5:C98,C98)-SUMIFS($I$4:I97,$C$4:C97,C98)<0,0,SUMIFS($G$5:G98,$C$5:C98,C98)-SUMIFS($I$4:I97,$C$4:C97,C98)))","v":0},null,{"$f":"IF(C98=\"\",0,IF(C98=$C$4,SUMIFS($I$4:I97,$C$4:C97,C97),SUMIFS($I$4:I97,$C$4:C97,C98)))","v":0},0]
[96,null,{"$f":"IFERROR(VLOOKUP(D99,Nomenclature!$B$2:$C$196,2,0),\"\")","v":""},null,null,null,null,{"$f":"IF(C99=\"\",0,IF(SUMIFS($G$5:G99,$C$5:C99,C99)-SUMIFS($I$4:I98,$C$4:C98,C99)<0,0,SUMIFS($G$5:G99,$C$5:C99,C99)-SUMIFS($I$4:I98,$C$4:C98,C99)))","v":0},null,{"$f":"IF(C99=\"\",0,IF(C99=$C$4,SUMIFS($I$4:I98,$C$4:C98,C98),SUMIFS($I$4:I98,$C$4:C98,C99)))","v":0},0]
[97,null,{"$f":"IFERROR(VLOOKUP(D100,Nomenclature!$B$2:$C$196,2,0),\"\")","v":""},null,null,null,null,{"$f":"IF(C100=\"\",0,IF(SUMIFS($G$5:G100,$C$5:C100,C100)-SUMIFS($I$4:I99,$C$4:C99,C100)<0,0,SUMIFS($G$5:G100,$C$5:C100,C100)-SUMIFS($I$4:I99,$C$4:C99,C100)))","v":0},null,{"$f":"IF(C100=\"\",0,IF(C100=$C$4,SUMIFS($I$4:I99,$C$4:C99,C99),SUMIFS($I$4:I99,$C$4:C99,C100)))","v":0},0]
[98,null,{"$f":"IFERROR(VLOOKUP(D101,Nomenclature!$B$2:$C$196,2,0),\"\")","v":""},null,null,null,null,{"$f":"IF(C101=\"\",0,IF(SUMIFS($G$5:G101,$C$5:C101,C101)-SUMIFS($I$4:I100,$C$4:C100,C101)<0,0,SUMIFS($G$5:G101,$C$5:C101,C101)-SUMIFS($I$4:I100,$C$4:C100,C101)))","v":0},null,{"$f":"IF(C101=\"\",0,IF(C101=$C$4,SUMIFS($I$4:I100,$C$4:C100,C100),SUMIFS($I$4:I100,$C$4:C100,C101)))","v":0},0]
[99,null,{"$f":"IFERROR(VLOOKUP(D102,Nomenclature!$B$2:$C$196,2,0),\"\")","v":""},null,null,null,null,{"$f":"IF(C102=\"\",0,IF(SUMIFS($G$5:G102,$C$5:C102,C102)-SUMIFS($I$4:I101,$C$4:C101,C102)<0,0,SUMIFS($G$5:G102,$C$5:C102,C102)-SUMIFS($I$4:I101,$C$4:C101,C102)))","v":0},null,{"$f":"IF(C102=\"\",0,IF(C102=$C$4,SUMIFS($I$4:I101,$C$4:C101,C101),SUMIFS($I$4:I101,$C$4:C101,C102)))","v":0},0]
[100,null,{"$f":"IFERROR(VLOOKUP(D103,Nomenclature!$B$2:$C$196,2,0),\"\")","v":""},null,null,null,null,{"$f":"IF(C103=\"\",0,IF(SUMIFS($G$5:G103,$C$5:C103,C103)-SUMIFS($I$4:I102,$C$4:C102,C103)<0,0,SUMIFS($G$5:G103,$C$5:C103,C103)-SUMIFS($I$4:I102,$C$4:C102,C103)))","v":0},null,{"$f":"IF(C103=\"\",0,IF(C103=$C$4,SUMIFS($I$4:I102,$C$4:C102,C102),SUMIFS($I$4:I102,$C$4:C102,C103)))","v":0},0]
[101,null,{"$f":"IFERROR(VLOOKUP(D104,Nomenclature!$B$2:$C$196,2,0),\"\")","v":""},null,null,null,null,{"$f":"IF(C104=\"\",0,IF(SUMIFS($G$5:G104,$C$5:C104,C104)-SUMIFS($I$4:I103,$C$4:C103,C104)<0,0,SUMIFS($G$5:G104,$C$5:C104,C104)-SUMIFS($I$4:I103,$C$4:C103,C104)))","v":0},null,{"$f":"IF(C104=\"\",0,IF(C104=$C$4,SUMIFS($I$4:I103,$C$4:C103,C103),SUMIFS($I$4:I103,$C$4:C103,C104)))","v":0},0]
[102,null,{"$f":"IFERROR(VLOOKUP(D105,Nomenclature!$B$2:$C$196,2,0),\"\")","v":""},null,null,null,null,{"$f":"IF(C105=\"\",0,IF(SUMIFS($G$5:G105,$C$5:C105,C105)-SUMIFS($I$4:I104,$C$4:C104,C105)<0,0,SUMIFS($G$5:G105,$C$5:C105,C105)-SUMIFS($I$4:I104,$C$4:C104,C105)))","v":0},null,{"$f":"IF(C105=\"\",0,IF(C105=$C$4,SUMIFS($I$4:I104,$C$4:C104,C104),SUMIFS($I$4:I104,$C$4:C104,C105)))","v":0},0]
[103,null,{"$f":"IFERROR(VLOOKUP(D106,Nomenclature!$B$2:$C$196,2,0),\"\")","v":""},null,null,null,null,{"$f":"IF(C106=\"\",0,IF(SUMIFS($G$5:G106,$C$5:C106,C106)-SUMIFS($I$4:I105,$C$4:C105,C106)<0,0,SUMIFS($G$5:G106,$C$5:C106,C106)-SUMIFS($I$4:I105,$C$4:C105,C106)))","v":0},null,{"$f":"IF(C106=\"\",0,IF(C106=$C$4,SUMIFS($I$4:I105,$C$4:C105,C105),SUMIFS($I$4:I105,$C$4:C105,C106)))","v":0},0]
[104,null,{"$f":"IFERROR(VLOOKUP(D107,Nomenclature!$B$2:$C$196,2,0),\"\")","v":""},null,null,null,null,{"$f":"IF(C107=\"\",0,IF(SUMIFS($G$5:G107,$C$5:C107,C107)-SUMIFS($I$4:I106,$C$4:C106,C107)<0,0,SUMIFS($G$5:G107,$C$5:C107,C107)-SUMIFS($I$4:I106,$C$4:C106,C107)))","v":0},null,{"$f":"IF(C107=\"\",0,IF(C107=$C$4,SUMIFS($I$4:I106,$C$4:C106,C106),SUMIFS($I$4:I106,$C$4:C106,C107)))","v":0},0]
[105,null,{"$f":"IFERROR(VLOOKUP(D108,Nomenclature!$B$2:$C$196,2,0),\"\")","v":""},null,null,null,null,{"$f":"IF(C108=\"\",0,IF(SUMIFS($G$5:G108,$C$5:C108,C108)-SUMIFS($I$4:I107,$C$4:C107,C108)<0,0,SUMIFS($G$5:G108,$C$5:C108,C108)-SUMIFS($I$4:I107,$C$4:C107,C108)))","v":0},null,{"$f":"IF(C108=\"\",0,IF(C108=$C$4,SUMIFS($I$4:I107,$C$4:C107,C107),SUMIFS($I$4:I107,$C$4:C107,C108)))","v":0},0]
[106,null,{"$f":"IFERROR(VLOOKUP(D109,Nomenclature!$B$2:$C$196,2,0),\"\")","v":""},null,null,null,null,{"$f":"IF(C109=\"\",0,IF(SUMIFS($G$5:G109,$C$5:C109,C109)-SUMIFS($I$4:I108,$C$4:C108,C109)<0,0,SUMIFS($G$5:G109,$C$5:C109,C109)-SUMIFS($I$4:I108,$C$4:C108,C109)))","v":0},null,{"$f":"IF(C109=\"\",0,IF(C109=$C$4,SUMIFS($I$4:I108,$C$4:C108,C108),SUMIFS($I$4:I108,$C$4:C108,C109)))","v":0},0]
[107,null,{"$f":"IFERROR(VLOOKUP(D110,Nomenclature!$B$2:$C$196,2,0),\"\")","v":""},null,null,null,null,{"$f":"IF(C110=\"\",0,IF(SUMIFS($G$5:G110,$C$5:C110,C110)-SUMIFS($I$4:I109,$C$4:C109,C110)<0,0,SUMIFS($G$5:G110,$C$5:C110,C110)-SUMIFS($I$4:I109,$C$4:C109,C110)))","v":0},null,{"$f":"IF(C110=\"\",0,IF(C110=$C$4,SUMIFS($I$4:I109,$C$4:C109,C109),SUMIFS($I$4:I109,$C$4:C109,C110)))","v":0},0]
[108,null,{"$f":"IFERROR(VLOOKUP(D111,Nomenclature!$B$2:$C$196,2,0),\"\")","v":""},null,null,null,null,{"$f":"IF(C111=\"\",0,IF(SUMIFS($G$5:G111,$C$5:C111,C111)-SUMIFS($I$4:I110,$C$4:C110,C111)<0,0,SUMIFS($G$5:G111,$C$5:C111,C111)-SUMIFS($I$4:I110,$C$4:C110,C111)))","v":0},null,{"$f":"IF(C111=\"\",0,IF(C111=$C$4,SUMIFS($I$4:I110,$C$4:C110,C110),SUMIFS($I$4:I110,$C$4:C110,C111)))","v":0},0]
[109,null,{"$f":"IFERROR(VLOOKUP(D112,Nomenclature!$B$2:$C$196,2,0),\"\")","v":""},null,null,null,null,{"$f":"IF(C112=\"\",0,IF(SUMIFS($G$5:G112,$C$5:C112,C112)-SUMIFS($I$4:I111,$C$4:C111,C112)<0,0,SUMIFS($G$5:G112,$C$5:C112,C112)-SUMIFS($I$4:I111,$C$4:C111,C112)))","v":0},null,{"$f":"IF(C112=\"\",0,IF(C112=$C$4,SUMIFS($I$4:I111,$C$4:C111,C111),SUMIFS($I$4:I111,$C$4:C111,C112)))","v":0},0]
[110,null,{"$f":"IFERROR(VLOOKUP(D113,Nomenclature!$B$2:$C$196,2,0),\"\")","v":""},null,null,null,null,{"$f":"IF(C113=\"\",0,IF(SUMIFS($G$5:G113,$C$5:C113,C113)-SUMIFS($I$4:I112,$C$4:C112,C113)<0,0,SUMIFS($G$5:G113,$C$5:C113,C113)-SUMIFS($I$4:I112,$C$4:C112,C113)))","v":0},null,{"$f":"IF(C113=\"\",0,IF(C113=$C$4,SUMIFS($I$4:I112,$C$4:C112,C112),SUMIFS($I$4:I112,$C$4:C112,C113)))","v":0},0]
[111,null,{"$f":"IFERROR(VLOOKUP(D114,Nomenclature!$B$2:$C$196,2,0),\"\")","v":""},null,null,null,null,{"$f":"IF(C114=\"\",0,IF(SUMIFS($G$5:G114,$C$5:C114,C114)-SUMIFS($I$4:I113,$C$4:C113,C114)<0,0,SUMIFS($G$5:G114,$C$5:C114,C114)-SUMIFS($I$4:I113,$C$4:C113,C114)))","v":0},null,{"$f":"IF(C114=\"\",0,IF(C114=$C$4,SUMIFS($I$4:I113,$C$4:C113,C113),SUMIFS($I$4:I113,$C$4:C113,C114)))","v":0},0]
[112,null,{"$f":"IFERROR(VLOOKUP(D115,Nomenclature!$B$2:$C$196,2,0),\"\")","v":""},null,null,null,null,{"$f":"IF(C115=\"\",0,IF(SUMIFS($G$5:G115,$C$5:C115,C115)-SUMIFS($I$4:I114,$C$4:C114,C115)<0,0,SUMIFS($G$5:G115,$C$5:C115,C115)-SUMIFS($I$4:I114,$C$4:C114,C115)))","v":0},null,{"$f":"IF(C115=\"\",0,IF(C115=$C$4,SUMIFS($I$4:I114,$C$4:C114,C114),SUMIFS($I$4:I114,$C$4:C114,C115)))","v":0},0]
[113,null,{"$f":"IFERROR(VLOOKUP(D116,Nomenclature!$B$2:$C$196,2,0),\"\")","v":""},null,null,null,null,{"$f":"IF(C116=\"\",0,IF(SUMIFS($G$5:G116,$C$5:C116,C116)-SUMIFS($I$4:I115,$C$4:C115,C116)<0,0,SUMIFS($G$5:G116,$C$5:C116,C116)-SUMIFS($I$4:I115,$C$4:C115,C116)))","v":0},null,{"$f":"IF(C116=\"\",0,IF(C116=$C$4,SUMIFS($I$4:I115,$C$4:C115,C115),SUMIFS($I$4:I115,$C$4:C115,C116)))","v":0},0]
[114,null,{"$f":"IFERROR(VLOOKUP(D117,Nomenclature!$B$2:$C$196,2,0),\"\")","v":""},null,null,null,null,{"$f":"IF(C117=\"\",0,IF(SUMIFS($G$5:G117,$C$5:C117,C117)-SUMIFS($I$4:I116,$C$4:C116,C117)<0,0,SUMIFS($G$5:G117,$C$5:C117,C117)-SUMIFS($I$4:I116,$C$4:C116,C117)))","v":0},null,{"$f":"IF(C117=\"\",0,IF(C117=$C$4,SUMIFS($I$4:I116,$C$4:C116,C116),SUMIFS($I$4:I116,$C$4:C116,C117)))","v":0},0]
[115,null,{"$f":"IFERROR(VLOOKUP(D118,Nomenclature!$B$2:$C$196,2,0),\"\")","v":""},null,null,null,null,{"$f":"IF(C118=\"\",0,IF(SUMIFS($G$5:G118,$C$5:C118,C118)-SUMIFS($I$4:I117,$C$4:C117,C118)<0,0,SUMIFS($G$5:G118,$C$5:C118,C118)-SUMIFS($I$4:I117,$C$4:C117,C118)))","v":0},null,{"$f":"IF(C118=\"\",0,IF(C118=$C$4,SUMIFS($I$4:I117,$C$4:C117,C117),SUMIFS($I$4:I117,$C$4:C117,C118)))","v":0},0]
[116,null,{"$f":"IFERROR(VLOOKUP(D119,Nomenclature!$B$2:$C$196,2,0),\"\")","v":""},null,null,null,null,{"$f":"IF(C119=\"\",0,IF(SUMIFS($G$5:G119,$C$5:C119,C119)-SUMIFS($I$4:I118,$C$4:C118,C119)<0,0,SUMIFS($G$5:G119,$C$5:C119,C119)-SUMIFS($I$4:I118,$C$4:C118,C119)))","v":0},null,{"$f":"IF(C119=\"\",0,IF(C119=$C$4,SUMIFS($I$4:I118,$C$4:C118,C118),SUMIFS($I$4:I118,$C$4:C118,C119)))","v":0},0]
[117,null,{"$f":"IFERROR(VLOOKUP(D120,Nomenclature!$B$2:$C$196,2,0),\"\")","v":""},null,null,null,null,{"$f":"IF(C120=\"\",0,IF(SUMIFS($G$5:G120,$C$5:C120,C120)-SUMIFS($I$4:I119,$C$4:C119,C120)<0,0,SUMIFS($G$5:G120,$C$5:C120,C120)-SUMIFS($I$4:I119,$C$4:C119,C120)))","v":0},null,{"$f":"IF(C120=\"\",0,IF(C120=$C$4,SUMIFS($I$4:I119,$C$4:C119,C119),SUMIFS($I$4:I119,$C$4:C119,C120)))","v":0},0]
[118,null,{"$f":"IFERROR(VLOOKUP(D121,Nomenclature!$B$2:$C$196,2,0),\"\")","v":""},null,null,null,null,{"$f":"IF(C121=\"\",0,IF(SUMIFS($G$5:G121,$C$5:C121,C121)-SUMIFS($I$4:I120,$C$4:C120,C121)<0,0,SUMIFS($G$5:G121,$C$5:C121,C121)-SUMIFS($I$4:I120,$C$4:C120,C121)))","v":0},null,{"$f":"IF(C121=\"\",0,IF(C121=$C$4,SUMIFS($I$4:I120,$C$4:C120,C120),SUMIFS($I$4:I120,$C$4:C120,C121)))","v":0},0]
[119,null,{"$f":"IFERROR(VLOOKUP(D122,Nomenclature!$B$2:$C$196,2,0),\"\")","v":""},null,null,null,null,{"$f":"IF(C122=\"\",0,IF(SUMIFS($G$5:G122,$C$5:C122,C122)-SUMIFS($I$4:I121,$C$4:C121,C122)<0,0,SUMIFS($G$5:G122,$C$5:C122,C122)-SUMIFS($I$4:I121,$C$4:C121,C122)))","v":0},null,{"$f":"IF(C122=\"\",0,IF(C122=$C$4,SUMIFS($I$4:I121,$C$4:C121,C121),SUMIFS($I$4:I121,$C$4:C121,C122)))","v":0},0]
[120,null,{"$f":"IFERROR(VLOOKUP(D123,Nomenclature!$B$2:$C$196,2,0),\"\")","v":""},null,null,null,null,{"$f":"IF(C123=\"\",0,IF(SUMIFS($G$5:G123,$C$5:C123,C123)-SUMIFS($I$4:I122,$C$4:C122,C123)<0,0,SUMIFS($G$5:G123,$C$5:C123,C123)-SUMIFS($I$4:I122,$C$4:C122,C123)))","v":0},null,{"$f":"IF(C123=\"\",0,IF(C123=$C$4,SUMIFS($I$4:I122,$C$4:C122,C122),SUMIFS($I$4:I122,$C$4:C122,C123)))","v":0},0]
[121,null,{"$f":"IFERROR(VLOOKUP(D124,Nomenclature!$B$2:$C$196,2,0),\"\")","v":""},null,null,null,null,{"$f":"IF(C124=\"\",0,IF(SUMIFS($G$5:G124,$C$5:C124,C124)-SUMIFS($I$4:I123,$C$4:C123,C124)<0,0,SUMIFS($G$5:G124,$C$5:C124,C124)-SUMIFS($I$4:I123,$C$4:C123,C124)))","v":0},null,{"$f":"IF(C124=\"\",0,IF(C124=$C$4,SUMIFS($I$4:I123,$C$4:C123,C123),SUMIFS($I$4:I123,$C$4:C123,C124)))","v":0},0]
[122,null,{"$f":"IFERROR(VLOOKUP(D125,Nomenclature!$B$2:$C$196,2,0),\"\")","v":""},null,null,null,null,{"$f":"IF(C125=\"\",0,IF(SUMIFS($G$5:G125,$C$5:C125,C125)-SUMIFS($I$4:I124,$C$4:C124,C125)<0,0,SUMIFS($G$5:G125,$C$5:C125,C125)-SUMIFS($I$4:I124,$C$4:C124,C125)))","v":0},null,{"$f":"IF(C125=\"\",0,IF(C125=$C$4,SUMIFS($I$4:I124,$C$4:C124,C124),SUMIFS($I$4:I124,$C$4:C124,C125)))","v":0},0]
[123,null,{"$f":"IFERROR(VLOOKUP(D126,Nomenclature!$B$2:$C$196,2,0),\"\")","v":""},null,null,null,null,{"$f":"IF(C126=\"\",0,IF(SUMIFS($G$5:G126,$C$5:C126,C126)-SUMIFS($I$4:I125,$C$4:C125,C126)<0,0,SUMIFS($G$5:G126,$C$5:C126,C126)-SUMIFS($I$4:I125,$C$4:C125,C126)))","v":0},null,{"$f":"IF(C126=\"\",0,IF(C126=$C$4,SUMIFS($I$4:I125,$C$4:C125,C125),SUMIFS($I$4:I125,$C$4:C125,C126)))","v":0},0]
[124,null,{"$f":"IFERROR(VLOOKUP(D127,Nomenclature!$B$2:$C$196,2,0),\"\")","v":""},null,null,null,null,{"$f":"IF(C127=\"\",0,IF(SUMIFS($G$5:G127,$C$5:C127,C127)-SUMIFS($I$4:I126,$C$4:C126,C127)<0,0,SUMIFS($G$5:G127,$C$5:C127,C127)-SUMIFS($I$4:I126,$C$4:C126,C127)))","v":0},null,{"$f":"IF(C127=\"\",0,IF(C127=$C$4,SUMIFS($I$4:I126,$C$4:C126,C126),SUMIFS($I$4:I126,$C$4:C126,C127)))","v":0},0]
[125,null,{"$f":"IFERROR(VLOOKUP(D128,Nomenclature!$B$2:$C$196,2,0),\"\")","v":""},null,null,null,null,{"$f":"IF(C128=\"\",0,IF(SUMIFS($G$5:G128,$C$5:C128,C128)-SUMIFS($I$4:I127,$C$4:C127,C128)<0,0,SUMIFS($G$5:G128,$C$5:C128,C128)-SUMIFS($I$4:I127,$C$4:C127,C128)))","v":0},null,{"$f":"IF(C128=\"\",0,IF(C128=$C$4,SUMIFS($I$4:I127,$C$4:C127,C127),SUMIFS($I$4:I127,$C$4:C127,C128)))","v":0},0]
[126,null,{"$f":"IFERROR(VLOOKUP(D129,Nomenclature!$B$2:$C$196,2,0),\"\")","v":""},null,null,null,null,{"$f":"IF(C129=\"\",0,IF(SUMIFS($G$5:G129,$C$5:C129,C129)-SUMIFS($I$4:I128,$C$4:C128,C129)<0,0,SUMIFS($G$5:G129,$C$5:C129,C129)-SUMIFS($I$4:I128,$C$4:C128,C129)))","v":0},null,{"$f":"IF(C129=\"\",0,IF(C129=$C$4,SUMIFS($I$4:I128,$C$4:C128,C128),SUMIFS($I$4:I128,$C$4:C128,C129)))","v":0},0]
[127,null,{"$f":"IFERROR(VLOOKUP(D130,Nomenclature!$B$2:$C$196,2,0),\"\")","v":""},null,null,null,null,{"$f":"IF(C130=\"\",0,IF(SUMIFS($G$5:G130,$C$5:C130,C130)-SUMIFS($I$4:I129,$C$4:C129,C130)<0,0,SUMIFS($G$5:G130,$C$5:C130,C130)-SUMIFS($I$4:I129,$C$4:C129,C130)))","v":0},null,{"$f":"IF(C130=\"\",0,IF(C130=$C$4,SUMIFS($I$4:I129,$C$4:C129,C129),SUMIFS($I$4:I129,$C$4:C129,C130)))","v":0},0]
[128,null,{"$f":"IFERROR(VLOOKUP(D131,Nomenclature!$B$2:$C$196,2,0),\"\")","v":""},null,null,null,null,{"$f":"IF(C131=\"\",0,IF(SUMIFS($G$5:G131,$C$5:C131,C131)-SUMIFS($I$4:I130,$C$4:C130,C131)<0,0,SUMIFS($G$5:G131,$C$5:C131,C131)-SUMIFS($I$4:I130,$C$4:C130,C131)))","v":0},null,{"$f":"IF(C131=\"\",0,IF(C131=$C$4,SUMIFS($I$4:I130,$C$4:C130,C130),SUMIFS($I$4:I130,$C$4:C130,C131)))","v":0},0]
[129,null,{"$f":"IFERROR(VLOOKUP(D132,Nomenclature!$B$2:$C$196,2,0),\"\")","v":""},null,null,null,null,{"$f":"IF(C132=\"\",0,IF(SUMIFS($G$5:G132,$C$5:C132,C132)-SUMIFS($I$4:I131,$C$4:C131,C132)<0,0,SUMIFS($G$5:G132,$C$5:C132,C132)-SUMIFS($I$4:I131,$C$4:C131,C132)))","v":0},null,{"$f":"IF(C132=\"\",0,IF(C132=$C$4,SUMIFS($I$4:I131,$C$4:C131,C131),SUMIFS($I$4:I131,$C$4:C131,C132)))","v":0},{"$f":"IF(C132=\"\",0,H132-I132)","v":0}]
[130,null,{"$f":"IFERROR(VLOOKUP(D133,Nomenclature!$B$2:$C$196,2,0),\"\")","v":""},null,null,null,null,{"$f":"IF(C133=\"\",0,IF(SUMIFS($G$5:G133,$C$5:C133,C133)-SUMIFS($I$4:I132,$C$4:C132,C133)<0,0,SUMIFS($G$5:G133,$C$5:C133,C133)-SUMIFS($I$4:I132,$C$4:C132,C133)))","v":0},null,{"$f":"IF(C133=\"\",0,IF(C133=$C$4,SUMIFS($I$4:I132,$C$4:C132,C132),SUMIFS($I$4:I132,$C$4:C132,C133)))","v":0},0]
[131,null,{"$f":"IFERROR(VLOOKUP(D134,Nomenclature!$B$2:$C$196,2,0),\"\")","v":""},null,null,null,null,{"$f":"IF(C134=\"\",0,IF(SUMIFS($G$5:G134,$C$5:C134,C134)-SUMIFS($I$4:I133,$C$4:C133,C134)<0,0,SUMIFS($G$5:G134,$C$5:C134,C134)-SUMIFS($I$4:I133,$C$4:C133,C134)))","v":0},null,{"$f":"IF(C134=\"\",0,IF(C134=$C$4,SUMIFS($I$4:I133,$C$4:C133,C133),SUMIFS($I$4:I133,$C$4:C133,C134)))","v":0},0]
[132,null,{"$f":"IFERROR(VLOOKUP(D135,Nomenclature!$B$2:$C$196,2,0),\"\")","v":""},null,null,null,null,{"$f":"IF(C135=\"\",0,IF(SUMIFS($G$5:G135,$C$5:C135,C135)-SUMIFS($I$4:I134,$C$4:C134,C135)<0,0,SUMIFS($G$5:G135,$C$5:C135,C135)-SUMIFS($I$4:I134,$C$4:C134,C135)))","v":0},null,{"$f":"IF(C135=\"\",0,IF(C135=$C$4,SUMIFS($I$4:I134,$C$4:C134,C134),SUMIFS($I$4:I134,$C$4:C134,C135)))","v":0},0]
[133,null,{"$f":"IFERROR(VLOOKUP(D136,Nomenclature!$B$2:$C$196,2,0),\"\")","v":""},null,null,null,null,{"$f":"IF(C136=\"\",0,IF(SUMIFS($G$5:G136,$C$5:C136,C136)-SUMIFS($I$4:I135,$C$4:C135,C136)<0,0,SUMIFS($G$5:G136,$C$5:C136,C136)-SUMIFS($I$4:I135,$C$4:C135,C136)))","v":0},null,{"$f":"IF(C136=\"\",0,IF(C136=$C$4,SUMIFS($I$4:I135,$C$4:C135,C135),SUMIFS($I$4:I135,$C$4:C135,C136)))","v":0},0]
[134,null,{"$f":"IFERROR(VLOOKUP(D137,Nomenclature!$B$2:$C$196,2,0),\"\")","v":""},null,null,null,null,{"$f":"IF(C137=\"\",0,IF(SUMIFS($G$5:G137,$C$5:C137,C137)-SUMIFS($I$4:I136,$C$4:C136,C137)<0,0,SUMIFS($G$5:G137,$C$5:C137,C137)-SUMIFS($I$4:I136,$C$4:C136,C137)))","v":0},null,{"$f":"IF(C137=\"\",0,IF(C137=$C$4,SUMIFS($I$4:I136,$C$4:C136,C136),SUMIFS($I$4:I136,$C$4:C136,C137)))","v":0},0]
[135,null,{"$f":"IFERROR(VLOOKUP(D138,Nomenclature!$B$2:$C$196,2,0),\"\")","v":""},null,null,null,null,{"$f":"IF(C138=\"\",0,IF(SUMIFS($G$5:G138,$C$5:C138,C138)-SUMIFS($I$4:I137,$C$4:C137,C138)<0,0,SUMIFS($G$5:G138,$C$5:C138,C138)-SUMIFS($I$4:I137,$C$4:C137,C138)))","v":0},null,{"$f":"IF(C138=\"\",0,IF(C138=$C$4,SUMIFS($I$4:I137,$C$4:C137,C137),SUMIFS($I$4:I137,$C$4:C137,C138)))","v":0},0]
[136,null,{"$f":"IFERROR(VLOOKUP(D139,Nomenclature!$B$2:$C$196,2,0),\"\")","v":""},null,null,null,null,{"$f":"IF(C139=\"\",0,IF(SUMIFS($G$5:G139,$C$5:C139,C139)-SUMIFS($I$4:I138,$C$4:C138,C139)<0,0,SUMIFS($G$5:G139,$C$5:C139,C139)-SUMIFS($I$4:I138,$C$4:C138,C139)))","v":0},null,{"$f":"IF(C139=\"\",0,IF(C139=$C$4,SUMIFS($I$4:I138,$C$4:C138,C138),SUMIFS($I$4:I138,$C$4:C138,C139)))","v":0},0]
[137,null,{"$f":"IFERROR(VLOOKUP(D140,Nomenclature!$B$2:$C$196,2,0),\"\")","v":""},null,null,null,null,{"$f":"IF(C140=\"\",0,IF(SUMIFS($G$5:G140,$C$5:C140,C140)-SUMIFS($I$4:I139,$C$4:C139,C140)<0,0,SUMIFS($G$5:G140,$C$5:C140,C140)-SUMIFS($I$4:I139,$C$4:C139,C140)))","v":0},null,{"$f":"IF(C140=\"\",0,IF(C140=$C$4,SUMIFS($I$4:I139,$C$4:C139,C139),SUMIFS($I$4:I139,$C$4:C139,C140)))","v":0},0]
[138,null,{"$f":"IFERROR(VLOOKUP(D141,Nomenclature!$B$2:$C$196,2,0),\"\")","v":""},null,null,null,null,{"$f":"IF(C141=\"\",0,IF(SUMIFS($G$5:G141,$C$5:C141,C141)-SUMIFS($I$4:I140,$C$4:C140,C141)<0,0,SUMIFS($G$5:G141,$C$5:C141,C141)-SUMIFS($I$4:I140,$C$4:C140,C141)))","v":0},null,{"$f":"IF(C141=\"\",0,IF(C141=$C$4,SUMIFS($I$4:I140,$C$4:C140,C140),SUMIFS($I$4:I140,$C$4:C140,C141)))","v":0},0]
[139,null,{"$f":"IFERROR(VLOOKUP(D142,Nomenclature!$B$2:$C$196,2,0),\"\")","v":""},null,null,null,null,{"$f":"IF(C142=\"\",0,IF(SUMIFS($G$5:G142,$C$5:C142,C142)-SUMIFS($I$4:I141,$C$4:C141,C142)<0,0,SUMIFS($G$5:G142,$C$5:C142,C142)-SUMIFS($I$4:I141,$C$4:C141,C142)))","v":0},null,{"$f":"IF(C142=\"\",0,IF(C142=$C$4,SUMIFS($I$4:I141,$C$4:C141,C141),SUMIFS($I$4:I141,$C$4:C141,C142)))","v":0},0]
[140,null,{"$f":"IFERROR(VLOOKUP(D143,Nomenclature!$B$2:$C$196,2,0),\"\")","v":""},null,null,null,null,{"$f":"IF(C143=\"\",0,IF(SUMIFS($G$5:G143,$C$5:C143,C143)-SUMIFS($I$4:I142,$C$4:C142,C143)<0,0,SUMIFS($G$5:G143,$C$5:C143,C143)-SUMIFS($I$4:I142,$C$4:C142,C143)))","v":0},null,{"$f":"IF(C143=\"\",0,IF(C143=$C$4,SUMIFS($I$4:I142,$C$4:C142,C142),SUMIFS($I$4:I142,$C$4:C142,C143)))","v":0},0]
[141,null,{"$f":"IFERROR(VLOOKUP(D144,Nomenclature!$B$2:$C$196,2,0),\"\")","v":""},null,null,null,null,{"$f":"IF(C144=\"\",0,IF(SUMIFS($G$5:G144,$C$5:C144,C144)-SUMIFS($I$4:I143,$C$4:C143,C144)<0,0,SUMIFS($G$5:G144,$C$5:C144,C144)-SUMIFS($I$4:I143,$C$4:C143,C144)))","v":0},null,{"$f":"IF(C144=\"\",0,IF(C144=$C$4,SUMIFS($I$4:I143,$C$4:C143,C143),SUMIFS($I$4:I143,$C$4:C143,C144)))","v":0},0]
[142,null,{"$f":"IFERROR(VLOOKUP(D145,Nomenclature!$B$2:$C$196,2,0),\"\")","v":""},null,null,null,null,{"$f":"IF(C145=\"\",0,IF(SUMIFS($G$5:G145,$C$5:C145,C145)-SUMIFS($I$4:I144,$C$4:C144,C145)<0,0,SUMIFS($G$5:G145,$C$5:C145,C145)-SUMIFS($I$4:I144,$C$4:C144,C145)))","v":0},null,{"$f":"IF(C145=\"\",0,IF(C145=$C$4,SUMIFS($I$4:I144,$C$4:C144,C144),SUMIFS($I$4:I144,$C$4:C144,C145)))","v":0},0]
[143,null,{"$f":"IFERROR(VLOOKUP(D146,Nomenclature!$B$2:$C$196,2,0),\"\")","v":""},null,null,null,null,{"$f":"IF(C146=\"\",0,IF(SUMIFS($G$5:G146,$C$5:C146,C146)-SUMIFS($I$4:I145,$C$4:C145,C146)<0,0,SUMIFS($G$5:G146,$C$5:C146,C146)-SUMIFS($I$4:I145,$C$4:C145,C146)))","v":0},null,{"$f":"IF(C146=\"\",0,IF(C146=$C$4,SUMIFS($I$4:I145,$C$4:C145,C145),SUMIFS($I$4:I145,$C$4:C145,C146)))","v":0},0]
[144,null,{"$f":"IFERROR(VLOOKUP(D147,Nomenclature!$B$2:$C$196,2,0),\"\")","v":""},null,null,null,null,{"$f":"IF(C147=\"\",0,IF(SUMIFS($G$5:G147,$C$5:C147,C147)-SUMIFS($I$4:I146,$C$4:C146,C147)<0,0,SUMIFS($G$5:G147,$C$5:C147,C147)-SUMIFS($I$4:I146,$C$4:C146,C147)))","v":0},null,{"$f":"IF(C147=\"\",0,IF(C147=$C$4,SUMIFS($I$4:I146,$C$4:C146,C146),SUMIFS($I$4:I146,$C$4:C146,C147)))","v":0},0]
[145,null,{"$f":"IFERROR(VLOOKUP(D148,Nomenclature!$B$2:$C$196,2,0),\"\")","v":""},null,null,null,null,{"$f":"IF(C148=\"\",0,IF(SUMIFS($G$5:G148,$C$5:C148,C148)-SUMIFS($I$4:I147,$C$4:C147,C148)<0,0,SUMIFS($G$5:G148,$C$5:C148,C148)-SUMIFS($I$4:I147,$C$4:C147,C148)))","v":0},null,{"$f":"IF(C148=\"\",0,IF(C148=$C$4,SUMIFS($I$4:I147,$C$4:C147,C147),SUMIFS($I$4:I147,$C$4:C147,C148)))","v":0},0]
[146,null,{"$f":"IFERROR(VLOOKUP(D149,Nomenclature!$B$2:$C$196,2,0),\"\")","v":""},null,null,null,null,{"$f":"IF(C149=\"\",0,IF(SUMIFS($G$5:G149,$C$5:C149,C149)-SUMIFS($I$4:I148,$C$4:C148,C149)<0,0,SUMIFS($G$5:G149,$C$5:C149,C149)-SUMIFS($I$4:I148,$C$4:C148,C149)))","v":0},null,{"$f":"IF(C149=\"\",0,IF(C149=$C$4,SUMIFS($I$4:I148,$C$4:C148,C148),SUMIFS($I$4:I148,$C$4:C148,C149)))","v":0},0]
[147,null,{"$f":"IFERROR(VLOOKUP(D150,Nomenclature!$B$2:$C$196,2,0),\"\")","v":""},null,null,null,null,{"$f":"IF(C150=\"\",0,IF(SUMIFS($G$5:G150,$C$5:C150,C150)-SUMIFS($I$4:I149,$C$4:C149,C150)<0,0,SUMIFS($G$5:G150,$C$5:C150,C150)-SUMIFS($I$4:I149,$C$4:C149,C150)))","v":0},null,{"$f":"IF(C150=\"\",0,IF(C150=$C$4,SUMIFS($I$4:I149,$C$4:C149,C149),SUMIFS($I$4:I149,$C$4:C149,C150)))","v":0},0]
[148,null,{"$f":"IFERROR(VLOOKUP(D151,Nomenclature!$B$2:$C$196,2,0),\"\")","v":""},null,null,null,null,{"$f":"IF(C151=\"\",0,IF(SUMIFS($G$5:G151,$C$5:C151,C151)-SUMIFS($I$4:I150,$C$4:C150,C151)<0,0,SUMIFS($G$5:G151,$C$5:C151,C151)-SUMIFS($I$4:I150,$C$4:C150,C151)))","v":0},null,{"$f":"IF(C151=\"\",0,IF(C151=$C$4,SUMIFS($I$4:I150,$C$4:C150,C150),SUMIFS($I$4:I150,$C$4:C150,C151)))","v":0},0]
[149,null,{"$f":"IFERROR(VLOOKUP(D152,Nomenclature!$B$2:$C$196,2,0),\"\")","v":""},null,null,null,null,{"$f":"IF(C152=\"\",0,IF(SUMIFS($G$5:G152,$C$5:C152,C152)-SUMIFS($I$4:I151,$C$4:C151,C152)<0,0,SUMIFS($G$5:G152,$C$5:C152,C152)-SUMIFS($I$4:I151,$C$4:C151,C152)))","v":0},null,{"$f":"IF(C152=\"\",0,IF(C152=$C$4,SUMIFS($I$4:I151,$C$4:C151,C151),SUMIFS($I$4:I151,$C$4:C151,C152)))","v":0},0]
[150,null,{"$f":"IFERROR(VLOOKUP(D153,Nomenclature!$B$2:$C$196,2,0),\"\")","v":""},null,null,null,null,{"$f":"IF(C153=\"\",0,IF(SUMIFS($G$5:G153,$C$5:C153,C153)-SUMIFS($I$4:I152,$C$4:C152,C153)<0,0,SUMIFS($G$5:G153,$C$5:C153,C153)-SUMIFS($I$4:I152,$C$4:C152,C153)))","v":0},null,{"$f":"IF(C153=\"\",0,IF(C153=$C$4,SUMIFS($I$4:I152,$C$4:C152,C152),SUMIFS($I$4:I152,$C$4:C152,C153)))","v":0},0]
[151,null,{"$f":"IFERROR(VLOOKUP(D154,Nomenclature!$B$2:$C$196,2,0),\"\")","v":""},null,null,null,null,{"$f":"IF(C154=\"\",0,IF(SUMIFS($G$5:G154,$C$5:C154,C154)-SUMIFS($I$4:I153,$C$4:C153,C154)<0,0,SUMIFS($G$5:G154,$C$5:C154,C154)-SUMIFS($I$4:I153,$C$4:C153,C154)))","v":0},null,{"$f":"IF(C154=\"\",0,IF(C154=$C$4,SUMIFS($I$4:I153,$C$4:C153,C153),SUMIFS($I$4:I153,$C$4:C153,C154)))","v":0},0]
[152,null,{"$f":"IFERROR(VLOOKUP(D155,Nomenclature!$B$2:$C$196,2,0),\"\")","v":""},null,null,null,null,{"$f":"IF(C155=\"\",0,IF(SUMIFS($G$5:G155,$C$5:C155,C155)-SUMIFS($I$4:I154,$C$4:C154,C155)<0,0,SUMIFS($G$5:G155,$C$5:C155,C155)-SUMIFS($I$4:I154,$C$4:C154,C155)))","v":0},null,{"$f":"IF(C155=\"\",0,IF(C155=$C$4,SUMIFS($I$4:I154,$C$4:C154,C154),SUMIFS($I$4:I154,$C$4:C154,C155)))","v":0},0]
[153,null,{"$f":"IFERROR(VLOOKUP(D156,Nomenclature!$B$2:$C$196,2,0),\"\")","v":""},null,null,null,null,{"$f":"IF(C156=\"\",0,IF(SUMIFS($G$5:G156,$C$5:C156,C156)-SUMIFS($I$4:I155,$C$4:C155,C156)<0,0,SUMIFS($G$5:G156,$C$5:C156,C156)-SUMIFS($I$4:I155,$C$4:C155,C156)))","v":0},null,{"$f":"IF(C156=\"\",0,IF(C156=$C$4,SUMIFS($I$4:I155,$C$4:C155,C155),SUMIFS($I$4:I155,$C$4:C155,C156)))","v":0},0]
[154,null,{"$f":"IFERROR(VLOOKUP(D157,Nomenclature!$B$2:$C$196,2,0),\"\")","v":""},null,null,null,null,{"$f":"IF(C157=\"\",0,IF(SUMIFS($G$5:G157,$C$5:C157,C157)-SUMIFS($I$4:I156,$C$4:C156,C157)<0,0,SUMIFS($G$5:G157,$C$5:C157,C157)-SUMIFS($I$4:I156,$C$4:C156,C157)))","v":0},null,{"$f":"IF(C157=\"\",0,IF(C157=$C$4,SUMIFS($I$4:I156,$C$4:C156,C156),SUMIFS($I$4:I156,$C$4:C156,C157)))","v":0},0]
[155,null,{"$f":"IFERROR(VLOOKUP(D158,Nomenclature!$B$2:$C$196,2,0),\"\")","v":""},null,null,null,null,{"$f":"IF(C158=\"\",0,IF(SUMIFS($G$5:G158,$C$5:C158,C158)-SUMIFS($I$4:I157,$C$4:C157,C158)<0,0,SUMIFS($G$5:G158,$C$5:C158,C158)-SUMIFS($I$4:I157,$C$4:C157,C158)))","v":0},null,{"$f":"IF(C158=\"\",0,IF(C158=$C$4,SUMIFS($I$4:I157,$C$4:C157,C157),SUMIFS($I$4:I157,$C$4:C157,C158)))","v":0},0]
[156,null,{"$f":"IFERROR(VLOOKUP(D159,Nomenclature!$B$2:$C$196,2,0),\"\")","v":""},null,null,null,null,{"$f":"IF(C159=\"\",0,IF(SUMIFS($G$5:G159,$C$5:C159,C159)-SUMIFS($I$4:I158,$C$4:C158,C159)<0,0,SUMIFS($G$5:G159,$C$5:C159,C159)-SUMIFS($I$4:I158,$C$4:C158,C159)))","v":0},null,{"$f":"IF(C159=\"\",0,IF(C159=$C$4,SUMIFS($I$4:I158,$C$4:C158,C158),SUMIFS($I$4:I158,$C$4:C158,C159)))","v":0},0]
[157,null,{"$f":"IFERROR(VLOOKUP(D160,Nomenclature!$B$2:$C$196,2,0),\"\")","v":""},null,null,null,null,{"$f":"IF(C160=\"\",0,IF(SUMIFS($G$5:G160,$C$5:C160,C160)-SUMIFS($I$4:I159,$C$4:C159,C160)<0,0,SUMIFS($G$5:G160,$C$5:C160,C160)-SUMIFS($I$4:I159,$C$4:C159,C160)))","v":0},null,{"$f":"IF(C160=\"\",0,IF(C160=$C$4,SUMIFS($I$4:I159,$C$4:C159,C159),SUMIFS($I$4:I159,$C$4:C159,C160)))","v":0},0]
[158,null,{"$f":"IFERROR(VLOOKUP(D161,Nomenclature!$B$2:$C$196,2,0),\"\")","v":""},null,null,null,null,{"$f":"IF(C161=\"\",0,IF(SUMIFS($G$5:G161,$C$5:C161,C161)-SUMIFS($I$4:I160,$C$4:C160,C161)<0,0,SUMIFS($G$5:G161,$C$5:C161,C161)-SUMIFS($I$4:I160,$C$4:C160,C161)))","v":0},null,{"$f":"IF(C161=\"\",0,IF(C161=$C$4,SUMIFS($I$4:I160,$C$4:C160,C160),SUMIFS($I$4:I160,$C$4:C160,C161)))","v":0},0]
[159,null,{"$f":"IFERROR(VLOOKUP(D162,Nomenclature!$B$2:$C$196,2,0),\"\")","v":""},null,null,null,null,{"$f":"IF(C162=\"\",0,IF(SUMIFS($G$5:G162,$C$5:C162,C162)-SUMIFS($I$4:I161,$C$4:C161,C162)<0,0,SUMIFS($G$5:G162,$C$5:C162,C162)-SUMIFS($I$4:I161,$C$4:C161,C162)))","v":0},null,{"$f":"IF(C162=\"\",0,IF(C162=$C$4,SUMIFS($I$4:I161,$C$4:C161,C161),SUMIFS($I$4:I161,$C$4:C161,C162)))","v":0},0]
[160,null,{"$f":"IFERROR(VLOOKUP(D163,Nomenclature!$B$2:$C$196,2,0),\"\")","v":""},null,null,null,null,{"$f":"IF(C163=\"\",0,IF(SUMIFS($G$5:G163,$C$5:C163,C163)-SUMIFS($I$4:I162,$C$4:C162,C163)<0,0,SUMIFS($G$5:G163,$C$5:C163,C163)-SUMIFS($I$4:I162,$C$4:C162,C163)))","v":0},null,{"$f":"IF(C163=\"\",0,IF(C163=$C$4,SUMIFS($I$4:I162,$C$4:C162,C162),SUMIFS($I$4:I162,$C$4:C162,C163)))","v":0},0]
[161,null,{"$f":"IFERROR(VLOOKUP(D164,Nomenclature!$B$2:$C$196,2,0),\"\")","v":""},null,null,null,null,{"$f":"IF(C164=\"\",0,IF(SUMIFS($G$5:G164,$C$5:C164,C164)-SUMIFS($I$4:I163,$C$4:C163,C164)<0,0,SUMIFS($G$5:G164,$C$5:C164,C164)-SUMIFS($I$4:I163,$C$4:C163,C164)))","v":0},null,{"$f":"IF(C164=\"\",0,IF(C164=$C$4,SUMIFS($I$4:I163,$C$4:C163,C163),SUMIFS($I$4:I163,$C$4:C163,C164)))","v":0},0]
[162,null,{"$f":"IFERROR(VLOOKUP(D165,Nomenclature!$B$2:$C$196,2,0),\"\")","v":""},null,null,null,null,{"$f":"IF(C165=\"\",0,IF(SUMIFS($G$5:G165,$C$5:C165,C165)-SUMIFS($I$4:I164,$C$4:C164,C165)<0,0,SUMIFS($G$5:G165,$C$5:C165,C165)-SUMIFS($I$4:I164,$C$4:C164,C165)))","v":0},null,{"$f":"IF(C165=\"\",0,IF(C165=$C$4,SUMIFS($I$4:I164,$C$4:C164,C164),SUMIFS($I$4:I164,$C$4:C164,C165)))","v":0},0]
[163,null,{"$f":"IFERROR(VLOOKUP(D166,Nomenclature!$B$2:$C$196,2,0),\"\")","v":""},null,null,null,null,{"$f":"IF(C166=\"\",0,IF(SUMIFS($G$5:G166,$C$5:C166,C166)-SUMIFS($I$4:I165,$C$4:C165,C166)<0,0,SUMIFS($G$5:G166,$C$5:C166,C166)-SUMIFS($I$4:I165,$C$4:C165,C166)))","v":0},null,{"$f":"IF(C166=\"\",0,IF(C166=$C$4,SUMIFS($I$4:I165,$C$4:C165,C165),SUMIFS($I$4:I165,$C$4:C165,C166)))","v":0},0]
[164,null,{"$f":"IFERROR(VLOOKUP(D167,Nomenclature!$B$2:$C$196,2,0),\"\")","v":""},null,null,null,null,{"$f":"IF(C167=\"\",0,IF(SUMIFS($G$5:G167,$C$5:C167,C167)-SUMIFS($I$4:I166,$C$4:C166,C167)<0,0,SUMIFS($G$5:G167,$C$5:C167,C167)-SUMIFS($I$4:I166,$C$4:C166,C167)))","v":0},null,{"$f":"IF(C167=\"\",0,IF(C167=$C$4,SUMIFS($I$4:I166,$C$4:C166,C166),SUMIFS($I$4:I166,$C$4:C166,C167)))","v":0},0]
[165,null,{"$f":"IFERROR(VLOOKUP(D168,Nomenclature!$B$2:$C$196,2,0),\"\")","v":""},null,null,null,null,{"$f":"IF(C168=\"\",0,IF(SUMIFS($G$5:G168,$C$5:C168,C168)-SUMIFS($I$4:I167,$C$4:C167,C168)<0,0,SUMIFS($G$5:G168,$C$5:C168,C168)-SUMIFS($I$4:I167,$C$4:C167,C168)))","v":0},null,{"$f":"IF(C168=\"\",0,IF(C168=$C$4,SUMIFS($I$4:I167,$C$4:C167,C167),SUMIFS($I$4:I167,$C$4:C167,C168)))","v":0},0]
[166,null,{"$f":"IFERROR(VLOOKUP(D169,Nomenclature!$B$2:$C$196,2,0),\"\")","v":""},null,null,null,null,{"$f":"IF(C169=\"\",0,IF(SUMIFS($G$5:G169,$C$5:C169,C169)-SUMIFS($I$4:I168,$C$4:C168,C169)<0,0,SUMIFS($G$5:G169,$C$5:C169,C169)-SUMIFS($I$4:I168,$C$4:C168,C169)))","v":0},null,{"$f":"IF(C169=\"\",0,IF(C169=$C$4,SUMIFS($I$4:I168,$C$4:C168,C168),SUMIFS($I$4:I168,$C$4:C168,C169)))","v":0},0]
[167,null,{"$f":"IFERROR(VLOOKUP(D170,Nomenclature!$B$2:$C$196,2,0),\"\")","v":""},null,null,null,null,{"$f":"IF(C170=\"\",0,IF(SUMIFS($G$5:G170,$C$5:C170,C170)-SUMIFS($I$4:I169,$C$4:C169,C170)<0,0,SUMIFS($G$5:G170,$C$5:C170,C170)-SUMIFS($I$4:I169,$C$4:C169,C170)))","v":0},null,{"$f":"IF(C170=\"\",0,IF(C170=$C$4,SUMIFS($I$4:I169,$C$4:C169,C169),SUMIFS($I$4:I169,$C$4:C169,C170)))","v":0},0]
[168,null,{"$f":"IFERROR(VLOOKUP(D171,Nomenclature!$B$2:$C$196,2,0),\"\")","v":""},null,null,null,null,{"$f":"IF(C171=\"\",0,IF(SUMIFS($G$5:G171,$C$5:C171,C171)-SUMIFS($I$4:I170,$C$4:C170,C171)<0,0,SUMIFS($G$5:G171,$C$5:C171,C171)-SUMIFS($I$4:I170,$C$4:C170,C171)))","v":0},null,{"$f":"IF(C171=\"\",0,IF(C171=$C$4,SUMIFS($I$4:I170,$C$4:C170,C170),SUMIFS($I$4:I170,$C$4:C170,C171)))","v":0},0]
[169,null,{"$f":"IFERROR(VLOOKUP(D172,Nomenclature!$B$2:$C$196,2,0),\"\")","v":""},null,null,null,null,{"$f":"IF(C172=\"\",0,IF(SUMIFS($G$5:G172,$C$5:C172,C172)-SUMIFS($I$4:I171,$C$4:C171,C172)<0,0,SUMIFS($G$5:G172,$C$5:C172,C172)-SUMIFS($I$4:I171,$C$4:C171,C172)))","v":0},null,{"$f":"IF(C172=\"\",0,IF(C172=$C$4,SUMIFS($I$4:I171,$C$4:C171,C171),SUMIFS($I$4:I171,$C$4:C171,C172)))","v":0},0]
[170,null,{"$f":"IFERROR(VLOOKUP(D173,Nomenclature!$B$2:$C$196,2,0),\"\")","v":""},null,null,null,null,{"$f":"IF(C173=\"\",0,IF(SUMIFS($G$5:G173,$C$5:C173,C173)-SUMIFS($I$4:I172,$C$4:C172,C173)<0,0,SUMIFS($G$5:G173,$C$5:C173,C173)-SUMIFS($I$4:I172,$C$4:C172,C173)))","v":0},null,{"$f":"IF(C173=\"\",0,IF(C173=$C$4,SUMIFS($I$4:I172,$C$4:C172,C172),SUMIFS($I$4:I172,$C$4:C172,C173)))","v":0},0]
[171,null,{"$f":"IFERROR(VLOOKUP(D174,Nomenclature!$B$2:$C$196,2,0),\"\")","v":""},null,null,null,null,{"$f":"IF(C174=\"\",0,IF(SUMIFS($G$5:G174,$C$5:C174,C174)-SUMIFS($I$4:I173,$C$4:C173,C174)<0,0,SUMIFS($G$5:G174,$C$5:C174,C174)-SUMIFS($I$4:I173,$C$4:C173,C174)))","v":0},null,{"$f":"IF(C174=\"\",0,IF(C174=$C$4,SUMIFS($I$4:I173,$C$4:C173,C173),SUMIFS($I$4:I173,$C$4:C173,C174)))","v":0},0]
[172,null,{"$f":"IFERROR(VLOOKUP(D175,Nomenclature!$B$2:$C$196,2,0),\"\")","v":""},null,null,null,null,{"$f":"IF(C175=\"\",0,IF(SUMIFS($G$5:G175,$C$5:C175,C175)-SUMIFS($I$4:I174,$C$4:C174,C175)<0,0,SUMIFS($G$5:G175,$C$5:C175,C175)-SUMIFS($I$4:I174,$C$4:C174,C175)))","v":0},null,{"$f":"IF(C175=\"\",0,IF(C175=$C$4,SUMIFS($I$4:I174,$C$4:C174,C174),SUMIFS($I$4:I174,$C$4:C174,C175)))","v":0},0]
[173,null,{"$f":"IFERROR(VLOOKUP(D176,Nomenclature!$B$2:$C$196,2,0),\"\")","v":""},null,null,null,null,{"$f":"IF(C176=\"\",0,IF(SUMIFS($G$5:G176,$C$5:C176,C176)-SUMIFS($I$4:I175,$C$4:C175,C176)<0,0,SUMIFS($G$5:G176,$C$5:C176,C176)-SUMIFS($I$4:I175,$C$4:C175,C176)))","v":0},null,{"$f":"IF(C176=\"\",0,IF(C176=$C$4,SUMIFS($I$4:I175,$C$4:C175,C175),SUMIFS($I$4:I175,$C$4:C175,C176)))","v":0},0]
[174,null,{"$f":"IFERROR(VLOOKUP(D177,Nomenclature!$B$2:$C$196,2,0),\"\")","v":""},null,null,null,null,{"$f":"IF(C177=\"\",0,IF(SUMIFS($G$5:G177,$C$5:C177,C177)-SUMIFS($I$4:I176,$C$4:C176,C177)<0,0,SUMIFS($G$5:G177,$C$5:C177,C177)-SUMIFS($I$4:I176,$C$4:C176,C177)))","v":0},null,{"$f":"IF(C177=\"\",0,IF(C177=$C$4,SUMIFS($I$4:I176,$C$4:C176,C176),SUMIFS($I$4:I176,$C$4:C176,C177)))","v":0},0]
[175,null,{"$f":"IFERROR(VLOOKUP(D178,Nomenclature!$B$2:$C$196,2,0),\"\")","v":""},null,null,null,null,{"$f":"IF(C178=\"\",0,IF(SUMIFS($G$5:G178,$C$5:C178,C178)-SUMIFS($I$4:I177,$C$4:C177,C178)<0,0,SUMIFS($G$5:G178,$C$5:C178,C178)-SUMIFS($I$4:I177,$C$4:C177,C178)))","v":0},null,{"$f":"IF(C178=\"\",0,IF(C178=$C$4,SUMIFS($I$4:I177,$C$4:C177,C177),SUMIFS($I$4:I177,$C$4:C177,C178)))","v":0},0]
[176,null,{"$f":"IFERROR(VLOOKUP(D179,Nomenclature!$B$2:$C$196,2,0),\"\")","v":""},null,null,null,null,{"$f":"IF(C179=\"\",0,IF(SUMIFS($G$5:G179,$C$5:C179,C179)-SUMIFS($I$4:I178,$C$4:C178,C179)<0,0,SUMIFS($G$5:G179,$C$5:C179,C179)-SUMIFS($I$4:I178,$C$4:C178,C179)))","v":0},null,{"$f":"IF(C179=\"\",0,IF(C179=$C$4,SUMIFS($I$4:I178,$C$4:C178,C178),SUMIFS($I$4:I178,$C$4:C178,C179)))","v":0},0]
[177,null,{"$f":"IFERROR(VLOOKUP(D180,Nomenclature!$B$2:$C$196,2,0),\"\")","v":""},null,null,null,null,{"$f":"IF(C180=\"\",0,IF(SUMIFS($G$5:G180,$C$5:C180,C180)-SUMIFS($I$4:I179,$C$4:C179,C180)<0,0,SUMIFS($G$5:G180,$C$5:C180,C180)-SUMIFS($I$4:I179,$C$4:C179,C180)))","v":0},null,{"$f":"IF(C180=\"\",0,IF(C180=$C$4,SUMIFS($I$4:I179,$C$4:C179,C179),SUMIFS($I$4:I179,$C$4:C179,C180)))","v":0},0]
[178,null,{"$f":"IFERROR(VLOOKUP(D181,Nomenclature!$B$2:$C$196,2,0),\"\")","v":""},null,null,null,null,{"$f":"IF(C181=\"\",0,IF(SUMIFS($G$5:G181,$C$5:C181,C181)-SUMIFS($I$4:I180,$C$4:C180,C181)<0,0,SUMIFS($G$5:G181,$C$5:C181,C181)-SUMIFS($I$4:I180,$C$4:C180,C181)))","v":0},null,{"$f":"IF(C181=\"\",0,IF(C181=$C$4,SUMIFS($I$4:I180,$C$4:C180,C180),SUMIFS($I$4:I180,$C$4:C180,C181)))","v":0},0]
[179,null,{"$f":"IFERROR(VLOOKUP(D182,Nomenclature!$B$2:$C$196,2,0),\"\")","v":""},null,null,null,null,{"$f":"IF(C182=\"\",0,IF(SUMIFS($G$5:G182,$C$5:C182,C182)-SUMIFS($I$4:I181,$C$4:C181,C182)<0,0,SUMIFS($G$5:G182,$C$5:C182,C182)-SUMIFS($I$4:I181,$C$4:C181,C182)))","v":0},null,{"$f":"IF(C182=\"\",0,IF(C182=$C$4,SUMIFS($I$4:I181,$C$4:C181,C181),SUMIFS($I$4:I181,$C$4:C181,C182)))","v":0},0]
[180,null,{"$f":"IFERROR(VLOOKUP(D183,Nomenclature!$B$2:$C$196,2,0),\"\")","v":""},null,null,null,null,{"$f":"IF(C183=\"\",0,IF(SUMIFS($G$5:G183,$C$5:C183,C183)-SUMIFS($I$4:I182,$C$4:C182,C183)<0,0,SUMIFS($G$5:G183,$C$5:C183,C183)-SUMIFS($I$4:I182,$C$4:C182,C183)))","v":0},null,{"$f":"IF(C183=\"\",0,IF(C183=$C$4,SUMIFS($I$4:I182,$C$4:C182,C182),SUMIFS($I$4:I182,$C$4:C182,C183)))","v":0},0]
[181,null,{"$f":"IFERROR(VLOOKUP(D184,Nomenclature!$B$2:$C$196,2,0),\"\")","v":""},null,null,null,null,{"$f":"IF(C184=\"\",0,IF(SUMIFS($G$5:G184,$C$5:C184,C184)-SUMIFS($I$4:I183,$C$4:C183,C184)<0,0,SUMIFS($G$5:G184,$C$5:C184,C184)-SUMIFS($I$4:I183,$C$4:C183,C184)))","v":0},null,{"$f":"IF(C184=\"\",0,IF(C184=$C$4,SUMIFS($I$4:I183,$C$4:C183,C183),SUMIFS($I$4:I183,$C$4:C183,C184)))","v":0},0]
[182,null,{"$f":"IFERROR(VLOOKUP(D185,Nomenclature!$B$2:$C$196,2,0),\"\")","v":""},null,null,null,null,{"$f":"IF(C185=\"\",0,IF(SUMIFS($G$5:G185,$C$5:C185,C185)-SUMIFS($I$4:I184,$C$4:C184,C185)<0,0,SUMIFS($G$5:G185,$C$5:C185,C185)-SUMIFS($I$4:I184,$C$4:C184,C185)))","v":0},null,{"$f":"IF(C185=\"\",0,IF(C185=$C$4,SUMIFS($I$4:I184,$C$4:C184,C184),SUMIFS($I$4:I184,$C$4:C184,C185)))","v":0},0]
[183,null,{"$f":"IFERROR(VLOOKUP(D186,Nomenclature!$B$2:$C$196,2,0),\"\")","v":""},null,null,null,null,{"$f":"IF(C186=\"\",0,IF(SUMIFS($G$5:G186,$C$5:C186,C186)-SUMIFS($I$4:I185,$C$4:C185,C186)<0,0,SUMIFS($G$5:G186,$C$5:C186,C186)-SUMIFS($I$4:I185,$C$4:C185,C186)))","v":0},null,{"$f":"IF(C186=\"\",0,IF(C186=$C$4,SUMIFS($I$4:I185,$C$4:C185,C185),SUMIFS($I$4:I185,$C$4:C185,C186)))","v":0},0]
[184,null,{"$f":"IFERROR(VLOOKUP(D187,Nomenclature!$B$2:$C$196,2,0),\"\")","v":""},null,null,null,null,{"$f":"IF(C187=\"\",0,IF(SUMIFS($G$5:G187,$C$5:C187,C187)-SUMIFS($I$4:I186,$C$4:C186,C187)<0,0,SUMIFS($G$5:G187,$C$5:C187,C187)-SUMIFS($I$4:I186,$C$4:C186,C187)))","v":0},null,{"$f":"IF(C187=\"\",0,IF(C187=$C$4,SUMIFS($I$4:I186,$C$4:C186,C186),SUMIFS($I$4:I186,$C$4:C186,C187)))","v":0},0]
[185,null,{"$f":"IFERROR(VLOOKUP(D188,Nomenclature!$B$2:$C$196,2,0),\"\")","v":""},null,null,null,null,{"$f":"IF(C188=\"\",0,IF(SUMIFS($G$5:G188,$C$5:C188,C188)-SUMIFS($I$4:I187,$C$4:C187,C188)<0,0,SUMIFS($G$5:G188,$C$5:C188,C188)-SUMIFS($I$4:I187,$C$4:C187,C188)))","v":0},null,{"$f":"IF(C188=\"\",0,IF(C188=$C$4,SUMIFS($I$4:I187,$C$4:C187,C187),SUMIFS($I$4:I187,$C$4:C187,C188)))","v":0},0]
[186,null,{"$f":"IFERROR(VLOOKUP(D189,Nomenclature!$B$2:$C$196,2,0),\"\")","v":""},null,null,null,null,{"$f":"IF(C189=\"\",0,IF(SUMIFS($G$5:G189,$C$5:C189,C189)-SUMIFS($I$4:I188,$C$4:C188,C189)<0,0,SUMIFS($G$5:G189,$C$5:C189,C189)-SUMIFS($I$4:I188,$C$4:C188,C189)))","v":0},null,{"$f":"IF(C189=\"\",0,IF(C189=$C$4,SUMIFS($I$4:I188,$C$4:C188,C188),SUMIFS($I$4:I188,$C$4:C188,C189)))","v":0},0]
[187,null,{"$f":"IFERROR(VLOOKUP(D190,Nomenclature!$B$2:$C$196,2,0),\"\")","v":""},null,null,null,null,{"$f":"IF(C190=\"\",0,IF(SUMIFS($G$5:G190,$C$5:C190,C190)-SUMIFS($I$4:I189,$C$4:C189,C190)<0,0,SUMIFS($G$5:G190,$C$5:C190,C190)-SUMIFS($I$4:I189,$C$4:C189,C190)))","v":0},null,{"$f":"IF(C190=\"\",0,IF(C190=$C$4,SUMIFS($I$4:I189,$C$4:C189,C189),SUMIFS($I$4:I189,$C$4:C189,C190)))","v":0},0]
[188,null,{"$f":"IFERROR(VLOOKUP(D191,Nomenclature!$B$2:$C$196,2,0),\"\")","v":""},null,null,null,null,{"$f":"IF(C191=\"\",0,IF(SUMIFS($G$5:G191,$C$5:C191,C191)-SUMIFS($I$4:I190,$C$4:C190,C191)<0,0,SUMIFS($G$5:G191,$C$5:C191,C191)-SUMIFS($I$4:I190,$C$4:C190,C191)))","v":0},null,{"$f":"IF(C191=\"\",0,IF(C191=$C$4,SUMIFS($I$4:I190,$C$4:C190,C190),SUMIFS($I$4:I190,$C$4:C190,C191)))","v":0},0]
[189,null,{"$f":"IFERROR(VLOOKUP(D192,Nomenclature!$B$2:$C$196,2,0),\"\")","v":""},null,null,null,null,{"$f":"IF(C192=\"\",0,IF(SUMIFS($G$5:G192,$C$5:C192,C192)-SUMIFS($I$4:I191,$C$4:C191,C192)<0,0,SUMIFS($G$5:G192,$C$5:C192,C192)-SUMIFS($I$4:I191,$C$4:C191,C192)))","v":0},null,{"$f":"IF(C192=\"\",0,IF(C192=$C$4,SUMIFS($I$4:I191,$C$4:C191,C191),SUMIFS($I$4:I191,$C$4:C191,C192)))","v":0},0]
[190,null,{"$f":"IFERROR(VLOOKUP(D193,Nomenclature!$B$2:$C$196,2,0),\"\")","v":""},null,null,null,null,{"$f":"IF(C193=\"\",0,IF(SUMIFS($G$5:G193,$C$5:C193,C193)-SUMIFS($I$4:I192,$C$4:C192,C193)<0,0,SUMIFS($G$5:G193,$C$5:C193,C193)-SUMIFS($I$4:I192,$C$4:C192,C193)))","v":0},null,{"$f":"IF(C193=\"\",0,IF(C193=$C$4,SUMIFS($I$4:I192,$C$4:C192,C192),SUMIFS($I$4:I192,$C$4:C192,C193)))","v":0},0]
[191,null,{"$f":"IFERROR(VLOOKUP(D194,Nomenclature!$B$2:$C$196,2,0),\"\")","v":""},null,null,null,null,{"$f":"IF(C194=\"\",0,IF(SUMIFS($G$5:G194,$C$5:C194,C194)-SUMIFS($I$4:I193,$C$4:C193,C194)<0,0,SUMIFS($G$5:G194,$C$5:C194,C194)-SUMIFS($I$4:I193,$C$4:C193,C194)))","v":0},null,{"$f":"IF(C194=\"\",0,IF(C194=$C$4,SUMIFS($I$4:I193,$C$4:C193,C193),SUMIFS($I$4:I193,$C$4:C193,C194)))","v":0},0]
[192,null,{"$f":"IFERROR(VLOOKUP(D195,Nomenclature!$B$2:$C$196,2,0),\"\")","v":""},null,null,null,null,{"$f":"IF(C195=\"\",0,IF(SUMIFS($G$5:G195,$C$5:C195,C195)-SUMIFS($I$4:I194,$C$4:C194,C195)<0,0,SUMIFS($G$5:G195,$C$5:C195,C195)-SUMIFS($I$4:I194,$C$4:C194,C195)))","v":0},null,{"$f":"IF(C195=\"\",0,IF(C195=$C$4,SUMIFS($I$4:I194,$C$4:C194,C194),SUMIFS($I$4:I194,$C$4:C194,C195)))","v":0},0]
[193,null,{"$f":"IFERROR(VLOOKUP(D196,Nomenclature!$B$2:$C$196,2,0),\"\")","v":""},null,null,null,null,{"$f":"IF(C196=\"\",0,IF(SUMIFS($G$5:G196,$C$5:C196,C196)-SUMIFS($I$4:I195,$C$4:C195,C196)<0,0,SUMIFS($G$5:G196,$C$5:C196,C196)-SUMIFS($I$4:I195,$C$4:C195,C196)))","v":0},null,{"$f":"IF(C196=\"\",0,IF(C196=$C$4,SUMIFS($I$4:I195,$C$4:C195,C195),SUMIFS($I$4:I195,$C$4:C195,C196)))","v":0},{"$f":"IF(C196=\"\",0,H196-I196)","v":0}]
[194,null,{"$f":"IFERROR(VLOOKUP(D197,Nomenclature!$B$2:$C$196,2,0),\"\")","v":""},null,null,null,null,{"$f":"IF(C197=\"\",0,IF(SUMIFS($G$5:G197,$C$5:C197,C197)-SUMIFS($I$4:I196,$C$4:C196,C197)<0,0,SUMIFS($G$5:G197,$C$5:C197,C197)-SUMIFS($I$4:I196,$C$4:C196,C197)))","v":0},null,{"$f":"IF(C197=\"\",0,IF(C197=$C$4,SUMIFS($I$4:I196,$C$4:C196,C196),SUMIFS($I$4:I196,$C$4:C196,C197)))","v":0},0]
[195,null,{"$f":"IFERROR(VLOOKUP(D198,Nomenclature!$B$2:$C$196,2,0),\"\")","v":""},null,null,null,null,{"$f":"IF(C198=\"\",0,IF(SUMIFS($G$5:G198,$C$5:C198,C198)-SUMIFS($I$4:I197,$C$4:C197,C198)<0,0,SUMIFS($G$5:G198,$C$5:C198,C198)-SUMIFS($I$4:I197,$C$4:C197,C198)))","v":0},null,{"$f":"IF(C198=\"\",0,IF(C198=$C$4,SUMIFS($I$4:I197,$C$4:C197,C197),SUMIFS($I$4:I197,$C$4:C197,C198)))","v":0},0]
[196,null,{"$f":"IFERROR(VLOOKUP(D199,Nomenclature!$B$2:$C$196,2,0),\"\")","v":""},null,null,null,null,{"$f":"IF(C199=\"\",0,IF(SUMIFS($G$5:G199,$C$5:C199,C199)-SUMIFS($I$4:I198,$C$4:C198,C199)<0,0,SUMIFS($G$5:G199,$C$5:C199,C199)-SUMIFS($I$4:I198,$C$4:C198,C199)))","v":0},null,{"$f":"IF(C199=\"\",0,IF(C199=$C$4,SUMIFS($I$4:I198,$C$4:C198,C198),SUMIFS($I$4:I198,$C$4:C198,C199)))","v":0},0]
[197,null,{"$f":"IFERROR(VLOOKUP(D200,Nomenclature!$B$2:$C$196,2,0),\"\")","v":""},null,null,null,null,{"$f":"IF(C200=\"\",0,IF(SUMIFS($G$5:G200,$C$5:C200,C200)-SUMIFS($I$4:I199,$C$4:C199,C200)<0,0,SUMIFS($G$5:G200,$C$5:C200,C200)-SUMIFS($I$4:I199,$C$4:C199,C200)))","v":0},null,{"$f":"IF(C200=\"\",0,IF(C200=$C$4,SUMIFS($I$4:I199,$C$4:C199,C199),SUMIFS($I$4:I199,$C$4:C199,C200)))","v":0},0]
[198,null,{"$f":"IFERROR(VLOOKUP(D201,Nomenclature!$B$2:$C$196,2,0),\"\")","v":""},null,null,null,null,{"$f":"IF(C201=\"\",0,IF(SUMIFS($G$5:G201,$C$5:C201,C201)-SUMIFS($I$4:I200,$C$4:C200,C201)<0,0,SUMIFS($G$5:G201,$C$5:C201,C201)-SUMIFS($I$4:I200,$C$4:C200,C201)))","v":0},null,{"$f":"IF(C201=\"\",0,IF(C201=$C$4,SUMIFS($I$4:I200,$C$4:C200,C200),SUMIFS($I$4:I200,$C$4:C200,C201)))","v":0},0]
[199,null,{"$f":"IFERROR(VLOOKUP(D202,Nomenclature!$B$2:$C$196,2,0),\"\")","v":""},null,null,null,null,{"$f":"IF(C202=\"\",0,IF(SUMIFS($G$5:G202,$C$5:C202,C202)-SUMIFS($I$4:I201,$C$4:C201,C202)<0,0,SUMIFS($G$5:G202,$C$5:C202,C202)-SUMIFS($I$4:I201,$C$4:C201,C202)))","v":0},null,{"$f":"IF(C202=\"\",0,IF(C202=$C$4,SUMIFS($I$4:I201,$C$4:C201,C201),SUMIFS($I$4:I201,$C$4:C201,C202)))","v":0},0]
[200,null,{"$f":"IFERROR(VLOOKUP(D203,Nomenclature!$B$2:$C$196,2,0),\"\")","v":""},null,null,null,null,{"$f":"IF(C203=\"\",0,IF(SUMIFS($G$5:G203,$C$5:C203,C203)-SUMIFS($I$4:I202,$C$4:C202,C203)<0,0,SUMIFS($G$5:G203,$C$5:C203,C203)-SUMIFS($I$4:I202,$C$4:C202,C203)))","v":0},null,{"$f":"IF(C203=\"\",0,IF(C203=$C$4,SUMIFS($I$4:I202,$C$4:C202,C202),SUMIFS($I$4:I202,$C$4:C202,C203)))","v":0},0]

{"sheet":"15000","index":5,"n_rows":203,"n_cols":44,"rows_kept":203,"cut":false,"hidden":false,"merged":[[50,23,50,24],[44,14,45,18],[44,22,45,26],[44,29,44,30],[46,14,47,18],[46,22,47,26],[47,29,47,30],[50,15,50,16],[33,14,33,17],[34,14,37,41],[39,14,39,17],[39,18,40,41],[42,14,42,27],[42,28,42,41],[28,38,29,41],[30,14,31,17],[30,18,31,21],[30,22,31,25],[30,26,31,29],[30,30,31,33],[30,34,31,37],[30,38,31,41],[28,14,29,17],[28,18,29,21],[28,22,29,25],[28,26,29,29],[28,30,29,33],[28,34,29,37],[19,14,19,15],[26,38,27,41],[20,22,20,32],[21,18,21,21],[21,22,21,32],[22,18,22,21],[22,22,22,32],[23,17,25,41],[20,18,20,21],[26,14,27,21],[26,22,27,25],[26,26,27,29],[26,30,27,33],[26,34,27,37],[15,19,15,20],[16,14,16,18],[16,19,16,20],[14,14,14,18],[14,19,14,27],[0,13,2,15],[3,14,3,41],[3,42,58,42],[4,14,4,18],[4,19,4,27],[5,14,5,18],[5,19,5,27],[6,14,6,18],[6,19,6,27],[10,15,11,19],[10,20,11,23],[10,31,11,32],[10,33,11,38],[13,14,13,18],[13,19,13,20],[15,14,15,18],[0,11,2,11],[0,0,2,0],[0,1,2,1],[0,2,2,2],[0,3,2,3],[0,4,2,4],[0,5,1,5],[0,6,1,6],[0,7,2,7],[0,8,1,8],[0,9,2,9],[0,10,1,10]]}
["رقم\nالاستمارة","التاريخ","الترميز","الصنف / الصنف الفرعي","ملاحظات المصلحة","AP Cat",{"$f":"IF(SUM(G4:G203)-SUM(F4:F203)<0,\"نقص في توزيع الاعتمادات على الاصناف الفرعية\",\nIF(SUM(G4:G203)-SUM(F4:F203)>0,\"تجاوز في الاعتمادات الموزعة على الاصناف الفرعية\",\"AP S.Cat\"))","v":"AP S.Cat"},"AP Sous_Cat",{"$f":"IF(I3>G3,\"تجاوز في الالتزامات\",\"∑ Engagements\")","v":"∑ Engagements"},"∑ Eng Sous_Cat","Reste","السند القانوني للعنوان الرابع",null,1]
[]
[null,null,null,null,null,{"$f":"SUM(F4:F203)","v":10500000},{"$f":"SUM(G4:G203)","v":10500000},null,{"$f":"SUM(I5:I203)","v":0},null,{"$f":"SUM(K4:K104)","v":10500000}]
[1,"2023-03-13",{"$f":"IFERROR(VLOOKUP(D4,Nomenclature!$B$2:$C$196,2,0),\"\")","v":15000},"الخدمات الاجتماعية على عاتق صاحب العمل","تكفل برخصة الالتزام المفتوحة لسنة 2023.",10500000,null,{"$f":"IF(C4=\"\",0,IF(SUMIFS($G4:G$5,$C4:C$5,C4)-SUMIFS($I3:I$4,$C3:C$4,C4)<0,0,SUMIFS($G4:G$5,$C4:C$5,C4)-SUMIFS($I3:I$4,$C3:C$4,C4)))","v":0},null,{"$f":"IF(I4=0,0,IF(C4=\"\",0,SUMIFS($I4:I$4,$C4:C$4,C4)))","v":0},{"$f":"IF(C4=\"\",0,H4-I4)","v":0},null,null,null,"الجمهورية الجزائرية الديمقراطية الشعبية"]
[2,"2023-04-01",{"$f":"IFERROR(VLOOKUP(D5,Nomenclature!$B$2:$C$196,2,0),\"\")","v":15110},"المنح العائلية","التزام في الجدول الأصلي الأولي رقم 2023/01 الخاص بالمرتبات الشهرية للموظفين من 2023/01/01 إلى غاية 2023/12/31",null,6500000,{"$f":"IF(C5=\"\",0,IF(SUMIFS($G$5:G5,$C$5:C5,C5)-SUMIFS($I$4:I4,$C$4:C4,C5)<0,0,SUMIFS($G$5:G5,$C$5:C5,C5)-SUMIFS($I$4:I4,$C$4:C4,C5)))","v":6500000},null,{"$f":"IF(C5=\"\",0,IF(C5=$C$4,SUMIFS($I$4:I4,$C$4:C4,C4),SUMIFS($I$4:I4,$C$4:C4,C5)))","v":0},6500000,null,null,null,"الـوزارة:",null,null,null,null,{"$f":"الواجهة!C2","v":"وزارة البيئة و الطاقات المتجددة"}]
[3,null,{"$f":"IFERROR(VLOOKUP(D6,Nomenclature!$B$2:$C$196,2,0),\"\")","v":15130},"منحة الأجر الوحيد","التزام في الجدول الأصلي الأولي رقم 2023/02 الخاص بالمرتبات الشهرية للاعوان المتعاقدين بالتوقيت الكامل من 2023/01/01 إلى غاية 2023/12/31",null,4000000,{"$f":"IF(C6=\"\",0,IF(SUMIFS($G$5:G6,$C$5:C6,C6)-SUMIFS($I$4:I5,$C$4:C5,C6)<0,0,SUMIFS($G$5:G6,$C$5:C6,C6)-SUMIFS($I$4:I5,$C$4:C5,C6)))","v":4000000},null,{"$f":"IF(C6=\"\",0,IF(C6=$C$4,SUMIFS($I$4:I5,$C$4:C5,C5),SUMIFS($I$4:I5,$C$4:C5,C6)))","v":0},4000000,null,null,null,"الهيئة الإدارية:",null,null,null,null,{"$f":"الواجهة!C3","v":"مديرية البيئة لولاية المسيلة"}]
[4,null,{"$f":"IFERROR(VLOOKUP(D7,Nomenclature!$B$2:$C$196,2,0),\"\")","v":""},null,null,null,null,{"$f":"IF(C7=\"\",0,IF(SUMIFS($G$5:G7,$C$5:C7,C7)-SUMIFS($I$4:I6,$C$4:C6,C7)<0,0,SUMIFS($G$5:G7,$C$5:C7,C7)-SUMIFS($I$4:I6,$C$4:C6,C7)))","v":0},null,{"$f":"IF(C7=\"\",0,IF(C7=$C$4,SUMIFS($I$4:I6,$C$4:C6,C6),SUMIFS($I$4:I6,$C$4:C6,C7)))","v":0},0,null,null,null,"رمز الآمر بالصرف:",null,null,null,null,{"$f":"الواجهة!C4","v":"144 0 28 01"}]
[5,null,{"$f":"IFERROR(VLOOKUP(D8,Nomenclature!$B$2:$C$196,2,0),\"\")","v":""},null,null,null,null,{"$f":"IF(C8=\"\",0,IF(SUMIFS($G$5:G8,$C$5:C8,C8)-SUMIFS($I$4:I7,$C$4:C7,C8)<0,0,SUMIFS($G$5:G8,$C$5:C8,C8)-SUMIFS($I$4:I7,$C$4:C7,C8)))","v":0},null,{"$f":"IF(C8=\"\",0,IF(C8=$C$4,SUMIFS($I$4:I7,$C$4:C7,C7),SUMIFS($I$4:I7,$C$4:C7,C8)))","v":0},0,null,null,null,null,null,null,null,null,null,null,null,null,null,null,null,null,null,null,null,null,null,null,"."]
[6,null,{"$f":"IFERROR(VLOOKUP(D9,Nomenclature!$B$2:$C$196,2,0),\"\")","v":""},null,null,null,null,{"$f":"IF(C9=\"\",0,IF(SUMIFS($G$5:G9,$C$5:C9,C9)-SUMIFS($I$4:I8,$C$4:C8,C9)<0,0,SUMIFS($G$5:G9,$C$5:C9,C9)-SUMIFS($I$4:I8,$C$4:C8,C9)))","v":0},null,{"$f":"IF(C9=\"\",0,IF(C9=$C$4,SUMIFS($I$4:I8,$C$4:C8,C8),SUMIFS($I$4:I8,$C$4:C8,C9)))","v":0},0]
[7,null,{"$f":"IFERROR(VLOOKUP(D10,Nomenclature!$B$2:$C$196,2,0),\"\")","v":""},null,null,null,null,{"$f":"IF(C10=\"\",0,IF(SUMIFS($G$5:G10,$C$5:C10,C10)-SUMIFS($I$4:I9,$C$4:C9,C10)<0,0,SUMIFS($G$5:G10,$C$5:C10,C10)-SUMIFS($I$4:I9,$C$4:C9,C10)))","v":0},null,{"$f":"IF(C10=\"\",0,IF(C10=$C$4,SUMIFS($I$4:I9,$C$4:C9,C9),SUMIFS($I$4:I9,$C$4:C9,C10)))","v":0},0]
[8,null,{"$f":"IFERROR(VLOOKUP(D11,Nomenclature!$B$2:$C$196,2,0),\"\")","v":""},null,null,null,null,{"$f":"IF(C11=\"\",0,IF(SUMIFS($G$5:G11,$C$5:C11,C11)-SUMIFS($I$4:I10,$C$4:C10,C11)<0,0,SUMIFS($G$5:G11,$C$5:C11,C11)-SUMIFS($I$4:I10,$C$4:C10,C11)))","v":0},null,{"$f":"IF(C11=\"\",0,IF(C11=$C$4,SUMIFS($I$4:I10,$C$4:C10,C10),SUMIFS($I$4:I10,$C$4:C10,C11)))","v":0},0,null,null,null,null,"رقم بطاقة الالتزام:",null,null,null,null,{"$f":"IFERROR(VLOOKUP(N1,A4:L203,1,0),0)","v":1},null,null,null,null,null,null,null,null,null,null,"التاريخ:",null,{"$f":"IF(IFERROR(VLOOKUP(N1,A4:L203,2,0),0)=0,\"\",IFERROR(VLOOKUP(N1,A4:L203,2,0),0))","v":"2023-03-13"}]
[9,null,{"$f":"IFERROR(VLOOKUP(D12,Nomenclature!$B$2:$C$196,2,0),\"\")","v":""},null,null,null,null,{"$f":"IF(C12=\"\",0,IF(SUMIFS($G$5:G12,$C$5:C12,C12)-SUMIFS($I$4:I11,$C$4:C11,C12)<0,0,SUMIFS($G$5:G12,$C$5:C12,C12)-SUMIFS($I$4:I11,$C$4:C11,C12)))","v":0},null,{"$f":"IF(C12=\"\",0,IF(C12=$C$4,SUMIFS($I$4:I11,$C$4:C11,C11),SUMIFS($I$4:I11,$C$4:C11,C12)))","v":0},0]
[10,null,{"$f":"IFERROR(VLOOKUP(D13,Nomenclature!$B$2:$C$196,2,0),\"\")","v":""},null,null,null,null,{"$f":"IF(C13=\"\",0,IF(SUMIFS($G$5:G13,$C$5:C13,C13)-SUMIFS($I$4:I12,$C$4:C12,C13)<0,0,SUMIFS($G$5:G13,$C$5:C13,C13)-SUMIFS($I$4:I12,$C$4:C12,C13)))","v":0},null,{"$f":"IF(C13=\"\",0,IF(C13=$C$4,SUMIFS($I$4:I12,$C$4:C12,C12),SUMIFS($I$4:I12,$C$4:C12,C13)))","v":0},0]
[11,null,{"$f":"IFERROR(VLOOKUP(D14,Nomenclature!$B$2:$C$196,2,0),\"\")","v":""},null,null,null,null,{"$f":"IF(C14=\"\",0,IF(SUMIFS($G$5:G14,$C$5:C14,C14)-SUMIFS($I$4:I13,$C$4:C13,C14)<0,0,SUMIFS($G$5:G14,$C$5:C14,C14)-SUMIFS($I$4:I13,$C$4:C13,C14)))","v":0},null,{"$f":"IF(C14=\"\",0,IF(C14=$C$4,SUMIFS($I$4:I13,$C$4:C13,C13),SUMIFS($I$4:I13,$C$4:C13,C14)))","v":0},0,null,null,null,"رمز البرنــامج:",null,null,null,null,{"$f":"الواجهة!C7","v":"116"}]
[12,null,{"$f":"IFERROR(VLOOKUP(D15,Nomenclature!$B$2:$C$196,2,0),\"\")","v":""},null,null,null,null,{"$f":"IF(C15=\"\",0,IF(SUMIFS($G$5:G15,$C$5:C15,C15)-SUMIFS($I$4:I14,$C$4:C14,C15)<0,0,SUMIFS($G$5:G15,$C$5:C15,C15)-SUMIFS($I$4:I14,$C$4:C14,C15)))","v":0},null,{"$f":"IF(C15=\"\",0,IF(C15=$C$4,SUMIFS($I$4:I14,$C$4:C14,C14),SUMIFS($I$4:I14,$C$4:C14,C15)))","v":0},0,null,null,null,"رمز النشــاط:",null,null,null,null,{"$f":"الواجهة!C6&\" \"&الواجهة!C7&\" \"&الواجهة!C10&\" \"&الواجهة!C8&\" \"&الواجهة!C9&\" \"&الواجهة!C11","v":"030 116 02 2001 000 028"}]
[13,null,{"$f":"IFERROR(VLOOKUP(D16,Nomenclature!$B$2:$C$196,2,0),\"\")","v":""},null,null,null,null,{"$f":"IF(C16=\"\",0,IF(SUMIFS($G$5:G16,$C$5:C16,C16)-SUMIFS($I$4:I15,$C$4:C15,C16)<0,0,SUMIFS($G$5:G16,$C$5:C16,C16)-SUMIFS($I$4:I15,$C$4:C15,C16)))","v":0},null,{"$f":"IF(C16=\"\",0,IF(C16=$C$4,SUMIFS($I$4:I15,$C$4:C15,C15),SUMIFS($I$4:I15,$C$4:C15,C16)))","v":0},0,null,null,null,"رمز النشــاط الفرعي:",null,null,null,null,{"$f":"الواجهة!C9","v":"000"}]
[14,null,{"$f":"IFERROR(VLOOKUP(D17,Nomenclature!$B$2:$C$196,2,0),\"\")","v":""},null,null,null,null,{"$f":"IF(C17=\"\",0,IF(SUMIFS($G$5:G17,$C$5:C17,C17)-SUMIFS($I$4:I16,$C$4:C16,C17)<0,0,SUMIFS($G$5:G17,$C$5:C17,C17)-SUMIFS($I$4:I16,$C$4:C16,C17)))","v":0},null,{"$f":"IF(C17=\"\",0,IF(C17=$C$4,SUMIFS($I$4:I16,$C$4:C16,C16),SUMIFS($I$4:I16,$C$4:C16,C17)))","v":0},0,null,null,null,"رمز البرنـامج الفرعي:",null,null,null,null,{"$f":"الواجهة!C10","v":"02"}]
[15,null,{"$f":"IFERROR(VLOOKUP(D18,Nomenclature!$B$2:$C$196,2,0),\"\")","v":""},null,null,null,null,{"$f":"IF(C18=\"\",0,IF(SUMIFS($G$5:G18,$C$5:C18,C18)-SUMIFS($I$4:I17,$C$4:C17,C18)<0,0,SUMIFS($G$5:G18,$C$5:C18,C18)-SUMIFS($I$4:I17,$C$4:C17,C18)))","v":0},null,{"$f":"IF(C18=\"\",0,IF(C18=$C$4,SUMIFS($I$4:I17,$C$4:C17,C17),SUMIFS($I$4:I17,$C$4:C17,C18)))","v":0},0,null,null,null,null,null,null,null,null,null,null,null,null,null,null,null,null,null,null,null,null,null,null,null,null,null,null,null,null,null,null,null,null,"\n\n\n"]
[16,null,{"$f":"IFERROR(VLOOKUP(D19,Nomenclature!$B$2:$C$196,2,0),\"\")","v":""},null,null,null,null,{"$f":"IF(C19=\"\",0,IF(SUMIFS($G$5:G19,$C$5:C19,C19)-SUMIFS($I$4:I18,$C$4:C18,C19)<0,0,SUMIFS($G$5:G19,$C$5:C19,C19)-SUMIFS($I$4:I18,$C$4:C18,C19)))","v":0},null,{"$f":"IF(C19=\"\",0,IF(C19=$C$4,SUMIFS($I$4:I18,$C$4:C18,C18),SUMIFS($I$4:I18,$C$4:C18,C19)))","v":0},0]
[17,null,{"$f":"IFERROR(VLOOKUP(D20,Nomenclature!$B$2:$C$196,2,0),\"\")","v":""},null,null,null,null,{"$f":"IF(C20=\"\",0,IF(SUMIFS($G$5:G20,$C$5:C20,C20)-SUMIFS($I$4:I19,$C$4:C19,C20)<0,0,SUMIFS($G$5:G20,$C$5:C20,C20)-SUMIFS($I$4:I19,$C$4:C19,C20)))","v":0},null,{"$f":"IF(C20=\"\",0,IF(C20=$C$4,SUMIFS($I$4:I19,$C$4:C19,C19),SUMIFS($I$4:I19,$C$4:C19,C20)))","v":0},0,null,null,null,"العنوان:"]
[18,null,{"$f":"IFERROR(VLOOKUP(D21,Nomenclature!$B$2:$C$196,2,0),\"\")","v":""},null,null,null,null,{"$f":"IF(C21=\"\",0,IF(SUMIFS($G$5:G21,$C$5:C21,C21)-SUMIFS($I$4:I20,$C$4:C20,C21)<0,0,SUMIFS($G$5:G21,$C$5:C21,C21)-SUMIFS($I$4:I20,$C$4:C20,C21)))","v":0},null,{"$f":"IF(C21=\"\",0,IF(C21=$C$4,SUMIFS($I$4:I20,$C$4:C20,C20),SUMIFS($I$4:I20,$C$4:C20,C21)))","v":0},0,null,null,null,null,null,{"$f":"IF(C4<20000,\"X\",\"\")","v":"X"},null,"العنوان الأول:",null,null,null,"نفقات المستخدمين"]
[19,null,{"$f":"IFERROR(VLOOKUP(D22,Nomenclature!$B$2:$C$196,2,0),\"\")","v":""},null,null,null,null,{"$f":"IF(C22=\"\",0,IF(SUMIFS($G$5:G22,$C$5:C22,C22)-SUMIFS($I$4:I21,$C$4:C21,C22)<0,0,SUMIFS($G$5:G22,$C$5:C22,C22)-SUMIFS($I$4:I21,$C$4:C21,C22)))","v":0},null,{"$f":"IF(C22=\"\",0,IF(C22=$C$4,SUMIFS($I$4:I21,$C$4:C21,C21),SUMIFS($I$4:I21,$C$4:C21,C22)))","v":0},0,null,null,null,null,null,{"$f":"IF(AND(C4>19999,C4<40000),\"X\",\"\")","v":""},null,"العنوان الثاني:",null,null,null,"نفقات تسيير المصالح"]
[20,null,{"$f":"IFERROR(VLOOKUP(D23,Nomenclature!$B$2:$C$196,2,0),\"\")","v":""},null,null,null,null,{"$f":"IF(C23=\"\",0,IF(SUMIFS($G$5:G23,$C$5:C23,C23)-SUMIFS($I$4:I22,$C$4:C22,C23)<0,0,SUMIFS($G$5:G23,$C$5:C23,C23)-SUMIFS($I$4:I22,$C$4:C22,C23)))","v":0},null,{"$f":"IF(C23=\"\",0,IF(C23=$C$4,SUMIFS($I$4:I22,$C$4:C22,C22),SUMIFS($I$4:I22,$C$4:C22,C23)))","v":0},0,null,null,null,null,null,{"$f":"IF(AND(Q21=\"\",Q22=\"\"),\"X\",\"\")","v":""},null,"العنوان الرابع:",null,null,null,"نفقات التحويل"]
[21,null,{"$f":"IFERROR(VLOOKUP(D24,Nomenclature!$B$2:$C$196,2,0),\"\")","v":""},null,null,null,null,{"$f":"IF(C24=\"\",0,IF(SUMIFS($G$5:G24,$C$5:C24,C24)-SUMIFS($I$4:I23,$C$4:C23,C24)<0,0,SUMIFS($G$5:G24,$C$5:C24,C24)-SUMIFS($I$4:I23,$C$4:C23,C24)))","v":0},null,{"$f":"IF(C24=\"\",0,IF(C24=$C$4,SUMIFS($I$4:I23,$C$4:C23,C23),SUMIFS($I$4:I23,$C$4:C23,C24)))","v":0},0,null,null,null,null,null,null,{"$f":"IF(VLOOKUP(N1,A4:L203,12,0)=\"\",\"- - - - - - - - - - - - - - - - - - - - - - - - - - - - - - - - - - - - - - - - - - - - - - - / / / - - - - - - - - - - - - - - - - - - - - - - - - - - - - - - - - - - - - - - - - - - - - - - -\"& CHAR(10)&\"- - - - - - - - - - - - - - - - - - - - - - - - - - - - - - - - - - - - - - - - - - - - - - - / / / - - - - - - - - - - - - - - - - - - - - - - - - - - - - - - - - - - - - - - - - - - - - - - -\",VLOOKUP(N1,A4:L203,12,0))","v":"- - - - - - - - - - - - - - - - - - - - - - - - - - - - - - - - - - - - - - - - - - - - - - - / / / - - - - - - - - - - - - - - - - - - - - - - - - - - - - - - - - - - - - - - - - - - - - - - -\n- - - - - - - - - - - - - - - - - - - - - - - - - - - - - - - - - - - - - - - - - - - - - - - / / / - - - - - - - - - - - - - - - - - - - - - - - - - - - - - - - - - - - - - - - - - - - - - - -"}]
[22,null,{"$f":"IFERROR(VLOOKUP(D25,Nomenclature!$B$2:$C$196,2,0),\"\")","v":""},null,null,null,null,{"$f":"IF(C25=\"\",0,IF(SUMIFS($G$5:G25,$C$5:C25,C25)-SUMIFS($I$4:I24,$C$4:C24,C25)<0,0,SUMIFS($G$5:G25,$C$5:C25,C25)-SUMIFS($I$4:I24,$C$4:C24,C25)))","v":0},null,{"$f":"IF(C25=\"\",0,IF(C25=$C$4,SUMIFS($I$4:I24,$C$4:C24,C24),SUMIFS($I$4:I24,$C$4:C24,C25)))","v":0},0]
[23,null,{"$f":"IFERROR(VLOOKUP(D26,Nomenclature!$B$2:$C$196,2,0),\"\")","v":""},null,null,null,null,{"$f":"IF(C26=\"\",0,IF(SUMIFS($G$5:G26,$C$5:C26,C26)-SUMIFS($I$4:I25,$C$4:C25,C26)<0,0,SUMIFS($G$5:G26,$C$5:C26,C26)-SUMIFS($I$4:I25,$C$4:C25,C26)))","v":0},null,{"$f":"IF(C26=\"\",0,IF(C26=$C$4,SUMIFS($I$4:I25,$C$4:C25,C25),SUMIFS($I$4:I25,$C$4:C25,C26)))","v":0},0]
[24,null,{"$f":"IFERROR(VLOOKUP(D27,Nomenclature!$B$2:$C$196,2,0),\"\")","v":""},null,null,null,null,{"$f":"IF(C27=\"\",0,IF(SUMIFS($G$5:G27,$C$5:C27,C27)-SUMIFS($I$4:I26,$C$4:C26,C27)<0,0,SUMIFS($G$5:G27,$C$5:C27,C27)-SUMIFS($I$4:I26,$C$4:C26,C27)))","v":0},null,{"$f":"IF(C27=\"\",0,IF(C27=$C$4,SUMIFS($I$4:I26,$C$4:C26,C26),SUMIFS($I$4:I26,$C$4:C26,C27)))","v":0},0,null,null,null,"الصنف / الصنف الفرعي",null,null,null,null,null,null,null,"رخصة الالتزام\nالمفتوحة/المعدلة",null,null,null,"مجموع الالتزامات السابقة",null,null,null,"الرصيد\nالأولي",null,null,null,"الالتزام\nالمقترح",null,null,null,"الرصيد المتبقى"]
[25,null,{"$f":"IFERROR(VLOOKUP(D28,Nomenclature!$B$2:$C$196,2,0),\"\")","v":""},null,null,null,null,{"$f":"IF(C28=\"\",0,IF(SUMIFS($G$5:G28,$C$5:C28,C28)-SUMIFS($I$4:I27,$C$4:C27,C28)<0,0,SUMIFS($G$5:G28,$C$5:C28,C28)-SUMIFS($I$4:I27,$C$4:C27,C28)))","v":0},null,{"$f":"IF(C28=\"\",0,IF(C28=$C$4,SUMIFS($I$4:I27,$C$4:C27,C27),SUMIFS($I$4:I27,$C$4:C27,C28)))","v":0},0]
[26,null,{"$f":"IFERROR(VLOOKUP(D29,Nomenclature!$B$2:$C$196,2,0),\"\")","v":""},null,null,null,null,{"$f":"IF(C29=\"\",0,IF(SUMIFS($G$5:G29,$C$5:C29,C29)-SUMIFS($I$4:I28,$C$4:C28,C29)<0,0,SUMIFS($G$5:G29,$C$5:C29,C29)-SUMIFS($I$4:I28,$C$4:C28,C29)))","v":0},null,{"$f":"IF(C29=\"\",0,IF(C29=$C$4,SUMIFS($I$4:I28,$C$4:C28,C28),SUMIFS($I$4:I28,$C$4:C28,C29)))","v":0},0,null,null,null,"الصنف",null,null,null,{"$f":"C4","v":15000},null,null,null,{"$f":"SUM($F$4:INDIRECT(\"f\"&N1+3))","v":10500000},null,null,null,{"$f":"SUM($I$4:INDIRECT(\"i\"&N1+2))","v":0},null,null,null,{"$f":"W29-AA29","v":10500000},null,null,null,{"$f":"IF(S31=\"\",0,VLOOKUP(N1,A4:L103,9,0))","v":0},null,null,null,{"$f":"IF((AE29-AI29)<0,\"رصيد غير كاف\",AE29-AI29)","v":10500000}]
[27,null,{"$f":"IFERROR(VLOOKUP(D30,Nomenclature!$B$2:$C$196,2,0),\"\")","v":""},null,null,null,null,{"$f":"IF(C30=\"\",0,IF(SUMIFS($G$5:G30,$C$5:C30,C30)-SUMIFS($I$4:I29,$C$4:C29,C30)<0,0,SUMIFS($G$5:G30,$C$5:C30,C30)-SUMIFS($I$4:I29,$C$4:C29,C30)))","v":0},null,{"$f":"IF(C30=\"\",0,IF(C30=$C$4,SUMIFS($I$4:I29,$C$4:C29,C29),SUMIFS($I$4:I29,$C$4:C29,C30)))","v":0},0]
[28,null,{"$f":"IFERROR(VLOOKUP(D31,Nomenclature!$B$2:$C$196,2,0),\"\")","v":""},null,null,null,null,{"$f":"IF(C31=\"\",0,IF(SUMIFS($G$5:G31,$C$5:C31,C31)-SUMIFS($I$4:I30,$C$4:C30,C31)<0,0,SUMIFS($G$5:G31,$C$5:C31,C31)-SUMIFS($I$4:I30,$C$4:C30,C31)))","v":0},null,{"$f":"IF(C31=\"\",0,IF(C31=$C$4,SUMIFS($I$4:I30,$C$4:C30,C30),SUMIFS($I$4:I30,$C$4:C30,C31)))","v":0},0,null,null,null,"الصنف الفرعي",null,null,null,{"$f":"IF(IFERROR(VLOOKUP(N1,A4:L103,3,0),\"انتبه خطأ\")=S29,\"\",IFERROR(VLOOKUP(N1,A4:L103,3,0),\"انتبه خطأ\"))","v":""},null,null,null,{"$f":"IF(S31=\"\",\"\",VLOOKUP(N1,A4:L103,8,0))","v":""},null,null,null,{"$f":"IF(S31=\"\",\"\",VLOOKUP(N1,A4:L103,10,0))","v":""},null,null,null,{"$f":"IF(S31=\"\",\"\",W31-AA31)","v":""},null,null,null,{"$f":"IF(S31=\"\",\"\",VLOOKUP(N1,A4:L103,9,0))","v":""},null,null,null,{"$f":"IF(S31=\"\",\"\",IF((AE31-AI31)<0,\"رصيد غير كاف\",AE31-AI31))","v":""}]
[29,null,{"$f":"IFERROR(VLOOKUP(D32,Nomenclature!$B$2:$C$196,2,0),\"\")","v":""},null,null,null,null,{"$f":"IF(C32=\"\",0,IF(SUMIFS($G$5:G32,$C$5:C32,C32)-SUMIFS($I$4:I31,$C$4:C31,C32)<0,0,SUMIFS($G$5:G32,$C$5:C32,C32)-SUMIFS($I$4:I31,$C$4:C31,C32)))","v":0},null,{"$f":"IF(C32=\"\",0,IF(C32=$C$4,SUMIFS($I$4:I31,$C$4:C31,C31),SUMIFS($I$4:I31,$C$4:C31,C32)))","v":0},0]
[30,null,{"$f":"IFERROR(VLOOKUP(D33,Nomenclature!$B$2:$C$196,2,0),\"\")","v":""},null,null,null,null,{"$f":"IF(C33=\"\",0,IF(SUMIFS($G$5:G33,$C$5:C33,C33)-SUMIFS($I$4:I32,$C$4:C32,C33)<0,0,SUMIFS($G$5:G33,$C$5:C33,C33)-SUMIFS($I$4:I32,$C$4:C32,C33)))","v":0},null,{"$f":"IF(C33=\"\",0,IF(C33=$C$4,SUMIFS($I$4:I32,$C$4:C32,C32),SUMIFS($I$4:I32,$C$4:C32,C33)))","v":0},0]
[31,null,{"$f":"IFERROR(VLOOKUP(D34,Nomenclature!$B$2:$C$196,2,0),\"\")","v":""},null,null,null,null,{"$f":"IF(C34=\"\",0,IF(SUMIFS($G$5:G34,$C$5:C34,C34)-SUMIFS($I$4:I33,$C$4:C33,C34)<0,0,SUMIFS($G$5:G34,$C$5:C34,C34)-SUMIFS($I$4:I33,$C$4:C33,C34)))","v":0},null,{"$f":"IF(C34=\"\",0,IF(C34=$C$4,SUMIFS($I$4:I33,$C$4:C33,C33),SUMIFS($I$4:I33,$C$4:C33,C34)))","v":0},0,null,null,null,"موضوع الالتزام:"]
[32,null,{"$f":"IFERROR(VLOOKUP(D35,Nomenclature!$B$2:$C$196,2,0),\"\")","v":""},null,null,null,null,{"$f":"IF(C35=\"\",0,IF(SUMIFS($G$5:G35,$C$5:C35,C35)-SUMIFS($I$4:I34,$C$4:C34,C35)<0,0,SUMIFS($G$5:G35,$C$5:C35,C35)-SUMIFS($I$4:I34,$C$4:C34,C35)))","v":0},null,{"$f":"IF(C35=\"\",0,IF(C35=$C$4,SUMIFS($I$4:I34,$C$4:C34,C34),SUMIFS($I$4:I34,$C$4:C34,C35)))","v":0},0,null,null,null,{"$f":"IF(VLOOKUP(N1,A4:L203,5,0)=0,\"\",IFERROR(VLOOKUP(N1,A4:L203,5,0),\"انتبه خطأ\"))","v":"تكفل برخصة الالتزام المفتوحة لسنة 2023."}]
[33,null,{"$f":"IFERROR(VLOOKUP(D36,Nomenclature!$B$2:$C$196,2,0),\"\")","v":""},null,null,null,null,{"$f":"IF(C36=\"\",0,IF(SUMIFS($G$5:G36,$C$5:C36,C36)-SUMIFS($I$4:I35,$C$4:C35,C36)<0,0,SUMIFS($G$5:G36,$C$5:C36,C36)-SUMIFS($I$4:I35,$C$4:C35,C36)))","v":0},null,{"$f":"IF(C36=\"\",0,IF(C36=$C$4,SUMIFS($I$4:I35,$C$4:C35,C35),SUMIFS($I$4:I35,$C$4:C35,C36)))","v":0},0]
[34,null,{"$f":"IFERROR(VLOOKUP(D37,Nomenclature!$B$2:$C$196,2,0),\"\")","v":""},null,null,null,null,{"$f":"IF(C37=\"\",0,IF(SUMIFS($G$5:G37,$C$5:C37,C37)-SUMIFS($I$4:I36,$C$4:C36,C37)<0,0,SUMIFS($G$5:G37,$C$5:C37,C37)-SUMIFS($I$4:I36,$C$4:C36,C37)))","v":0},null,{"$f":"IF(C37=\"\",0,IF(C37=$C$4,SUMIFS($I$4:I36,$C$4:C36,C36),SUMIFS($I$4:I36,$C$4:C36,C37)))","v":0},0]
[35,null,{"$f":"IFERROR(VLOOKUP(D38,Nomenclature!$B$2:$C$196,2,0),\"\")","v":""},null,null,null,null,{"$f":"IF(C38=\"\",0,IF(SUMIFS($G$5:G38,$C$5:C38,C38)-SUMIFS($I$4:I37,$C$4:C37,C38)<0,0,SUMIFS($G$5:G38,$C$5:C38,C38)-SUMIFS($I$4:I37,$C$4:C37,C38)))","v":0},null,{"$f":"IF(C38=\"\",0,IF(C38=$C$4,SUMIFS($I$4:I37,$C$4:C37,C37),SUMIFS($I$4:I37,$C$4:C37,C38)))","v":0},0]
[36,null,{"$f":"IFERROR(VLOOKUP(D39,Nomenclature!$B$2:$C$196,2,0),\"\")","v":""},null,null,null,null,{"$f":"IF(C39=\"\",0,IF(SUMIFS($G$5:G39,$C$5:C39,C39)-SUMIFS($I$4:I38,$C$4:C38,C39)<0,0,SUMIFS($G$5:G39,$C$5:C39,C39)-SUMIFS($I$4:I38,$C$4:C38,C39)))","v":0},null,{"$f":"IF(C39=\"\",0,IF(C39=$C$4,SUMIFS($I$4:I38,$C$4:C38,C38),SUMIFS($I$4:I38,$C$4:C38,C39)))","v":0},0]
[37,null,{"$f":"IFERROR(VLOOKUP(D40,Nomenclature!$B$2:$C$196,2,0),\"\")","v":""},null,null,null,null,{"$f":"IF(C40=\"\",0,IF(SUMIFS($G$5:G40,$C$5:C40,C40)-SUMIFS($I$4:I39,$C$4:C39,C40)<0,0,SUMIFS($G$5:G40,$C$5:C40,C40)-SUMIFS($I$4:I39,$C$4:C39,C40)))","v":0},null,{"$f":"IF(C40=\"\",0,IF(C40=$C$4,SUMIFS($I$4:I39,$C$4:C39,C39),SUMIFS($I$4:I39,$C$4:C39,C40)))","v":0},0,null,null,null,"المبلغ بالحروف:",null,null,null,{"$f":"IFERROR(arretera(AI31),\"\")","v":""}]
[38,null,{"$f":"IFERROR(VLOOKUP(D41,Nomenclature!$B$2:$C$196,2,0),\"\")","v":""},null,null,null,null,{"$f":"IF(C41=\"\",0,IF(SUMIFS($G$5:G41,$C$5:C41,C41)-SUMIFS($I$4:I40,$C$4:C40,C41)<0,0,SUMIFS($G$5:G41,$C$5:C41,C41)-SUMIFS($I$4:I40,$C$4:C40,C41)))","v":0},null,{"$f":"IF(C41=\"\",0,IF(C41=$C$4,SUMIFS($I$4:I40,$C$4:C40,C40),SUMIFS($I$4:I40,$C$4:C40,C41)))","v":0},0]
[39,null,{"$f":"IFERROR(VLOOKUP(D42,Nomenclature!$B$2:$C$196,2,0),\"\")","v":""},null,null,null,null,{"$f":"IF(C42=\"\",0,IF(SUMIFS($G$5:G42,$C$5:C42,C42)-SUMIFS($I$4:I41,$C$4:C41,C42)<0,0,SUMIFS($G$5:G42,$C$5:C42,C42)-SUMIFS($I$4:I41,$C$4:C41,C42)))","v":0},null,{"$f":"IF(C42=\"\",0,IF(C42=$C$4,SUMIFS($I$4:I41,$C$4:C41,C41),SUMIFS($I$4:I41,$C$4:C41,C42)))","v":0},0]
[40,null,{"$f":"IFERROR(VLOOKUP(D43,Nomenclature!$B$2:$C$196,2,0),\"\")","v":""},null,null,null,null,{"$f":"IF(C43=\"\",0,IF(SUMIFS($G$5:G43,$C$5:C43,C43)-SUMIFS($I$4:I42,$C$4:C42,C43)<0,0,SUMIFS($G$5:G43,$C$5:C43,C43)-SUMIFS($I$4:I42,$C$4:C42,C43)))","v":0},null,{"$f":"IF(C43=\"\",0,IF(C43=$C$4,SUMIFS($I$4:I42,$C$4:C42,C42),SUMIFS($I$4:I42,$C$4:C42,C43)))","v":0},0,null,null,null,"إطار مخصص للمراقب الميزانياتي",null,null,null,null,null,null,null,null,null,null,null,null,null,"إطار مخصص للآمر بالصرف"]
[41,null,{"$f":"IFERROR(VLOOKUP(D44,Nomenclature!$B$2:$C$196,2,0),\"\")","v":""},null,null,null,null,{"$f":"IF(C44=\"\",0,IF(SUMIFS($G$5:G44,$C$5:C44,C44)-SUMIFS($I$4:I43,$C$4:C43,C44)<0,0,SUMIFS($G$5:G44,$C$5:C44,C44)-SUMIFS($I$4:I43,$C$4:C43,C44)))","v":0},null,{"$f":"IF(C44=\"\",0,IF(C44=$C$4,SUMIFS($I$4:I43,$C$4:C43,C43),SUMIFS($I$4:I43,$C$4:C43,C44)))","v":0},0]
[42,null,{"$f":"IFERROR(VLOOKUP(D45,Nomenclature!$B$2:$C$196,2,0),\"\")","v":""},null,null,null,null,{"$f":"IF(C45=\"\",0,IF(SUMIFS($G$5:G45,$C$5:C45,C45)-SUMIFS($I$4:I44,$C$4:C44,C45)<0,0,SUMIFS($G$5:G45,$C$5:C45,C45)-SUMIFS($I$4:I44,$C$4:C44,C45)))","v":0},null,{"$f":"IF(C45=\"\",0,IF(C45=$C$4,SUMIFS($I$4:I44,$C$4:C44,C44),SUMIFS($I$4:I44,$C$4:C44,C45)))","v":0},0,null,null,null,"رقم التأشيرة:",null,null,null,null,null,null,null,null,null,null,null,null,null,null,"ختم"]
[43,null,{"$f":"IFERROR(VLOOKUP(D46,Nomenclature!$B$2:$C$196,2,0),\"\")","v":""},null,null,null,null,{"$f":"IF(C46=\"\",0,IF(SUMIFS($G$5:G46,$C$5:C46,C46)-SUMIFS($I$4:I45,$C$4:C45,C46)<0,0,SUMIFS($G$5:G46,$C$5:C46,C46)-SUMIFS($I$4:I45,$C$4:C45,C46)))","v":0},null,{"$f":"IF(C46=\"\",0,IF(C46=$C$4,SUMIFS($I$4:I45,$C$4:C45,C45),SUMIFS($I$4:I45,$C$4:C45,C46)))","v":0},0]
[44,null,{"$f":"IFERROR(VLOOKUP(D47,Nomenclature!$B$2:$C$196,2,0),\"\")","v":""},null,null,null,null,{"$f":"IF(C47=\"\",0,IF(SUMIFS($G$5:G47,$C$5:C47,C47)-SUMIFS($I$4:I46,$C$4:C46,C47)<0,0,SUMIFS($G$5:G47,$C$5:C47,C47)-SUMIFS($I$4:I46,$C$4:C46,C47)))","v":0},null,{"$f":"IF(C47=\"\",0,IF(C47=$C$4,SUMIFS($I$4:I46,$C$4:C46,C46),SUMIFS($I$4:I46,$C$4:C46,C47)))","v":0},0,null,null,null,"تاريخ التأشيرة:"]
[45,null,{"$f":"IFERROR(VLOOKUP(D48,Nomenclature!$B$2:$C$196,2,0),\"\")","v":""},null,null,null,null,{"$f":"IF(C48=\"\",0,IF(SUMIFS($G$5:G48,$C$5:C48,C48)-SUMIFS($I$4:I47,$C$4:C47,C48)<0,0,SUMIFS($G$5:G48,$C$5:C48,C48)-SUMIFS($I$4:I47,$C$4:C47,C48)))","v":0},null,{"$f":"IF(C48=\"\",0,IF(C48=$C$4,SUMIFS($I$4:I47,$C$4:C47,C47),SUMIFS($I$4:I47,$C$4:C47,C48)))","v":0},0,null,null,null,null,null,null,null,null,null,null,null,null,null,null,null,null,null,null,"امضاء"]
[46,null,{"$f":"IFERROR(VLOOKUP(D49,Nomenclature!$B$2:$C$196,2,0),\"\")","v":""},null,null,null,null,{"$f":"IF(C49=\"\",0,IF(SUMIFS($G$5:G49,$C$5:C49,C49)-SUMIFS($I$4:I48,$C$4:C48,C49)<0,0,SUMIFS($G$5:G49,$C$5:C49,C49)-SUMIFS($I$4:I48,$C$4:C48,C49)))","v":0},null,{"$f":"IF(C49=\"\",0,IF(C49=$C$4,SUMIFS($I$4:I48,$C$4:C48,C48),SUMIFS($I$4:I48,$C$4:C48,C49)))","v":0},0]
[47,null,{"$f":"IFERROR(VLOOKUP(D50,Nomenclature!$B$2:$C$196,2,0),\"\")","v":""},null,null,null,null,{"$f":"IF(C50=\"\",0,IF(SUMIFS($G$5:G50,$C$5:C50,C50)-SUMIFS($I$4:I49,$C$4:C49,C50)<0,0,SUMIFS($G$5:G50,$C$5:C50,C50)-SUMIFS($I$4:I49,$C$4:C49,C50)))","v":0},null,{"$f":"IF(C50=\"\",0,IF(C50=$C$4,SUMIFS($I$4:I49,$C$4:C49,C49),SUMIFS($I$4:I49,$C$4:C49,C50)))","v":0},0]
[48,null,{"$f":"IFERROR(VLOOKUP(D51,Nomenclature!$B$2:$C$196,2,0),\"\")","v":""},null,null,null,null,{"$f":"IF(C51=\"\",0,IF(SUMIFS($G$5:G51,$C$5:C51,C51)-SUMIFS($I$4:I50,$C$4:C50,C51)<0,0,SUMIFS($G$5:G51,$C$5:C51,C51)-SUMIFS($I$4:I50,$C$4:C50,C51)))","v":0},null,{"$f":"IF(C51=\"\",0,IF(C51=$C$4,SUMIFS($I$4:I50,$C$4:C50,C50),SUMIFS($I$4:I50,$C$4:C50,C51)))","v":0},0,null,null,null,null,{"$f":"AD48","v":"امضاء"},null,null,null,null,null,null,null,{"$f":"AD45","v":"ختم"}]
[49,null,{"$f":"IFERROR(VLOOKUP(D52,Nomenclature!$B$2:$C$196,2,0),\"\")","v":""},null,null,null,null,{"$f":"IF(C52=\"\",0,IF(SUMIFS($G$5:G52,$C$5:C52,C52)-SUMIFS($I$4:I51,$C$4:C51,C52)<0,0,SUMIFS($G$5:G52,$C$5:C52,C52)-SUMIFS($I$4:I51,$C$4:C51,C52)))","v":0},null,{"$f":"IF(C52=\"\",0,IF(C52=$C$4,SUMIFS($I$4:I51,$C$4:C51,C51),SUMIFS($I$4:I51,$C$4:C51,C52)))","v":0},0]
[50,null,{"$f":"IFERROR(VLOOKUP(D53,Nomenclature!$B$2:$C$196,2,0),\"\")","v":""},null,null,null,null,{"$f":"IF(C53=\"\",0,IF(SUMIFS($G$5:G53,$C$5:C53,C53)-SUMIFS($I$4:I52,$C$4:C52,C53)<0,0,SUMIFS($G$5:G53,$C$5:C53,C53)-SUMIFS($I$4:I52,$C$4:C52,C53)))","v":0},null,{"$f":"IF(C53=\"\",0,IF(C53=$C$4,SUMIFS($I$4:I52,$C$4:C52,C52),SUMIFS($I$4:I52,$C$4:C52,C53)))","v":0},0]
[51,null,{"$f":"IFERROR(VLOOKUP(D54,Nomenclature!$B$2:$C$196,2,0),\"\")","v":""},null,null,null,null,{"$f":"IF(C54=\"\",0,IF(SUMIFS($G$5:G54,$C$5:C54,C54)-SUMIFS($I$4:I53,$C$4:C53,C54)<0,0,SUMIFS($G$5:G54,$C$5:C54,C54)-SUMIFS($I$4:I53,$C$4:C53,C54)))","v":0},null,{"$f":"IF(C54=\"\",0,IF(C54=$C$4,SUMIFS($I$4:I53,$C$4:C53,C53),SUMIFS($I$4:I53,$C$4:C53,C54)))","v":0},0]
[52,null,{"$f":"IFERROR(VLOOKUP(D55,Nomenclature!$B$2:$C$196,2,0),\"\")","v":""},null,null,null,null,{"$f":"IF(C55=\"\",0,IF(SUMIFS($G$5:G55,$C$5:C55,C55)-SUMIFS($I$4:I54,$C$4:C54,C55)<0,0,SUMIFS($G$5:G55,$C$5:C55,C55)-SUMIFS($I$4:I54,$C$4:C54,C55)))","v":0},null,{"$f":"IF(C55=\"\",0,IF(C55=$C$4,SUMIFS($I$4:I54,$C$4:C54,C54),SUMIFS($I$4:I54,$C$4:C54,C55)))","v":0},0]
[53,null,{"$f":"IFERROR(VLOOKUP(D56,Nomenclature!$B$2:$C$196,2,0),\"\")","v":""},null,null,null,null,{"$f":"IF(C56=\"\",0,IF(SUMIFS($G$5:G56,$C$5:C56,C56)-SUMIFS($I$4:I55,$C$4:C55,C56)<0,0,SUMIFS($G$5:G56,$C$5:C56,C56)-SUMIFS($I$4:I55,$C$4:C55,C56)))","v":0},null,{"$f":"IF(C56=\"\",0,IF(C56=$C$4,SUMIFS($I$4:I55,$C$4:C55,C55),SUMIFS($I$4:I55,$C$4:C55,C56)))","v":0},0]
[54,null,{"$f":"IFERROR(VLOOKUP(D57,Nomenclature!$B$2:$C$196,2,0),\"\")","v":""},null,null,null,null,{"$f":"IF(C57=\"\",0,IF(SUMIFS($G$5:G57,$C$5:C57,C57)-SUMIFS($I$4:I56,$C$4:C56,C57)<0,0,SUMIFS($G$5:G57,$C$5:C57,C57)-SUMIFS($I$4:I56,$C$4:C56,C57)))","v":0},null,{"$f":"IF(C57=\"\",0,IF(C57=$C$4,SUMIFS($I$4:I56,$C$4:C56,C56),SUMIFS($I$4:I56,$C$4:C56,C57)))","v":0},0]
[55,null,{"$f":"IFERROR(VLOOKUP(D58,Nomenclature!$B$2:$C$196,2,0),\"\")","v":""},null,null,null,null,{"$f":"IF(C58=\"\",0,IF(SUMIFS($G$5:G58,$C$5:C58,C58)-SUMIFS($I$4:I57,$C$4:C57,C58)<0,0,SUMIFS($G$5:G58,$C$5:C58,C58)-SUMIFS($I$4:I57,$C$4:C57,C58)))","v":0},null,{"$f":"IF(C58=\"\",0,IF(C58=$C$4,SUMIFS($I$4:I57,$C$4:C57,C57),SUMIFS($I$4:I57,$C$4:C57,C58)))","v":0},0]
[56,null,{"$f":"IFERROR(VLOOKUP(D59,Nomenclature!$B$2:$C$196,2,0),\"\")","v":""},null,null,null,null,{"$f":"IF(C59=\"\",0,IF(SUMIFS($G$5:G59,$C$5:C59,C59)-SUMIFS($I$4:I58,$C$4:C58,C59)<0,0,SUMIFS($G$5:G59,$C$5:C59,C59)-SUMIFS($I$4:I58,$C$4:C58,C59)))","v":0},null,{"$f":"IF(C59=\"\",0,IF(C59=$C$4,SUMIFS($I$4:I58,$C$4:C58,C58),SUMIFS($I$4:I58,$C$4:C58,C59)))","v":0},0]
[57,null,{"$f":"IFERROR(VLOOKUP(D60,Nomenclature!$B$2:$C$196,2,0),\"\")","v":""},null,null,null,null,{"$f":"IF(C60=\"\",0,IF(SUMIFS($G$5:G60,$C$5:C60,C60)-SUMIFS($I$4:I59,$C$4:C59,C60)<0,0,SUMIFS($G$5:G60,$C$5:C60,C60)-SUMIFS($I$4:I59,$C$4:C59,C60)))","v":0},null,{"$f":"IF(C60=\"\",0,IF(C60=$C$4,SUMIFS($I$4:I59,$C$4:C59,C59),SUMIFS($I$4:I59,$C$4:C59,C60)))","v":0},0]
[58,null,{"$f":"IFERROR(VLOOKUP(D61,Nomenclature!$B$2:$C$196,2,0),\"\")","v":""},null,null,null,null,{"$f":"IF(C61=\"\",0,IF(SUMIFS($G$5:G61,$C$5:C61,C61)-SUMIFS($I$4:I60,$C$4:C60,C61)<0,0,SUMIFS($G$5:G61,$C$5:C61,C61)-SUMIFS($I$4:I60,$C$4:C60,C61)))","v":0},null,{"$f":"IF(C61=\"\",0,IF(C61=$C$4,SUMIFS($I$4:I60,$C$4:C60,C60),SUMIFS($I$4:I60,$C$4:C60,C61)))","v":0},0]
[59,null,{"$f":"IFERROR(VLOOKUP(D62,Nomenclature!$B$2:$C$196,2,0),\"\")","v":""},null,null,null,null,{"$f":"IF(C62=\"\",0,IF(SUMIFS($G$5:G62,$C$5:C62,C62)-SUMIFS($I$4:I61,$C$4:C61,C62)<0,0,SUMIFS($G$5:G62,$C$5:C62,C62)-SUMIFS($I$4:I61,$C$4:C61,C62)))","v":0},null,{"$f":"IF(C62=\"\",0,IF(C62=$C$4,SUMIFS($I$4:I61,$C$4:C61,C61),SUMIFS($I$4:I61,$C$4:C61,C62)))","v":0},0]
[60,null,{"$f":"IFERROR(VLOOKUP(D63,Nomenclature!$B$2:$C$196,2,0),\"\")","v":""},null,null,null,null,{"$f":"IF(C63=\"\",0,IF(SUMIFS($G$5:G63,$C$5:C63,C63)-SUMIFS($I$4:I62,$C$4:C62,C63)<0,0,SUMIFS($G$5:G63,$C$5:C63,C63)-SUMIFS($I$4:I62,$C$4:C62,C63)))","v":0},null,{"$f":"IF(C63=\"\",0,IF(C63=$C$4,SUMIFS($I$4:I62,$C$4:C62,C62),SUMIFS($I$4:I62,$C$4:C62,C63)))","v":0},0]
[61,null,{"$f":"IFERROR(VLOOKUP(D64,Nomenclature!$B$2:$C$196,2,0),\"\")","v":""},null,null,null,null,{"$f":"IF(C64=\"\",0,IF(SUMIFS($G$5:G64,$C$5:C64,C64)-SUMIFS($I$4:I63,$C$4:C63,C64)<0,0,SUMIFS($G$5:G64,$C$5:C64,C64)-SUMIFS($I$4:I63,$C$4:C63,C64)))","v":0},null,{"$f":"IF(C64=\"\",0,IF(C64=$C$4,SUMIFS($I$4:I63,$C$4:C63,C63),SUMIFS($I$4:I63,$C$4:C63,C64)))","v":0},0]
[62,null,{"$f":"IFERROR(VLOOKUP(D65,Nomenclature!$B$2:$C$196,2,0),\"\")","v":""},null,null,null,null,{"$f":"IF(C65=\"\",0,IF(SUMIFS($G$5:G65,$C$5:C65,C65)-SUMIFS($I$4:I64,$C$4:C64,C65)<0,0,SUMIFS($G$5:G65,$C$5:C65,C65)-SUMIFS($I$4:I64,$C$4:C64,C65)))","v":0},null,{"$f":"IF(C65=\"\",0,IF(C65=$C$4,SUMIFS($I$4:I64,$C$4:C64,C64),SUMIFS($I$4:I64,$C$4:C64,C65)))","v":0},0]
[63,null,{"$f":"IFERROR(VLOOKUP(D66,Nomenclature!$B$2:$C$196,2,0),\"\")","v":""},null,null,null,null,{"$f":"IF(C66=\"\",0,IF(SUMIFS($G$5:G66,$C$5:C66,C66)-SUMIFS($I$4:I65,$C$4:C65,C66)<0,0,SUMIFS($G$5:G66,$C$5:C66,C66)-SUMIFS($I$4:I65,$C$4:C65,C66)))","v":0},null,{"$f":"IF(C66=\"\",0,IF(C66=$C$4,SUMIFS($I$4:I65,$C$4:C65,C65),SUMIFS($I$4:I65,$C$4:C65,C66)))","v":0},0]
[64,null,{"$f":"IFERROR(VLOOKUP(D67,Nomenclature!$B$2:$C$196,2,0),\"\")","v":""},null,null,null,null,{"$f":"IF(C67=\"\",0,IF(SUMIFS($G$5:G67,$C$5:C67,C67)-SUMIFS($I$4:I66,$C$4:C66,C67)<0,0,SUMIFS($G$5:G67,$C$5:C67,C67)-SUMIFS($I$4:I66,$C$4:C66,C67)))","v":0},null,{"$f":"IF(C67=\"\",0,IF(C67=$C$4,SUMIFS($I$4:I66,$C$4:C66,C66),SUMIFS($I$4:I66,$C$4:C66,C67)))","v":0},0]
[65,null,{"$f":"IFERROR(VLOOKUP(D68,Nomenclature!$B$2:$C$196,2,0),\"\")","v":""},null,null,null,null,{"$f":"IF(C68=\"\",0,IF(SUMIFS($G$5:G68,$C$5:C68,C68)-SUMIFS($I$4:I67,$C$4:C67,C68)<0,0,SUMIFS($G$5:G68,$C$5:C68,C68)-SUMIFS($I$4:I67,$C$4:C67,C68)))","v":0},null,{"$f":"IF(C68=\"\",0,IF(C68=$C$4,SUMIFS($I$4:I67,$C$4:C67,C67),SUMIFS($I$4:I67,$C$4:C67,C68)))","v":0},{"$f":"IF(C68=\"\",0,H68-I68)","v":0}]
[66,null,{"$f":"IFERROR(VLOOKUP(D69,Nomenclature!$B$2:$C$196,2,0),\"\")","v":""},null,null,null,null,{"$f":"IF(C69=\"\",0,IF(SUMIFS($G$5:G69,$C$5:C69,C69)-SUMIFS($I$4:I68,$C$4:C68,C69)<0,0,SUMIFS($G$5:G69,$C$5:C69,C69)-SUMIFS($I$4:I68,$C$4:C68,C69)))","v":0},null,{"$f":"IF(C69=\"\",0,IF(C69=$C$4,SUMIFS($I$4:I68,$C$4:C68,C68),SUMIFS($I$4:I68,$C$4:C68,C69)))","v":0},0]
[67,null,{"$f":"IFERROR(VLOOKUP(D70,Nomenclature!$B$2:$C$196,2,0),\"\")","v":""},null,null,null,null,{"$f":"IF(C70=\"\",0,IF(SUMIFS($G$5:G70,$C$5:C70,C70)-SUMIFS($I$4:I69,$C$4:C69,C70)<0,0,SUMIFS($G$5:G70,$C$5:C70,C70)-SUMIFS($I$4:I69,$C$4:C69,C70)))","v":0},null,{"$f":"IF(C70=\"\",0,IF(C70=$C$4,SUMIFS($I$4:I69,$C$4:C69,C69),SUMIFS($I$4:I69,$C$4:C69,C70)))","v":0},0]
[68,null,{"$f":"IFERROR(VLOOKUP(D71,Nomenclature!$B$2:$C$196,2,0),\"\")","v":""},null,null,null,null,{"$f":"IF(C71=\"\",0,IF(SUMIFS($G$5:G71,$C$5:C71,C71)-SUMIFS($I$4:I70,$C$4:C70,C71)<0,0,SUMIFS($G$5:G71,$C$5:C71,C71)-SUMIFS($I$4:I70,$C$4:C70,C71)))","v":0},null,{"$f":"IF(C71=\"\",0,IF(C71=$C$4,SUMIFS($I$4:I70,$C$4:C70,C70),SUMIFS($I$4:I70,$C$4:C70,C71)))","v":0},0]
[69,null,{"$f":"IFERROR(VLOOKUP(D72,Nomenclature!$B$2:$C$196,2,0),\"\")","v":""},null,null,null,null,{"$f":"IF(C72=\"\",0,IF(SUMIFS($G$5:G72,$C$5:C72,C72)-SUMIFS($I$4:I71,$C$4:C71,C72)<0,0,SUMIFS($G$5:G72,$C$5:C72,C72)-SUMIFS($I$4:I71,$C$4:C71,C72)))","v":0},null,{"$f":"IF(C72=\"\",0,IF(C72=$C$4,SUMIFS($I$4:I71,$C$4:C71,C71),SUMIFS($I$4:I71,$C$4:C71,C72)))","v":0},0]
[70,null,{"$f":"IFERROR(VLOOKUP(D73,Nomenclature!$B$2:$C$196,2,0),\"\")","v":""},null,null,null,null,{"$f":"IF(C73=\"\",0,IF(SUMIFS($G$5:G73,$C$5:C73,C73)-SUMIFS($I$4:I72,$C$4:C72,C73)<0,0,SUMIFS($G$5:G73,$C$5:C73,C73)-SUMIFS($I$4:I72,$C$4:C72,C73)))","v":0},null,{"$f":"IF(C73=\"\",0,IF(C73=$C$4,SUMIFS($I$4:I72,$C$4:C72,C72),SUMIFS($I$4:I72,$C$4:C72,C73)))","v":0},0]
[71,null,{"$f":"IFERROR(VLOOKUP(D74,Nomenclature!$B$2:$C$196,2,0),\"\")","v":""},null,null,null,null,{"$f":"IF(C74=\"\",0,IF(SUMIFS($G$5:G74,$C$5:C74,C74)-SUMIFS($I$4:I73,$C$4:C73,C74)<0,0,SUMIFS($G$5:G74,$C$5:C74,C74)-SUMIFS($I$4:I73,$C$4:C73,C74)))","v":0},null,{"$f":"IF(C74=\"\",0,IF(C74=$C$4,SUMIFS($I$4:I73,$C$4:C73,C73),SUMIFS($I$4:I73,$C$4:C73,C74)))","v":0},0]
[72,null,{"$f":"IFERROR(VLOOKUP(D75,Nomenclature!$B$2:$C$196,2,0),\"\")","v":""},null,null,null,null,{"$f":"IF(C75=\"\",0,IF(SUMIFS($G$5:G75,$C$5:C75,C75)-SUMIFS($I$4:I74,$C$4:C74,C75)<0,0,SUMIFS($G$5:G75,$C$5:C75,C75)-SUMIFS($I$4:I74,$C$4:C74,C75)))","v":0},null,{"$f":"IF(C75=\"\",0,IF(C75=$C$4,SUMIFS($I$4:I74,$C$4:C74,C74),SUMIFS($I$4:I74,$C$4:C74,C75)))","v":0},0]
[73,null,{"$f":"IFERROR(VLOOKUP(D76,Nomenclature!$B$2:$C$196,2,0),\"\")","v":""},null,null,null,null,{"$f":"IF(C76=\"\",0,IF(SUMIFS($G$5:G76,$C$5:C76,C76)-SUMIFS($I$4:I75,$C$4:C75,C76)<0,0,SUMIFS($G$5:G76,$C$5:C76,C76)-SUMIFS($I$4:I75,$C$4:C75,C76)))","v":0},null,{"$f":"IF(C76=\"\",0,IF(C76=$C$4,SUMIFS($I$4:I75,$C$4:C75,C75),SUMIFS($I$4:I75,$C$4:C75,C76)))","v":0},0]
[74,null,{"$f":"IFERROR(VLOOKUP(D77,Nomenclature!$B$2:$C$196,2,0),\"\")","v":""},null,null,null,null,{"$f":"IF(C77=\"\",0,IF(SUMIFS($G$5:G77,$C$5:C77,C77)-SUMIFS($I$4:I76,$C$4:C76,C77)<0,0,SUMIFS($G$5:G77,$C$5:C77,C77)-SUMIFS($I$4:I76,$C$4:C76,C77)))","v":0},null,{"$f":"IF(C77=\"\",0,IF(C77=$C$4,SUMIFS($I$4:I76,$C$4:C76,C76),SUMIFS($I$4:I76,$C$4:C76,C77)))","v":0},0]
[75,null,{"$f":"IFERROR(VLOOKUP(D78,Nomenclature!$B$2:$C$196,2,0),\"\")","v":""},null,null,null,null,{"$f":"IF(C78=\"\",0,IF(SUMIFS($G$5:G78,$C$5:C78,C78)-SUMIFS($I$4:I77,$C$4:C77,C78)<0,0,SUMIFS($G$5:G78,$C$5:C78,C78)-SUMIFS($I$4:I77,$C$4:C77,C78)))","v":0},null,{"$f":"IF(C78=\"\",0,IF(C78=$C$4,SUMIFS($I$4:I77,$C$4:C77,C77),SUMIFS($I$4:I77,$C$4:C77,C78)))","v":0},0]
[76,null,{"$f":"IFERROR(VLOOKUP(D79,Nomenclature!$B$2:$C$196,2,0),\"\")","v":""},null,null,null,null,{"$f":"IF(C79=\"\",0,IF(SUMIFS($G$5:G79,$C$5:C79,C79)-SUMIFS($I$4:I78,$C$4:C78,C79)<0,0,SUMIFS($G$5:G79,$C$5:C79,C79)-SUMIFS($I$4:I78,$C$4:C78,C79)))","v":0},null,{"$f":"IF(C79=\"\",0,IF(C79=$C$4,SUMIFS($I$4:I78,$C$4:C78,C78),SUMIFS($I$4:I78,$C$4:C78,C79)))","v":0},0]
[77,null,{"$f":"IFERROR(VLOOKUP(D80,Nomenclature!$B$2:$C$196,2,0),\"\")","v":""},null,null,null,null,{"$f":"IF(C80=\"\",0,IF(SUMIFS($G$5:G80,$C$5:C80,C80)-SUMIFS($I$4:I79,$C$4:C79,C80)<0,0,SUMIFS($G$5:G80,$C$5:C80,C80)-SUMIFS($I$4:I79,$C$4:C79,C80)))","v":0},null,{"$f":"IF(C80=\"\",0,IF(C80=$C$4,SUMIFS($I$4:I79,$C$4:C79,C79),SUMIFS($I$4:I79,$C$4:C79,C80)))","v":0},0]
[78,null,{"$f":"IFERROR(VLOOKUP(D81,Nomenclature!$B$2:$C$196,2,0),\"\")","v":""},null,null,null,null,{"$f":"IF(C81=\"\",0,IF(SUMIFS($G$5:G81,$C$5:C81,C81)-SUMIFS($I$4:I80,$C$4:C80,C81)<0,0,SUMIFS($G$5:G81,$C$5:C81,C81)-SUMIFS($I$4:I80,$C$4:C80,C81)))","v":0},null,{"$f":"IF(C81=\"\",0,IF(C81=$C$4,SUMIFS($I$4:I80,$C$4:C80,C80),SUMIFS($I$4:I80,$C$4:C80,C81)))","v":0},0]
[79,null,{"$f":"IFERROR(VLOOKUP(D82,Nomenclature!$B$2:$C$196,2,0),\"\")","v":""},null,null,null,null,{"$f":"IF(C82=\"\",0,IF(SUMIFS($G$5:G82,$C$5:C82,C82)-SUMIFS($I$4:I81,$C$4:C81,C82)<0,0,SUMIFS($G$5:G82,$C$5:C82,C82)-SUMIFS($I$4:I81,$C$4:C81,C82)))","v":0},null,{"$f":"IF(C82=\"\",0,IF(C82=$C$4,SUMIFS($I$4:I81,$C$4:C81,C81),SUMIFS($I$4:I81,$C$4:C81,C82)))","v":0},0]
[80,null,{"$f":"IFERROR(VLOOKUP(D83,Nomenclature!$B$2:$C$196,2,0),\"\")","v":""},null,null,null,null,{"$f":"IF(C83=\"\",0,IF(SUMIFS($G$5:G83,$C$5:C83,C83)-SUMIFS($I$4:I82,$C$4:C82,C83)<0,0,SUMIFS($G$5:G83,$C$5:C83,C83)-SUMIFS($I$4:I82,$C$4:C82,C83)))","v":0},null,{"$f":"IF(C83=\"\",0,IF(C83=$C$4,SUMIFS($I$4:I82,$C$4:C82,C82),SUMIFS($I$4:I82,$C$4:C82,C83)))","v":0},0]
[81,null,{"$f":"IFERROR(VLOOKUP(D84,Nomenclature!$B$2:$C$196,2,0),\"\")","v":""},null,null,null,null,{"$f":"IF(C84=\"\",0,IF(SUMIFS($G$5:G84,$C$5:C84,C84)-SUMIFS($I$4:I83,$C$4:C83,C84)<0,0,SUMIFS($G$5:G84,$C$5:C84,C84)-SUMIFS($I$4:I83,$C$4:C83,C84)))","v":0},null,{"$f":"IF(C84=\"\",0,IF(C84=$C$4,SUMIFS($I$4:I83,$C$4:C83,C83),SUMIFS($I$4:I83,$C$4:C83,C84)))","v":0},0]
[82,null,{"$f":"IFERROR(VLOOKUP(D85,Nomenclature!$B$2:$C$196,2,0),\"\")","v":""},null,null,null,null,{"$f":"IF(C85=\"\",0,IF(SUMIFS($G$5:G85,$C$5:C85,C85)-SUMIFS($I$4:I84,$C$4:C84,C85)<0,0,SUMIFS($G$5:G85,$C$5:C85,C85)-SUMIFS($I$4:I84,$C$4:C84,C85)))","v":0},null,{"$f":"IF(C85=\"\",0,IF(C85=$C$4,SUMIFS($I$4:I84,$C$4:C84,C84),SUMIFS($I$4:I84,$C$4:C84,C85)))","v":0},0]
[83,null,{"$f":"IFERROR(VLOOKUP(D86,Nomenclature!$B$2:$C$196,2,0),\"\")","v":""},null,null,null,null,{"$f":"IF(C86=\"\",0,IF(SUMIFS($G$5:G86,$C$5:C86,C86)-SUMIFS($I$4:I85,$C$4:C85,C86)<0,0,SUMIFS($G$5:G86,$C$5:C86,C86)-SUMIFS($I$4:I85,$C$4:C85,C86)))","v":0},null,{"$f":"IF(C86=\"\",0,IF(C86=$C$4,SUMIFS($I$4:I85,$C$4:C85,C85),SUMIFS($I$4:I85,$C$4:C85,C86)))","v":0},0]
[84,null,{"$f":"IFERROR(VLOOKUP(D87,Nomenclature!$B$2:$C$196,2,0),\"\")","v":""},null,null,null,null,{"$f":"IF(C87=\"\",0,IF(SUMIFS($G$5:G87,$C$5:C87,C87)-SUMIFS($I$4:I86,$C$4:C86,C87)<0,0,SUMIFS($G$5:G87,$C$5:C87,C87)-SUMIFS($I$4:I86,$C$4:C86,C87)))","v":0},null,{"$f":"IF(C87=\"\",0,IF(C87=$C$4,SUMIFS($I$4:I86,$C$4:C86,C86),SUMIFS($I$4:I86,$C$4:C86,C87)))","v":0},0]
[85,null,{"$f":"IFERROR(VLOOKUP(D88,Nomenclature!$B$2:$C$196,2,0),\"\")","v":""},null,null,null,null,{"$f":"IF(C88=\"\",0,IF(SUMIFS($G$5:G88,$C$5:C88,C88)-SUMIFS($I$4:I87,$C$4:C87,C88)<0,0,SUMIFS($G$5:G88,$C$5:C88,C88)-SUMIFS($I$4:I87,$C$4:C87,C88)))","v":0},null,{"$f":"IF(C88=\"\",0,IF(C88=$C$4,SUMIFS($I$4:I87,$C$4:C87,C87),SUMIFS($I$4:I87,$C$4:C87,C88)))","v":0},0]
[86,null,{"$f":"IFERROR(VLOOKUP(D89,Nomenclature!$B$2:$C$196,2,0),\"\")","v":""},null,null,null,null,{"$f":"IF(C89=\"\",0,IF(SUMIFS($G$5:G89,$C$5:C89,C89)-SUMIFS($I$4:I88,$C$4:C88,C89)<0,0,SUMIFS($G$5:G89,$C$5:C89,C89)-SUMIFS($I$4:I88,$C$4:C88,C89)))","v":0},null,{"$f":"IF(C89=\"\",0,IF(C89=$C$4,SUMIFS($I$4:I88,$C$4:C88,C88),SUMIFS($I$4:I88,$C$4:C88,C89)))","v":0},0]
[87,null,{"$f":"IFERROR(VLOOKUP(D90,Nomenclature!$B$2:$C$196,2,0),\"\")","v":""},null,null,null,null,{"$f":"IF(C90=\"\",0,IF(SUMIFS($G$5:G90,$C$5:C90,C90)-SUMIFS($I$4:I89,$C$4:C89,C90)<0,0,SUMIFS($G$5:G90,$C$5:C90,C90)-SUMIFS($I$4:I89,$C$4:C89,C90)))","v":0},null,{"$f":"IF(C90=\"\",0,IF(C90=$C$4,SUMIFS($I$4:I89,$C$4:C89,C89),SUMIFS($I$4:I89,$C$4:C89,C90)))","v":0},0]
[88,null,{"$f":"IFERROR(VLOOKUP(D91,Nomenclature!$B$2:$C$196,2,0),\"\")","v":""},null,null,null,null,{"$f":"IF(C91=\"\",0,IF(SUMIFS($G$5:G91,$C$5:C91,C91)-SUMIFS($I$4:I90,$C$4:C90,C91)<0,0,SUMIFS($G$5:G91,$C$5:C91,C91)-SUMIFS($I$4:I90,$C$4:C90,C91)))","v":0},null,{"$f":"IF(C91=\"\",0,IF(C91=$C$4,SUMIFS($I$4:I90,$C$4:C90,C90),SUMIFS($I$4:I90,$C$4:C90,C91)))","v":0},0]
[89,null,{"$f":"IFERROR(VLOOKUP(D92,Nomenclature!$B$2:$C$196,2,0),\"\")","v":""},null,null,null,null,{"$f":"IF(C92=\"\",0,IF(SUMIFS($G$5:G92,$C$5:C92,C92)-SUMIFS($I$4:I91,$C$4:C91,C92)<0,0,SUMIFS($G$5:G92,$C$5:C92,C92)-SUMIFS($I$4:I91,$C$4:C91,C92)))","v":0},null,{"$f":"IF(C92=\"\",0,IF(C92=$C$4,SUMIFS($I$4:I91,$C$4:C91,C91),SUMIFS($I$4:I91,$C$4:C91,C92)))","v":0},0]
[90,null,{"$f":"IFERROR(VLOOKUP(D93,Nomenclature!$B$2:$C$196,2,0),\"\")","v":""},null,null,null,null,{"$f":"IF(C93=\"\",0,IF(SUMIFS($G$5:G93,$C$5:C93,C93)-SUMIFS($I$4:I92,$C$4:C92,C93)<0,0,SUMIFS($G$5:G93,$C$5:C93,C93)-SUMIFS($I$4:I92,$C$4:C92,C93)))","v":0},null,{"$f":"IF(C93=\"\",0,IF(C93=$C$4,SUMIFS($I$4:I92,$C$4:C92,C92),SUMIFS($I$4:I92,$C$4:C92,C93)))","v":0},0]
[91,null,{"$f":"IFERROR(VLOOKUP(D94,Nomenclature!$B$2:$C$196,2,0),\"\")","v":""},null,null,null,null,{"$f":"IF(C94=\"\",0,IF(SUMIFS($G$5:G94,$C$5:C94,C94)-SUMIFS($I$4:I93,$C$4:C93,C94)<0,0,SUMIFS($G$5:G94,$C$5:C94,C94)-SUMIFS($I$4:I93,$C$4:C93,C94)))","v":0},null,{"$f":"IF(C94=\"\",0,IF(C94=$C$4,SUMIFS($I$4:I93,$C$4:C93,C93),SUMIFS($I$4:I93,$C$4:C93,C94)))","v":0},0]
[92,null,{"$f":"IFERROR(VLOOKUP(D95,Nomenclature!$B$2:$C$196,2,0),\"\")","v":""},null,null,null,null,{"$f":"IF(C95=\"\",0,IF(SUMIFS($G$5:G95,$C$5:C95,C95)-SUMIFS($I$4:I94,$C$4:C94,C95)<0,0,SUMIFS($G$5:G95,$C$5:C95,C95)-SUMIFS($I$4:I94,$C$4:C94,C95)))","v":0},null,{"$f":"IF(C95=\"\",0,IF(C95=$C$4,SUMIFS($I$4:I94,$C$4:C94,C94),SUMIFS($I$4:I94,$C$4:C94,C95)))","v":0},0]
[93,null,{"$f":"IFERROR(VLOOKUP(D96,Nomenclature!$B$2:$C$196,2,0),\"\")","v":""},null,null,null,null,{"$f":"IF(C96=\"\",0,IF(SUMIFS($G$5:G96,$C$5:C96,C96)-SUMIFS($I$4:I95,$C$4:C95,C96)<0,0,SUMIFS($G$5:G96,$C$5:C96,C96)-SUMIFS($I$4:I95,$C$4:C95,C96)))","v":0},null,{"$f":"IF(C96=\"\",0,IF(C96=$C$4,SUMIFS($I$4:I95,$C$4:C95,C95),SUMIFS($I$4:I95,$C$4:C95,C96)))","v":0},0]
[94,null,{"$f":"IFERROR(VLOOKUP(D97,Nomenclature!$B$2:$C$196,2,0),\"\")","v":""},null,null,null,null,{"$f":"IF(C97=\"\",0,IF(SUMIFS($G$5:G97,$C$5:C97,C97)-SUMIFS($I$4:I96,$C$4:C96,C97)<0,0,SUMIFS($G$5:G97,$C$5:C97,C97)-SUMIFS($I$4:I96,$C$4:C96,C97)))","v":0},null,{"$f":"IF(C97=\"\",0,IF(C97=$C$4,SUMIFS($I$4:I96,$C$4:C96,C96),SUMIFS($I$4:I96,$C$4:C96,C97)))","v":0},0]
[95,null,{"$f":"IFERROR(VLOOKUP(D98,Nomenclature!$B$2:$C$196,2,0),\"\")","v":""},null,null,null,null,{"$f":"IF(C98=\"\",0,IF(SUMIFS($G$5:G98,$C$5:C98,C98)-SUMIFS($I$4:I97,$C$4:C97,C98)<0,0,SUMIFS($G$5:G98,$C$5:C98,C98)-SUMIFS($I$4:I97,$C$4:C97,C98)))","v":0},null,{"$f":"IF(C98=\"\",0,IF(C98=$C$4,SUMIFS($I$4:I97,$C$4:C97,C97),SUMIFS($I$4:I97,$C$4:C97,C98)))","v":0},0]
[96,null,{"$f":"IFERROR(VLOOKUP(D99,Nomenclature!$B$2:$C$196,2,0),\"\")","v":""},null,null,null,null,{"$f":"IF(C99=\"\",0,IF(SUMIFS($G$5:G99,$C$5:C99,C99)-SUMIFS($I$4:I98,$C$4:C98,C99)<0,0,SUMIFS($G$5:G99,$C$5:C99,C99)-SUMIFS($I$4:I98,$C$4:C98,C99)))","v":0},null,{"$f":"IF(C99=\"\",0,IF(C99=$C$4,SUMIFS($I$4:I98,$C$4:C98,C98),SUMIFS($I$4:I98,$C$4:C98,C99)))","v":0},0]
[97,null,{"$f":"IFERROR(VLOOKUP(D100,Nomenclature!$B$2:$C$196,2,0),\"\")","v":""},null,null,null,null,{"$f":"IF(C100=\"\",0,IF(SUMIFS($G$5:G100,$C$5:C100,C100)-SUMIFS($I$4:I99,$C$4:C99,C100)<0,0,SUMIFS($G$5:G100,$C$5:C100,C100)-SUMIFS($I$4:I99,$C$4:C99,C100)))","v":0},null,{"$f":"IF(C100=\"\",0,IF(C100=$C$4,SUMIFS($I$4:I99,$C$4:C99,C99),SUMIFS($I$4:I99,$C$4:C99,C100)))","v":0},0]
[98,null,{"$f":"IFERROR(VLOOKUP(D101,Nomenclature!$B$2:$C$196,2,0),\"\")","v":""},null,null,null,null,{"$f":"IF(C101=\"\",0,IF(SUMIFS($G$5:G101,$C$5:C101,C101)-SUMIFS($I$4:I100,$C$4:C100,C101)<0,0,SUMIFS($G$5:G101,$C$5:C101,C101)-SUMIFS($I$4:I100,$C$4:C100,C101)))","v":0},null,{"$f":"IF(C101=\"\",0,IF(C101=$C$4,SUMIFS($I$4:I100,$C$4:C100,C100),SUMIFS($I$4:I100,$C$4:C100,C101)))","v":0},0]
[99,null,{"$f":"IFERROR(VLOOKUP(D102,Nomenclature!$B$2:$C$196,2,0),\"\")","v":""},null,null,null,null,{"$f":"IF(C102=\"\",0,IF(SUMIFS($G$5:G102,$C$5:C102,C102)-SUMIFS($I$4:I101,$C$4:C101,C102)<0,0,SUMIFS($G$5:G102,$C$5:C102,C102)-SUMIFS($I$4:I101,$C$4:C101,C102)))","v":0},null,{"$f":"IF(C102=\"\",0,IF(C102=$C$4,SUMIFS($I$4:I101,$C$4:C101,C101),SUMIFS($I$4:I101,$C$4:C101,C102)))","v":0},0]
[100,null,{"$f":"IFERROR(VLOOKUP(D103,Nomenclature!$B$2:$C$196,2,0),\"\")","v":""},null,null,null,null,{"$f":"IF(C103=\"\",0,IF(SUMIFS($G$5:G103,$C$5:C103,C103)-SUMIFS($I$4:I102,$C$4:C102,C103)<0,0,SUMIFS($G$5:G103,$C$5:C103,C103)-SUMIFS($I$4:I102,$C$4:C102,C103)))","v":0},null,{"$f":"IF(C103=\"\",0,IF(C103=$C$4,SUMIFS($I$4:I102,$C$4:C102,C102),SUMIFS($I$4:I102,$C$4:C102,C103)))","v":0},0]
[101,null,{"$f":"IFERROR(VLOOKUP(D104,Nomenclature!$B$2:$C$196,2,0),\"\")","v":""},null,null,null,null,{"$f":"IF(C104=\"\",0,IF(SUMIFS($G$5:G104,$C$5:C104,C104)-SUMIFS($I$4:I103,$C$4:C103,C104)<0,0,SUMIFS($G$5:G104,$C$5:C104,C104)-SUMIFS($I$4:I103,$C$4:C103,C104)))","v":0},null,{"$f":"IF(C104=\"\",0,IF(C104=$C$4,SUMIFS($I$4:I103,$C$4:C103,C103),SUMIFS($I$4:I103,$C$4:C103,C104)))","v":0},0]
[102,null,{"$f":"IFERROR(VLOOKUP(D105,Nomenclature!$B$2:$C$196,2,0),\"\")","v":""},null,null,null,null,{"$f":"IF(C105=\"\",0,IF(SUMIFS($G$5:G105,$C$5:C105,C105)-SUMIFS($I$4:I104,$C$4:C104,C105)<0,0,SUMIFS($G$5:G105,$C$5:C105,C105)-SUMIFS($I$4:I104,$C$4:C104,C105)))","v":0},null,{"$f":"IF(C105=\"\",0,IF(C105=$C$4,SUMIFS($I$4:I104,$C$4:C104,C104),SUMIFS($I$4:I104,$C$4:C104,C105)))","v":0},0]
[103,null,{"$f":"IFERROR(VLOOKUP(D106,Nomenclature!$B$2:$C$196,2,0),\"\")","v":""},null,null,null,null,{"$f":"IF(C106=\"\",0,IF(SUMIFS($G$5:G106,$C$5:C106,C106)-SUMIFS($I$4:I105,$C$4:C105,C106)<0,0,SUMIFS($G$5:G106,$C$5:C106,C106)-SUMIFS($I$4:I105,$C$4:C105,C106)))","v":0},null,{"$f":"IF(C106=\"\",0,IF(C106=$C$4,SUMIFS($I$4:I105,$C$4:C105,C105),SUMIFS($I$4:I105,$C$4:C105,C106)))","v":0},0]
[104,null,{"$f":"IFERROR(VLOOKUP(D107,Nomenclature!$B$2:$C$196,2,0),\"\")","v":""},null,null,null,null,{"$f":"IF(C107=\"\",0,IF(SUMIFS($G$5:G107,$C$5:C107,C107)-SUMIFS($I$4:I106,$C$4:C106,C107)<0,0,SUMIFS($G$5:G107,$C$5:C107,C107)-SUMIFS($I$4:I106,$C$4:C106,C107)))","v":0},null,{"$f":"IF(C107=\"\",0,IF(C107=$C$4,SUMIFS($I$4:I106,$C$4:C106,C106),SUMIFS($I$4:I106,$C$4:C106,C107)))","v":0},0]
[105,null,{"$f":"IFERROR(VLOOKUP(D108,Nomenclature!$B$2:$C$196,2,0),\"\")","v":""},null,null,null,null,{"$f":"IF(C108=\"\",0,IF(SUMIFS($G$5:G108,$C$5:C108,C108)-SUMIFS($I$4:I107,$C$4:C107,C108)<0,0,SUMIFS($G$5:G108,$C$5:C108,C108)-SUMIFS($I$4:I107,$C$4:C107,C108)))","v":0},null,{"$f":"IF(C108=\"\",0,IF(C108=$C$4,SUMIFS($I$4:I107,$C$4:C107,C107),SUMIFS($I$4:I107,$C$4:C107,C108)))","v":0},0]
[106,null,{"$f":"IFERROR(VLOOKUP(D109,Nomenclature!$B$2:$C$196,2,0),\"\")","v":""},null,null,null,null,{"$f":"IF(C109=\"\",0,IF(SUMIFS($G$5:G109,$C$5:C109,C109)-SUMIFS($I$4:I108,$C$4:C108,C109)<0,0,SUMIFS($G$5:G109,$C$5:C109,C109)-SUMIFS($I$4:I108,$C$4:C108,C109)))","v":0},null,{"$f":"IF(C109=\"\",0,IF(C109=$C$4,SUMIFS($I$4:I108,$C$4:C108,C108),SUMIFS($I$4:I108,$C$4:C108,C109)))","v":0},0]
[107,null,{"$f":"IFERROR(VLOOKUP(D110,Nomenclature!$B$2:$C$196,2,0),\"\")","v":""},null,null,null,null,{"$f":"IF(C110=\"\",0,IF(SUMIFS($G$5:G110,$C$5:C110,C110)-SUMIFS($I$4:I109,$C$4:C109,C110)<0,0,SUMIFS($G$5:G110,$C$5:C110,C110)-SUMIFS($I$4:I109,$C$4:C109,C110)))","v":0},null,{"$f":"IF(C110=\"\",0,IF(C110=$C$4,SUMIFS($I$4:I109,$C$4:C109,C109),SUMIFS($I$4:I109,$C$4:C109,C110)))","v":0},0]
[108,null,{"$f":"IFERROR(VLOOKUP(D111,Nomenclature!$B$2:$C$196,2,0),\"\")","v":""},null,null,null,null,{"$f":"IF(C111=\"\",0,IF(SUMIFS($G$5:G111,$C$5:C111,C111)-SUMIFS($I$4:I110,$C$4:C110,C111)<0,0,SUMIFS($G$5:G111,$C$5:C111,C111)-SUMIFS($I$4:I110,$C$4:C110,C111)))","v":0},null,{"$f":"IF(C111=\"\",0,IF(C111=$C$4,SUMIFS($I$4:I110,$C$4:C110,C110),SUMIFS($I$4:I110,$C$4:C110,C111)))","v":0},0]
[109,null,{"$f":"IFERROR(VLOOKUP(D112,Nomenclature!$B$2:$C$196,2,0),\"\")","v":""},null,null,null,null,{"$f":"IF(C112=\"\",0,IF(SUMIFS($G$5:G112,$C$5:C112,C112)-SUMIFS($I$4:I111,$C$4:C111,C112)<0,0,SUMIFS($G$5:G112,$C$5:C112,C112)-SUMIFS($I$4:I111,$C$4:C111,C112)))","v":0},null,{"$f":"IF(C112=\"\",0,IF(C112=$C$4,SUMIFS($I$4:I111,$C$4:C111,C111),SUMIFS($I$4:I111,$C$4:C111,C112)))","v":0},0]
[110,null,{"$f":"IFERROR(VLOOKUP(D113,Nomenclature!$B$2:$C$196,2,0),\"\")","v":""},null,null,null,null,{"$f":"IF(C113=\"\",0,IF(SUMIFS($G$5:G113,$C$5:C113,C113)-SUMIFS($I$4:I112,$C$4:C112,C113)<0,0,SUMIFS($G$5:G113,$C$5:C113,C113)-SUMIFS($I$4:I112,$C$4:C112,C113)))","v":0},null,{"$f":"IF(C113=\"\",0,IF(C113=$C$4,SUMIFS($I$4:I112,$C$4:C112,C112),SUMIFS($I$4:I112,$C$4:C112,C113)))","v":0},0]
[111,null,{"$f":"IFERROR(VLOOKUP(D114,Nomenclature!$B$2:$C$196,2,0),\"\")","v":""},null,null,null,null,{"$f":"IF(C114=\"\",0,IF(SUMIFS($G$5:G114,$C$5:C114,C114)-SUMIFS($I$4:I113,$C$4:C113,C114)<0,0,SUMIFS($G$5:G114,$C$5:C114,C114)-SUMIFS($I$4:I113,$C$4:C113,C114)))","v":0},null,{"$f":"IF(C114=\"\",0,IF(C114=$C$4,SUMIFS($I$4:I113,$C$4:C113,C113),SUMIFS($I$4:I113,$C$4:C113,C114)))","v":0},0]
[112,null,{"$f":"IFERROR(VLOOKUP(D115,Nomenclature!$B$2:$C$196,2,0),\"\")","v":""},null,null,null,null,{"$f":"IF(C115=\"\",0,IF(SUMIFS($G$5:G115,$C$5:C115,C115)-SUMIFS($I$4:I114,$C$4:C114,C115)<0,0,SUMIFS($G$5:G115,$C$5:C115,C115)-SUMIFS($I$4:I114,$C$4:C114,C115)))","v":0},null,{"$f":"IF(C115=\"\",0,IF(C115=$C$4,SUMIFS($I$4:I114,$C$4:C114,C114),SUMIFS($I$4:I114,$C$4:C114,C115)))","v":0},0]
[113,null,{"$f":"IFERROR(VLOOKUP(D116,Nomenclature!$B$2:$C$196,2,0),\"\")","v":""},null,null,null,null,{"$f":"IF(C116=\"\",0,IF(SUMIFS($G$5:G116,$C$5:C116,C116)-SUMIFS($I$4:I115,$C$4:C115,C116)<0,0,SUMIFS($G$5:G116,$C$5:C116,C116)-SUMIFS($I$4:I115,$C$4:C115,C116)))","v":0},null,{"$f":"IF(C116=\"\",0,IF(C116=$C$4,SUMIFS($I$4:I115,$C$4:C115,C115),SUMIFS($I$4:I115,$C$4:C115,C116)))","v":0},0]
[114,null,{"$f":"IFERROR(VLOOKUP(D117,Nomenclature!$B$2:$C$196,2,0),\"\")","v":""},null,null,null,null,{"$f":"IF(C117=\"\",0,IF(SUMIFS($G$5:G117,$C$5:C117,C117)-SUMIFS($I$4:I116,$C$4:C116,C117)<0,0,SUMIFS($G$5:G117,$C$5:C117,C117)-SUMIFS($I$4:I116,$C$4:C116,C117)))","v":0},null,{"$f":"IF(C117=\"\",0,IF(C117=$C$4,SUMIFS($I$4:I116,$C$4:C116,C116),SUMIFS($I$4:I116,$C$4:C116,C117)))","v":0},0]
[115,null,{"$f":"IFERROR(VLOOKUP(D118,Nomenclature!$B$2:$C$196,2,0),\"\")","v":""},null,null,null,null,{"$f":"IF(C118=\"\",0,IF(SUMIFS($G$5:G118,$C$5:C118,C118)-SUMIFS($I$4:I117,$C$4:C117,C118)<0,0,SUMIFS($G$5:G118,$C$5:C118,C118)-SUMIFS($I$4:I117,$C$4:C117,C118)))","v":0},null,{"$f":"IF(C118=\"\",0,IF(C118=$C$4,SUMIFS($I$4:I117,$C$4:C117,C117),SUMIFS($I$4:I117,$C$4:C117,C118)))","v":0},0]
[116,null,{"$f":"IFERROR(VLOOKUP(D119,Nomenclature!$B$2:$C$196,2,0),\"\")","v":""},null,null,null,null,{"$f":"IF(C119=\"\",0,IF(SUMIFS($G$5:G119,$C$5:C119,C119)-SUMIFS($I$4:I118,$C$4:C118,C119)<0,0,SUMIFS($G$5:G119,$C$5:C119,C119)-SUMIFS($I$4:I118,$C$4:C118,C119)))","v":0},null,{"$f":"IF(C119=\"\",0,IF(C119=$C$4,SUMIFS($I$4:I118,$C$4:C118,C118),SUMIFS($I$4:I118,$C$4:C118,C119)))","v":0},0]
[117,null,{"$f":"IFERROR(VLOOKUP(D120,Nomenclature!$B$2:$C$196,2,0),\"\")","v":""},null,null,null,null,{"$f":"IF(C120=\"\",0,IF(SUMIFS($G$5:G120,$C$5:C120,C120)-SUMIFS($I$4:I119,$C$4:C119,C120)<0,0,SUMIFS($G$5:G120,$C$5:C120,C120)-SUMIFS($I$4:I119,$C$4:C119,C120)))","v":0},null,{"$f":"IF(C120=\"\",0,IF(C120=$C$4,SUMIFS($I$4:I119,$C$4:C119,C119),SUMIFS($I$4:I119,$C$4:C119,C120)))","v":0},0]
[118,null,{"$f":"IFERROR(VLOOKUP(D121,Nomenclature!$B$2:$C$196,2,0),\"\")","v":""},null,null,null,null,{"$f":"IF(C121=\"\",0,IF(SUMIFS($G$5:G121,$C$5:C121,C121)-SUMIFS($I$4:I120,$C$4:C120,C121)<0,0,SUMIFS($G$5:G121,$C$5:C121,C121)-SUMIFS($I$4:I120,$C$4:C120,C121)))","v":0},null,{"$f":"IF(C121=\"\",0,IF(C121=$C$4,SUMIFS($I$4:I120,$C$4:C120,C120),SUMIFS($I$4:I120,$C$4:C120,C121)))","v":0},0]
[119,null,{"$f":"IFERROR(VLOOKUP(D122,Nomenclature!$B$2:$C$196,2,0),\"\")","v":""},null,null,null,null,{"$f":"IF(C122=\"\",0,IF(SUMIFS($G$5:G122,$C$5:C122,C122)-SUMIFS($I$4:I121,$C$4:C121,C122)<0,0,SUMIFS($G$5:G122,$C$5:C122,C122)-SUMIFS($I$4:I121,$C$4:C121,C122)))","v":0},null,{"$f":"IF(C122=\"\",0,IF(C122=$C$4,SUMIFS($I$4:I121,$C$4:C121,C121),SUMIFS($I$4:I121,$C$4:C121,C122)))","v":0},0]
[120,null,{"$f":"IFERROR(VLOOKUP(D123,Nomenclature!$B$2:$C$196,2,0),\"\")","v":""},null,null,null,null,{"$f":"IF(C123=\"\",0,IF(SUMIFS($G$5:G123,$C$5:C123,C123)-SUMIFS($I$4:I122,$C$4:C122,C123)<0,0,SUMIFS($G$5:G123,$C$5:C123,C123)-SUMIFS($I$4:I122,$C$4:C122,C123)))","v":0},null,{"$f":"IF(C123=\"\",0,IF(C123=$C$4,SUMIFS($I$4:I122,$C$4:C122,C122),SUMIFS($I$4:I122,$C$4:C122,C123)))","v":0},0]
[121,null,{"$f":"IFERROR(VLOOKUP(D124,Nomenclature!$B$2:$C$196,2,0),\"\")","v":""},null,null,null,null,{"$f":"IF(C124=\"\",0,IF(SUMIFS($G$5:G124,$C$5:C124,C124)-SUMIFS($I$4:I123,$C$4:C123,C124)<0,0,SUMIFS($G$5:G124,$C$5:C124,C124)-SUMIFS($I$4:I123,$C$4:C123,C124)))","v":0},null,{"$f":"IF(C124=\"\",0,IF(C124=$C$4,SUMIFS($I$4:I123,$C$4:C123,C123),SUMIFS($I$4:I123,$C$4:C123,C124)))","v":0},0]
[122,null,{"$f":"IFERROR(VLOOKUP(D125,Nomenclature!$B$2:$C$196,2,0),\"\")","v":""},null,null,null,null,{"$f":"IF(C125=\"\",0,IF(SUMIFS($G$5:G125,$C$5:C125,C125)-SUMIFS($I$4:I124,$C$4:C124,C125)<0,0,SUMIFS($G$5:G125,$C$5:C125,C125)-SUMIFS($I$4:I124,$C$4:C124,C125)))","v":0},null,{"$f":"IF(C125=\"\",0,IF(C125=$C$4,SUMIFS($I$4:I124,$C$4:C124,C124),SUMIFS($I$4:I124,$C$4:C124,C125)))","v":0},0]
[123,null,{"$f":"IFERROR(VLOOKUP(D126,Nomenclature!$B$2:$C$196,2,0),\"\")","v":""},null,null,null,null,{"$f":"IF(C126=\"\",0,IF(SUMIFS($G$5:G126,$C$5:C126,C126)-SUMIFS($I$4:I125,$C$4:C125,C126)<0,0,SUMIFS($G$5:G126,$C$5:C126,C126)-SUMIFS($I$4:I125,$C$4:C125,C126)))","v":0},null,{"$f":"IF(C126=\"\",0,IF(C126=$C$4,SUMIFS($I$4:I125,$C$4:C125,C125),SUMIFS($I$4:I125,$C$4:C125,C126)))","v":0},0]
[124,null,{"$f":"IFERROR(VLOOKUP(D127,Nomenclature!$B$2:$C$196,2,0),\"\")","v":""},null,null,null,null,{"$f":"IF(C127=\"\",0,IF(SUMIFS($G$5:G127,$C$5:C127,C127)-SUMIFS($I$4:I126,$C$4:C126,C127)<0,0,SUMIFS($G$5:G127,$C$5:C127,C127)-SUMIFS($I$4:I126,$C$4:C126,C127)))","v":0},null,{"$f":"IF(C127=\"\",0,IF(C127=$C$4,SUMIFS($I$4:I126,$C$4:C126,C126),SUMIFS($I$4:I126,$C$4:C126,C127)))","v":0},0]
[125,null,{"$f":"IFERROR(VLOOKUP(D128,Nomenclature!$B$2:$C$196,2,0),\"\")","v":""},null,null,null,null,{"$f":"IF(C128=\"\",0,IF(SUMIFS($G$5:G128,$C$5:C128,C128)-SUMIFS($I$4:I127,$C$4:C127,C128)<0,0,SUMIFS($G$5:G128,$C$5:C128,C128)-SUMIFS($I$4:I127,$C$4:C127,C128)))","v":0},null,{"$f":"IF(C128=\"\",0,IF(C128=$C$4,SUMIFS($I$4:I127,$C$4:C127,C127),SUMIFS($I$4:I127,$C$4:C127,C128)))","v":0},0]
[126,null,{"$f":"IFERROR(VLOOKUP(D129,Nomenclature!$B$2:$C$196,2,0),\"\")","v":""},null,null,null,null,{"$f":"IF(C129=\"\",0,IF(SUMIFS($G$5:G129,$C$5:C129,C129)-SUMIFS($I$4:I128,$C$4:C128,C129)<0,0,SUMIFS($G$5:G129,$C$5:C129,C129)-SUMIFS($I$4:I128,$C$4:C128,C129)))","v":0},null,{"$f":"IF(C129=\"\",0,IF(C129=$C$4,SUMIFS($I$4:I128,$C$4:C128,C128),SUMIFS($I$4:I128,$C$4:C128,C129)))","v":0},0]
[127,null,{"$f":"IFERROR(VLOOKUP(D130,Nomenclature!$B$2:$C$196,2,0),\"\")","v":""},null,null,null,null,{"$f":"IF(C130=\"\",0,IF(SUMIFS($G$5:G130,$C$5:C130,C130)-SUMIFS($I$4:I129,$C$4:C129,C130)<0,0,SUMIFS($G$5:G130,$C$5:C130,C130)-SUMIFS($I$4:I129,$C$4:C129,C130)))","v":0},null,{"$f":"IF(C130=\"\",0,IF(C130=$C$4,SUMIFS($I$4:I129,$C$4:C129,C129),SUMIFS($I$4:I129,$C$4:C129,C130)))","v":0},0]
[128,null,{"$f":"IFERROR(VLOOKUP(D131,Nomenclature!$B$2:$C$196,2,0),\"\")","v":""},null,null,null,null,{"$f":"IF(C131=\"\",0,IF(SUMIFS($G$5:G131,$C$5:C131,C131)-SUMIFS($I$4:I130,$C$4:C130,C131)<0,0,SUMIFS($G$5:G131,$C$5:C131,C131)-SUMIFS($I$4:I130,$C$4:C130,C131)))","v":0},null,{"$f":"IF(C131=\"\",0,IF(C131=$C$4,SUMIFS($I$4:I130,$C$4:C130,C130),SUMIFS($I$4:I130,$C$4:C130,C131)))","v":0},0]
[129,null,{"$f":"IFERROR(VLOOKUP(D132,Nomenclature!$B$2:$C$196,2,0),\"\")","v":""},null,null,null,null,{"$f":"IF(C132=\"\",0,IF(SUMIFS($G$5:G132,$C$5:C132,C132)-SUMIFS($I$4:I131,$C$4:C131,C132)<0,0,SUMIFS($G$5:G132,$C$5:C132,C132)-SUMIFS($I$4:I131,$C$4:C131,C132)))","v":0},null,{"$f":"IF(C132=\"\",0,IF(C132=$C$4,SUMIFS($I$4:I131,$C$4:C131,C131),SUMIFS($I$4:I131,$C$4:C131,C132)))","v":0},{"$f":"IF(C132=\"\",0,H132-I132)","v":0}]
[130,null,{"$f":"IFERROR(VLOOKUP(D133,Nomenclature!$B$2:$C$196,2,0),\"\")","v":""},null,null,null,null,{"$f":"IF(C133=\"\",0,IF(SUMIFS($G$5:G133,$C$5:C133,C133)-SUMIFS($I$4:I132,$C$4:C132,C133)<0,0,SUMIFS($G$5:G133,$C$5:C133,C133)-SUMIFS($I$4:I132,$C$4:C132,C133)))","v":0},null,{"$f":"IF(C133=\"\",0,IF(C133=$C$4,SUMIFS($I$4:I132,$C$4:C132,C132),SUMIFS($I$4:I132,$C$4:C132,C133)))","v":0},0]
[131,null,{"$f":"IFERROR(VLOOKUP(D134,Nomenclature!$B$2:$C$196,2,0),\"\")","v":""},null,null,null,null,{"$f":"IF(C134=\"\",0,IF(SUMIFS($G$5:G134,$C$5:C134,C134)-SUMIFS($I$4:I133,$C$4:C133,C134)<0,0,SUMIFS($G$5:G134,$C$5:C134,C134)-SUMIFS($I$4:I133,$C$4:C133,C134)))","v":0},null,{"$f":"IF(C134=\"\",0,IF(C134=$C$4,SUMIFS($I$4:I133,$C$4:C133,C133),SUMIFS($I$4:I133,$C$4:C133,C134)))","v":0},0]
[132,null,{"$f":"IFERROR(VLOOKUP(D135,Nomenclature!$B$2:$C$196,2,0),\"\")","v":""},null,null,null,null,{"$f":"IF(C135=\"\",0,IF(SUMIFS($G$5:G135,$C$5:C135,C135)-SUMIFS($I$4:I134,$C$4:C134,C135)<0,0,SUMIFS($G$5:G135,$C$5:C135,C135)-SUMIFS($I$4:I134,$C$4:C134,C135)))","v":0},null,{"$f":"IF(C135=\"\",0,IF(C135=$C$4,SUMIFS($I$4:I134,$C$4:C134,C134),SUMIFS($I$4:I134,$C$4:C134,C135)))","v":0},0]
[133,null,{"$f":"IFERROR(VLOOKUP(D136,Nomenclature!$B$2:$C$196,2,0),\"\")","v":""},null,null,null,null,{"$f":"IF(C136=\"\",0,IF(SUMIFS($G$5:G136,$C$5:C136,C136)-SUMIFS($I$4:I135,$C$4:C135,C136)<0,0,SUMIFS($G$5:G136,$C$5:C136,C136)-SUMIFS($I$4:I135,$C$4:C135,C136)))","v":0},null,{"$f":"IF(C136=\"\",0,IF(C136=$C$4,SUMIFS($I$4:I135,$C$4:C135,C135),SUMIFS($I$4:I135,$C$4:C135,C136)))","v":0},0]
[134,null,{"$f":"IFERROR(VLOOKUP(D137,Nomenclature!$B$2:$C$196,2,0),\"\")","v":""},null,null,null,null,{"$f":"IF(C137=\"\",0,IF(SUMIFS($G$5:G137,$C$5:C137,C137)-SUMIFS($I$4:I136,$C$4:C136,C137)<0,0,SUMIFS($G$5:G137,$C$5:C137,C137)-SUMIFS($I$4:I136,$C$4:C136,C137)))","v":0},null,{"$f":"IF(C137=\"\",0,IF(C137=$C$4,SUMIFS($I$4:I136,$C$4:C136,C136),SUMIFS($I$4:I136,$C$4:C136,C137)))","v":0},0]
[135,null,{"$f":"IFERROR(VLOOKUP(D138,Nomenclature!$B$2:$C$196,2,0),\"\")","v":""},null,null,null,null,{"$f":"IF(C138=\"\",0,IF(SUMIFS($G$5:G138,$C$5:C138,C138)-SUMIFS($I$4:I137,$C$4:C137,C138)<0,0,SUMIFS($G$5:G138,$C$5:C138,C138)-SUMIFS($I$4:I137,$C$4:C137,C138)))","v":0},null,{"$f":"IF(C138=\"\",0,IF(C138=$C$4,SUMIFS($I$4:I137,$C$4:C137,C137),SUMIFS($I$4:I137,$C$4:C137,C138)))","v":0},0]
[136,null,{"$f":"IFERROR(VLOOKUP(D139,Nomenclature!$B$2:$C$196,2,0),\"\")","v":""},null,null,null,null,{"$f":"IF(C139=\"\",0,IF(SUMIFS($G$5:G139,$C$5:C139,C139)-SUMIFS($I$4:I138,$C$4:C138,C139)<0,0,SUMIFS($G$5:G139,$C$5:C139,C139)-SUMIFS($I$4:I138,$C$4:C138,C139)))","v":0},null,{"$f":"IF(C139=\"\",0,IF(C139=$C$4,SUMIFS($I$4:I138,$C$4:C138,C138),SUMIFS($I$4:I138,$C$4:C138,C139)))","v":0},0]
[137,null,{"$f":"IFERROR(VLOOKUP(D140,Nomenclature!$B$2:$C$196,2,0),\"\")","v":""},null,null,null,null,{"$f":"IF(C140=\"\",0,IF(SUMIFS($G$5:G140,$C$5:C140,C140)-SUMIFS($I$4:I139,$C$4:C139,C140)<0,0,SUMIFS($G$5:G140,$C$5:C140,C140)-SUMIFS($I$4:I139,$C$4:C139,C140)))","v":0},null,{"$f":"IF(C140=\"\",0,IF(C140=$C$4,SUMIFS($I$4:I139,$C$4:C139,C139),SUMIFS($I$4:I139,$C$4:C139,C140)))","v":0},0]
[138,null,{"$f":"IFERROR(VLOOKUP(D141,Nomenclature!$B$2:$C$196,2,0),\"\")","v":""},null,null,null,null,{"$f":"IF(C141=\"\",0,IF(SUMIFS($G$5:G141,$C$5:C141,C141)-SUMIFS($I$4:I140,$C$4:C140,C141)<0,0,SUMIFS($G$5:G141,$C$5:C141,C141)-SUMIFS($I$4:I140,$C$4:C140,C141)))","v":0},null,{"$f":"IF(C141=\"\",0,IF(C141=$C$4,SUMIFS($I$4:I140,$C$4:C140,C140),SUMIFS($I$4:I140,$C$4:C140,C141)))","v":0},0]
[139,null,{"$f":"IFERROR(VLOOKUP(D142,Nomenclature!$B$2:$C$196,2,0),\"\")","v":""},null,null,null,null,{"$f":"IF(C142=\"\",0,IF(SUMIFS($G$5:G142,$C$5:C142,C142)-SUMIFS($I$4:I141,$C$4:C141,C142)<0,0,SUMIFS($G$5:G142,$C$5:C142,C142)-SUMIFS($I$4:I141,$C$4:C141,C142)))","v":0},null,{"$f":"IF(C142=\"\",0,IF(C142=$C$4,SUMIFS($I$4:I141,$C$4:C141,C141),SUMIFS($I$4:I141,$C$4:C141,C142)))","v":0},0]
[140,null,{"$f":"IFERROR(VLOOKUP(D143,Nomenclature!$B$2:$C$196,2,0),\"\")","v":""},null,null,null,null,{"$f":"IF(C143=\"\",0,IF(SUMIFS($G$5:G143,$C$5:C143,C143)-SUMIFS($I$4:I142,$C$4:C142,C143)<0,0,SUMIFS($G$5:G143,$C$5:C143,C143)-SUMIFS($I$4:I142,$C$4:C142,C143)))","v":0},null,{"$f":"IF(C143=\"\",0,IF(C143=$C$4,SUMIFS($I$4:I142,$C$4:C142,C142),SUMIFS($I$4:I142,$C$4:C142,C143)))","v":0},0]
[141,null,{"$f":"IFERROR(VLOOKUP(D144,Nomenclature!$B$2:$C$196,2,0),\"\")","v":""},null,null,null,null,{"$f":"IF(C144=\"\",0,IF(SUMIFS($G$5:G144,$C$5:C144,C144)-SUMIFS($I$4:I143,$C$4:C143,C144)<0,0,SUMIFS($G$5:G144,$C$5:C144,C144)-SUMIFS($I$4:I143,$C$4:C143,C144)))","v":0},null,{"$f":"IF(C144=\"\",0,IF(C144=$C$4,SUMIFS($I$4:I143,$C$4:C143,C143),SUMIFS($I$4:I143,$C$4:C143,C144)))","v":0},0]
[142,null,{"$f":"IFERROR(VLOOKUP(D145,Nomenclature!$B$2:$C$196,2,0),\"\")","v":""},null,null,null,null,{"$f":"IF(C145=\"\",0,IF(SUMIFS($G$5:G145,$C$5:C145,C145)-SUMIFS($I$4:I144,$C$4:C144,C145)<0,0,SUMIFS($G$5:G145,$C$5:C145,C145)-SUMIFS($I$4:I144,$C$4:C144,C145)))","v":0},null,{"$f":"IF(C145=\"\",0,IF(C145=$C$4,SUMIFS($I$4:I144,$C$4:C144,C144),SUMIFS($I$4:I144,$C$4:C144,C145)))","v":0},0]
[143,null,{"$f":"IFERROR(VLOOKUP(D146,Nomenclature!$B$2:$C$196,2,0),\"\")","v":""},null,null,null,null,{"$f":"IF(C146=\"\",0,IF(SUMIFS($G$5:G146,$C$5:C146,C146)-SUMIFS($I$4:I145,$C$4:C145,C146)<0,0,SUMIFS($G$5:G146,$C$5:C146,C146)-SUMIFS($I$4:I145,$C$4:C145,C146)))","v":0},null,{"$f":"IF(C146=\"\",0,IF(C146=$C$4,SUMIFS($I$4:I145,$C$4:C145,C145),SUMIFS($I$4:I145,$C$4:C145,C146)))","v":0},0]
[144,null,{"$f":"IFERROR(VLOOKUP(D147,Nomenclature!$B$2:$C$196,2,0),\"\")","v":""},null,null,null,null,{"$f":"IF(C147=\"\",0,IF(SUMIFS($G$5:G147,$C$5:C147,C147)-SUMIFS($I$4:I146,$C$4:C146,C147)<0,0,SUMIFS($G$5:G147,$C$5:C147,C147)-SUMIFS($I$4:I146,$C$4:C146,C147)))","v":0},null,{"$f":"IF(C147=\"\",0,IF(C147=$C$4,SUMIFS($I$4:I146,$C$4:C146,C146),SUMIFS($I$4:I146,$C$4:C146,C147)))","v":0},0]
[145,null,{"$f":"IFERROR(VLOOKUP(D148,Nomenclature!$B$2:$C$196,2,0),\"\")","v":""},null,null,null,null,{"$f":"IF(C148=\"\",0,IF(SUMIFS($G$5:G148,$C$5:C148,C148)-SUMIFS($I$4:I147,$C$4:C147,C148)<0,0,SUMIFS($G$5:G148,$C$5:C148,C148)-SUMIFS($I$4:I147,$C$4:C147,C148)))","v":0},null,{"$f":"IF(C148=\"\",0,IF(C148=$C$4,SUMIFS($I$4:I147,$C$4:C147,C147),SUMIFS($I$4:I147,$C$4:C147,C148)))","v":0},0]
[146,null,{"$f":"IFERROR(VLOOKUP(D149,Nomenclature!$B$2:$C$196,2,0),\"\")","v":""},null,null,null,null,{"$f":"IF(C149=\"\",0,IF(SUMIFS($G$5:G149,$C$5:C149,C149)-SUMIFS($I$4:I148,$C$4:C148,C149)<0,0,SUMIFS($G$5:G149,$C$5:C149,C149)-SUMIFS($I$4:I148,$C$4:C148,C149)))","v":0},null,{"$f":"IF(C149=\"\",0,IF(C149=$C$4,SUMIFS($I$4:I148,$C$4:C148,C148),SUMIFS($I$4:I148,$C$4:C148,C149)))","v":0},0]
[147,null,{"$f":"IFERROR(VLOOKUP(D150,Nomenclature!$B$2:$C$196,2,0),\"\")","v":""},null,null,null,null,{"$f":"IF(C150=\"\",0,IF(SUMIFS($G$5:G150,$C$5:C150,C150)-SUMIFS($I$4:I149,$C$4:C149,C150)<0,0,SUMIFS($G$5:G150,$C$5:C150,C150)-SUMIFS($I$4:I149,$C$4:C149,C150)))","v":0},null,{"$f":"IF(C150=\"\",0,IF(C150=$C$4,SUMIFS($I$4:I149,$C$4:C149,C149),SUMIFS($I$4:I149,$C$4:C149,C150)))","v":0},0]
[148,null,{"$f":"IFERROR(VLOOKUP(D151,Nomenclature!$B$2:$C$196,2,0),\"\")","v":""},null,null,null,null,{"$f":"IF(C151=\"\",0,IF(SUMIFS($G$5:G151,$C$5:C151,C151)-SUMIFS($I$4:I150,$C$4:C150,C151)<0,0,SUMIFS($G$5:G151,$C$5:C151,C151)-SUMIFS($I$4:I150,$C$4:C150,C151)))","v":0},null,{"$f":"IF(C151=\"\",0,IF(C151=$C$4,SUMIFS($I$4:I150,$C$4:C150,C150),SUMIFS($I$4:I150,$C$4:C150,C151)))","v":0},0]
[149,null,{"$f":"IFERROR(VLOOKUP(D152,Nomenclature!$B$2:$C$196,2,0),\"\")","v":""},null,null,null,null,{"$f":"IF(C152=\"\",0,IF(SUMIFS($G$5:G152,$C$5:C152,C152)-SUMIFS($I$4:I151,$C$4:C151,C152)<0,0,SUMIFS($G$5:G152,$C$5:C152,C152)-SUMIFS($I$4:I151,$C$4:C151,C152)))","v":0},null,{"$f":"IF(C152=\"\",0,IF(C152=$C$4,SUMIFS($I$4:I151,$C$4:C151,C151),SUMIFS($I$4:I151,$C$4:C151,C152)))","v":0},0]
[150,null,{"$f":"IFERROR(VLOOKUP(D153,Nomenclature!$B$2:$C$196,2,0),\"\")","v":""},null,null,null,null,{"$f":"IF(C153=\"\",0,IF(SUMIFS($G$5:G153,$C$5:C153,C153)-SUMIFS($I$4:I152,$C$4:C152,C153)<0,0,SUMIFS($G$5:G153,$C$5:C153,C153)-SUMIFS($I$4:I152,$C$4:C152,C153)))","v":0},null,{"$f":"IF(C153=\"\",0,IF(C153=$C$4,SUMIFS($I$4:I152,$C$4:C152,C152),SUMIFS($I$4:I152,$C$4:C152,C153)))","v":0},0]
[151,null,{"$f":"IFERROR(VLOOKUP(D154,Nomenclature!$B$2:$C$196,2,0),\"\")","v":""},null,null,null,null,{"$f":"IF(C154=\"\",0,IF(SUMIFS($G$5:G154,$C$5:C154,C154)-SUMIFS($I$4:I153,$C$4:C153,C154)<0,0,SUMIFS($G$5:G154,$C$5:C154,C154)-SUMIFS($I$4:I153,$C$4:C153,C154)))","v":0},null,{"$f":"IF(C154=\"\",0,IF(C154=$C$4,SUMIFS($I$4:I153,$C$4:C153,C153),SUMIFS($I$4:I153,$C$4:C153,C154)))","v":0},0]
[152,null,{"$f":"IFERROR(VLOOKUP(D155,Nomenclature!$B$2:$C$196,2,0),\"\")","v":""},null,null,null,null,{"$f":"IF(C155=\"\",0,IF(SUMIFS($G$5:G155,$C$5:C155,C155)-SUMIFS($I$4:I154,$C$4:C154,C155)<0,0,SUMIFS($G$5:G155,$C$5:C155,C155)-SUMIFS($I$4:I154,$C$4:C154,C155)))","v":0},null,{"$f":"IF(C155=\"\",0,IF(C155=$C$4,SUMIFS($I$4:I154,$C$4:C154,C154),SUMIFS($I$4:I154,$C$4:C154,C155)))","v":0},0]
[153,null,{"$f":"IFERROR(VLOOKUP(D156,Nomenclature!$B$2:$C$196,2,0),\"\")","v":""},null,null,null,null,{"$f":"IF(C156=\"\",0,IF(SUMIFS($G$5:G156,$C$5:C156,C156)-SUMIFS($I$4:I155,$C$4:C155,C156)<0,0,SUMIFS($G$5:G156,$C$5:C156,C156)-SUMIFS($I$4:I155,$C$4:C155,C156)))","v":0},null,{"$f":"IF(C156=\"\",0,IF(C156=$C$4,SUMIFS($I$4:I155,$C$4:C155,C155),SUMIFS($I$4:I155,$C$4:C155,C156)))","v":0},0]
[154,null,{"$f":"IFERROR(VLOOKUP(D157,Nomenclature!$B$2:$C$196,2,0),\"\")","v":""},null,null,null,null,{"$f":"IF(C157=\"\",0,IF(SUMIFS($G$5:G157,$C$5:C157,C157)-SUMIFS($I$4:I156,$C$4:C156,C157)<0,0,SUMIFS($G$5:G157,$C$5:C157,C157)-SUMIFS($I$4:I156,$C$4:C156,C157)))","v":0},null,{"$f":"IF(C157=\"\",0,IF(C157=$C$4,SUMIFS($I$4:I156,$C$4:C156,C156),SUMIFS($I$4:I156,$C$4:C156,C157)))","v":0},0]
[155,null,{"$f":"IFERROR(VLOOKUP(D158,Nomenclature!$B$2:$C$196,2,0),\"\")","v":""},null,null,null,null,{"$f":"IF(C158=\"\",0,IF(SUMIFS($G$5:G158,$C$5:C158,C158)-SUMIFS($I$4:I157,$C$4:C157,C158)<0,0,SUMIFS($G$5:G158,$C$5:C158,C158)-SUMIFS($I$4:I157,$C$4:C157,C158)))","v":0},null,{"$f":"IF(C158=\"\",0,IF(C158=$C$4,SUMIFS($I$4:I157,$C$4:C157,C157),SUMIFS($I$4:I157,$C$4:C157,C158)))","v":0},0]
[156,null,{"$f":"IFERROR(VLOOKUP(D159,Nomenclature!$B$2:$C$196,2,0),\"\")","v":""},null,null,null,null,{"$f":"IF(C159=\"\",0,IF(SUMIFS($G$5:G159,$C$5:C159,C159)-SUMIFS($I$4:I158,$C$4:C158,C159)<0,0,SUMIFS($G$5:G159,$C$5:C159,C159)-SUMIFS($I$4:I158,$C$4:C158,C159)))","v":0},null,{"$f":"IF(C159=\"\",0,IF(C159=$C$4,SUMIFS($I$4:I158,$C$4:C158,C158),SUMIFS($I$4:I158,$C$4:C158,C159)))","v":0},0]
[157,null,{"$f":"IFERROR(VLOOKUP(D160,Nomenclature!$B$2:$C$196,2,0),\"\")","v":""},null,null,null,null,{"$f":"IF(C160=\"\",0,IF(SUMIFS($G$5:G160,$C$5:C160,C160)-SUMIFS($I$4:I159,$C$4:C159,C160)<0,0,SUMIFS($G$5:G160,$C$5:C160,C160)-SUMIFS($I$4:I159,$C$4:C159,C160)))","v":0},null,{"$f":"IF(C160=\"\",0,IF(C160=$C$4,SUMIFS($I$4:I159,$C$4:C159,C159),SUMIFS($I$4:I159,$C$4:C159,C160)))","v":0},0]
[158,null,{"$f":"IFERROR(VLOOKUP(D161,Nomenclature!$B$2:$C$196,2,0),\"\")","v":""},null,null,null,null,{"$f":"IF(C161=\"\",0,IF(SUMIFS($G$5:G161,$C$5:C161,C161)-SUMIFS($I$4:I160,$C$4:C160,C161)<0,0,SUMIFS($G$5:G161,$C$5:C161,C161)-SUMIFS($I$4:I160,$C$4:C160,C161)))","v":0},null,{"$f":"IF(C161=\"\",0,IF(C161=$C$4,SUMIFS($I$4:I160,$C$4:C160,C160),SUMIFS($I$4:I160,$C$4:C160,C161)))","v":0},0]
[159,null,{"$f":"IFERROR(VLOOKUP(D162,Nomenclature!$B$2:$C$196,2,0),\"\")","v":""},null,null,null,null,{"$f":"IF(C162=\"\",0,IF(SUMIFS($G$5:G162,$C$5:C162,C162)-SUMIFS($I$4:I161,$C$4:C161,C162)<0,0,SUMIFS($G$5:G162,$C$5:C162,C162)-SUMIFS($I$4:I161,$C$4:C161,C162)))","v":0},null,{"$f":"IF(C162=\"\",0,IF(C162=$C$4,SUMIFS($I$4:I161,$C$4:C161,C161),SUMIFS($I$4:I161,$C$4:C161,C162)))","v":0},0]
[160,null,{"$f":"IFERROR(VLOOKUP(D163,Nomenclature!$B$2:$C$196,2,0),\"\")","v":""},null,null,null,null,{"$f":"IF(C163=\"\",0,IF(SUMIFS($G$5:G163,$C$5:C163,C163)-SUMIFS($I$4:I162,$C$4:C162,C163)<0,0,SUMIFS($G$5:G163,$C$5:C163,C163)-SUMIFS($I$4:I162,$C$4:C162,C163)))","v":0},null,{"$f":"IF(C163=\"\",0,IF(C163=$C$4,SUMIFS($I$4:I162,$C$4:C162,C162),SUMIFS($I$4:I162,$C$4:C162,C163)))","v":0},0]
[161,null,{"$f":"IFERROR(VLOOKUP(D164,Nomenclature!$B$2:$C$196,2,0),\"\")","v":""},null,null,null,null,{"$f":"IF(C164=\"\",0,IF(SUMIFS($G$5:G164,$C$5:C164,C164)-SUMIFS($I$4:I163,$C$4:C163,C164)<0,0,SUMIFS($G$5:G164,$C$5:C164,C164)-SUMIFS($I$4:I163,$C$4:C163,C164)))","v":0},null,{"$f":"IF(C164=\"\",0,IF(C164=$C$4,SUMIFS($I$4:I163,$C$4:C163,C163),SUMIFS($I$4:I163,$C$4:C163,C164)))","v":0},0]
[162,null,{"$f":"IFERROR(VLOOKUP(D165,Nomenclature!$B$2:$C$196,2,0),\"\")","v":""},null,null,null,null,{"$f":"IF(C165=\"\",0,IF(SUMIFS($G$5:G165,$C$5:C165,C165)-SUMIFS($I$4:I164,$C$4:C164,C165)<0,0,SUMIFS($G$5:G165,$C$5:C165,C165)-SUMIFS($I$4:I164,$C$4:C164,C165)))","v":0},null,{"$f":"IF(C165=\"\",0,IF(C165=$C$4,SUMIFS($I$4:I164,$C$4:C164,C164),SUMIFS($I$4:I164,$C$4:C164,C165)))","v":0},0]
[163,null,{"$f":"IFERROR(VLOOKUP(D166,Nomenclature!$B$2:$C$196,2,0),\"\")","v":""},null,null,null,null,{"$f":"IF(C166=\"\",0,IF(SUMIFS($G$5:G166,$C$5:C166,C166)-SUMIFS($I$4:I165,$C$4:C165,C166)<0,0,SUMIFS($G$5:G166,$C$5:C166,C166)-SUMIFS($I$4:I165,$C$4:C165,C166)))","v":0},null,{"$f":"IF(C166=\"\",0,IF(C166=$C$4,SUMIFS($I$4:I165,$C$4:C165,C165),SUMIFS($I$4:I165,$C$4:C165,C166)))","v":0},0]
[164,null,{"$f":"IFERROR(VLOOKUP(D167,Nomenclature!$B$2:$C$196,2,0),\"\")","v":""},null,null,null,null,{"$f":"IF(C167=\"\",0,IF(SUMIFS($G$5:G167,$C$5:C167,C167)-SUMIFS($I$4:I166,$C$4:C166,C167)<0,0,SUMIFS($G$5:G167,$C$5:C167,C167)-SUMIFS($I$4:I166,$C$4:C166,C167)))","v":0},null,{"$f":"IF(C167=\"\",0,IF(C167=$C$4,SUMIFS($I$4:I166,$C$4:C166,C166),SUMIFS($I$4:I166,$C$4:C166,C167)))","v":0},0]
[165,null,{"$f":"IFERROR(VLOOKUP(D168,Nomenclature!$B$2:$C$196,2,0),\"\")","v":""},null,null,null,null,{"$f":"IF(C168=\"\",0,IF(SUMIFS($G$5:G168,$C$5:C168,C168)-SUMIFS($I$4:I167,$C$4:C167,C168)<0,0,SUMIFS($G$5:G168,$C$5:C168,C168)-SUMIFS($I$4:I167,$C$4:C167,C168)))","v":0},null,{"$f":"IF(C168=\"\",0,IF(C168=$C$4,SUMIFS($I$4:I167,$C$4:C167,C167),SUMIFS($I$4:I167,$C$4:C167,C168)))","v":0},0]
[166,null,{"$f":"IFERROR(VLOOKUP(D169,Nomenclature!$B$2:$C$196,2,0),\"\")","v":""},null,null,null,null,{"$f":"IF(C169=\"\",0,IF(SUMIFS($G$5:G169,$C$5:C169,C169)-SUMIFS($I$4:I168,$C$4:C168,C169)<0,0,SUMIFS($G$5:G169,$C$5:C169,C169)-SUMIFS($I$4:I168,$C$4:C168,C169)))","v":0},null,{"$f":"IF(C169=\"\",0,IF(C169=$C$4,SUMIFS($I$4:I168,$C$4:C168,C168),SUMIFS($I$4:I168,$C$4:C168,C169)))","v":0},0]
[167,null,{"$f":"IFERROR(VLOOKUP(D170,Nomenclature!$B$2:$C$196,2,0),\"\")","v":""},null,null,null,null,{"$f":"IF(C170=\"\",0,IF(SUMIFS($G$5:G170,$C$5:C170,C170)-SUMIFS($I$4:I169,$C$4:C169,C170)<0,0,SUMIFS($G$5:G170,$C$5:C170,C170)-SUMIFS($I$4:I169,$C$4:C169,C170)))","v":0},null,{"$f":"IF(C170=\"\",0,IF(C170=$C$4,SUMIFS($I$4:I169,$C$4:C169,C169),SUMIFS($I$4:I169,$C$4:C169,C170)))","v":0},0]
[168,null,{"$f":"IFERROR(VLOOKUP(D171,Nomenclature!$B$2:$C$196,2,0),\"\")","v":""},null,null,null,null,{"$f":"IF(C171=\"\",0,IF(SUMIFS($G$5:G171,$C$5:C171,C171)-SUMIFS($I$4:I170,$C$4:C170,C171)<0,0,SUMIFS($G$5:G171,$C$5:C171,C171)-SUMIFS($I$4:I170,$C$4:C170,C171)))","v":0},null,{"$f":"IF(C171=\"\",0,IF(C171=$C$4,SUMIFS($I$4:I170,$C$4:C170,C170),SUMIFS($I$4:I170,$C$4:C170,C171)))","v":0},0]
[169,null,{"$f":"IFERROR(VLOOKUP(D172,Nomenclature!$B$2:$C$196,2,0),\"\")","v":""},null,null,null,null,{"$f":"IF(C172=\"\",0,IF(SUMIFS($G$5:G172,$C$5:C172,C172)-SUMIFS($I$4:I171,$C$4:C171,C172)<0,0,SUMIFS($G$5:G172,$C$5:C172,C172)-SUMIFS($I$4:I171,$C$4:C171,C172)))","v":0},null,{"$f":"IF(C172=\"\",0,IF(C172=$C$4,SUMIFS($I$4:I171,$C$4:C171,C171),SUMIFS($I$4:I171,$C$4:C171,C172)))","v":0},0]
[170,null,{"$f":"IFERROR(VLOOKUP(D173,Nomenclature!$B$2:$C$196,2,0),\"\")","v":""},null,null,null,null,{"$f":"IF(C173=\"\",0,IF(SUMIFS($G$5:G173,$C$5:C173,C173)-SUMIFS($I$4:I172,$C$4:C172,C173)<0,0,SUMIFS($G$5:G173,$C$5:C173,C173)-SUMIFS($I$4:I172,$C$4:C172,C173)))","v":0},null,{"$f":"IF(C173=\"\",0,IF(C173=$C$4,SUMIFS($I$4:I172,$C$4:C172,C172),SUMIFS($I$4:I172,$C$4:C172,C173)))","v":0},0]
[171,null,{"$f":"IFERROR(VLOOKUP(D174,Nomenclature!$B$2:$C$196,2,0),\"\")","v":""},null,null,null,null,{"$f":"IF(C174=\"\",0,IF(SUMIFS($G$5:G174,$C$5:C174,C174)-SUMIFS($I$4:I173,$C$4:C173,C174)<0,0,SUMIFS($G$5:G174,$C$5:C174,C174)-SUMIFS($I$4:I173,$C$4:C173,C174)))","v":0},null,{"$f":"IF(C174=\"\",0,IF(C174=$C$4,SUMIFS($I$4:I173,$C$4:C173,C173),SUMIFS($I$4:I173,$C$4:C173,C174)))","v":0},0]
[172,null,{"$f":"IFERROR(VLOOKUP(D175,Nomenclature!$B$2:$C$196,2,0),\"\")","v":""},null,null,null,null,{"$f":"IF(C175=\"\",0,IF(SUMIFS($G$5:G175,$C$5:C175,C175)-SUMIFS($I$4:I174,$C$4:C174,C175)<0,0,SUMIFS($G$5:G175,$C$5:C175,C175)-SUMIFS($I$4:I174,$C$4:C174,C175)))","v":0},null,{"$f":"IF(C175=\"\",0,IF(C175=$C$4,SUMIFS($I$4:I174,$C$4:C174,C174),SUMIFS($I$4:I174,$C$4:C174,C175)))","v":0},0]
[173,null,{"$f":"IFERROR(VLOOKUP(D176,Nomenclature!$B$2:$C$196,2,0),\"\")","v":""},null,null,null,null,{"$f":"IF(C176=\"\",0,IF(SUMIFS($G$5:G176,$C$5:C176,C176)-SUMIFS($I$4:I175,$C$4:C175,C176)<0,0,SUMIFS($G$5:G176,$C$5:C176,C176)-SUMIFS($I$4:I175,$C$4:C175,C176)))","v":0},null,{"$f":"IF(C176=\"\",0,IF(C176=$C$4,SUMIFS($I$4:I175,$C$4:C175,C175),SUMIFS($I$4:I175,$C$4:C175,C176)))","v":0},0]
[174,null,{"$f":"IFERROR(VLOOKUP(D177,Nomenclature!$B$2:$C$196,2,0),\"\")","v":""},null,null,null,null,{"$f":"IF(C177=\"\",0,IF(SUMIFS($G$5:G177,$C$5:C177,C177)-SUMIFS($I$4:I176,$C$4:C176,C177)<0,0,SUMIFS($G$5:G177,$C$5:C177,C177)-SUMIFS($I$4:I176,$C$4:C176,C177)))","v":0},null,{"$f":"IF(C177=\"\",0,IF(C177=$C$4,SUMIFS($I$4:I176,$C$4:C176,C176),SUMIFS($I$4:I176,$C$4:C176,C177)))","v":0},0]
[175,null,{"$f":"IFERROR(VLOOKUP(D178,Nomenclature!$B$2:$C$196,2,0),\"\")","v":""},null,null,null,null,{"$f":"IF(C178=\"\",0,IF(SUMIFS($G$5:G178,$C$5:C178,C178)-SUMIFS($I$4:I177,$C$4:C177,C178)<0,0,SUMIFS($G$5:G178,$C$5:C178,C178)-SUMIFS($I$4:I177,$C$4:C177,C178)))","v":0},null,{"$f":"IF(C178=\"\",0,IF(C178=$C$4,SUMIFS($I$4:I177,$C$4:C177,C177),SUMIFS($I$4:I177,$C$4:C177,C178)))","v":0},0]
[176,null,{"$f":"IFERROR(VLOOKUP(D179,Nomenclature!$B$2:$C$196,2,0),\"\")","v":""},null,null,null,null,{"$f":"IF(C179=\"\",0,IF(SUMIFS($G$5:G179,$C$5:C179,C179)-SUMIFS($I$4:I178,$C$4:C178,C179)<0,0,SUMIFS($G$5:G179,$C$5:C179,C179)-SUMIFS($I$4:I178,$C$4:C178,C179)))","v":0},null,{"$f":"IF(C179=\"\",0,IF(C179=$C$4,SUMIFS($I$4:I178,$C$4:C178,C178),SUMIFS($I$4:I178,$C$4:C178,C179)))","v":0},0]
[177,null,{"$f":"IFERROR(VLOOKUP(D180,Nomenclature!$B$2:$C$196,2,0),\"\")","v":""},null,null,null,null,{"$f":"IF(C180=\"\",0,IF(SUMIFS($G$5:G180,$C$5:C180,C180)-SUMIFS($I$4:I179,$C$4:C179,C180)<0,0,SUMIFS($G$5:G180,$C$5:C180,C180)-SUMIFS($I$4:I179,$C$4:C179,C180)))","v":0},null,{"$f":"IF(C180=\"\",0,IF(C180=$C$4,SUMIFS($I$4:I179,$C$4:C179,C179),SUMIFS($I$4:I179,$C$4:C179,C180)))","v":0},0]
[178,null,{"$f":"IFERROR(VLOOKUP(D181,Nomenclature!$B$2:$C$196,2,0),\"\")","v":""},null,null,null,null,{"$f":"IF(C181=\"\",0,IF(SUMIFS($G$5:G181,$C$5:C181,C181)-SUMIFS($I$4:I180,$C$4:C180,C181)<0,0,SUMIFS($G$5:G181,$C$5:C181,C181)-SUMIFS($I$4:I180,$C$4:C180,C181)))","v":0},null,{"$f":"IF(C181=\"\",0,IF(C181=$C$4,SUMIFS($I$4:I180,$C$4:C180,C180),SUMIFS($I$4:I180,$C$4:C180,C181)))","v":0},0]
[179,null,{"$f":"IFERROR(VLOOKUP(D182,Nomenclature!$B$2:$C$196,2,0),\"\")","v":""},null,null,null,null,{"$f":"IF(C182=\"\",0,IF(SUMIFS($G$5:G182,$C$5:C182,C182)-SUMIFS($I$4:I181,$C$4:C181,C182)<0,0,SUMIFS($G$5:G182,$C$5:C182,C182)-SUMIFS($I$4:I181,$C$4:C181,C182)))","v":0},null,{"$f":"IF(C182=\"\",0,IF(C182=$C$4,SUMIFS($I$4:I181,$C$4:C181,C181),SUMIFS($I$4:I181,$C$4:C181,C182)))","v":0},0]
[180,null,{"$f":"IFERROR(VLOOKUP(D183,Nomenclature!$B$2:$C$196,2,0),\"\")","v":""},null,null,null,null,{"$f":"IF(C183=\"\",0,IF(SUMIFS($G$5:G183,$C$5:C183,C183)-SUMIFS($I$4:I182,$C$4:C182,C183)<0,0,SUMIFS($G$5:G183,$C$5:C183,C183)-SUMIFS($I$4:I182,$C$4:C182,C183)))","v":0},null,{"$f":"IF(C183=\"\",0,IF(C183=$C$4,SUMIFS($I$4:I182,$C$4:C182,C182),SUMIFS($I$4:I182,$C$4:C182,C183)))","v":0},0]
[181,null,{"$f":"IFERROR(VLOOKUP(D184,Nomenclature!$B$2:$C$196,2,0),\"\")","v":""},null,null,null,null,{"$f":"IF(C184=\"\",0,IF(SUMIFS($G$5:G184,$C$5:C184,C184)-SUMIFS($I$4:I183,$C$4:C183,C184)<0,0,SUMIFS($G$5:G184,$C$5:C184,C184)-SUMIFS($I$4:I183,$C$4:C183,C184)))","v":0},null,{"$f":"IF(C184=\"\",0,IF(C184=$C$4,SUMIFS($I$4:I183,$C$4:C183,C183),SUMIFS($I$4:I183,$C$4:C183,C184)))","v":0},0]
[182,null,{"$f":"IFERROR(VLOOKUP(D185,Nomenclature!$B$2:$C$196,2,0),\"\")","v":""},null,null,null,null,{"$f":"IF(C185=\"\",0,IF(SUMIFS($G$5:G185,$C$5:C185,C185)-SUMIFS($I$4:I184,$C$4:C184,C185)<0,0,SUMIFS($G$5:G185,$C$5:C185,C185)-SUMIFS($I$4:I184,$C$4:C184,C185)))","v":0},null,{"$f":"IF(C185=\"\",0,IF(C185=$C$4,SUMIFS($I$4:I184,$C$4:C184,C184),SUMIFS($I$4:I184,$C$4:C184,C185)))","v":0},0]
[183,null,{"$f":"IFERROR(VLOOKUP(D186,Nomenclature!$B$2:$C$196,2,0),\"\")","v":""},null,null,null,null,{"$f":"IF(C186=\"\",0,IF(SUMIFS($G$5:G186,$C$5:C186,C186)-SUMIFS($I$4:I185,$C$4:C185,C186)<0,0,SUMIFS($G$5:G186,$C$5:C186,C186)-SUMIFS($I$4:I185,$C$4:C185,C186)))","v":0},null,{"$f":"IF(C186=\"\",0,IF(C186=$C$4,SUMIFS($I$4:I185,$C$4:C185,C185),SUMIFS($I$4:I185,$C$4:C185,C186)))","v":0},0]
[184,null,{"$f":"IFERROR(VLOOKUP(D187,Nomenclature!$B$2:$C$196,2,0),\"\")","v":""},null,null,null,null,{"$f":"IF(C187=\"\",0,IF(SUMIFS($G$5:G187,$C$5:C187,C187)-SUMIFS($I$4:I186,$C$4:C186,C187)<0,0,SUMIFS($G$5:G187,$C$5:C187,C187)-SUMIFS($I$4:I186,$C$4:C186,C187)))","v":0},null,{"$f":"IF(C187=\"\",0,IF(C187=$C$4,SUMIFS($I$4:I186,$C$4:C186,C186),SUMIFS($I$4:I186,$C$4:C186,C187)))","v":0},0]
[185,null,{"$f":"IFERROR(VLOOKUP(D188,Nomenclature!$B$2:$C$196,2,0),\"\")","v":""},null,null,null,null,{"$f":"IF(C188=\"\",0,IF(SUMIFS($G$5:G188,$C$5:C188,C188)-SUMIFS($I$4:I187,$C$4:C187,C188)<0,0,SUMIFS($G$5:G188,$C$5:C188,C188)-SUMIFS($I$4:I187,$C$4:C187,C188)))","v":0},null,{"$f":"IF(C188=\"\",0,IF(C188=$C$4,SUMIFS($I$4:I187,$C$4:C187,C187),SUMIFS($I$4:I187,$C$4:C187,C188)))","v":0},0]
[186,null,{"$f":"IFERROR(VLOOKUP(D189,Nomenclature!$B$2:$C$196,2,0),\"\")","v":""},null,null,null,null,{"$f":"IF(C189=\"\",0,IF(SUMIFS($G$5:G189,$C$5:C189,C189)-SUMIFS($I$4:I188,$C$4:C188,C189)<0,0,SUMIFS($G$5:G189,$C$5:C189,C189)-SUMIFS($I$4:I188,$C$4:C188,C189)))","v":0},null,{"$f":"IF(C189=\"\",0,IF(C189=$C$4,SUMIFS($I$4:I188,$C$4:C188,C188),SUMIFS($I$4:I188,$C$4:C188,C189)))","v":0},0]
[187,null,{"$f":"IFERROR(VLOOKUP(D190,Nomenclature!$B$2:$C$196,2,0),\"\")","v":""},null,null,null,null,{"$f":"IF(C190=\"\",0,IF(SUMIFS($G$5:G190,$C$5:C190,C190)-SUMIFS($I$4:I189,$C$4:C189,C190)<0,0,SUMIFS($G$5:G190,$C$5:C190,C190)-SUMIFS($I$4:I189,$C$4:C189,C190)))","v":0},null,{"$f":"IF(C190=\"\",0,IF(C190=$C$4,SUMIFS($I$4:I189,$C$4:C189,C189),SUMIFS($I$4:I189,$C$4:C189,C190)))","v":0},0]
[188,null,{"$f":"IFERROR(VLOOKUP(D191,Nomenclature!$B$2:$C$196,2,0),\"\")","v":""},null,null,null,null,{"$f":"IF(C191=\"\",0,IF(SUMIFS($G$5:G191,$C$5:C191,C191)-SUMIFS($I$4:I190,$C$4:C190,C191)<0,0,SUMIFS($G$5:G191,$C$5:C191,C191)-SUMIFS($I$4:I190,$C$4:C190,C191)))","v":0},null,{"$f":"IF(C191=\"\",0,IF(C191=$C$4,SUMIFS($I$4:I190,$C$4:C190,C190),SUMIFS($I$4:I190,$C$4:C190,C191)))","v":0},0]
[189,null,{"$f":"IFERROR(VLOOKUP(D192,Nomenclature!$B$2:$C$196,2,0),\"\")","v":""},null,null,null,null,{"$f":"IF(C192=\"\",0,IF(SUMIFS($G$5:G192,$C$5:C192,C192)-SUMIFS($I$4:I191,$C$4:C191,C192)<0,0,SUMIFS($G$5:G192,$C$5:C192,C192)-SUMIFS($I$4:I191,$C$4:C191,C192)))","v":0},null,{"$f":"IF(C192=\"\",0,IF(C192=$C$4,SUMIFS($I$4:I191,$C$4:C191,C191),SUMIFS($I$4:I191,$C$4:C191,C192)))","v":0},0]
[190,null,{"$f":"IFERROR(VLOOKUP(D193,Nomenclature!$B$2:$C$196,2,0),\"\")","v":""},null,null,null,null,{"$f":"IF(C193=\"\",0,IF(SUMIFS($G$5:G193,$C$5:C193,C193)-SUMIFS($I$4:I192,$C$4:C192,C193)<0,0,SUMIFS($G$5:G193,$C$5:C193,C193)-SUMIFS($I$4:I192,$C$4:C192,C193)))","v":0},null,{"$f":"IF(C193=\"\",0,IF(C193=$C$4,SUMIFS($I$4:I192,$C$4:C192,C192),SUMIFS($I$4:I192,$C$4:C192,C193)))","v":0},0]
[191,null,{"$f":"IFERROR(VLOOKUP(D194,Nomenclature!$B$2:$C$196,2,0),\"\")","v":""},null,null,null,null,{"$f":"IF(C194=\"\",0,IF(SUMIFS($G$5:G194,$C$5:C194,C194)-SUMIFS($I$4:I193,$C$4:C193,C194)<0,0,SUMIFS($G$5:G194,$C$5:C194,C194)-SUMIFS($I$4:I193,$C$4:C193,C194)))","v":0},null,{"$f":"IF(C194=\"\",0,IF(C194=$C$4,SUMIFS($I$4:I193,$C$4:C193,C193),SUMIFS($I$4:I193,$C$4:C193,C194)))","v":0},0]
[192,null,{"$f":"IFERROR(VLOOKUP(D195,Nomenclature!$B$2:$C$196,2,0),\"\")","v":""},null,null,null,null,{"$f":"IF(C195=\"\",0,IF(SUMIFS($G$5:G195,$C$5:C195,C195)-SUMIFS($I$4:I194,$C$4:C194,C195)<0,0,SUMIFS($G$5:G195,$C$5:C195,C195)-SUMIFS($I$4:I194,$C$4:C194,C195)))","v":0},null,{"$f":"IF(C195=\"\",0,IF(C195=$C$4,SUMIFS($I$4:I194,$C$4:C194,C194),SUMIFS($I$4:I194,$C$4:C194,C195)))","v":0},0]
[193,null,{"$f":"IFERROR(VLOOKUP(D196,Nomenclature!$B$2:$C$196,2,0),\"\")","v":""},null,null,null,null,{"$f":"IF(C196=\"\",0,IF(SUMIFS($G$5:G196,$C$5:C196,C196)-SUMIFS($I$4:I195,$C$4:C195,C196)<0,0,SUMIFS($G$5:G196,$C$5:C196,C196)-SUMIFS($I$4:I195,$C$4:C195,C196)))","v":0},null,{"$f":"IF(C196=\"\",0,IF(C196=$C$4,SUMIFS($I$4:I195,$C$4:C195,C195),SUMIFS($I$4:I195,$C$4:C195,C196)))","v":0},{"$f":"IF(C196=\"\",0,H196-I196)","v":0}]
[194,null,{"$f":"IFERROR(VLOOKUP(D197,Nomenclature!$B$2:$C$196,2,0),\"\")","v":""},null,null,null,null,{"$f":"IF(C197=\"\",0,IF(SUMIFS($G$5:G197,$C$5:C197,C197)-SUMIFS($I$4:I196,$C$4:C196,C197)<0,0,SUMIFS($G$5:G197,$C$5:C197,C197)-SUMIFS($I$4:I196,$C$4:C196,C197)))","v":0},null,{"$f":"IF(C197=\"\",0,IF(C197=$C$4,SUMIFS($I$4:I196,$C$4:C196,C196),SUMIFS($I$4:I196,$C$4:C196,C197)))","v":0},0]
[195,null,{"$f":"IFERROR(VLOOKUP(D198,Nomenclature!$B$2:$C$196,2,0),\"\")","v":""},null,null,null,null,{"$f":"IF(C198=\"\",0,IF(SUMIFS($G$5:G198,$C$5:C198,C198)-SUMIFS($I$4:I197,$C$4:C197,C198)<0,0,SUMIFS($G$5:G198,$C$5:C198,C198)-SUMIFS($I$4:I197,$C$4:C197,C198)))","v":0},null,{"$f":"IF(C198=\"\",0,IF(C198=$C$4,SUMIFS($I$4:I197,$C$4:C197,C197),SUMIFS($I$4:I197,$C$4:C197,C198)))","v":0},0]
[196,null,{"$f":"IFERROR(VLOOKUP(D199,Nomenclature!$B$2:$C$196,2,0),\"\")","v":""},null,null,null,null,{"$f":"IF(C199=\"\",0,IF(SUMIFS($G$5:G199,$C$5:C199,C199)-SUMIFS($I$4:I198,$C$4:C198,C199)<0,0,SUMIFS($G$5:G199,$C$5:C199,C199)-SUMIFS($I$4:I198,$C$4:C198,C199)))","v":0},null,{"$f":"IF(C199=\"\",0,IF(C199=$C$4,SUMIFS($I$4:I198,$C$4:C198,C198),SUMIFS($I$4:I198,$C$4:C198,C199)))","v":0},0]
[197,null,{"$f":"IFERROR(VLOOKUP(D200,Nomenclature!$B$2:$C$196,2,0),\"\")","v":""},null,null,null,null,{"$f":"IF(C200=\"\",0,IF(SUMIFS($G$5:G200,$C$5:C200,C200)-SUMIFS($I$4:I199,$C$4:C199,C200)<0,0,SUMIFS($G$5:G200,$C$5:C200,C200)-SUMIFS($I$4:I199,$C$4:C199,C200)))","v":0},null,{"$f":"IF(C200=\"\",0,IF(C200=$C$4,SUMIFS($I$4:I199,$C$4:C199,C199),SUMIFS($I$4:I199,$C$4:C199,C200)))","v":0},0]
[198,null,{"$f":"IFERROR(VLOOKUP(D201,Nomenclature!$B$2:$C$196,2,0),\"\")","v":""},null,null,null,null,{"$f":"IF(C201=\"\",0,IF(SUMIFS($G$5:G201,$C$5:C201,C201)-SUMIFS($I$4:I200,$C$4:C200,C201)<0,0,SUMIFS($G$5:G201,$C$5:C201,C201)-SUMIFS($I$4:I200,$C$4:C200,C201)))","v":0},null,{"$f":"IF(C201=\"\",0,IF(C201=$C$4,SUMIFS($I$4:I200,$C$4:C200,C200),SUMIFS($I$4:I200,$C$4:C200,C201)))","v":0},0]
[199,null,{"$f":"IFERROR(VLOOKUP(D202,Nomenclature!$B$2:$C$196,2,0),\"\")","v":""},null,null,null,null,{"$f":"IF(C202=\"\",0,IF(SUMIFS($G$5:G202,$C$5:C202,C202)-SUMIFS($I$4:I201,$C$4:C201,C202)<0,0,SUMIFS($G$5:G202,$C$5:C202,C202)-SUMIFS($I$4:I201,$C$4:C201,C202)))","v":0},null,{"$f":"IF(C202=\"\",0,IF(C202=$C$4,SUMIFS($I$4:I201,$C$4:C201,C201),SUMIFS($I$4:I201,$C$4:C201,C202)))","v":0},0]
[200,null,{"$f":"IFERROR(VLOOKUP(D203,Nomenclature!$B$2:$C$196,2,0),\"\")","v":""},null,null,null,null,{"$f":"IF(C203=\"\",0,IF(SUMIFS($G$5:G203,$C$5:C203,C203)-SUMIFS($I$4:I202,$C$4:C202,C203)<0,0,SUMIFS($G$5:G203,$C$5:C203,C203)-SUMIFS($I$4:I202,$C$4:C202,C203)))","v":0},null,{"$f":"IF(C203=\"\",0,IF(C203=$C$4,SUMIFS($I$4:I202,$C$4:C202,C202),SUMIFS($I$4:I202,$C$4:C202,C203)))","v":0},0]

{"sheet":"16000","index":6,"n_rows":203,"n_cols":44,"rows_kept":203,"cut":false,"hidden":false,"merged":[[50,23,50,24],[44,14,45,18],[44,22,45,26],[44,29,44,30],[46,14,47,18],[46,22,47,26],[47,29,47,30],[50,15,50,16],[33,14,33,17],[34,14,37,41],[39,14,39,17],[39,18,40,41],[42,14,42,27],[42,28,42,41],[28,38,29,41],[30,14,31,17],[30,18,31,21],[30,22,31,25],[30,26,31,29],[30,30,31,33],[30,34,31,37],[30,38,31,41],[28,14,29,17],[28,18,29,21],[28,22,29,25],[28,26,29,29],[28,30,29,33],[28,34,29,37],[19,14,19,15],[26,38,27,41],[20,22,20,32],[21,18,21,21],[21,22,21,32],[22,18,22,21],[22,22,22,32],[23,17,25,41],[20,18,20,21],[26,14,27,21],[26,22,27,25],[26,26,27,29],[26,30,27,33],[26,34,27,37],[15,19,15,20],[16,14,16,18],[16,19,16,20],[14,14,14,18],[14,19,14,27],[0,13,2,15],[3,14,3,41],[3,42,58,42],[4,14,4,18],[4,19,4,27],[5,14,5,18],[5,19,5,27],[6,14,6,18],[6,19,6,27],[10,15,11,19],[10,20,11,23],[10,31,11,32],[10,33,11,38],[13,14,13,18],[13,19,13,20],[15,14,15,18],[0,11,2,11],[0,0,2,0],[0,1,2,1],[0,2,2,2],[0,3,2,3],[0,4,2,4],[0,5,1,5],[0,6,1,6],[0,7,2,7],[0,8,1,8],[0,9,2,9],[0,10,1,10]]}
["رقم\nالاستمارة","التاريخ","الترميز","الصنف / الصنف الفرعي","ملاحظات المصلحة","AP Cat",{"$f":"IF(SUM(G4:G203)-SUM(F4:F203)<0,\"نقص في توزيع الاعتمادات على الاصناف الفرعية\",\nIF(SUM(G4:G203)-SUM(F4:F203)>0,\"تجاوز في الاعتمادات الموزعة على الاصناف الفرعية\",\"AP S.Cat\"))","v":"AP S.Cat"},"AP Sous_Cat",{"$f":"IF(I3>G3,\"تجاوز في الالتزامات\",\"∑ Engagements\")","v":"∑ Engagements"},"∑ Eng Sous_Cat","Reste","السند القانوني للعنوان الرابع",null,2]
[]
[null,null,null,null,null,{"$f":"SUM(F4:F203)","v":0},{"$f":"SUM(G4:G203)","v":0},null,{"$f":"SUM(I5:I203)","v":0},null,{"$f":"SUM(K4:K104)","v":0}]
[1,"2023-03-13",{"$f":"IFERROR(VLOOKUP(D4,Nomenclature!$B$2:$C$196,2,0),\"\")","v":16000},"حوادث العمل و معاش الخدمة","تكفل برخصة الالتزام المفتوحة لسنة 2023.",null,null,{"$f":"IF(C4=\"\",0,IF(SUMIFS($G4:G$5,$C4:C$5,C4)-SUMIFS($I3:I$4,$C3:C$4,C4)<0,0,SUMIFS($G4:G$5,$C4:C$5,C4)-SUMIFS($I3:I$4,$C3:C$4,C4)))","v":0},null,{"$f":"IF(I4=0,0,IF(C4=\"\",0,SUMIFS($I4:I$4,$C4:C$4,C4)))","v":0},{"$f":"IF(C4=\"\",0,H4-I4)","v":0},null,null,null,"الجمهورية الجزائرية الديمقراطية الشعبية"]
[2,"2023-04-01",{"$f":"IFERROR(VLOOKUP(D5,Nomenclature!$B$2:$C$196,2,0),\"\")","v":""},null,null,null,null,{"$f":"IF(C5=\"\",0,IF(SUMIFS($G$5:G5,$C$5:C5,C5)-SUMIFS($I$4:I4,$C$4:C4,C5)<0,0,SUMIFS($G$5:G5,$C$5:C5,C5)-SUMIFS($I$4:I4,$C$4:C4,C5)))","v":0},null,{"$f":"IF(C5=\"\",0,IF(C5=$C$4,SUMIFS($I$4:I4,$C$4:C4,C4),SUMIFS($I$4:I4,$C$4:C4,C5)))","v":0},0,null,null,null,"الـوزارة:",null,null,null,null,{"$f":"الواجهة!C2","v":"وزارة البيئة و الطاقات المتجددة"}]
[3,null,{"$f":"IFERROR(VLOOKUP(D6,Nomenclature!$B$2:$C$196,2,0),\"\")","v":""},null,null,null,null,{"$f":"IF(C6=\"\",0,IF(SUMIFS($G$5:G6,$C$5:C6,C6)-SUMIFS($I$4:I5,$C$4:C5,C6)<0,0,SUMIFS($G$5:G6,$C$5:C6,C6)-SUMIFS($I$4:I5,$C$4:C5,C6)))","v":0},null,{"$f":"IF(C6=\"\",0,IF(C6=$C$4,SUMIFS($I$4:I5,$C$4:C5,C5),SUMIFS($I$4:I5,$C$4:C5,C6)))","v":0},0,null,null,null,"الهيئة الإدارية:",null,null,null,null,{"$f":"الواجهة!C3","v":"مديرية البيئة لولاية المسيلة"}]
[4,null,{"$f":"IFERROR(VLOOKUP(D7,Nomenclature!$B$2:$C$196,2,0),\"\")","v":""},null,null,null,null,{"$f":"IF(C7=\"\",0,IF(SUMIFS($G$5:G7,$C$5:C7,C7)-SUMIFS($I$4:I6,$C$4:C6,C7)<0,0,SUMIFS($G$5:G7,$C$5:C7,C7)-SUMIFS($I$4:I6,$C$4:C6,C7)))","v":0},null,{"$f":"IF(C7=\"\",0,IF(C7=$C$4,SUMIFS($I$4:I6,$C$4:C6,C6),SUMIFS($I$4:I6,$C$4:C6,C7)))","v":0},0,null,null,null,"رمز الآمر بالصرف:",null,null,null,null,{"$f":"الواجهة!C4","v":"144 0 28 01"}]
[5,null,{"$f":"IFERROR(VLOOKUP(D8,Nomenclature!$B$2:$C$196,2,0),\"\")","v":""},null,null,null,null,{"$f":"IF(C8=\"\",0,IF(SUMIFS($G$5:G8,$C$5:C8,C8)-SUMIFS($I$4:I7,$C$4:C7,C8)<0,0,SUMIFS($G$5:G8,$C$5:C8,C8)-SUMIFS($I$4:I7,$C$4:C7,C8)))","v":0},null,{"$f":"IF(C8=\"\",0,IF(C8=$C$4,SUMIFS($I$4:I7,$C$4:C7,C7),SUMIFS($I$4:I7,$C$4:C7,C8)))","v":0},0,null,null,null,null,null,null,null,null,null,null,null,null,null,null,null,null,null,null,null,null,null,null,"."]
[6,null,{"$f":"IFERROR(VLOOKUP(D9,Nomenclature!$B$2:$C$196,2,0),\"\")","v":""},null,null,null,null,{"$f":"IF(C9=\"\",0,IF(SUMIFS($G$5:G9,$C$5:C9,C9)-SUMIFS($I$4:I8,$C$4:C8,C9)<0,0,SUMIFS($G$5:G9,$C$5:C9,C9)-SUMIFS($I$4:I8,$C$4:C8,C9)))","v":0},null,{"$f":"IF(C9=\"\",0,IF(C9=$C$4,SUMIFS($I$4:I8,$C$4:C8,C8),SUMIFS($I$4:I8,$C$4:C8,C9)))","v":0},0]
[7,null,{"$f":"IFERROR(VLOOKUP(D10,Nomenclature!$B$2:$C$196,2,0),\"\")","v":""},null,null,null,null,{"$f":"IF(C10=\"\",0,IF(SUMIFS($G$5:G10,$C$5:C10,C10)-SUMIFS($I$4:I9,$C$4:C9,C10)<0,0,SUMIFS($G$5:G10,$C$5:C10,C10)-SUMIFS($I$4:I9,$C$4:C9,C10)))","v":0},null,{"$f":"IF(C10=\"\",0,IF(C10=$C$4,SUMIFS($I$4:I9,$C$4:C9,C9),SUMIFS($I$4:I9,$C$4:C9,C10)))","v":0},0]
[8,null,{"$f":"IFERROR(VLOOKUP(D11,Nomenclature!$B$2:$C$196,2,0),\"\")","v":""},null,null,null,null,{"$f":"IF(C11=\"\",0,IF(SUMIFS($G$5:G11,$C$5:C11,C11)-SUMIFS($I$4:I10,$C$4:C10,C11)<0,0,SUMIFS($G$5:G11,$C$5:C11,C11)-SUMIFS($I$4:I10,$C$4:C10,C11)))","v":0},null,{"$f":"IF(C11=\"\",0,IF(C11=$C$4,SUMIFS($I$4:I10,$C$4:C10,C10),SUMIFS($I$4:I10,$C$4:C10,C11)))","v":0},0,null,null,null,null,"رقم بطاقة الالتزام:",null,null,null,null,{"$f":"IFERROR(VLOOKUP(N1,A4:L203,1,0),0)","v":2},null,null,null,null,null,null,null,null,null,null,"التاريخ:",null,{"$f":"IF(IFERROR(VLOOKUP(N1,A4:L203,2,0),0)=0,\"\",IFERROR(VLOOKUP(N1,A4:L203,2,0),0))","v":"2023-04-01"}]
[9,null,{"$f":"IFERROR(VLOOKUP(D12,Nomenclature!$B$2:$C$196,2,0),\"\")","v":""},null,null,null,null,{"$f":"IF(C12=\"\",0,IF(SUMIFS($G$5:G12,$C$5:C12,C12)-SUMIFS($I$4:I11,$C$4:C11,C12)<0,0,SUMIFS($G$5:G12,$C$5:C12,C12)-SUMIFS($I$4:I11,$C$4:C11,C12)))","v":0},null,{"$f":"IF(C12=\"\",0,IF(C12=$C$4,SUMIFS($I$4:I11,$C$4:C11,C11),SUMIFS($I$4:I11,$C$4:C11,C12)))","v":0},0]
[10,null,{"$f":"IFERROR(VLOOKUP(D13,Nomenclature!$B$2:$C$196,2,0),\"\")","v":""},null,null,null,null,{"$f":"IF(C13=\"\",0,IF(SUMIFS($G$5:G13,$C$5:C13,C13)-SUMIFS($I$4:I12,$C$4:C12,C13)<0,0,SUMIFS($G$5:G13,$C$5:C13,C13)-SUMIFS($I$4:I12,$C$4:C12,C13)))","v":0},null,{"$f":"IF(C13=\"\",0,IF(C13=$C$4,SUMIFS($I$4:I12,$C$4:C12,C12),SUMIFS($I$4:I12,$C$4:C12,C13)))","v":0},0]
[11,null,{"$f":"IFERROR(VLOOKUP(D14,Nomenclature!$B$2:$C$196,2,0),\"\")","v":""},null,null,null,null,{"$f":"IF(C14=\"\",0,IF(SUMIFS($G$5:G14,$C$5:C14,C14)-SUMIFS($I$4:I13,$C$4:C13,C14)<0,0,SUMIFS($G$5:G14,$C$5:C14,C14)-SUMIFS($I$4:I13,$C$4:C13,C14)))","v":0},null,{"$f":"IF(C14=\"\",0,IF(C14=$C$4,SUMIFS($I$4:I13,$C$4:C13,C13),SUMIFS($I$4:I13,$C$4:C13,C14)))","v":0},0,null,null,null,"رمز البرنــامج:",null,null,null,null,{"$f":"الواجهة!C7","v":"116"}]
[12,null,{"$f":"IFERROR(VLOOKUP(D15,Nomenclature!$B$2:$C$196,2,0),\"\")","v":""},null,null,null,null,{"$f":"IF(C15=\"\",0,IF(SUMIFS($G$5:G15,$C$5:C15,C15)-SUMIFS($I$4:I14,$C$4:C14,C15)<0,0,SUMIFS($G$5:G15,$C$5:C15,C15)-SUMIFS($I$4:I14,$C$4:C14,C15)))","v":0},null,{"$f":"IF(C15=\"\",0,IF(C15=$C$4,SUMIFS($I$4:I14,$C$4:C14,C14),SUMIFS($I$4:I14,$C$4:C14,C15)))","v":0},0,null,null,null,"رمز النشــاط:",null,null,null,null,{"$f":"الواجهة!C6&\" \"&الواجهة!C7&\" \"&الواجهة!C10&\" \"&الواجهة!C8&\" \"&الواجهة!C9&\" \"&الواجهة!C11","v":"030 116 02 2001 000 028"}]
[13,null,{"$f":"IFERROR(VLOOKUP(D16,Nomenclature!$B$2:$C$196,2,0),\"\")","v":""},null,null,null,null,{"$f":"IF(C16=\"\",0,IF(SUMIFS($G$5:G16,$C$5:C16,C16)-SUMIFS($I$4:I15,$C$4:C15,C16)<0,0,SUMIFS($G$5:G16,$C$5:C16,C16)-SUMIFS($I$4:I15,$C$4:C15,C16)))","v":0},null,{"$f":"IF(C16=\"\",0,IF(C16=$C$4,SUMIFS($I$4:I15,$C$4:C15,C15),SUMIFS($I$4:I15,$C$4:C15,C16)))","v":0},0,null,null,null,"رمز النشــاط الفرعي:",null,null,null,null,{"$f":"الواجهة!C9","v":"000"}]
[14,null,{"$f":"IFERROR(VLOOKUP(D17,Nomenclature!$B$2:$C$196,2,0),\"\")","v":""},null,null,null,null,{"$f":"IF(C17=\"\",0,IF(SUMIFS($G$5:G17,$C$5:C17,C17)-SUMIFS($I$4:I16,$C$4:C16,C17)<0,0,SUMIFS($G$5:G17,$C$5:C17,C17)-SUMIFS($I$4:I16,$C$4:C16,C17)))","v":0},null,{"$f":"IF(C17=\"\",0,IF(C17=$C$4,SUMIFS($I$4:I16,$C$4:C16,C16),SUMIFS($I$4:I16,$C$4:C16,C17)))","v":0},0,null,null,null,"رمز البرنـامج الفرعي:",null,null,null,null,{"$f":"الواجهة!C10","v":"02"}]
[15,null,{"$f":"IFERROR(VLOOKUP(D18,Nomenclature!$B$2:$C$196,2,0),\"\")","v":""},null,null,null,null,{"$f":"IF(C18=\"\",0,IF(SUMIFS($G$5:G18,$C$5:C18,C18)-SUMIFS($I$4:I17,$C$4:C17,C18)<0,0,SUMIFS($G$5:G18,$C$5:C18,C18)-SUMIFS($I$4:I17,$C$4:C17,C18)))","v":0},null,{"$f":"IF(C18=\"\",0,IF(C18=$C$4,SUMIFS($I$4:I17,$C$4:C17,C17),SUMIFS($I$4:I17,$C$4:C17,C18)))","v":0},0,null,null,null,null,null,null,null,null,null,null,null,null,null,null,null,null,null,null,null,null,null,null,null,null,null,null,null,null,null,null,null,null,"\n\n\n"]
[16,null,{"$f":"IFERROR(VLOOKUP(D19,Nomenclature!$B$2:$C$196,2,0),\"\")","v":""},null,null,null,null,{"$f":"IF(C19=\"\",0,IF(SUMIFS($G$5:G19,$C$5:C19,C19)-SUMIFS($I$4:I18,$C$4:C18,C19)<0,0,SUMIFS($G$5:G19,$C$5:C19,C19)-SUMIFS($I$4:I18,$C$4:C18,C19)))","v":0},null,{"$f":"IF(C19=\"\",0,IF(C19=$C$4,SUMIFS($I$4:I18,$C$4:C18,C18),SUMIFS($I$4:I18,$C$4:C18,C19)))","v":0},0]
[17,null,{"$f":"IFERROR(VLOOKUP(D20,Nomenclature!$B$2:$C$196,2,0),\"\")","v":""},null,null,null,null,{"$f":"IF(C20=\"\",0,IF(SUMIFS($G$5:G20,$C$5:C20,C20)-SUMIFS($I$4:I19,$C$4:C19,C20)<0,0,SUMIFS($G$5:G20,$C$5:C20,C20)-SUMIFS($I$4:I19,$C$4:C19,C20)))","v":0},null,{"$f":"IF(C20=\"\",0,IF(C20=$C$4,SUMIFS($I$4:I19,$C$4:C19,C19),SUMIFS($I$4:I19,$C$4:C19,C20)))","v":0},0,null,null,null,"العنوان:"]
[18,null,{"$f":"IFERROR(VLOOKUP(D21,Nomenclature!$B$2:$C$196,2,0),\"\")","v":""},null,null,null,null,{"$f":"IF(C21=\"\",0,IF(SUMIFS($G$5:G21,$C$5:C21,C21)-SUMIFS($I$4:I20,$C$4:C20,C21)<0,0,SUMIFS($G$5:G21,$C$5:C21,C21)-SUMIFS($I$4:I20,$C$4:C20,C21)))","v":0},null,{"$f":"IF(C21=\"\",0,IF(C21=$C$4,SUMIFS($I$4:I20,$C$4:C20,C20),SUMIFS($I$4:I20,$C$4:C20,C21)))","v":0},0,null,null,null,null,null,{"$f":"IF(C4<20000,\"X\",\"\")","v":"X"},null,"العنوان الأول:",null,null,null,"نفقات المستخدمين"]
[19,null,{"$f":"IFERROR(VLOOKUP(D22,Nomenclature!$B$2:$C$196,2,0),\"\")","v":""},null,null,null,null,{"$f":"IF(C22=\"\",0,IF(SUMIFS($G$5:G22,$C$5:C22,C22)-SUMIFS($I$4:I21,$C$4:C21,C22)<0,0,SUMIFS($G$5:G22,$C$5:C22,C22)-SUMIFS($I$4:I21,$C$4:C21,C22)))","v":0},null,{"$f":"IF(C22=\"\",0,IF(C22=$C$4,SUMIFS($I$4:I21,$C$4:C21,C21),SUMIFS($I$4:I21,$C$4:C21,C22)))","v":0},0,null,null,null,null,null,{"$f":"IF(AND(C4>19999,C4<40000),\"X\",\"\")","v":""},null,"العنوان الثاني:",null,null,null,"نفقات تسيير المصالح"]
[20,null,{"$f":"IFERROR(VLOOKUP(D23,Nomenclature!$B$2:$C$196,2,0),\"\")","v":""},null,null,null,null,{"$f":"IF(C23=\"\",0,IF(SUMIFS($G$5:G23,$C$5:C23,C23)-SUMIFS($I$4:I22,$C$4:C22,C23)<0,0,SUMIFS($G$5:G23,$C$5:C23,C23)-SUMIFS($I$4:I22,$C$4:C22,C23)))","v":0},null,{"$f":"IF(C23=\"\",0,IF(C23=$C$4,SUMIFS($I$4:I22,$C$4:C22,C22),SUMIFS($I$4:I22,$C$4:C22,C23)))","v":0},0,null,null,null,null,null,{"$f":"IF(AND(Q21=\"\",Q22=\"\"),\"X\",\"\")","v":""},null,"العنوان الرابع:",null,null,null,"نفقات التحويل"]
[21,null,{"$f":"IFERROR(VLOOKUP(D24,Nomenclature!$B$2:$C$196,2,0),\"\")","v":""},null,null,null,null,{"$f":"IF(C24=\"\",0,IF(SUMIFS($G$5:G24,$C$5:C24,C24)-SUMIFS($I$4:I23,$C$4:C23,C24)<0,0,SUMIFS($G$5:G24,$C$5:C24,C24)-SUMIFS($I$4:I23,$C$4:C23,C24)))","v":0},null,{"$f":"IF(C24=\"\",0,IF(C24=$C$4,SUMIFS($I$4:I23,$C$4:C23,C23),SUMIFS($I$4:I23,$C$4:C23,C24)))","v":0},0,null,null,null,null,null,null,{"$f":"IF(VLOOKUP(N1,A4:L203,12,0)=\"\",\"- - - - - - - - - - - - - - - - - - - - - - - - - - - - - - - - - - - - - - - - - - - - - - - / / / - - - - - - - - - - - - - - - - - - - - - - - - - - - - - - - - - - - - - - - - - - - - - - -\"& CHAR(10)&\"- - - - - - - - - - - - - - - - - - - - - - - - - - - - - - - - - - - - - - - - - - - - - - - / / / - - - - - - - - - - - - - - - - - - - - - - - - - - - - - - - - - - - - - - - - - - - - - - -\",VLOOKUP(N1,A4:L203,12,0))","v":"- - - - - - - - - - - - - - - - - - - - - - - - - - - - - - - - - - - - - - - - - - - - - - - / / / - - - - - - - - - - - - - - - - - - - - - - - - - - - - - - - - - - - - - - - - - - - - - - -\n- - - - - - - - - - - - - - - - - - - - - - - - - - - - - - - - - - - - - - - - - - - - - - - / / / - - - - - - - - - - - - - - - - - - - - - - - - - - - - - - - - - - - - - - - - - - - - - - -"}]
[22,null,{"$f":"IFERROR(VLOOKUP(D25,Nomenclature!$B$2:$C$196,2,0),\"\")","v":""},null,null,null,null,{"$f":"IF(C25=\"\",0,IF(SUMIFS($G$5:G25,$C$5:C25,C25)-SUMIFS($I$4:I24,$C$4:C24,C25)<0,0,SUMIFS($G$5:G25,$C$5:C25,C25)-SUMIFS($I$4:I24,$C$4:C24,C25)))","v":0},null,{"$f":"IF(C25=\"\",0,IF(C25=$C$4,SUMIFS($I$4:I24,$C$4:C24,C24),SUMIFS($I$4:I24,$C$4:C24,C25)))","v":0},0]
[23,null,{"$f":"IFERROR(VLOOKUP(D26,Nomenclature!$B$2:$C$196,2,0),\"\")","v":""},null,null,null,null,{"$f":"IF(C26=\"\",0,IF(SUMIFS($G$5:G26,$C$5:C26,C26)-SUMIFS($I$4:I25,$C$4:C25,C26)<0,0,SUMIFS($G$5:G26,$C$5:C26,C26)-SUMIFS($I$4:I25,$C$4:C25,C26)))","v":0},null,{"$f":"IF(C26=\"\",0,IF(C26=$C$4,SUMIFS($I$4:I25,$C$4:C25,C25),SUMIFS($I$4:I25,$C$4:C25,C26)))","v":0},0]
[24,null,{"$f":"IFERROR(VLOOKUP(D27,Nomenclature!$B$2:$C$196,2,0),\"\")","v":""},null,null,null,null,{"$f":"IF(C27=\"\",0,IF(SUMIFS($G$5:G27,$C$5:C27,C27)-SUMIFS($I$4:I26,$C$4:C26,C27)<0,0,SUMIFS($G$5:G27,$C$5:C27,C27)-SUMIFS($I$4:I26,$C$4:C26,C27)))","v":0},null,{"$f":"IF(C27=\"\",0,IF(C27=$C$4,SUMIFS($I$4:I26,$C$4:C26,C26),SUMIFS($I$4:I26,$C$4:C26,C27)))","v":0},0,null,null,null,"الصنف / الصنف الفرعي",null,null,null,null,null,null,null,"رخصة الالتزام\nالمفتوحة/المعدلة",null,null,null,"مجموع الالتزامات السابقة",null,null,null,"الرصيد\nالأولي",null,null,null,"الالتزام\nالمقترح",null,null,null,"الرصيد المتبقى"]
[25,null,{"$f":"IFERROR(VLOOKUP(D28,Nomenclature!$B$2:$C$196,2,0),\"\")","v":""},null,null,null,null,{"$f":"IF(C28=\"\",0,IF(SUMIFS($G$5:G28,$C$5:C28,C28)-SUMIFS($I$4:I27,$C$4:C27,C28)<0,0,SUMIFS($G$5:G28,$C$5:C28,C28)-SUMIFS($I$4:I27,$C$4:C27,C28)))","v":0},null,{"$f":"IF(C28=\"\",0,IF(C28=$C$4,SUMIFS($I$4:I27,$C$4:C27,C27),SUMIFS($I$4:I27,$C$4:C27,C28)))","v":0},0]
[26,null,{"$f":"IFERROR(VLOOKUP(D29,Nomenclature!$B$2:$C$196,2,0),\"\")","v":""},null,null,null,null,{"$f":"IF(C29=\"\",0,IF(SUMIFS($G$5:G29,$C$5:C29,C29)-SUMIFS($I$4:I28,$C$4:C28,C29)<0,0,SUMIFS($G$5:G29,$C$5:C29,C29)-SUMIFS($I$4:I28,$C$4:C28,C29)))","v":0},null,{"$f":"IF(C29=\"\",0,IF(C29=$C$4,SUMIFS($I$4:I28,$C$4:C28,C28),SUMIFS($I$4:I28,$C$4:C28,C29)))","v":0},0,null,null,null,"الصنف",null,null,null,{"$f":"C4","v":16000},null,null,null,{"$f":"SUM($F$4:INDIRECT(\"f\"&N1+3))","v":0},null,null,null,{"$f":"SUM($I$4:INDIRECT(\"i\"&N1+2))","v":0},null,null,null,{"$f":"W29-AA29","v":0},null,null,null,{"$f":"IF(S31=\"\",0,VLOOKUP(N1,A4:L103,9,0))","v":0},null,null,null,{"$f":"IF((AE29-AI29)<0,\"رصيد غير كاف\",AE29-AI29)","v":0}]
[27,null,{"$f":"IFERROR(VLOOKUP(D30,Nomenclature!$B$2:$C$196,2,0),\"\")","v":""},null,null,null,null,{"$f":"IF(C30=\"\",0,IF(SUMIFS($G$5:G30,$C$5:C30,C30)-SUMIFS($I$4:I29,$C$4:C29,C30)<0,0,SUMIFS($G$5:G30,$C$5:C30,C30)-SUMIFS($I$4:I29,$C$4:C29,C30)))","v":0},null,{"$f":"IF(C30=\"\",0,IF(C30=$C$4,SUMIFS($I$4:I29,$C$4:C29,C29),SUMIFS($I$4:I29,$C$4:C29,C30)))","v":0},0]
[28,null,{"$f":"IFERROR(VLOOKUP(D31,Nomenclature!$B$2:$C$196,2,0),\"\")","v":""},null,null,null,null,{"$f":"IF(C31=\"\",0,IF(SUMIFS($G$5:G31,$C$5:C31,C31)-SUMIFS($I$4:I30,$C$4:C30,C31)<0,0,SUMIFS($G$5:G31,$C$5:C31,C31)-SUMIFS($I$4:I30,$C$4:C30,C31)))","v":0},null,{"$f":"IF(C31=\"\",0,IF(C31=$C$4,SUMIFS($I$4:I30,$C$4:C30,C30),SUMIFS($I$4:I30,$C$4:C30,C31)))","v":0},0,null,null,null,"الصنف الفرعي",null,null,null,{"$f":"IF(IFERROR(VLOOKUP(N1,A4:L103,3,0),\"انتبه خطأ\")=S29,\"\",IFERROR(VLOOKUP(N1,A4:L103,3,0),\"انتبه خطأ\"))","v":""},null,null,null,{"$f":"IF(S31=\"\",\"\",VLOOKUP(N1,A4:L103,8,0))","v":""},null,null,null,{"$f":"IF(S31=\"\",\"\",VLOOKUP(N1,A4:L103,10,0))","v":""},null,null,null,{"$f":"IF(S31=\"\",\"\",W31-AA31)","v":""},null,null,null,{"$f":"IF(S31=\"\",\"\",VLOOKUP(N1,A4:L103,9,0))","v":""},null,null,null,{"$f":"IF(S31=\"\",\"\",IF((AE31-AI31)<0,\"رصيد غير كاف\",AE31-AI31))","v":""}]
[29,null,{"$f":"IFERROR(VLOOKUP(D32,Nomenclature!$B$2:$C$196,2,0),\"\")","v":""},null,null,null,null,{"$f":"IF(C32=\"\",0,IF(SUMIFS($G$5:G32,$C$5:C32,C32)-SUMIFS($I$4:I31,$C$4:C31,C32)<0,0,SUMIFS($G$5:G32,$C$5:C32,C32)-SUMIFS($I$4:I31,$C$4:C31,C32)))","v":0},null,{"$f":"IF(C32=\"\",0,IF(C32=$C$4,SUMIFS($I$4:I31,$C$4:C31,C31),SUMIFS($I$4:I31,$C$4:C31,C32)))","v":0},0]
[30,null,{"$f":"IFERROR(VLOOKUP(D33,Nomenclature!$B$2:$C$196,2,0),\"\")","v":""},null,null,null,null,{"$f":"IF(C33=\"\",0,IF(SUMIFS($G$5:G33,$C$5:C33,C33)-SUMIFS($I$4:I32,$C$4:C32,C33)<0,0,SUMIFS($G$5:G33,$C$5:C33,C33)-SUMIFS($I$4:I32,$C$4:C32,C33)))","v":0},null,{"$f":"IF(C33=\"\",0,IF(C33=$C$4,SUMIFS($I$4:I32,$C$4:C32,C32),SUMIFS($I$4:I32,$C$4:C32,C33)))","v":0},0]
[31,null,{"$f":"IFERROR(VLOOKUP(D34,Nomenclature!$B$2:$C$196,2,0),\"\")","v":""},null,null,null,null,{"$f":"IF(C34=\"\",0,IF(SUMIFS($G$5:G34,$C$5:C34,C34)-SUMIFS($I$4:I33,$C$4:C33,C34)<0,0,SUMIFS($G$5:G34,$C$5:C34,C34)-SUMIFS($I$4:I33,$C$4:C33,C34)))","v":0},null,{"$f":"IF(C34=\"\",0,IF(C34=$C$4,SUMIFS($I$4:I33,$C$4:C33,C33),SUMIFS($I$4:I33,$C$4:C33,C34)))","v":0},0,null,null,null,"موضوع الالتزام:"]
[32,null,{"$f":"IFERROR(VLOOKUP(D35,Nomenclature!$B$2:$C$196,2,0),\"\")","v":""},null,null,null,null,{"$f":"IF(C35=\"\",0,IF(SUMIFS($G$5:G35,$C$5:C35,C35)-SUMIFS($I$4:I34,$C$4:C34,C35)<0,0,SUMIFS($G$5:G35,$C$5:C35,C35)-SUMIFS($I$4:I34,$C$4:C34,C35)))","v":0},null,{"$f":"IF(C35=\"\",0,IF(C35=$C$4,SUMIFS($I$4:I34,$C$4:C34,C34),SUMIFS($I$4:I34,$C$4:C34,C35)))","v":0},0,null,null,null,{"$f":"IF(VLOOKUP(N1,A4:L203,5,0)=0,\"\",IFERROR(VLOOKUP(N1,A4:L203,5,0),\"انتبه خطأ\"))","v":""}]
[33,null,{"$f":"IFERROR(VLOOKUP(D36,Nomenclature!$B$2:$C$196,2,0),\"\")","v":""},null,null,null,null,{"$f":"IF(C36=\"\",0,IF(SUMIFS($G$5:G36,$C$5:C36,C36)-SUMIFS($I$4:I35,$C$4:C35,C36)<0,0,SUMIFS($G$5:G36,$C$5:C36,C36)-SUMIFS($I$4:I35,$C$4:C35,C36)))","v":0},null,{"$f":"IF(C36=\"\",0,IF(C36=$C$4,SUMIFS($I$4:I35,$C$4:C35,C35),SUMIFS($I$4:I35,$C$4:C35,C36)))","v":0},0]
[34,null,{"$f":"IFERROR(VLOOKUP(D37,Nomenclature!$B$2:$C$196,2,0),\"\")","v":""},null,null,null,null,{"$f":"IF(C37=\"\",0,IF(SUMIFS($G$5:G37,$C$5:C37,C37)-SUMIFS($I$4:I36,$C$4:C36,C37)<0,0,SUMIFS($G$5:G37,$C$5:C37,C37)-SUMIFS($I$4:I36,$C$4:C36,C37)))","v":0},null,{"$f":"IF(C37=\"\",0,IF(C37=$C$4,SUMIFS($I$4:I36,$C$4:C36,C36),SUMIFS($I$4:I36,$C$4:C36,C37)))","v":0},0]
[35,null,{"$f":"IFERROR(VLOOKUP(D38,Nomenclature!$B$2:$C$196,2,0),\"\")","v":""},null,null,null,null,{"$f":"IF(C38=\"\",0,IF(SUMIFS($G$5:G38,$C$5:C38,C38)-SUMIFS($I$4:I37,$C$4:C37,C38)<0,0,SUMIFS($G$5:G38,$C$5:C38,C38)-SUMIFS($I$4:I37,$C$4:C37,C38)))","v":0},null,{"$f":"IF(C38=\"\",0,IF(C38=$C$4,SUMIFS($I$4:I37,$C$4:C37,C37),SUMIFS($I$4:I37,$C$4:C37,C38)))","v":0},0]
[36,null,{"$f":"IFERROR(VLOOKUP(D39,Nomenclature!$B$2:$C$196,2,0),\"\")","v":""},null,null,null,null,{"$f":"IF(C39=\"\",0,IF(SUMIFS($G$5:G39,$C$5:C39,C39)-SUMIFS($I$4:I38,$C$4:C38,C39)<0,0,SUMIFS($G$5:G39,$C$5:C39,C39)-SUMIFS($I$4:I38,$C$4:C38,C39)))","v":0},null,{"$f":"IF(C39=\"\",0,IF(C39=$C$4,SUMIFS($I$4:I38,$C$4:C38,C38),SUMIFS($I$4:I38,$C$4:C38,C39)))","v":0},0]
[37,null,{"$f":"IFERROR(VLOOKUP(D40,Nomenclature!$B$2:$C$196,2,0),\"\")","v":""},null,null,null,null,{"$f":"IF(C40=\"\",0,IF(SUMIFS($G$5:G40,$C$5:C40,C40)-SUMIFS($I$4:I39,$C$4:C39,C40)<0,0,SUMIFS($G$5:G40,$C$5:C40,C40)-SUMIFS($I$4:I39,$C$4:C39,C40)))","v":0},null,{"$f":"IF(C40=\"\",0,IF(C40=$C$4,SUMIFS($I$4:I39,$C$4:C39,C39),SUMIFS($I$4:I39,$C$4:C39,C40)))","v":0},0,null,null,null,"المبلغ بالحروف:",null,null,null,{"$f":"IFERROR(arretera(AI31),\"\")","v":""}]
[38,null,{"$f":"IFERROR(VLOOKUP(D41,Nomenclature!$B$2:$C$196,2,0),\"\")","v":""},null,null,null,null,{"$f":"IF(C41=\"\",0,IF(SUMIFS($G$5:G41,$C$5:C41,C41)-SUMIFS($I$4:I40,$C$4:C40,C41)<0,0,SUMIFS($G$5:G41,$C$5:C41,C41)-SUMIFS($I$4:I40,$C$4:C40,C41)))","v":0},null,{"$f":"IF(C41=\"\",0,IF(C41=$C$4,SUMIFS($I$4:I40,$C$4:C40,C40),SUMIFS($I$4:I40,$C$4:C40,C41)))","v":0},0]
[39,null,{"$f":"IFERROR(VLOOKUP(D42,Nomenclature!$B$2:$C$196,2,0),\"\")","v":""},null,null,null,null,{"$f":"IF(C42=\"\",0,IF(SUMIFS($G$5:G42,$C$5:C42,C42)-SUMIFS($I$4:I41,$C$4:C41,C42)<0,0,SUMIFS($G$5:G42,$C$5:C42,C42)-SUMIFS($I$4:I41,$C$4:C41,C42)))","v":0},null,{"$f":"IF(C42=\"\",0,IF(C42=$C$4,SUMIFS($I$4:I41,$C$4:C41,C41),SUMIFS($I$4:I41,$C$4:C41,C42)))","v":0},0]
[40,null,{"$f":"IFERROR(VLOOKUP(D43,Nomenclature!$B$2:$C$196,2,0),\"\")","v":""},null,null,null,null,{"$f":"IF(C43=\"\",0,IF(SUMIFS($G$5:G43,$C$5:C43,C43)-SUMIFS($I$4:I42,$C$4:C42,C43)<0,0,SUMIFS($G$5:G43,$C$5:C43,C43)-SUMIFS($I$4:I42,$C$4:C42,C43)))","v":0},null,{"$f":"IF(C43=\"\",0,IF(C43=$C$4,SUMIFS($I$4:I42,$C$4:C42,C42),SUMIFS($I$4:I42,$C$4:C42,C43)))","v":0},0,null,null,null,"إطار مخصص للمراقب الميزانياتي",null,null,null,null,null,null,null,null,null,null,null,null,null,"إطار مخصص للآمر بالصرف"]
[41,null,{"$f":"IFERROR(VLOOKUP(D44,Nomenclature!$B$2:$C$196,2,0),\"\")","v":""},null,null,null,null,{"$f":"IF(C44=\"\",0,IF(SUMIFS($G$5:G44,$C$5:C44,C44)-SUMIFS($I$4:I43,$C$4:C43,C44)<0,0,SUMIFS($G$5:G44,$C$5:C44,C44)-SUMIFS($I$4:I43,$C$4:C43,C44)))","v":0},null,{"$f":"IF(C44=\"\",0,IF(C44=$C$4,SUMIFS($I$4:I43,$C$4:C43,C43),SUMIFS($I$4:I43,$C$4:C43,C44)))","v":0},0]
[42,null,{"$f":"IFERROR(VLOOKUP(D45,Nomenclature!$B$2:$C$196,2,0),\"\")","v":""},null,null,null,null,{"$f":"IF(C45=\"\",0,IF(SUMIFS($G$5:G45,$C$5:C45,C45)-SUMIFS($I$4:I44,$C$4:C44,C45)<0,0,SUMIFS($G$5:G45,$C$5:C45,C45)-SUMIFS($I$4:I44,$C$4:C44,C45)))","v":0},null,{"$f":"IF(C45=\"\",0,IF(C45=$C$4,SUMIFS($I$4:I44,$C$4:C44,C44),SUMIFS($I$4:I44,$C$4:C44,C45)))","v":0},0,null,null,null,"رقم التأشيرة:",null,null,null,null,null,null,null,null,null,null,null,null,null,null,"ختم"]
[43,null,{"$f":"IFERROR(VLOOKUP(D46,Nomenclature!$B$2:$C$196,2,0),\"\")","v":""},null,null,null,null,{"$f":"IF(C46=\"\",0,IF(SUMIFS($G$5:G46,$C$5:C46,C46)-SUMIFS($I$4:I45,$C$4:C45,C46)<0,0,SUMIFS($G$5:G46,$C$5:C46,C46)-SUMIFS($I$4:I45,$C$4:C45,C46)))","v":0},null,{"$f":"IF(C46=\"\",0,IF(C46=$C$4,SUMIFS($I$4:I45,$C$4:C45,C45),SUMIFS($I$4:I45,$C$4:C45,C46)))","v":0},0]
[44,null,{"$f":"IFERROR(VLOOKUP(D47,Nomenclature!$B$2:$C$196,2,0),\"\")","v":""},null,null,null,null,{"$f":"IF(C47=\"\",0,IF(SUMIFS($G$5:G47,$C$5:C47,C47)-SUMIFS($I$4:I46,$C$4:C46,C47)<0,0,SUMIFS($G$5:G47,$C$5:C47,C47)-SUMIFS($I$4:I46,$C$4:C46,C47)))","v":0},null,{"$f":"IF(C47=\"\",0,IF(C47=$C$4,SUMIFS($I$4:I46,$C$4:C46,C46),SUMIFS($I$4:I46,$C$4:C46,C47)))","v":0},0,null,null,null,"تاريخ التأشيرة:"]
[45,null,{"$f":"IFERROR(VLOOKUP(D48,Nomenclature!$B$2:$C$196,2,0),\"\")","v":""},null,null,null,null,{"$f":"IF(C48=\"\",0,IF(SUMIFS($G$5:G48,$C$5:C48,C48)-SUMIFS($I$4:I47,$C$4:C47,C48)<0,0,SUMIFS($G$5:G48,$C$5:C48,C48)-SUMIFS($I$4:I47,$C$4:C47,C48)))","v":0},null,{"$f":"IF(C48=\"\",0,IF(C48=$C$4,SUMIFS($I$4:I47,$C$4:C47,C47),SUMIFS($I$4:I47,$C$4:C47,C48)))","v":0},0,null,null,null,null,null,null,null,null,null,null,null,null,null,null,null,null,null,null,"امضاء"]
[46,null,{"$f":"IFERROR(VLOOKUP(D49,Nomenclature!$B$2:$C$196,2,0),\"\")","v":""},null,null,null,null,{"$f":"IF(C49=\"\",0,IF(SUMIFS($G$5:G49,$C$5:C49,C49)-SUMIFS($I$4:I48,$C$4:C48,C49)<0,0,SUMIFS($G$5:G49,$C$5:C49,C49)-SUMIFS($I$4:I48,$C$4:C48,C49)))","v":0},null,{"$f":"IF(C49=\"\",0,IF(C49=$C$4,SUMIFS($I$4:I48,$C$4:C48,C48),SUMIFS($I$4:I48,$C$4:C48,C49)))","v":0},0]
[47,null,{"$f":"IFERROR(VLOOKUP(D50,Nomenclature!$B$2:$C$196,2,0),\"\")","v":""},null,null,null,null,{"$f":"IF(C50=\"\",0,IF(SUMIFS($G$5:G50,$C$5:C50,C50)-SUMIFS($I$4:I49,$C$4:C49,C50)<0,0,SUMIFS($G$5:G50,$C$5:C50,C50)-SUMIFS($I$4:I49,$C$4:C49,C50)))","v":0},null,{"$f":"IF(C50=\"\",0,IF(C50=$C$4,SUMIFS($I$4:I49,$C$4:C49,C49),SUMIFS($I$4:I49,$C$4:C49,C50)))","v":0},0]
[48,null,{"$f":"IFERROR(VLOOKUP(D51,Nomenclature!$B$2:$C$196,2,0),\"\")","v":""},null,null,null,null,{"$f":"IF(C51=\"\",0,IF(SUMIFS($G$5:G51,$C$5:C51,C51)-SUMIFS($I$4:I50,$C$4:C50,C51)<0,0,SUMIFS($G$5:G51,$C$5:C51,C51)-SUMIFS($I$4:I50,$C$4:C50,C51)))","v":0},null,{"$f":"IF(C51=\"\",0,IF(C51=$C$4,SUMIFS($I$4:I50,$C$4:C50,C50),SUMIFS($I$4:I50,$C$4:C50,C51)))","v":0},0,null,null,null,null,{"$f":"AD48","v":"امضاء"},null,null,null,null,null,null,null,{"$f":"AD45","v":"ختم"}]
[49,null,{"$f":"IFERROR(VLOOKUP(D52,Nomenclature!$B$2:$C$196,2,0),\"\")","v":""},null,null,null,null,{"$f":"IF(C52=\"\",0,IF(SUMIFS($G$5:G52,$C$5:C52,C52)-SUMIFS($I$4:I51,$C$4:C51,C52)<0,0,SUMIFS($G$5:G52,$C$5:C52,C52)-SUMIFS($I$4:I51,$C$4:C51,C52)))","v":0},null,{"$f":"IF(C52=\"\",0,IF(C52=$C$4,SUMIFS($I$4:I51,$C$4:C51,C51),SUMIFS($I$4:I51,$C$4:C51,C52)))","v":0},0]
[50,null,{"$f":"IFERROR(VLOOKUP(D53,Nomenclature!$B$2:$C$196,2,0),\"\")","v":""},null,null,null,null,{"$f":"IF(C53=\"\",0,IF(SUMIFS($G$5:G53,$C$5:C53,C53)-SUMIFS($I$4:I52,$C$4:C52,C53)<0,0,SUMIFS($G$5:G53,$C$5:C53,C53)-SUMIFS($I$4:I52,$C$4:C52,C53)))","v":0},null,{"$f":"IF(C53=\"\",0,IF(C53=$C$4,SUMIFS($I$4:I52,$C$4:C52,C52),SUMIFS($I$4:I52,$C$4:C52,C53)))","v":0},0]
[51,null,{"$f":"IFERROR(VLOOKUP(D54,Nomenclature!$B$2:$C$196,2,0),\"\")","v":""},null,null,null,null,{"$f":"IF(C54=\"\",0,IF(SUMIFS($G$5:G54,$C$5:C54,C54)-SUMIFS($I$4:I53,$C$4:C53,C54)<0,0,SUMIFS($G$5:G54,$C$5:C54,C54)-SUMIFS($I$4:I53,$C$4:C53,C54)))","v":0},null,{"$f":"IF(C54=\"\",0,IF(C54=$C$4,SUMIFS($I$4:I53,$C$4:C53,C53),SUMIFS($I$4:I53,$C$4:C53,C54)))","v":0},0]
[52,null,{"$f":"IFERROR(VLOOKUP(D55,Nomenclature!$B$2:$C$196,2,0),\"\")","v":""},null,null,null,null,{"$f":"IF(C55=\"\",0,IF(SUMIFS($G$5:G55,$C$5:C55,C55)-SUMIFS($I$4:I54,$C$4:C54,C55)<0,0,SUMIFS($G$5:G55,$C$5:C55,C55)-SUMIFS($I$4:I54,$C$4:C54,C55)))","v":0},null,{"$f":"IF(C55=\"\",0,IF(C55=$C$4,SUMIFS($I$4:I54,$C$4:C54,C54),SUMIFS($I$4:I54,$C$4:C54,C55)))","v":0},0]
[53,null,{"$f":"IFERROR(VLOOKUP(D56,Nomenclature!$B$2:$C$196,2,0),\"\")","v":""},null,null,null,null,{"$f":"IF(C56=\"\",0,IF(SUMIFS($G$5:G56,$C$5:C56,C56)-SUMIFS($I$4:I55,$C$4:C55,C56)<0,0,SUMIFS($G$5:G56,$C$5:C56,C56)-SUMIFS($I$4:I55,$C$4:C55,C56)))","v":0},null,{"$f":"IF(C56=\"\",0,IF(C56=$C$4,SUMIFS($I$4:I55,$C$4:C55,C55),SUMIFS($I$4:I55,$C$4:C55,C56)))","v":0},0]
[54,null,{"$f":"IFERROR(VLOOKUP(D57,Nomenclature!$B$2:$C$196,2,0),\"\")","v":""},null,null,null,null,{"$f":"IF(C57=\"\",0,IF(SUMIFS($G$5:G57,$C$5:C57,C57)-SUMIFS($I$4:I56,$C$4:C56,C57)<0,0,SUMIFS($G$5:G57,$C$5:C57,C57)-SUMIFS($I$4:I56,$C$4:C56,C57)))","v":0},null,{"$f":"IF(C57=\"\",0,IF(C57=$C$4,SUMIFS($I$4:I56,$C$4:C56,C56),SUMIFS($I$4:I56,$C$4:C56,C57)))","v":0},0]
[55,null,{"$f":"IFERROR(VLOOKUP(D58,Nomenclature!$B$2:$C$196,2,0),\"\")","v":""},null,null,null,null,{"$f":"IF(C58=\"\",0,IF(SUMIFS($G$5:G58,$C$5:C58,C58)-SUMIFS($I$4:I57,$C$4:C57,C58)<0,0,SUMIFS($G$5:G58,$C$5:C58,C58)-SUMIFS($I$4:I57,$C$4:C57,C58)))","v":0},null,{"$f":"IF(C58=\"\",0,IF(C58=$C$4,SUMIFS($I$4:I57,$C$4:C57,C57),SUMIFS($I$4:I57,$C$4:C57,C58)))","v":0},0]
[56,null,{"$f":"IFERROR(VLOOKUP(D59,Nomenclature!$B$2:$C$196,2,0),\"\")","v":""},null,null,null,null,{"$f":"IF(C59=\"\",0,IF(SUMIFS($G$5:G59,$C$5:C59,C59)-SUMIFS($I$4:I58,$C$4:C58,C59)<0,0,SUMIFS($G$5:G59,$C$5:C59,C59)-SUMIFS($I$4:I58,$C$4:C58,C59)))","v":0},null,{"$f":"IF(C59=\"\",0,IF(C59=$C$4,SUMIFS($I$4:I58,$C$4:C58,C58),SUMIFS($I$4:I58,$C$4:C58,C59)))","v":0},0]
[57,null,{"$f":"IFERROR(VLOOKUP(D60,Nomenclature!$B$2:$C$196,2,0),\"\")","v":""},null,null,null,null,{"$f":"IF(C60=\"\",0,IF(SUMIFS($G$5:G60,$C$5:C60,C60)-SUMIFS($I$4:I59,$C$4:C59,C60)<0,0,SUMIFS($G$5:G60,$C$5:C60,C60)-SUMIFS($I$4:I59,$C$4:C59,C60)))","v":0},null,{"$f":"IF(C60=\"\",0,IF(C60=$C$4,SUMIFS($I$4:I59,$C$4:C59,C59),SUMIFS($I$4:I59,$C$4:C59,C60)))","v":0},0]
[58,null,{"$f":"IFERROR(VLOOKUP(D61,Nomenclature!$B$2:$C$196,2,0),\"\")","v":""},null,null,null,null,{"$f":"IF(C61=\"\",0,IF(SUMIFS($G$5:G61,$C$5:C61,C61)-SUMIFS($I$4:I60,$C$4:C60,C61)<0,0,SUMIFS($G$5:G61,$C$5:C61,C61)-SUMIFS($I$4:I60,$C$4:C60,C61)))","v":0},null,{"$f":"IF(C61=\"\",0,IF(C61=$C$4,SUMIFS($I$4:I60,$C$4:C60,C60),SUMIFS($I$4:I60,$C$4:C60,C61)))","v":0},0]
[59,null,{"$f":"IFERROR(VLOOKUP(D62,Nomenclature!$B$2:$C$196,2,0),\"\")","v":""},null,null,null,null,{"$f":"IF(C62=\"\",0,IF(SUMIFS($G$5:G62,$C$5:C62,C62)-SUMIFS($I$4:I61,$C$4:C61,C62)<0,0,SUMIFS($G$5:G62,$C$5:C62,C62)-SUMIFS($I$4:I61,$C$4:C61,C62)))","v":0},null,{"$f":"IF(C62=\"\",0,IF(C62=$C$4,SUMIFS($I$4:I61,$C$4:C61,C61),SUMIFS($I$4:I61,$C$4:C61,C62)))","v":0},0]
[60,null,{"$f":"IFERROR(VLOOKUP(D63,Nomenclature!$B$2:$C$196,2,0),\"\")","v":""},null,null,null,null,{"$f":"IF(C63=\"\",0,IF(SUMIFS($G$5:G63,$C$5:C63,C63)-SUMIFS($I$4:I62,$C$4:C62,C63)<0,0,SUMIFS($G$5:G63,$C$5:C63,C63)-SUMIFS($I$4:I62,$C$4:C62,C63)))","v":0},null,{"$f":"IF(C63=\"\",0,IF(C63=$C$4,SUMIFS($I$4:I62,$C$4:C62,C62),SUMIFS($I$4:I62,$C$4:C62,C63)))","v":0},0]
[61,null,{"$f":"IFERROR(VLOOKUP(D64,Nomenclature!$B$2:$C$196,2,0),\"\")","v":""},null,null,null,null,{"$f":"IF(C64=\"\",0,IF(SUMIFS($G$5:G64,$C$5:C64,C64)-SUMIFS($I$4:I63,$C$4:C63,C64)<0,0,SUMIFS($G$5:G64,$C$5:C64,C64)-SUMIFS($I$4:I63,$C$4:C63,C64)))","v":0},null,{"$f":"IF(C64=\"\",0,IF(C64=$C$4,SUMIFS($I$4:I63,$C$4:C63,C63),SUMIFS($I$4:I63,$C$4:C63,C64)))","v":0},0]
[62,null,{"$f":"IFERROR(VLOOKUP(D65,Nomenclature!$B$2:$C$196,2,0),\"\")","v":""},null,null,null,null,{"$f":"IF(C65=\"\",0,IF(SUMIFS($G$5:G65,$C$5:C65,C65)-SUMIFS($I$4:I64,$C$4:C64,C65)<0,0,SUMIFS($G$5:G65,$C$5:C65,C65)-SUMIFS($I$4:I64,$C$4:C64,C65)))","v":0},null,{"$f":"IF(C65=\"\",0,IF(C65=$C$4,SUMIFS($I$4:I64,$C$4:C64,C64),SUMIFS($I$4:I64,$C$4:C64,C65)))","v":0},0]
[63,null,{"$f":"IFERROR(VLOOKUP(D66,Nomenclature!$B$2:$C$196,2,0),\"\")","v":""},null,null,null,null,{"$f":"IF(C66=\"\",0,IF(SUMIFS($G$5:G66,$C$5:C66,C66)-SUMIFS($I$4:I65,$C$4:C65,C66)<0,0,SUMIFS($G$5:G66,$C$5:C66,C66)-SUMIFS($I$4:I65,$C$4:C65,C66)))","v":0},null,{"$f":"IF(C66=\"\",0,IF(C66=$C$4,SUMIFS($I$4:I65,$C$4:C65,C65),SUMIFS($I$4:I65,$C$4:C65,C66)))","v":0},0]
[64,null,{"$f":"IFERROR(VLOOKUP(D67,Nomenclature!$B$2:$C$196,2,0),\"\")","v":""},null,null,null,null,{"$f":"IF(C67=\"\",0,IF(SUMIFS($G$5:G67,$C$5:C67,C67)-SUMIFS($I$4:I66,$C$4:C66,C67)<0,0,SUMIFS($G$5:G67,$C$5:C67,C67)-SUMIFS($I$4:I66,$C$4:C66,C67)))","v":0},null,{"$f":"IF(C67=\"\",0,IF(C67=$C$4,SUMIFS($I$4:I66,$C$4:C66,C66),SUMIFS($I$4:I66,$C$4:C66,C67)))","v":0},0]
[65,null,{"$f":"IFERROR(VLOOKUP(D68,Nomenclature!$B$2:$C$196,2,0),\"\")","v":""},null,null,null,null,{"$f":"IF(C68=\"\",0,IF(SUMIFS($G$5:G68,$C$5:C68,C68)-SUMIFS($I$4:I67,$C$4:C67,C68)<0,0,SUMIFS($G$5:G68,$C$5:C68,C68)-SUMIFS($I$4:I67,$C$4:C67,C68)))","v":0},null,{"$f":"IF(C68=\"\",0,IF(C68=$C$4,SUMIFS($I$4:I67,$C$4:C67,C67),SUMIFS($I$4:I67,$C$4:C67,C68)))","v":0},{"$f":"IF(C68=\"\",0,H68-I68)","v":0}]
[66,null,{"$f":"IFERROR(VLOOKUP(D69,Nomenclature!$B$2:$C$196,2,0),\"\")","v":""},null,null,null,null,{"$f":"IF(C69=\"\",0,IF(SUMIFS($G$5:G69,$C$5:C69,C69)-SUMIFS($I$4:I68,$C$4:C68,C69)<0,0,SUMIFS($G$5:G69,$C$5:C69,C69)-SUMIFS($I$4:I68,$C$4:C68,C69)))","v":0},null,{"$f":"IF(C69=\"\",0,IF(C69=$C$4,SUMIFS($I$4:I68,$C$4:C68,C68),SUMIFS($I$4:I68,$C$4:C68,C69)))","v":0},0]
[67,null,{"$f":"IFERROR(VLOOKUP(D70,Nomenclature!$B$2:$C$196,2,0),\"\")","v":""},null,null,null,null,{"$f":"IF(C70=\"\",0,IF(SUMIFS($G$5:G70,$C$5:C70,C70)-SUMIFS($I$4:I69,$C$4:C69,C70)<0,0,SUMIFS($G$5:G70,$C$5:C70,C70)-SUMIFS($I$4:I69,$C$4:C69,C70)))","v":0},null,{"$f":"IF(C70=\"\",0,IF(C70=$C$4,SUMIFS($I$4:I69,$C$4:C69,C69),SUMIFS($I$4:I69,$C$4:C69,C70)))","v":0},0]
[68,null,{"$f":"IFERROR(VLOOKUP(D71,Nomenclature!$B$2:$C$196,2,0),\"\")","v":""},null,null,null,null,{"$f":"IF(C71=\"\",0,IF(SUMIFS($G$5:G71,$C$5:C71,C71)-SUMIFS($I$4:I70,$C$4:C70,C71)<0,0,SUMIFS($G$5:G71,$C$5:C71,C71)-SUMIFS($I$4:I70,$C$4:C70,C71)))","v":0},null,{"$f":"IF(C71=\"\",0,IF(C71=$C$4,SUMIFS($I$4:I70,$C$4:C70,C70),SUMIFS($I$4:I70,$C$4:C70,C71)))","v":0},0]
[69,null,{"$f":"IFERROR(VLOOKUP(D72,Nomenclature!$B$2:$C$196,2,0),\"\")","v":""},null,null,null,null,{"$f":"IF(C72=\"\",0,IF(SUMIFS($G$5:G72,$C$5:C72,C72)-SUMIFS($I$4:I71,$C$4:C71,C72)<0,0,SUMIFS($G$5:G72,$C$5:C72,C72)-SUMIFS($I$4:I71,$C$4:C71,C72)))","v":0},null,{"$f":"IF(C72=\"\",0,IF(C72=$C$4,SUMIFS($I$4:I71,$C$4:C71,C71),SUMIFS($I$4:I71,$C$4:C71,C72)))","v":0},0]
[70,null,{"$f":"IFERROR(VLOOKUP(D73,Nomenclature!$B$2:$C$196,2,0),\"\")","v":""},null,null,null,null,{"$f":"IF(C73=\"\",0,IF(SUMIFS($G$5:G73,$C$5:C73,C73)-SUMIFS($I$4:I72,$C$4:C72,C73)<0,0,SUMIFS($G$5:G73,$C$5:C73,C73)-SUMIFS($I$4:I72,$C$4:C72,C73)))","v":0},null,{"$f":"IF(C73=\"\",0,IF(C73=$C$4,SUMIFS($I$4:I72,$C$4:C72,C72),SUMIFS($I$4:I72,$C$4:C72,C73)))","v":0},0]
[71,null,{"$f":"IFERROR(VLOOKUP(D74,Nomenclature!$B$2:$C$196,2,0),\"\")","v":""},null,null,null,null,{"$f":"IF(C74=\"\",0,IF(SUMIFS($G$5:G74,$C$5:C74,C74)-SUMIFS($I$4:I73,$C$4:C73,C74)<0,0,SUMIFS($G$5:G74,$C$5:C74,C74)-SUMIFS($I$4:I73,$C$4:C73,C74)))","v":0},null,{"$f":"IF(C74=\"\",0,IF(C74=$C$4,SUMIFS($I$4:I73,$C$4:C73,C73),SUMIFS($I$4:I73,$C$4:C73,C74)))","v":0},0]
[72,null,{"$f":"IFERROR(VLOOKUP(D75,Nomenclature!$B$2:$C$196,2,0),\"\")","v":""},null,null,null,null,{"$f":"IF(C75=\"\",0,IF(SUMIFS($G$5:G75,$C$5:C75,C75)-SUMIFS($I$4:I74,$C$4:C74,C75)<0,0,SUMIFS($G$5:G75,$C$5:C75,C75)-SUMIFS($I$4:I74,$C$4:C74,C75)))","v":0},null,{"$f":"IF(C75=\"\",0,IF(C75=$C$4,SUMIFS($I$4:I74,$C$4:C74,C74),SUMIFS($I$4:I74,$C$4:C74,C75)))","v":0},0]
[73,null,{"$f":"IFERROR(VLOOKUP(D76,Nomenclature!$B$2:$C$196,2,0),\"\")","v":""},null,null,null,null,{"$f":"IF(C76=\"\",0,IF(SUMIFS($G$5:G76,$C$5:C76,C76)-SUMIFS($I$4:I75,$C$4:C75,C76)<0,0,SUMIFS($G$5:G76,$C$5:C76,C76)-SUMIFS($I$4:I75,$C$4:C75,C76)))","v":0},null,{"$f":"IF(C76=\"\",0,IF(C76=$C$4,SUMIFS($I$4:I75,$C$4:C75,C75),SUMIFS($I$4:I75,$C$4:C75,C76)))","v":0},0]
[74,null,{"$f":"IFERROR(VLOOKUP(D77,Nomenclature!$B$2:$C$196,2,0),\"\")","v":""},null,null,null,null,{"$f":"IF(C77=\"\",0,IF(SUMIFS($G$5:G77,$C$5:C77,C77)-SUMIFS($I$4:I76,$C$4:C76,C77)<0,0,SUMIFS($G$5:G77,$C$5:C77,C77)-SUMIFS($I$4:I76,$C$4:C76,C77)))","v":0},null,{"$f":"IF(C77=\"\",0,IF(C77=$C$4,SUMIFS($I$4:I76,$C$4:C76,C76),SUMIFS($I$4:I76,$C$4:C76,C77)))","v":0},0]
[75,null,{"$f":"IFERROR(VLOOKUP(D78,Nomenclature!$B$2:$C$196,2,0),\"\")","v":""},null,null,null,null,{"$f":"IF(C78=\"\",0,IF(SUMIFS($G$5:G78,$C$5:C78,C78)-SUMIFS($I$4:I77,$C$4:C77,C78)<0,0,SUMIFS($G$5:G78,$C$5:C78,C78)-SUMIFS($I$4:I77,$C$4:C77,C78)))","v":0},null,{"$f":"IF(C78=\"\",0,IF(C78=$C$4,SUMIFS($I$4:I77,$C$4:C77,C77),SUMIFS($I$4:I77,$C$4:C77,C78)))","v":0},0]
[76,null,{"$f":"IFERROR(VLOOKUP(D79,Nomenclature!$B$2:$C$196,2,0),\"\")","v":""},null,null,null,null,{"$f":"IF(C79=\"\",0,IF(SUMIFS($G$5:G79,$C$5:C79,C79)-SUMIFS($I$4:I78,$C$4:C78,C79)<0,0,SUMIFS($G$5:G79,$C$5:C79,C79)-SUMIFS($I$4:I78,$C$4:C78,C79)))","v":0},null,{"$f":"IF(C79=\"\",0,IF(C79=$C$4,SUMIFS($I$4:I78,$C$4:C78,C78),SUMIFS($I$4:I78,$C$4:C78,C79)))","v":0},0]
[77,null,{"$f":"IFERROR(VLOOKUP(D80,Nomenclature!$B$2:$C$196,2,0),\"\")","v":""},null,null,null,null,{"$f":"IF(C80=\"\",0,IF(SUMIFS($G$5:G80,$C$5:C80,C80)-SUMIFS($I$4:I79,$C$4:C79,C80)<0,0,SUMIFS($G$5:G80,$C$5:C80,C80)-SUMIFS($I$4:I79,$C$4:C79,C80)))","v":0},null,{"$f":"IF(C80=\"\",0,IF(C80=$C$4,SUMIFS($I$4:I79,$C$4:C79,C79),SUMIFS($I$4:I79,$C$4:C79,C80)))","v":0},0]
[78,null,{"$f":"IFERROR(VLOOKUP(D81,Nomenclature!$B$2:$C$196,2,0),\"\")","v":""},null,null,null,null,{"$f":"IF(C81=\"\",0,IF(SUMIFS($G$5:G81,$C$5:C81,C81)-SUMIFS($I$4:I80,$C$4:C80,C81)<0,0,SUMIFS($G$5:G81,$C$5:C81,C81)-SUMIFS($I$4:I80,$C$4:C80,C81)))","v":0},null,{"$f":"IF(C81=\"\",0,IF(C81=$C$4,SUMIFS($I$4:I80,$C$4:C80,C80),SUMIFS($I$4:I80,$C$4:C80,C81)))","v":0},0]
[79,null,{"$f":"IFERROR(VLOOKUP(D82,Nomenclature!$B$2:$C$196,2,0),\"\")","v":""},null,null,null,null,{"$f":"IF(C82=\"\",0,IF(SUMIFS($G$5:G82,$C$5:C82,C82)-SUMIFS($I$4:I81,$C$4:C81,C82)<0,0,SUMIFS($G$5:G82,$C$5:C82,C82)-SUMIFS($I$4:I81,$C$4:C81,C82)))","v":0},null,{"$f":"IF(C82=\"\",0,IF(C82=$C$4,SUMIFS($I$4:I81,$C$4:C81,C81),SUMIFS($I$4:I81,$C$4:C81,C82)))","v":0},0]
[80,null,{"$f":"IFERROR(VLOOKUP(D83,Nomenclature!$B$2:$C$196,2,0),\"\")","v":""},null,null,null,null,{"$f":"IF(C83=\"\",0,IF(SUMIFS($G$5:G83,$C$5:C83,C83)-SUMIFS($I$4:I82,$C$4:C82,C83)<0,0,SUMIFS($G$5:G83,$C$5:C83,C83)-SUMIFS($I$4:I82,$C$4:C82,C83)))","v":0},null,{"$f":"IF(C83=\"\",0,IF(C83=$C$4,SUMIFS($I$4:I82,$C$4:C82,C82),SUMIFS($I$4:I82,$C$4:C82,C83)))","v":0},0]
[81,null,{"$f":"IFERROR(VLOOKUP(D84,Nomenclature!$B$2:$C$196,2,0),\"\")","v":""},null,null,null,null,{"$f":"IF(C84=\"\",0,IF(SUMIFS($G$5:G84,$C$5:C84,C84)-SUMIFS($I$4:I83,$C$4:C83,C84)<0,0,SUMIFS($G$5:G84,$C$5:C84,C84)-SUMIFS($I$4:I83,$C$4:C83,C84)))","v":0},null,{"$f":"IF(C84=\"\",0,IF(C84=$C$4,SUMIFS($I$4:I83,$C$4:C83,C83),SUMIFS($I$4:I83,$C$4:C83,C84)))","v":0},0]
[82,null,{"$f":"IFERROR(VLOOKUP(D85,Nomenclature!$B$2:$C$196,2,0),\"\")","v":""},null,null,null,null,{"$f":"IF(C85=\"\",0,IF(SUMIFS($G$5:G85,$C$5:C85,C85)-SUMIFS($I$4:I84,$C$4:C84,C85)<0,0,SUMIFS($G$5:G85,$C$5:C85,C85)-SUMIFS($I$4:I84,$C$4:C84,C85)))","v":0},null,{"$f":"IF(C85=\"\",0,IF(C85=$C$4,SUMIFS($I$4:I84,$C$4:C84,C84),SUMIFS($I$4:I84,$C$4:C84,C85)))","v":0},0]
[83,null,{"$f":"IFERROR(VLOOKUP(D86,Nomenclature!$B$2:$C$196,2,0),\"\")","v":""},null,null,null,null,{"$f":"IF(C86=\"\",0,IF(SUMIFS($G$5:G86,$C$5:C86,C86)-SUMIFS($I$4:I85,$C$4:C85,C86)<0,0,SUMIFS($G$5:G86,$C$5:C86,C86)-SUMIFS($I$4:I85,$C$4:C85,C86)))","v":0},null,{"$f":"IF(C86=\"\",0,IF(C86=$C$4,SUMIFS($I$4:I85,$C$4:C85,C85),SUMIFS($I$4:I85,$C$4:C85,C86)))","v":0},0]
[84,null,{"$f":"IFERROR(VLOOKUP(D87,Nomenclature!$B$2:$C$196,2,0),\"\")","v":""},null,null,null,null,{"$f":"IF(C87=\"\",0,IF(SUMIFS($G$5:G87,$C$5:C87,C87)-SUMIFS($I$4:I86,$C$4:C86,C87)<0,0,SUMIFS($G$5:G87,$C$5:C87,C87)-SUMIFS($I$4:I86,$C$4:C86,C87)))","v":0},null,{"$f":"IF(C87=\"\",0,IF(C87=$C$4,SUMIFS($I$4:I86,$C$4:C86,C86),SUMIFS($I$4:I86,$C$4:C86,C87)))","v":0},0]
[85,null,{"$f":"IFERROR(VLOOKUP(D88,Nomenclature!$B$2:$C$196,2,0),\"\")","v":""},null,null,null,null,{"$f":"IF(C88=\"\",0,IF(SUMIFS($G$5:G88,$C$5:C88,C88)-SUMIFS($I$4:I87,$C$4:C87,C88)<0,0,SUMIFS($G$5:G88,$C$5:C88,C88)-SUMIFS($I$4:I87,$C$4:C87,C88)))","v":0},null,{"$f":"IF(C88=\"\",0,IF(C88=$C$4,SUMIFS($I$4:I87,$C$4:C87,C87),SUMIFS($I$4:I87,$C$4:C87,C88)))","v":0},0]
[86,null,{"$f":"IFERROR(VLOOKUP(D89,Nomenclature!$B$2:$C$196,2,0),\"\")","v":""},null,null,null,null,{"$f":"IF(C89=\"\",0,IF(SUMIFS($G$5:G89,$C$5:C89,C89)-SUMIFS($I$4:I88,$C$4:C88,C89)<0,0,SUMIFS($G$5:G89,$C$5:C89,C89)-SUMIFS($I$4:I88,$C$4:C88,C89)))","v":0},null,{"$f":"IF(C89=\"\",0,IF(C89=$C$4,SUMIFS($I$4:I88,$C$4:C88,C88),SUMIFS($I$4:I88,$C$4:C88,C89)))","v":0},0]
[87,null,{"$f":"IFERROR(VLOOKUP(D90,Nomenclature!$B$2:$C$196,2,0),\"\")","v":""},null,null,null,null,{"$f":"IF(C90=\"\",0,IF(SUMIFS($G$5:G90,$C$5:C90,C90)-SUMIFS($I$4:I89,$C$4:C89,C90)<0,0,SUMIFS($G$5:G90,$C$5:C90,C90)-SUMIFS($I$4:I89,$C$4:C89,C90)))","v":0},null,{"$f":"IF(C90=\"\",0,IF(C90=$C$4,SUMIFS($I$4:I89,$C$4:C89,C89),SUMIFS($I$4:I89,$C$4:C89,C90)))","v":0},0]
[88,null,{"$f":"IFERROR(VLOOKUP(D91,Nomenclature!$B$2:$C$196,2,0),\"\")","v":""},null,null,null,null,{"$f":"IF(C91=\"\",0,IF(SUMIFS($G$5:G91,$C$5:C91,C91)-SUMIFS($I$4:I90,$C$4:C90,C91)<0,0,SUMIFS($G$5:G91,$C$5:C91,C91)-SUMIFS($I$4:I90,$C$4:C90,C91)))","v":0},null,{"$f":"IF(C91=\"\",0,IF(C91=$C$4,SUMIFS($I$4:I90,$C$4:C90,C90),SUMIFS($I$4:I90,$C$4:C90,C91)))","v":0},0]
[89,null,{"$f":"IFERROR(VLOOKUP(D92,Nomenclature!$B$2:$C$196,2,0),\"\")","v":""},null,null,null,null,{"$f":"IF(C92=\"\",0,IF(SUMIFS($G$5:G92,$C$5:C92,C92)-SUMIFS($I$4:I91,$C$4:C91,C92)<0,0,SUMIFS($G$5:G92,$C$5:C92,C92)-SUMIFS($I$4:I91,$C$4:C91,C92)))","v":0},null,{"$f":"IF(C92=\"\",0,IF(C92=$C$4,SUMIFS($I$4:I91,$C$4:C91,C91),SUMIFS($I$4:I91,$C$4:C91,C92)))","v":0},0]
[90,null,{"$f":"IFERROR(VLOOKUP(D93,Nomenclature!$B$2:$C$196,2,0),\"\")","v":""},null,null,null,null,{"$f":"IF(C93=\"\",0,IF(SUMIFS($G$5:G93,$C$5:C93,C93)-SUMIFS($I$4:I92,$C$4:C92,C93)<0,0,SUMIFS($G$5:G93,$C$5:C93,C93)-SUMIFS($I$4:I92,$C$4:C92,C93)))","v":0},null,{"$f":"IF(C93=\"\",0,IF(C93=$C$4,SUMIFS($I$4:I92,$C$4:C92,C92),SUMIFS($I$4:I92,$C$4:C92,C93)))","v":0},0]
[91,null,{"$f":"IFERROR(VLOOKUP(D94,Nomenclature!$B$2:$C$196,2,0),\"\")","v":""},null,null,null,null,{"$f":"IF(C94=\"\",0,IF(SUMIFS($G$5:G94,$C$5:C94,C94)-SUMIFS($I$4:I93,$C$4:C93,C94)<0,0,SUMIFS($G$5:G94,$C$5:C94,C94)-SUMIFS($I$4:I93,$C$4:C93,C94)))","v":0},null,{"$f":"IF(C94=\"\",0,IF(C94=$C$4,SUMIFS($I$4:I93,$C$4:C93,C93),SUMIFS($I$4:I93,$C$4:C93,C94)))","v":0},0]
[92,null,{"$f":"IFERROR(VLOOKUP(D95,Nomenclature!$B$2:$C$196,2,0),\"\")","v":""},null,null,null,null,{"$f":"IF(C95=\"\",0,IF(SUMIFS($G$5:G95,$C$5:C95,C95)-SUMIFS($I$4:I94,$C$4:C94,C95)<0,0,SUMIFS($G$5:G95,$C$5:C95,C95)-SUMIFS($I$4:I94,$C$4:C94,C95)))","v":0},null,{"$f":"IF(C95=\"\",0,IF(C95=$C$4,SUMIFS($I$4:I94,$C$4:C94,C94),SUMIFS($I$4:I94,$C$4:C94,C95)))","v":0},0]
[93,null,{"$f":"IFERROR(VLOOKUP(D96,Nomenclature!$B$2:$C$196,2,0),\"\")","v":""},null,null,null,null,{"$f":"IF(C96=\"\",0,IF(SUMIFS($G$5:G96,$C$5:C96,C96)-SUMIFS($I$4:I95,$C$4:C95,C96)<0,0,SUMIFS($G$5:G96,$C$5:C96,C96)-SUMIFS($I$4:I95,$C$4:C95,C96)))","v":0},null,{"$f":"IF(C96=\"\",0,IF(C96=$C$4,SUMIFS($I$4:I95,$C$4:C95,C95),SUMIFS($I$4:I95,$C$4:C95,C96)))","v":0},0]
[94,null,{"$f":"IFERROR(VLOOKUP(D97,Nomenclature!$B$2:$C$196,2,0),\"\")","v":""},null,null,null,null,{"$f":"IF(C97=\"\",0,IF(SUMIFS($G$5:G97,$C$5:C97,C97)-SUMIFS($I$4:I96,$C$4:C96,C97)<0,0,SUMIFS($G$5:G97,$C$5:C97,C97)-SUMIFS($I$4:I96,$C$4:C96,C97)))","v":0},null,{"$f":"IF(C97=\"\",0,IF(C97=$C$4,SUMIFS($I$4:I96,$C$4:C96,C96),SUMIFS($I$4:I96,$C$4:C96,C97)))","v":0},0]
[95,null,{"$f":"IFERROR(VLOOKUP(D98,Nomenclature!$B$2:$C$196,2,0),\"\")","v":""},null,null,null,null,{"$f":"IF(C98=\"\",0,IF(SUMIFS($G$5:G98,$C$5:C98,C98)-SUMIFS($I$4:I97,$C$4:C97,C98)<0,0,SUMIFS($G$5:G98,$C$5:C98,C98)-SUMIFS($I$4:I97,$C$4:C97,C98)))","v":0},null,{"$f":"IF(C98=\"\",0,IF(C98=$C$4,SUMIFS($I$4:I97,$C$4:C97,C97),SUMIFS($I$4:I97,$C$4:C97,C98)))","v":0},0]
[96,null,{"$f":"IFERROR(VLOOKUP(D99,Nomenclature!$B$2:$C$196,2,0),\"\")","v":""},null,null,null,null,{"$f":"IF(C99=\"\",0,IF(SUMIFS($G$5:G99,$C$5:C99,C99)-SUMIFS($I$4:I98,$C$4:C98,C99)<0,0,SUMIFS($G$5:G99,$C$5:C99,C99)-SUMIFS($I$4:I98,$C$4:C98,C99)))","v":0},null,{"$f":"IF(C99=\"\",0,IF(C99=$C$4,SUMIFS($I$4:I98,$C$4:C98,C98),SUMIFS($I$4:I98,$C$4:C98,C99)))","v":0},0]
[97,null,{"$f":"IFERROR(VLOOKUP(D100,Nomenclature!$B$2:$C$196,2,0),\"\")","v":""},null,null,null,null,{"$f":"IF(C100=\"\",0,IF(SUMIFS($G$5:G100,$C$5:C100,C100)-SUMIFS($I$4:I99,$C$4:C99,C100)<0,0,SUMIFS($G$5:G100,$C$5:C100,C100)-SUMIFS($I$4:I99,$C$4:C99,C100)))","v":0},null,{"$f":"IF(C100=\"\",0,IF(C100=$C$4,SUMIFS($I$4:I99,$C$4:C99,C99),SUMIFS($I$4:I99,$C$4:C99,C100)))","v":0},0]
[98,null,{"$f":"IFERROR(VLOOKUP(D101,Nomenclature!$B$2:$C$196,2,0),\"\")","v":""},null,null,null,null,{"$f":"IF(C101=\"\",0,IF(SUMIFS($G$5:G101,$C$5:C101,C101)-SUMIFS($I$4:I100,$C$4:C100,C101)<0,0,SUMIFS($G$5:G101,$C$5:C101,C101)-SUMIFS($I$4:I100,$C$4:C100,C101)))","v":0},null,{"$f":"IF(C101=\"\",0,IF(C101=$C$4,SUMIFS($I$4:I100,$C$4:C100,C100),SUMIFS($I$4:I100,$C$4:C100,C101)))","v":0},0]
[99,null,{"$f":"IFERROR(VLOOKUP(D102,Nomenclature!$B$2:$C$196,2,0),\"\")","v":""},null,null,null,null,{"$f":"IF(C102=\"\",0,IF(SUMIFS($G$5:G102,$C$5:C102,C102)-SUMIFS($I$4:I101,$C$4:C101,C102)<0,0,SUMIFS($G$5:G102,$C$5:C102,C102)-SUMIFS($I$4:I101,$C$4:C101,C102)))","v":0},null,{"$f":"IF(C102=\"\",0,IF(C102=$C$4,SUMIFS($I$4:I101,$C$4:C101,C101),SUMIFS($I$4:I101,$C$4:C101,C102)))","v":0},0]
[100,null,{"$f":"IFERROR(VLOOKUP(D103,Nomenclature!$B$2:$C$196,2,0),\"\")","v":""},null,null,null,null,{"$f":"IF(C103=\"\",0,IF(SUMIFS($G$5:G103,$C$5:C103,C103)-SUMIFS($I$4:I102,$C$4:C102,C103)<0,0,SUMIFS($G$5:G103,$C$5:C103,C103)-SUMIFS($I$4:I102,$C$4:C102,C103)))","v":0},null,{"$f":"IF(C103=\"\",0,IF(C103=$C$4,SUMIFS($I$4:I102,$C$4:C102,C102),SUMIFS($I$4:I102,$C$4:C102,C103)))","v":0},0]
[101,null,{"$f":"IFERROR(VLOOKUP(D104,Nomenclature!$B$2:$C$196,2,0),\"\")","v":""},null,null,null,null,{"$f":"IF(C104=\"\",0,IF(SUMIFS($G$5:G104,$C$5:C104,C104)-SUMIFS($I$4:I103,$C$4:C103,C104)<0,0,SUMIFS($G$5:G104,$C$5:C104,C104)-SUMIFS($I$4:I103,$C$4:C103,C104)))","v":0},null,{"$f":"IF(C104=\"\",0,IF(C104=$C$4,SUMIFS($I$4:I103,$C$4:C103,C103),SUMIFS($I$4:I103,$C$4:C103,C104)))","v":0},0]
[102,null,{"$f":"IFERROR(VLOOKUP(D105,Nomenclature!$B$2:$C$196,2,0),\"\")","v":""},null,null,null,null,{"$f":"IF(C105=\"\",0,IF(SUMIFS($G$5:G105,$C$5:C105,C105)-SUMIFS($I$4:I104,$C$4:C104,C105)<0,0,SUMIFS($G$5:G105,$C$5:C105,C105)-SUMIFS($I$4:I104,$C$4:C104,C105)))","v":0},null,{"$f":"IF(C105=\"\",0,IF(C105=$C$4,SUMIFS($I$4:I104,$C$4:C104,C104),SUMIFS($I$4:I104,$C$4:C104,C105)))","v":0},0]
[103,null,{"$f":"IFERROR(VLOOKUP(D106,Nomenclature!$B$2:$C$196,2,0),\"\")","v":""},null,null,null,null,{"$f":"IF(C106=\"\",0,IF(SUMIFS($G$5:G106,$C$5:C106,C106)-SUMIFS($I$4:I105,$C$4:C105,C106)<0,0,SUMIFS($G$5:G106,$C$5:C106,C106)-SUMIFS($I$4:I105,$C$4:C105,C106)))","v":0},null,{"$f":"IF(C106=\"\",0,IF(C106=$C$4,SUMIFS($I$4:I105,$C$4:C105,C105),SUMIFS($I$4:I105,$C$4:C105,C106)))","v":0},0]
[104,null,{"$f":"IFERROR(VLOOKUP(D107,Nomenclature!$B$2:$C$196,2,0),\"\")","v":""},null,null,null,null,{"$f":"IF(C107=\"\",0,IF(SUMIFS($G$5:G107,$C$5:C107,C107)-SUMIFS($I$4:I106,$C$4:C106,C107)<0,0,SUMIFS($G$5:G107,$C$5:C107,C107)-SUMIFS($I$4:I106,$C$4:C106,C107)))","v":0},null,{"$f":"IF(C107=\"\",0,IF(C107=$C$4,SUMIFS($I$4:I106,$C$4:C106,C106),SUMIFS($I$4:I106,$C$4:C106,C107)))","v":0},0]
[105,null,{"$f":"IFERROR(VLOOKUP(D108,Nomenclature!$B$2:$C$196,2,0),\"\")","v":""},null,null,null,null,{"$f":"IF(C108=\"\",0,IF(SUMIFS($G$5:G108,$C$5:C108,C108)-SUMIFS($I$4:I107,$C$4:C107,C108)<0,0,SUMIFS($G$5:G108,$C$5:C108,C108)-SUMIFS($I$4:I107,$C$4:C107,C108)))","v":0},null,{"$f":"IF(C108=\"\",0,IF(C108=$C$4,SUMIFS($I$4:I107,$C$4:C107,C107),SUMIFS($I$4:I107,$C$4:C107,C108)))","v":0},0]
[106,null,{"$f":"IFERROR(VLOOKUP(D109,Nomenclature!$B$2:$C$196,2,0),\"\")","v":""},null,null,null,null,{"$f":"IF(C109=\"\",0,IF(SUMIFS($G$5:G109,$C$5:C109,C109)-SUMIFS($I$4:I108,$C$4:C108,C109)<0,0,SUMIFS($G$5:G109,$C$5:C109,C109)-SUMIFS($I$4:I108,$C$4:C108,C109)))","v":0},null,{"$f":"IF(C109=\"\",0,IF(C109=$C$4,SUMIFS($I$4:I108,$C$4:C108,C108),SUMIFS($I$4:I108,$C$4:C108,C109)))","v":0},0]
[107,null,{"$f":"IFERROR(VLOOKUP(D110,Nomenclature!$B$2:$C$196,2,0),\"\")","v":""},null,null,null,null,{"$f":"IF(C110=\"\",0,IF(SUMIFS($G$5:G110,$C$5:C110,C110)-SUMIFS($I$4:I109,$C$4:C109,C110)<0,0,SUMIFS($G$5:G110,$C$5:C110,C110)-SUMIFS($I$4:I109,$C$4:C109,C110)))","v":0},null,{"$f":"IF(C110=\"\",0,IF(C110=$C$4,SUMIFS($I$4:I109,$C$4:C109,C109),SUMIFS($I$4:I109,$C$4:C109,C110)))","v":0},0]
[108,null,{"$f":"IFERROR(VLOOKUP(D111,Nomenclature!$B$2:$C$196,2,0),\"\")","v":""},null,null,null,null,{"$f":"IF(C111=\"\",0,IF(SUMIFS($G$5:G111,$C$5:C111,C111)-SUMIFS($I$4:I110,$C$4:C110,C111)<0,0,SUMIFS($G$5:G111,$C$5:C111,C111)-SUMIFS($I$4:I110,$C$4:C110,C111)))","v":0},null,{"$f":"IF(C111=\"\",0,IF(C111=$C$4,SUMIFS($I$4:I110,$C$4:C110,C110),SUMIFS($I$4:I110,$C$4:C110,C111)))","v":0},0]
[109,null,{"$f":"IFERROR(VLOOKUP(D112,Nomenclature!$B$2:$C$196,2,0),\"\")","v":""},null,null,null,null,{"$f":"IF(C112=\"\",0,IF(SUMIFS($G$5:G112,$C$5:C112,C112)-SUMIFS($I$4:I111,$C$4:C111,C112)<0,0,SUMIFS($G$5:G112,$C$5:C112,C112)-SUMIFS($I$4:I111,$C$4:C111,C112)))","v":0},null,{"$f":"IF(C112=\"\",0,IF(C112=$C$4,SUMIFS($I$4:I111,$C$4:C111,C111),SUMIFS($I$4:I111,$C$4:C111,C112)))","v":0},0]
[110,null,{"$f":"IFERROR(VLOOKUP(D113,Nomenclature!$B$2:$C$196,2,0),\"\")","v":""},null,null,null,null,{"$f":"IF(C113=\"\",0,IF(SUMIFS($G$5:G113,$C$5:C113,C113)-SUMIFS($I$4:I112,$C$4:C112,C113)<0,0,SUMIFS($G$5:G113,$C$5:C113,C113)-SUMIFS($I$4:I112,$C$4:C112,C113)))","v":0},null,{"$f":"IF(C113=\"\",0,IF(C113=$C$4,SUMIFS($I$4:I112,$C$4:C112,C112),SUMIFS($I$4:I112,$C$4:C112,C113)))","v":0},0]
[111,null,{"$f":"IFERROR(VLOOKUP(D114,Nomenclature!$B$2:$C$196,2,0),\"\")","v":""},null,null,null,null,{"$f":"IF(C114=\"\",0,IF(SUMIFS($G$5:G114,$C$5:C114,C114)-SUMIFS($I$4:I113,$C$4:C113,C114)<0,0,SUMIFS($G$5:G114,$C$5:C114,C114)-SUMIFS($I$4:I113,$C$4:C113,C114)))","v":0},null,{"$f":"IF(C114=\"\",0,IF(C114=$C$4,SUMIFS($I$4:I113,$C$4:C113,C113),SUMIFS($I$4:I113,$C$4:C113,C114)))","v":0},0]
[112,null,{"$f":"IFERROR(VLOOKUP(D115,Nomenclature!$B$2:$C$196,2,0),\"\")","v":""},null,null,null,null,{"$f":"IF(C115=\"\",0,IF(SUMIFS($G$5:G115,$C$5:C115,C115)-SUMIFS($I$4:I114,$C$4:C114,C115)<0,0,SUMIFS($G$5:G115,$C$5:C115,C115)-SUMIFS($I$4:I114,$C$4:C114,C115)))","v":0},null,{"$f":"IF(C115=\"\",0,IF(C115=$C$4,SUMIFS($I$4:I114,$C$4:C114,C114),SUMIFS($I$4:I114,$C$4:C114,C115)))","v":0},0]
[113,null,{"$f":"IFERROR(VLOOKUP(D116,Nomenclature!$B$2:$C$196,2,0),\"\")","v":""},null,null,null,null,{"$f":"IF(C116=\"\",0,IF(SUMIFS($G$5:G116,$C$5:C116,C116)-SUMIFS($I$4:I115,$C$4:C115,C116)<0,0,SUMIFS($G$5:G116,$C$5:C116,C116)-SUMIFS($I$4:I115,$C$4:C115,C116)))","v":0},null,{"$f":"IF(C116=\"\",0,IF(C116=$C$4,SUMIFS($I$4:I115,$C$4:C115,C115),SUMIFS($I$4:I115,$C$4:C115,C116)))","v":0},0]
[114,null,{"$f":"IFERROR(VLOOKUP(D117,Nomenclature!$B$2:$C$196,2,0),\"\")","v":""},null,null,null,null,{"$f":"IF(C117=\"\",0,IF(SUMIFS($G$5:G117,$C$5:C117,C117)-SUMIFS($I$4:I116,$C$4:C116,C117)<0,0,SUMIFS($G$5:G117,$C$5:C117,C117)-SUMIFS($I$4:I116,$C$4:C116,C117)))","v":0},null,{"$f":"IF(C117=\"\",0,IF(C117=$C$4,SUMIFS($I$4:I116,$C$4:C116,C116),SUMIFS($I$4:I116,$C$4:C116,C117)))","v":0},0]
[115,null,{"$f":"IFERROR(VLOOKUP(D118,Nomenclature!$B$2:$C$196,2,0),\"\")","v":""},null,null,null,null,{"$f":"IF(C118=\"\",0,IF(SUMIFS($G$5:G118,$C$5:C118,C118)-SUMIFS($I$4:I117,$C$4:C117,C118)<0,0,SUMIFS($G$5:G118,$C$5:C118,C118)-SUMIFS($I$4:I117,$C$4:C117,C118)))","v":0},null,{"$f":"IF(C118=\"\",0,IF(C118=$C$4,SUMIFS($I$4:I117,$C$4:C117,C117),SUMIFS($I$4:I117,$C$4:C117,C118)))","v":0},0]
[116,null,{"$f":"IFERROR(VLOOKUP(D119,Nomenclature!$B$2:$C$196,2,0),\"\")","v":""},null,null,null,null,{"$f":"IF(C119=\"\",0,IF(SUMIFS($G$5:G119,$C$5:C119,C119)-SUMIFS($I$4:I118,$C$4:C118,C119)<0,0,SUMIFS($G$5:G119,$C$5:C119,C119)-SUMIFS($I$4:I118,$C$4:C118,C119)))","v":0},null,{"$f":"IF(C119=\"\",0,IF(C119=$C$4,SUMIFS($I$4:I118,$C$4:C118,C118),SUMIFS($I$4:I118,$C$4:C118,C119)))","v":0},0]
[117,null,{"$f":"IFERROR(VLOOKUP(D120,Nomenclature!$B$2:$C$196,2,0),\"\")","v":""},null,null,null,null,{"$f":"IF(C120=\"\",0,IF(SUMIFS($G$5:G120,$C$5:C120,C120)-SUMIFS($I$4:I119,$C$4:C119,C120)<0,0,SUMIFS($G$5:G120,$C$5:C120,C120)-SUMIFS($I$4:I119,$C$4:C119,C120)))","v":0},null,{"$f":"IF(C120=\"\",0,IF(C120=$C$4,SUMIFS($I$4:I119,$C$4:C119,C119),SUMIFS($I$4:I119,$C$4:C119,C120)))","v":0},0]
[118,null,{"$f":"IFERROR(VLOOKUP(D121,Nomenclature!$B$2:$C$196,2,0),\"\")","v":""},null,null,null,null,{"$f":"IF(C121=\"\",0,IF(SUMIFS($G$5:G121,$C$5:C121,C121)-SUMIFS($I$4:I120,$C$4:C120,C121)<0,0,SUMIFS($G$5:G121,$C$5:C121,C121)-SUMIFS($I$4:I120,$C$4:C120,C121)))","v":0},null,{"$f":"IF(C121=\"\",0,IF(C121=$C$4,SUMIFS($I$4:I120,$C$4:C120,C120),SUMIFS($I$4:I120,$C$4:C120,C121)))","v":0},0]
[119,null,{"$f":"IFERROR(VLOOKUP(D122,Nomenclature!$B$2:$C$196,2,0),\"\")","v":""},null,null,null,null,{"$f":"IF(C122=\"\",0,IF(SUMIFS($G$5:G122,$C$5:C122,C122)-SUMIFS($I$4:I121,$C$4:C121,C122)<0,0,SUMIFS($G$5:G122,$C$5:C122,C122)-SUMIFS($I$4:I121,$C$4:C121,C122)))","v":0},null,{"$f":"IF(C122=\"\",0,IF(C122=$C$4,SUMIFS($I$4:I121,$C$4:C121,C121),SUMIFS($I$4:I121,$C$4:C121,C122)))","v":0},0]
[120,null,{"$f":"IFERROR(VLOOKUP(D123,Nomenclature!$B$2:$C$196,2,0),\"\")","v":""},null,null,null,null,{"$f":"IF(C123=\"\",0,IF(SUMIFS($G$5:G123,$C$5:C123,C123)-SUMIFS($I$4:I122,$C$4:C122,C123)<0,0,SUMIFS($G$5:G123,$C$5:C123,C123)-SUMIFS($I$4:I122,$C$4:C122,C123)))","v":0},null,{"$f":"IF(C123=\"\",0,IF(C123=$C$4,SUMIFS($I$4:I122,$C$4:C122,C122),SUMIFS($I$4:I122,$C$4:C122,C123)))","v":0},0]
[121,null,{"$f":"IFERROR(VLOOKUP(D124,Nomenclature!$B$2:$C$196,2,0),\"\")","v":""},null,null,null,null,{"$f":"IF(C124=\"\",0,IF(SUMIFS($G$5:G124,$C$5:C124,C124)-SUMIFS($I$4:I123,$C$4:C123,C124)<0,0,SUMIFS($G$5:G124,$C$5:C124,C124)-SUMIFS($I$4:I123,$C$4:C123,C124)))","v":0},null,{"$f":"IF(C124=\"\",0,IF(C124=$C$4,SUMIFS($I$4:I123,$C$4:C123,C123),SUMIFS($I$4:I123,$C$4:C123,C124)))","v":0},0]
[122,null,{"$f":"IFERROR(VLOOKUP(D125,Nomenclature!$B$2:$C$196,2,0),\"\")","v":""},null,null,null,null,{"$f":"IF(C125=\"\",0,IF(SUMIFS($G$5:G125,$C$5:C125,C125)-SUMIFS($I$4:I124,$C$4:C124,C125)<0,0,SUMIFS($G$5:G125,$C$5:C125,C125)-SUMIFS($I$4:I124,$C$4:C124,C125)))","v":0},null,{"$f":"IF(C125=\"\",0,IF(C125=$C$4,SUMIFS($I$4:I124,$C$4:C124,C124),SUMIFS($I$4:I124,$C$4:C124,C125)))","v":0},0]
[123,null,{"$f":"IFERROR(VLOOKUP(D126,Nomenclature!$B$2:$C$196,2,0),\"\")","v":""},null,null,null,null,{"$f":"IF(C126=\"\",0,IF(SUMIFS($G$5:G126,$C$5:C126,C126)-SUMIFS($I$4:I125,$C$4:C125,C126)<0,0,SUMIFS($G$5:G126,$C$5:C126,C126)-SUMIFS($I$4:I125,$C$4:C125,C126)))","v":0},null,{"$f":"IF(C126=\"\",0,IF(C126=$C$4,SUMIFS($I$4:I125,$C$4:C125,C125),SUMIFS($I$4:I125,$C$4:C125,C126)))","v":0},0]
[124,null,{"$f":"IFERROR(VLOOKUP(D127,Nomenclature!$B$2:$C$196,2,0),\"\")","v":""},null,null,null,null,{"$f":"IF(C127=\"\",0,IF(SUMIFS($G$5:G127,$C$5:C127,C127)-SUMIFS($I$4:I126,$C$4:C126,C127)<0,0,SUMIFS($G$5:G127,$C$5:C127,C127)-SUMIFS($I$4:I126,$C$4:C126,C127)))","v":0},null,{"$f":"IF(C127=\"\",0,IF(C127=$C$4,SUMIFS($I$4:I126,$C$4:C126,C126),SUMIFS($I$4:I126,$C$4:C126,C127)))","v":0},0]
[125,null,{"$f":"IFERROR(VLOOKUP(D128,Nomenclature!$B$2:$C$196,2,0),\"\")","v":""},null,null,null,null,{"$f":"IF(C128=\"\",0,IF(SUMIFS($G$5:G128,$C$5:C128,C128)-SUMIFS($I$4:I127,$C$4:C127,C128)<0,0,SUMIFS($G$5:G128,$C$5:C128,C128)-SUMIFS($I$4:I127,$C$4:C127,C128)))","v":0},null,{"$f":"IF(C128=\"\",0,IF(C128=$C$4,SUMIFS($I$4:I127,$C$4:C127,C127),SUMIFS($I$4:I127,$C$4:C127,C128)))","v":0},0]
[126,null,{"$f":"IFERROR(VLOOKUP(D129,Nomenclature!$B$2:$C$196,2,0),\"\")","v":""},null,null,null,null,{"$f":"IF(C129=\"\",0,IF(SUMIFS($G$5:G129,$C$5:C129,C129)-SUMIFS($I$4:I128,$C$4:C128,C129)<0,0,SUMIFS($G$5:G129,$C$5:C129,C129)-SUMIFS($I$4:I128,$C$4:C128,C129)))","v":0},null,{"$f":"IF(C129=\"\",0,IF(C129=$C$4,SUMIFS($I$4:I128,$C$4:C128,C128),SUMIFS($I$4:I128,$C$4:C128,C129)))","v":0},0]
[127,null,{"$f":"IFERROR(VLOOKUP(D130,Nomenclature!$B$2:$C$196,2,0),\"\")","v":""},null,null,null,null,{"$f":"IF(C130=\"\",0,IF(SUMIFS($G$5:G130,$C$5:C130,C130)-SUMIFS($I$4:I129,$C$4:C129,C130)<0,0,SUMIFS($G$5:G130,$C$5:C130,C130)-SUMIFS($I$4:I129,$C$4:C129,C130)))","v":0},null,{"$f":"IF(C130=\"\",0,IF(C130=$C$4,SUMIFS($I$4:I129,$C$4:C129,C129),SUMIFS($I$4:I129,$C$4:C129,C130)))","v":0},0]
[128,null,{"$f":"IFERROR(VLOOKUP(D131,Nomenclature!$B$2:$C$196,2,0),\"\")","v":""},null,null,null,null,{"$f":"IF(C131=\"\",0,IF(SUMIFS($G$5:G131,$C$5:C131,C131)-SUMIFS($I$4:I130,$C$4:C130,C131)<0,0,SUMIFS($G$5:G131,$C$5:C131,C131)-SUMIFS($I$4:I130,$C$4:C130,C131)))","v":0},null,{"$f":"IF(C131=\"\",0,IF(C131=$C$4,SUMIFS($I$4:I130,$C$4:C130,C130),SUMIFS($I$4:I130,$C$4:C130,C131)))","v":0},0]
[129,null,{"$f":"IFERROR(VLOOKUP(D132,Nomenclature!$B$2:$C$196,2,0),\"\")","v":""},null,null,null,null,{"$f":"IF(C132=\"\",0,IF(SUMIFS($G$5:G132,$C$5:C132,C132)-SUMIFS($I$4:I131,$C$4:C131,C132)<0,0,SUMIFS($G$5:G132,$C$5:C132,C132)-SUMIFS($I$4:I131,$C$4:C131,C132)))","v":0},null,{"$f":"IF(C132=\"\",0,IF(C132=$C$4,SUMIFS($I$4:I131,$C$4:C131,C131),SUMIFS($I$4:I131,$C$4:C131,C132)))","v":0},{"$f":"IF(C132=\"\",0,H132-I132)","v":0}]
[130,null,{"$f":"IFERROR(VLOOKUP(D133,Nomenclature!$B$2:$C$196,2,0),\"\")","v":""},null,null,null,null,{"$f":"IF(C133=\"\",0,IF(SUMIFS($G$5:G133,$C$5:C133,C133)-SUMIFS($I$4:I132,$C$4:C132,C133)<0,0,SUMIFS($G$5:G133,$C$5:C133,C133)-SUMIFS($I$4:I132,$C$4:C132,C133)))","v":0},null,{"$f":"IF(C133=\"\",0,IF(C133=$C$4,SUMIFS($I$4:I132,$C$4:C132,C132),SUMIFS($I$4:I132,$C$4:C132,C133)))","v":0},0]
[131,null,{"$f":"IFERROR(VLOOKUP(D134,Nomenclature!$B$2:$C$196,2,0),\"\")","v":""},null,null,null,null,{"$f":"IF(C134=\"\",0,IF(SUMIFS($G$5:G134,$C$5:C134,C134)-SUMIFS($I$4:I133,$C$4:C133,C134)<0,0,SUMIFS($G$5:G134,$C$5:C134,C134)-SUMIFS($I$4:I133,$C$4:C133,C134)))","v":0},null,{"$f":"IF(C134=\"\",0,IF(C134=$C$4,SUMIFS($I$4:I133,$C$4:C133,C133),SUMIFS($I$4:I133,$C$4:C133,C134)))","v":0},0]
[132,null,{"$f":"IFERROR(VLOOKUP(D135,Nomenclature!$B$2:$C$196,2,0),\"\")","v":""},null,null,null,null,{"$f":"IF(C135=\"\",0,IF(SUMIFS($G$5:G135,$C$5:C135,C135)-SUMIFS($I$4:I134,$C$4:C134,C135)<0,0,SUMIFS($G$5:G135,$C$5:C135,C135)-SUMIFS($I$4:I134,$C$4:C134,C135)))","v":0},null,{"$f":"IF(C135=\"\",0,IF(C135=$C$4,SUMIFS($I$4:I134,$C$4:C134,C134),SUMIFS($I$4:I134,$C$4:C134,C135)))","v":0},0]
[133,null,{"$f":"IFERROR(VLOOKUP(D136,Nomenclature!$B$2:$C$196,2,0),\"\")","v":""},null,null,null,null,{"$f":"IF(C136=\"\",0,IF(SUMIFS($G$5:G136,$C$5:C136,C136)-SUMIFS($I$4:I135,$C$4:C135,C136)<0,0,SUMIFS($G$5:G136,$C$5:C136,C136)-SUMIFS($I$4:I135,$C$4:C135,C136)))","v":0},null,{"$f":"IF(C136=\"\",0,IF(C136=$C$4,SUMIFS($I$4:I135,$C$4:C135,C135),SUMIFS($I$4:I135,$C$4:C135,C136)))","v":0},0]
[134,null,{"$f":"IFERROR(VLOOKUP(D137,Nomenclature!$B$2:$C$196,2,0),\"\")","v":""},null,null,null,null,{"$f":"IF(C137=\"\",0,IF(SUMIFS($G$5:G137,$C$5:C137,C137)-SUMIFS($I$4:I136,$C$4:C136,C137)<0,0,SUMIFS($G$5:G137,$C$5:C137,C137)-SUMIFS($I$4:I136,$C$4:C136,C137)))","v":0},null,{"$f":"IF(C137=\"\",0,IF(C137=$C$4,SUMIFS($I$4:I136,$C$4:C136,C136),SUMIFS($I$4:I136,$C$4:C136,C137)))","v":0},0]
[135,null,{"$f":"IFERROR(VLOOKUP(D138,Nomenclature!$B$2:$C$196,2,0),\"\")","v":""},null,null,null,null,{"$f":"IF(C138=\"\",0,IF(SUMIFS($G$5:G138,$C$5:C138,C138)-SUMIFS($I$4:I137,$C$4:C137,C138)<0,0,SUMIFS($G$5:G138,$C$5:C138,C138)-SUMIFS($I$4:I137,$C$4:C137,C138)))","v":0},null,{"$f":"IF(C138=\"\",0,IF(C138=$C$4,SUMIFS($I$4:I137,$C$4:C137,C137),SUMIFS($I$4:I137,$C$4:C137,C138)))","v":0},0]
[136,null,{"$f":"IFERROR(VLOOKUP(D139,Nomenclature!$B$2:$C$196,2,0),\"\")","v":""},null,null,null,null,{"$f":"IF(C139=\"\",0,IF(SUMIFS($G$5:G139,$C$5:C139,C139)-SUMIFS($I$4:I138,$C$4:C138,C139)<0,0,SUMIFS($G$5:G139,$C$5:C139,C139)-SUMIFS($I$4:I138,$C$4:C138,C139)))","v":0},null,{"$f":"IF(C139=\"\",0,IF(C139=$C$4,SUMIFS($I$4:I138,$C$4:C138,C138),SUMIFS($I$4:I138,$C$4:C138,C139)))","v":0},0]
[137,null,{"$f":"IFERROR(VLOOKUP(D140,Nomenclature!$B$2:$C$196,2,0),\"\")","v":""},null,null,null,null,{"$f":"IF(C140=\"\",0,IF(SUMIFS($G$5:G140,$C$5:C140,C140)-SUMIFS($I$4:I139,$C$4:C139,C140)<0,0,SUMIFS($G$5:G140,$C$5:C140,C140)-SUMIFS($I$4:I139,$C$4:C139,C140)))","v":0},null,{"$f":"IF(C140=\"\",0,IF(C140=$C$4,SUMIFS($I$4:I139,$C$4:C139,C139),SUMIFS($I$4:I139,$C$4:C139,C140)))","v":0},0]
[138,null,{"$f":"IFERROR(VLOOKUP(D141,Nomenclature!$B$2:$C$196,2,0),\"\")","v":""},null,null,null,null,{"$f":"IF(C141=\"\",0,IF(SUMIFS($G$5:G141,$C$5:C141,C141)-SUMIFS($I$4:I140,$C$4:C140,C141)<0,0,SUMIFS($G$5:G141,$C$5:C141,C141)-SUMIFS($I$4:I140,$C$4:C140,C141)))","v":0},null,{"$f":"IF(C141=\"\",0,IF(C141=$C$4,SUMIFS($I$4:I140,$C$4:C140,C140),SUMIFS($I$4:I140,$C$4:C140,C141)))","v":0},0]
[139,null,{"$f":"IFERROR(VLOOKUP(D142,Nomenclature!$B$2:$C$196,2,0),\"\")","v":""},null,null,null,null,{"$f":"IF(C142=\"\",0,IF(SUMIFS($G$5:G142,$C$5:C142,C142)-SUMIFS($I$4:I141,$C$4:C141,C142)<0,0,SUMIFS($G$5:G142,$C$5:C142,C142)-SUMIFS($I$4:I141,$C$4:C141,C142)))","v":0},null,{"$f":"IF(C142=\"\",0,IF(C142=$C$4,SUMIFS($I$4:I141,$C$4:C141,C141),SUMIFS($I$4:I141,$C$4:C141,C142)))","v":0},0]
[140,null,{"$f":"IFERROR(VLOOKUP(D143,Nomenclature!$B$2:$C$196,2,0),\"\")","v":""},null,null,null,null,{"$f":"IF(C143=\"\",0,IF(SUMIFS($G$5:G143,$C$5:C143,C143)-SUMIFS($I$4:I142,$C$4:C142,C143)<0,0,SUMIFS($G$5:G143,$C$5:C143,C143)-SUMIFS($I$4:I142,$C$4:C142,C143)))","v":0},null,{"$f":"IF(C143=\"\",0,IF(C143=$C$4,SUMIFS($I$4:I142,$C$4:C142,C142),SUMIFS($I$4:I142,$C$4:C142,C143)))","v":0},0]
[141,null,{"$f":"IFERROR(VLOOKUP(D144,Nomenclature!$B$2:$C$196,2,0),\"\")","v":""},null,null,null,null,{"$f":"IF(C144=\"\",0,IF(SUMIFS($G$5:G144,$C$5:C144,C144)-SUMIFS($I$4:I143,$C$4:C143,C144)<0,0,SUMIFS($G$5:G144,$C$5:C144,C144)-SUMIFS($I$4:I143,$C$4:C143,C144)))","v":0},null,{"$f":"IF(C144=\"\",0,IF(C144=$C$4,SUMIFS($I$4:I143,$C$4:C143,C143),SUMIFS($I$4:I143,$C$4:C143,C144)))","v":0},0]
[142,null,{"$f":"IFERROR(VLOOKUP(D145,Nomenclature!$B$2:$C$196,2,0),\"\")","v":""},null,null,null,null,{"$f":"IF(C145=\"\",0,IF(SUMIFS($G$5:G145,$C$5:C145,C145)-SUMIFS($I$4:I144,$C$4:C144,C145)<0,0,SUMIFS($G$5:G145,$C$5:C145,C145)-SUMIFS($I$4:I144,$C$4:C144,C145)))","v":0},null,{"$f":"IF(C145=\"\",0,IF(C145=$C$4,SUMIFS($I$4:I144,$C$4:C144,C144),SUMIFS($I$4:I144,$C$4:C144,C145)))","v":0},0]
[143,null,{"$f":"IFERROR(VLOOKUP(D146,Nomenclature!$B$2:$C$196,2,0),\"\")","v":""},null,null,null,null,{"$f":"IF(C146=\"\",0,IF(SUMIFS($G$5:G146,$C$5:C146,C146)-SUMIFS($I$4:I145,$C$4:C145,C146)<0,0,SUMIFS($G$5:G146,$C$5:C146,C146)-SUMIFS($I$4:I145,$C$4:C145,C146)))","v":0},null,{"$f":"IF(C146=\"\",0,IF(C146=$C$4,SUMIFS($I$4:I145,$C$4:C145,C145),SUMIFS($I$4:I145,$C$4:C145,C146)))","v":0},0]
[144,null,{"$f":"IFERROR(VLOOKUP(D147,Nomenclature!$B$2:$C$196,2,0),\"\")","v":""},null,null,null,null,{"$f":"IF(C147=\"\",0,IF(SUMIFS($G$5:G147,$C$5:C147,C147)-SUMIFS($I$4:I146,$C$4:C146,C147)<0,0,SUMIFS($G$5:G147,$C$5:C147,C147)-SUMIFS($I$4:I146,$C$4:C146,C147)))","v":0},null,{"$f":"IF(C147=\"\",0,IF(C147=$C$4,SUMIFS($I$4:I146,$C$4:C146,C146),SUMIFS($I$4:I146,$C$4:C146,C147)))","v":0},0]
[145,null,{"$f":"IFERROR(VLOOKUP(D148,Nomenclature!$B$2:$C$196,2,0),\"\")","v":""},null,null,null,null,{"$f":"IF(C148=\"\",0,IF(SUMIFS($G$5:G148,$C$5:C148,C148)-SUMIFS($I$4:I147,$C$4:C147,C148)<0,0,SUMIFS($G$5:G148,$C$5:C148,C148)-SUMIFS($I$4:I147,$C$4:C147,C148)))","v":0},null,{"$f":"IF(C148=\"\",0,IF(C148=$C$4,SUMIFS($I$4:I147,$C$4:C147,C147),SUMIFS($I$4:I147,$C$4:C147,C148)))","v":0},0]
[146,null,{"$f":"IFERROR(VLOOKUP(D149,Nomenclature!$B$2:$C$196,2,0),\"\")","v":""},null,null,null,null,{"$f":"IF(C149=\"\",0,IF(SUMIFS($G$5:G149,$C$5:C149,C149)-SUMIFS($I$4:I148,$C$4:C148,C149)<0,0,SUMIFS($G$5:G149,$C$5:C149,C149)-SUMIFS($I$4:I148,$C$4:C148,C149)))","v":0},null,{"$f":"IF(C149=\"\",0,IF(C149=$C$4,SUMIFS($I$4:I148,$C$4:C148,C148),SUMIFS($I$4:I148,$C$4:C148,C149)))","v":0},0]
[147,null,{"$f":"IFERROR(VLOOKUP(D150,Nomenclature!$B$2:$C$196,2,0),\"\")","v":""},null,null,null,null,{"$f":"IF(C150=\"\",0,IF(SUMIFS($G$5:G150,$C$5:C150,C150)-SUMIFS($I$4:I149,$C$4:C149,C150)<0,0,SUMIFS($G$5:G150,$C$5:C150,C150)-SUMIFS($I$4:I149,$C$4:C149,C150)))","v":0},null,{"$f":"IF(C150=\"\",0,IF(C150=$C$4,SUMIFS($I$4:I149,$C$4:C149,C149),SUMIFS($I$4:I149,$C$4:C149,C150)))","v":0},0]
[148,null,{"$f":"IFERROR(VLOOKUP(D151,Nomenclature!$B$2:$C$196,2,0),\"\")","v":""},null,null,null,null,{"$f":"IF(C151=\"\",0,IF(SUMIFS($G$5:G151,$C$5:C151,C151)-SUMIFS($I$4:I150,$C$4:C150,C151)<0,0,SUMIFS($G$5:G151,$C$5:C151,C151)-SUMIFS($I$4:I150,$C$4:C150,C151)))","v":0},null,{"$f":"IF(C151=\"\",0,IF(C151=$C$4,SUMIFS($I$4:I150,$C$4:C150,C150),SUMIFS($I$4:I150,$C$4:C150,C151)))","v":0},0]
[149,null,{"$f":"IFERROR(VLOOKUP(D152,Nomenclature!$B$2:$C$196,2,0),\"\")","v":""},null,null,null,null,{"$f":"IF(C152=\"\",0,IF(SUMIFS($G$5:G152,$C$5:C152,C152)-SUMIFS($I$4:I151,$C$4:C151,C152)<0,0,SUMIFS($G$5:G152,$C$5:C152,C152)-SUMIFS($I$4:I151,$C$4:C151,C152)))","v":0},null,{"$f":"IF(C152=\"\",0,IF(C152=$C$4,SUMIFS($I$4:I151,$C$4:C151,C151),SUMIFS($I$4:I151,$C$4:C151,C152)))","v":0},0]
[150,null,{"$f":"IFERROR(VLOOKUP(D153,Nomenclature!$B$2:$C$196,2,0),\"\")","v":""},null,null,null,null,{"$f":"IF(C153=\"\",0,IF(SUMIFS($G$5:G153,$C$5:C153,C153)-SUMIFS($I$4:I152,$C$4:C152,C153)<0,0,SUMIFS($G$5:G153,$C$5:C153,C153)-SUMIFS($I$4:I152,$C$4:C152,C153)))","v":0},null,{"$f":"IF(C153=\"\",0,IF(C153=$C$4,SUMIFS($I$4:I152,$C$4:C152,C152),SUMIFS($I$4:I152,$C$4:C152,C153)))","v":0},0]
[151,null,{"$f":"IFERROR(VLOOKUP(D154,Nomenclature!$B$2:$C$196,2,0),\"\")","v":""},null,null,null,null,{"$f":"IF(C154=\"\",0,IF(SUMIFS($G$5:G154,$C$5:C154,C154)-SUMIFS($I$4:I153,$C$4:C153,C154)<0,0,SUMIFS($G$5:G154,$C$5:C154,C154)-SUMIFS($I$4:I153,$C$4:C153,C154)))","v":0},null,{"$f":"IF(C154=\"\",0,IF(C154=$C$4,SUMIFS($I$4:I153,$C$4:C153,C153),SUMIFS($I$4:I153,$C$4:C153,C154)))","v":0},0]
[152,null,{"$f":"IFERROR(VLOOKUP(D155,Nomenclature!$B$2:$C$196,2,0),\"\")","v":""},null,null,null,null,{"$f":"IF(C155=\"\",0,IF(SUMIFS($G$5:G155,$C$5:C155,C155)-SUMIFS($I$4:I154,$C$4:C154,C155)<0,0,SUMIFS($G$5:G155,$C$5:C155,C155)-SUMIFS($I$4:I154,$C$4:C154,C155)))","v":0},null,{"$f":"IF(C155=\"\",0,IF(C155=$C$4,SUMIFS($I$4:I154,$C$4:C154,C154),SUMIFS($I$4:I154,$C$4:C154,C155)))","v":0},0]
[153,null,{"$f":"IFERROR(VLOOKUP(D156,Nomenclature!$B$2:$C$196,2,0),\"\")","v":""},null,null,null,null,{"$f":"IF(C156=\"\",0,IF(SUMIFS($G$5:G156,$C$5:C156,C156)-SUMIFS($I$4:I155,$C$4:C155,C156)<0,0,SUMIFS($G$5:G156,$C$5:C156,C156)-SUMIFS($I$4:I155,$C$4:C155,C156)))","v":0},null,{"$f":"IF(C156=\"\",0,IF(C156=$C$4,SUMIFS($I$4:I155,$C$4:C155,C155),SUMIFS($I$4:I155,$C$4:C155,C156)))","v":0},0]
[154,null,{"$f":"IFERROR(VLOOKUP(D157,Nomenclature!$B$2:$C$196,2,0),\"\")","v":""},null,null,null,null,{"$f":"IF(C157=\"\",0,IF(SUMIFS($G$5:G157,$C$5:C157,C157)-SUMIFS($I$4:I156,$C$4:C156,C157)<0,0,SUMIFS($G$5:G157,$C$5:C157,C157)-SUMIFS($I$4:I156,$C$4:C156,C157)))","v":0},null,{"$f":"IF(C157=\"\",0,IF(C157=$C$4,SUMIFS($I$4:I156,$C$4:C156,C156),SUMIFS($I$4:I156,$C$4:C156,C157)))","v":0},0]
[155,null,{"$f":"IFERROR(VLOOKUP(D158,Nomenclature!$B$2:$C$196,2,0),\"\")","v":""},null,null,null,null,{"$f":"IF(C158=\"\",0,IF(SUMIFS($G$5:G158,$C$5:C158,C158)-SUMIFS($I$4:I157,$C$4:C157,C158)<0,0,SUMIFS($G$5:G158,$C$5:C158,C158)-SUMIFS($I$4:I157,$C$4:C157,C158)))","v":0},null,{"$f":"IF(C158=\"\",0,IF(C158=$C$4,SUMIFS($I$4:I157,$C$4:C157,C157),SUMIFS($I$4:I157,$C$4:C157,C158)))","v":0},0]
[156,null,{"$f":"IFERROR(VLOOKUP(D159,Nomenclature!$B$2:$C$196,2,0),\"\")","v":""},null,null,null,null,{"$f":"IF(C159=\"\",0,IF(SUMIFS($G$5:G159,$C$5:C159,C159)-SUMIFS($I$4:I158,$C$4:C158,C159)<0,0,SUMIFS($G$5:G159,$C$5:C159,C159)-SUMIFS($I$4:I158,$C$4:C158,C159)))","v":0},null,{"$f":"IF(C159=\"\",0,IF(C159=$C$4,SUMIFS($I$4:I158,$C$4:C158,C158),SUMIFS($I$4:I158,$C$4:C158,C159)))","v":0},0]
[157,null,{"$f":"IFERROR(VLOOKUP(D160,Nomenclature!$B$2:$C$196,2,0),\"\")","v":""},null,null,null,null,{"$f":"IF(C160=\"\",0,IF(SUMIFS($G$5:G160,$C$5:C160,C160)-SUMIFS($I$4:I159,$C$4:C159,C160)<0,0,SUMIFS($G$5:G160,$C$5:C160,C160)-SUMIFS($I$4:I159,$C$4:C159,C160)))","v":0},null,{"$f":"IF(C160=\"\",0,IF(C160=$C$4,SUMIFS($I$4:I159,$C$4:C159,C159),SUMIFS($I$4:I159,$C$4:C159,C160)))","v":0},0]
[158,null,{"$f":"IFERROR(VLOOKUP(D161,Nomenclature!$B$2:$C$196,2,0),\"\")","v":""},null,null,null,null,{"$f":"IF(C161=\"\",0,IF(SUMIFS($G$5:G161,$C$5:C161,C161)-SUMIFS($I$4:I160,$C$4:C160,C161)<0,0,SUMIFS($G$5:G161,$C$5:C161,C161)-SUMIFS($I$4:I160,$C$4:C160,C161)))","v":0},null,{"$f":"IF(C161=\"\",0,IF(C161=$C$4,SUMIFS($I$4:I160,$C$4:C160,C160),SUMIFS($I$4:I160,$C$4:C160,C161)))","v":0},0]
[159,null,{"$f":"IFERROR(VLOOKUP(D162,Nomenclature!$B$2:$C$196,2,0),\"\")","v":""},null,null,null,null,{"$f":"IF(C162=\"\",0,IF(SUMIFS($G$5:G162,$C$5:C162,C162)-SUMIFS($I$4:I161,$C$4:C161,C162)<0,0,SUMIFS($G$5:G162,$C$5:C162,C162)-SUMIFS($I$4:I161,$C$4:C161,C162)))","v":0},null,{"$f":"IF(C162=\"\",0,IF(C162=$C$4,SUMIFS($I$4:I161,$C$4:C161,C161),SUMIFS($I$4:I161,$C$4:C161,C162)))","v":0},0]
[160,null,{"$f":"IFERROR(VLOOKUP(D163,Nomenclature!$B$2:$C$196,2,0),\"\")","v":""},null,null,null,null,{"$f":"IF(C163=\"\",0,IF(SUMIFS($G$5:G163,$C$5:C163,C163)-SUMIFS($I$4:I162,$C$4:C162,C163)<0,0,SUMIFS($G$5:G163,$C$5:C163,C163)-SUMIFS($I$4:I162,$C$4:C162,C163)))","v":0},null,{"$f":"IF(C163=\"\",0,IF(C163=$C$4,SUMIFS($I$4:I162,$C$4:C162,C162),SUMIFS($I$4:I162,$C$4:C162,C163)))","v":0},0]
[161,null,{"$f":"IFERROR(VLOOKUP(D164,Nomenclature!$B$2:$C$196,2,0),\"\")","v":""},null,null,null,null,{"$f":"IF(C164=\"\",0,IF(SUMIFS($G$5:G164,$C$5:C164,C164)-SUMIFS($I$4:I163,$C$4:C163,C164)<0,0,SUMIFS($G$5:G164,$C$5:C164,C164)-SUMIFS($I$4:I163,$C$4:C163,C164)))","v":0},null,{"$f":"IF(C164=\"\",0,IF(C164=$C$4,SUMIFS($I$4:I163,$C$4:C163,C163),SUMIFS($I$4:I163,$C$4:C163,C164)))","v":0},0]
[162,null,{"$f":"IFERROR(VLOOKUP(D165,Nomenclature!$B$2:$C$196,2,0),\"\")","v":""},null,null,null,null,{"$f":"IF(C165=\"\",0,IF(SUMIFS($G$5:G165,$C$5:C165,C165)-SUMIFS($I$4:I164,$C$4:C164,C165)<0,0,SUMIFS($G$5:G165,$C$5:C165,C165)-SUMIFS($I$4:I164,$C$4:C164,C165)))","v":0},null,{"$f":"IF(C165=\"\",0,IF(C165=$C$4,SUMIFS($I$4:I164,$C$4:C164,C164),SUMIFS($I$4:I164,$C$4:C164,C165)))","v":0},0]
[163,null,{"$f":"IFERROR(VLOOKUP(D166,Nomenclature!$B$2:$C$196,2,0),\"\")","v":""},null,null,null,null,{"$f":"IF(C166=\"\",0,IF(SUMIFS($G$5:G166,$C$5:C166,C166)-SUMIFS($I$4:I165,$C$4:C165,C166)<0,0,SUMIFS($G$5:G166,$C$5:C166,C166)-SUMIFS($I$4:I165,$C$4:C165,C166)))","v":0},null,{"$f":"IF(C166=\"\",0,IF(C166=$C$4,SUMIFS($I$4:I165,$C$4:C165,C165),SUMIFS($I$4:I165,$C$4:C165,C166)))","v":0},0]
[164,null,{"$f":"IFERROR(VLOOKUP(D167,Nomenclature!$B$2:$C$196,2,0),\"\")","v":""},null,null,null,null,{"$f":"IF(C167=\"\",0,IF(SUMIFS($G$5:G167,$C$5:C167,C167)-SUMIFS($I$4:I166,$C$4:C166,C167)<0,0,SUMIFS($G$5:G167,$C$5:C167,C167)-SUMIFS($I$4:I166,$C$4:C166,C167)))","v":0},null,{"$f":"IF(C167=\"\",0,IF(C167=$C$4,SUMIFS($I$4:I166,$C$4:C166,C166),SUMIFS($I$4:I166,$C$4:C166,C167)))","v":0},0]
[165,null,{"$f":"IFERROR(VLOOKUP(D168,Nomenclature!$B$2:$C$196,2,0),\"\")","v":""},null,null,null,null,{"$f":"IF(C168=\"\",0,IF(SUMIFS($G$5:G168,$C$5:C168,C168)-SUMIFS($I$4:I167,$C$4:C167,C168)<0,0,SUMIFS($G$5:G168,$C$5:C168,C168)-SUMIFS($I$4:I167,$C$4:C167,C168)))","v":0},null,{"$f":"IF(C168=\"\",0,IF(C168=$C$4,SUMIFS($I$4:I167,$C$4:C167,C167),SUMIFS($I$4:I167,$C$4:C167,C168)))","v":0},0]
[166,null,{"$f":"IFERROR(VLOOKUP(D169,Nomenclature!$B$2:$C$196,2,0),\"\")","v":""},null,null,null,null,{"$f":"IF(C169=\"\",0,IF(SUMIFS($G$5:G169,$C$5:C169,C169)-SUMIFS($I$4:I168,$C$4:C168,C169)<0,0,SUMIFS($G$5:G169,$C$5:C169,C169)-SUMIFS($I$4:I168,$C$4:C168,C169)))","v":0},null,{"$f":"IF(C169=\"\",0,IF(C169=$C$4,SUMIFS($I$4:I168,$C$4:C168,C168),SUMIFS($I$4:I168,$C$4:C168,C169)))","v":0},0]
[167,null,{"$f":"IFERROR(VLOOKUP(D170,Nomenclature!$B$2:$C$196,2,0),\"\")","v":""},null,null,null,null,{"$f":"IF(C170=\"\",0,IF(SUMIFS($G$5:G170,$C$5:C170,C170)-SUMIFS($I$4:I169,$C$4:C169,C170)<0,0,SUMIFS($G$5:G170,$C$5:C170,C170)-SUMIFS($I$4:I169,$C$4:C169,C170)))","v":0},null,{"$f":"IF(C170=\"\",0,IF(C170=$C$4,SUMIFS($I$4:I169,$C$4:C169,C169),SUMIFS($I$4:I169,$C$4:C169,C170)))","v":0},0]
[168,null,{"$f":"IFERROR(VLOOKUP(D171,Nomenclature!$B$2:$C$196,2,0),\"\")","v":""},null,null,null,null,{"$f":"IF(C171=\"\",0,IF(SUMIFS($G$5:G171,$C$5:C171,C171)-SUMIFS($I$4:I170,$C$4:C170,C171)<0,0,SUMIFS($G$5:G171,$C$5:C171,C171)-SUMIFS($I$4:I170,$C$4:C170,C171)))","v":0},null,{"$f":"IF(C171=\"\",0,IF(C171=$C$4,SUMIFS($I$4:I170,$C$4:C170,C170),SUMIFS($I$4:I170,$C$4:C170,C171)))","v":0},0]
[169,null,{"$f":"IFERROR(VLOOKUP(D172,Nomenclature!$B$2:$C$196,2,0),\"\")","v":""},null,null,null,null,{"$f":"IF(C172=\"\",0,IF(SUMIFS($G$5:G172,$C$5:C172,C172)-SUMIFS($I$4:I171,$C$4:C171,C172)<0,0,SUMIFS($G$5:G172,$C$5:C172,C172)-SUMIFS($I$4:I171,$C$4:C171,C172)))","v":0},null,{"$f":"IF(C172=\"\",0,IF(C172=$C$4,SUMIFS($I$4:I171,$C$4:C171,C171),SUMIFS($I$4:I171,$C$4:C171,C172)))","v":0},0]
[170,null,{"$f":"IFERROR(VLOOKUP(D173,Nomenclature!$B$2:$C$196,2,0),\"\")","v":""},null,null,null,null,{"$f":"IF(C173=\"\",0,IF(SUMIFS($G$5:G173,$C$5:C173,C173)-SUMIFS($I$4:I172,$C$4:C172,C173)<0,0,SUMIFS($G$5:G173,$C$5:C173,C173)-SUMIFS($I$4:I172,$C$4:C172,C173)))","v":0},null,{"$f":"IF(C173=\"\",0,IF(C173=$C$4,SUMIFS($I$4:I172,$C$4:C172,C172),SUMIFS($I$4:I172,$C$4:C172,C173)))","v":0},0]
[171,null,{"$f":"IFERROR(VLOOKUP(D174,Nomenclature!$B$2:$C$196,2,0),\"\")","v":""},null,null,null,null,{"$f":"IF(C174=\"\",0,IF(SUMIFS($G$5:G174,$C$5:C174,C174)-SUMIFS($I$4:I173,$C$4:C173,C174)<0,0,SUMIFS($G$5:G174,$C$5:C174,C174)-SUMIFS($I$4:I173,$C$4:C173,C174)))","v":0},null,{"$f":"IF(C174=\"\",0,IF(C174=$C$4,SUMIFS($I$4:I173,$C$4:C173,C173),SUMIFS($I$4:I173,$C$4:C173,C174)))","v":0},0]
[172,null,{"$f":"IFERROR(VLOOKUP(D175,Nomenclature!$B$2:$C$196,2,0),\"\")","v":""},null,null,null,null,{"$f":"IF(C175=\"\",0,IF(SUMIFS($G$5:G175,$C$5:C175,C175)-SUMIFS($I$4:I174,$C$4:C174,C175)<0,0,SUMIFS($G$5:G175,$C$5:C175,C175)-SUMIFS($I$4:I174,$C$4:C174,C175)))","v":0},null,{"$f":"IF(C175=\"\",0,IF(C175=$C$4,SUMIFS($I$4:I174,$C$4:C174,C174),SUMIFS($I$4:I174,$C$4:C174,C175)))","v":0},0]
[173,null,{"$f":"IFERROR(VLOOKUP(D176,Nomenclature!$B$2:$C$196,2,0),\"\")","v":""},null,null,null,null,{"$f":"IF(C176=\"\",0,IF(SUMIFS($G$5:G176,$C$5:C176,C176)-SUMIFS($I$4:I175,$C$4:C175,C176)<0,0,SUMIFS($G$5:G176,$C$5:C176,C176)-SUMIFS($I$4:I175,$C$4:C175,C176)))","v":0},null,{"$f":"IF(C176=\"\",0,IF(C176=$C$4,SUMIFS($I$4:I175,$C$4:C175,C175),SUMIFS($I$4:I175,$C$4:C175,C176)))","v":0},0]
[174,null,{"$f":"IFERROR(VLOOKUP(D177,Nomenclature!$B$2:$C$196,2,0),\"\")","v":""},null,null,null,null,{"$f":"IF(C177=\"\",0,IF(SUMIFS($G$5:G177,$C$5:C177,C177)-SUMIFS($I$4:I176,$C$4:C176,C177)<0,0,SUMIFS($G$5:G177,$C$5:C177,C177)-SUMIFS($I$4:I176,$C$4:C176,C177)))","v":0},null,{"$f":"IF(C177=\"\",0,IF(C177=$C$4,SUMIFS($I$4:I176,$C$4:C176,C176),SUMIFS($I$4:I176,$C$4:C176,C177)))","v":0},0]
[175,null,{"$f":"IFERROR(VLOOKUP(D178,Nomenclature!$B$2:$C$196,2,0),\"\")","v":""},null,null,null,null,{"$f":"IF(C178=\"\",0,IF(SUMIFS($G$5:G178,$C$5:C178,C178)-SUMIFS($I$4:I177,$C$4:C177,C178)<0,0,SUMIFS($G$5:G178,$C$5:C178,C178)-SUMIFS($I$4:I177,$C$4:C177,C178)))","v":0},null,{"$f":"IF(C178=\"\",0,IF(C178=$C$4,SUMIFS($I$4:I177,$C$4:C177,C177),SUMIFS($I$4:I177,$C$4:C177,C178)))","v":0},0]
[176,null,{"$f":"IFERROR(VLOOKUP(D179,Nomenclature!$B$2:$C$196,2,0),\"\")","v":""},null,null,null,null,{"$f":"IF(C179=\"\",0,IF(SUMIFS($G$5:G179,$C$5:C179,C179)-SUMIFS($I$4:I178,$C$4:C178,C179)<0,0,SUMIFS($G$5:G179,$C$5:C179,C179)-SUMIFS($I$4:I178,$C$4:C178,C179)))","v":0},null,{"$f":"IF(C179=\"\",0,IF(C179=$C$4,SUMIFS($I$4:I178,$C$4:C178,C178),SUMIFS($I$4:I178,$C$4:C178,C179)))","v":0},0]
[177,null,{"$f":"IFERROR(VLOOKUP(D180,Nomenclature!$B$2:$C$196,2,0),\"\")","v":""},null,null,null,null,{"$f":"IF(C180=\"\",0,IF(SUMIFS($G$5:G180,$C$5:C180,C180)-SUMIFS($I$4:I179,$C$4:C179,C180)<0,0,SUMIFS($G$5:G180,$C$5:C180,C180)-SUMIFS($I$4:I179,$C$4:C179,C180)))","v":0},null,{"$f":"IF(C180=\"\",0,IF(C180=$C$4,SUMIFS($I$4:I179,$C$4:C179,C179),SUMIFS($I$4:I179,$C$4:C179,C180)))","v":0},0]
[178,null,{"$f":"IFERROR(VLOOKUP(D181,Nomenclature!$B$2:$C$196,2,0),\"\")","v":""},null,null,null,null,{"$f":"IF(C181=\"\",0,IF(SUMIFS($G$5:G181,$C$5:C181,C181)-SUMIFS($I$4:I180,$C$4:C180,C181)<0,0,SUMIFS($G$5:G181,$C$5:C181,C181)-SUMIFS($I$4:I180,$C$4:C180,C181)))","v":0},null,{"$f":"IF(C181=\"\",0,IF(C181=$C$4,SUMIFS($I$4:I180,$C$4:C180,C180),SUMIFS($I$4:I180,$C$4:C180,C181)))","v":0},0]
[179,null,{"$f":"IFERROR(VLOOKUP(D182,Nomenclature!$B$2:$C$196,2,0),\"\")","v":""},null,null,null,null,{"$f":"IF(C182=\"\",0,IF(SUMIFS($G$5:G182,$C$5:C182,C182)-SUMIFS($I$4:I181,$C$4:C181,C182)<0,0,SUMIFS($G$5:G182,$C$5:C182,C182)-SUMIFS($I$4:I181,$C$4:C181,C182)))","v":0},null,{"$f":"IF(C182=\"\",0,IF(C182=$C$4,SUMIFS($I$4:I181,$C$4:C181,C181),SUMIFS($I$4:I181,$C$4:C181,C182)))","v":0},0]
[180,null,{"$f":"IFERROR(VLOOKUP(D183,Nomenclature!$B$2:$C$196,2,0),\"\")","v":""},null,null,null,null,{"$f":"IF(C183=\"\",0,IF(SUMIFS($G$5:G183,$C$5:C183,C183)-SUMIFS($I$4:I182,$C$4:C182,C183)<0,0,SUMIFS($G$5:G183,$C$5:C183,C183)-SUMIFS($I$4:I182,$C$4:C182,C183)))","v":0},null,{"$f":"IF(C183=\"\",0,IF(C183=$C$4,SUMIFS($I$4:I182,$C$4:C182,C182),SUMIFS($I$4:I182,$C$4:C182,C183)))","v":0},0]
[181,null,{"$f":"IFERROR(VLOOKUP(D184,Nomenclature!$B$2:$C$196,2,0),\"\")","v":""},null,null,null,null,{"$f":"IF(C184=\"\",0,IF(SUMIFS($G$5:G184,$C$5:C184,C184)-SUMIFS($I$4:I183,$C$4:C183,C184)<0,0,SUMIFS($G$5:G184,$C$5:C184,C184)-SUMIFS($I$4:I183,$C$4:C183,C184)))","v":0},null,{"$f":"IF(C184=\"\",0,IF(C184=$C$4,SUMIFS($I$4:I183,$C$4:C183,C183),SUMIFS($I$4:I183,$C$4:C183,C184)))","v":0},0]
[182,null,{"$f":"IFERROR(VLOOKUP(D185,Nomenclature!$B$2:$C$196,2,0),\"\")","v":""},null,null,null,null,{"$f":"IF(C185=\"\",0,IF(SUMIFS($G$5:G185,$C$5:C185,C185)-SUMIFS($I$4:I184,$C$4:C184,C185)<0,0,SUMIFS($G$5:G185,$C$5:C185,C185)-SUMIFS($I$4:I184,$C$4:C184,C185)))","v":0},null,{"$f":"IF(C185=\"\",0,IF(C185=$C$4,SUMIFS($I$4:I184,$C$4:C184,C184),SUMIFS($I$4:I184,$C$4:C184,C185)))","v":0},0]
[183,null,{"$f":"IFERROR(VLOOKUP(D186,Nomenclature!$B$2:$C$196,2,0),\"\")","v":""},null,null,null,null,{"$f":"IF(C186=\"\",0,IF(SUMIFS($G$5:G186,$C$5:C186,C186)-SUMIFS($I$4:I185,$C$4:C185,C186)<0,0,SUMIFS($G$5:G186,$C$5:C186,C186)-SUMIFS($I$4:I185,$C$4:C185,C186)))","v":0},null,{"$f":"IF(C186=\"\",0,IF(C186=$C$4,SUMIFS($I$4:I185,$C$4:C185,C185),SUMIFS($I$4:I185,$C$4:C185,C186)))","v":0},0]
[184,null,{"$f":"IFERROR(VLOOKUP(D187,Nomenclature!$B$2:$C$196,2,0),\"\")","v":""},null,null,null,null,{"$f":"IF(C187=\"\",0,IF(SUMIFS($G$5:G187,$C$5:C187,C187)-SUMIFS($I$4:I186,$C$4:C186,C187)<0,0,SUMIFS($G$5:G187,$C$5:C187,C187)-SUMIFS($I$4:I186,$C$4:C186,C187)))","v":0},null,{"$f":"IF(C187=\"\",0,IF(C187=$C$4,SUMIFS($I$4:I186,$C$4:C186,C186),SUMIFS($I$4:I186,$C$4:C186,C187)))","v":0},0]
[185,null,{"$f":"IFERROR(VLOOKUP(D188,Nomenclature!$B$2:$C$196,2,0),\"\")","v":""},null,null,null,null,{"$f":"IF(C188=\"\",0,IF(SUMIFS($G$5:G188,$C$5:C188,C188)-SUMIFS($I$4:I187,$C$4:C187,C188)<0,0,SUMIFS($G$5:G188,$C$5:C188,C188)-SUMIFS($I$4:I187,$C$4:C187,C188)))","v":0},null,{"$f":"IF(C188=\"\",0,IF(C188=$C$4,SUMIFS($I$4:I187,$C$4:C187,C187),SUMIFS($I$4:I187,$C$4:C187,C188)))","v":0},0]
[186,null,{"$f":"IFERROR(VLOOKUP(D189,Nomenclature!$B$2:$C$196,2,0),\"\")","v":""},null,null,null,null,{"$f":"IF(C189=\"\",0,IF(SUMIFS($G$5:G189,$C$5:C189,C189)-SUMIFS($I$4:I188,$C$4:C188,C189)<0,0,SUMIFS($G$5:G189,$C$5:C189,C189)-SUMIFS($I$4:I188,$C$4:C188,C189)))","v":0},null,{"$f":"IF(C189=\"\",0,IF(C189=$C$4,SUMIFS($I$4:I188,$C$4:C188,C188),SUMIFS($I$4:I188,$C$4:C188,C189)))","v":0},0]
[187,null,{"$f":"IFERROR(VLOOKUP(D190,Nomenclature!$B$2:$C$196,2,0),\"\")","v":""},null,null,null,null,{"$f":"IF(C190=\"\",0,IF(SUMIFS($G$5:G190,$C$5:C190,C190)-SUMIFS($I$4:I189,$C$4:C189,C190)<0,0,SUMIFS($G$5:G190,$C$5:C190,C190)-SUMIFS($I$4:I189,$C$4:C189,C190)))","v":0},null,{"$f":"IF(C190=\"\",0,IF(C190=$C$4,SUMIFS($I$4:I189,$C$4:C189,C189),SUMIFS($I$4:I189,$C$4:C189,C190)))","v":0},0]
[188,null,{"$f":"IFERROR(VLOOKUP(D191,Nomenclature!$B$2:$C$196,2,0),\"\")","v":""},null,null,null,null,{"$f":"IF(C191=\"\",0,IF(SUMIFS($G$5:G191,$C$5:C191,C191)-SUMIFS($I$4:I190,$C$4:C190,C191)<0,0,SUMIFS($G$5:G191,$C$5:C191,C191)-SUMIFS($I$4:I190,$C$4:C190,C191)))","v":0},null,{"$f":"IF(C191=\"\",0,IF(C191=$C$4,SUMIFS($I$4:I190,$C$4:C190,C190),SUMIFS($I$4:I190,$C$4:C190,C191)))","v":0},0]
[189,null,{"$f":"IFERROR(VLOOKUP(D192,Nomenclature!$B$2:$C$196,2,0),\"\")","v":""},null,null,null,null,{"$f":"IF(C192=\"\",0,IF(SUMIFS($G$5:G192,$C$5:C192,C192)-SUMIFS($I$4:I191,$C$4:C191,C192)<0,0,SUMIFS($G$5:G192,$C$5:C192,C192)-SUMIFS($I$4:I191,$C$4:C191,C192)))","v":0},null,{"$f":"IF(C192=\"\",0,IF(C192=$C$4,SUMIFS($I$4:I191,$C$4:C191,C191),SUMIFS($I$4:I191,$C$4:C191,C192)))","v":0},0]
[190,null,{"$f":"IFERROR(VLOOKUP(D193,Nomenclature!$B$2:$C$196,2,0),\"\")","v":""},null,null,null,null,{"$f":"IF(C193=\"\",0,IF(SUMIFS($G$5:G193,$C$5:C193,C193)-SUMIFS($I$4:I192,$C$4:C192,C193)<0,0,SUMIFS($G$5:G193,$C$5:C193,C193)-SUMIFS($I$4:I192,$C$4:C192,C193)))","v":0},null,{"$f":"IF(C193=\"\",0,IF(C193=$C$4,SUMIFS($I$4:I192,$C$4:C192,C192),SUMIFS($I$4:I192,$C$4:C192,C193)))","v":0},0]
[191,null,{"$f":"IFERROR(VLOOKUP(D194,Nomenclature!$B$2:$C$196,2,0),\"\")","v":""},null,null,null,null,{"$f":"IF(C194=\"\",0,IF(SUMIFS($G$5:G194,$C$5:C194,C194)-SUMIFS($I$4:I193,$C$4:C193,C194)<0,0,SUMIFS($G$5:G194,$C$5:C194,C194)-SUMIFS($I$4:I193,$C$4:C193,C194)))","v":0},null,{"$f":"IF(C194=\"\",0,IF(C194=$C$4,SUMIFS($I$4:I193,$C$4:C193,C193),SUMIFS($I$4:I193,$C$4:C193,C194)))","v":0},0]
[192,null,{"$f":"IFERROR(VLOOKUP(D195,Nomenclature!$B$2:$C$196,2,0),\"\")","v":""},null,null,null,null,{"$f":"IF(C195=\"\",0,IF(SUMIFS($G$5:G195,$C$5:C195,C195)-SUMIFS($I$4:I194,$C$4:C194,C195)<0,0,SUMIFS($G$5:G195,$C$5:C195,C195)-SUMIFS($I$4:I194,$C$4:C194,C195)))","v":0},null,{"$f":"IF(C195=\"\",0,IF(C195=$C$4,SUMIFS($I$4:I194,$C$4:C194,C194),SUMIFS($I$4:I194,$C$4:C194,C195)))","v":0},0]
[193,null,{"$f":"IFERROR(VLOOKUP(D196,Nomenclature!$B$2:$C$196,2,0),\"\")","v":""},null,null,null,null,{"$f":"IF(C196=\"\",0,IF(SUMIFS($G$5:G196,$C$5:C196,C196)-SUMIFS($I$4:I195,$C$4:C195,C196)<0,0,SUMIFS($G$5:G196,$C$5:C196,C196)-SUMIFS($I$4:I195,$C$4:C195,C196)))","v":0},null,{"$f":"IF(C196=\"\",0,IF(C196=$C$4,SUMIFS($I$4:I195,$C$4:C195,C195),SUMIFS($I$4:I195,$C$4:C195,C196)))","v":0},{"$f":"IF(C196=\"\",0,H196-I196)","v":0}]
[194,null,{"$f":"IFERROR(VLOOKUP(D197,Nomenclature!$B$2:$C$196,2,0),\"\")","v":""},null,null,null,null,{"$f":"IF(C197=\"\",0,IF(SUMIFS($G$5:G197,$C$5:C197,C197)-SUMIFS($I$4:I196,$C$4:C196,C197)<0,0,SUMIFS($G$5:G197,$C$5:C197,C197)-SUMIFS($I$4:I196,$C$4:C196,C197)))","v":0},null,{"$f":"IF(C197=\"\",0,IF(C197=$C$4,SUMIFS($I$4:I196,$C$4:C196,C196),SUMIFS($I$4:I196,$C$4:C196,C197)))","v":0},0]
[195,null,{"$f":"IFERROR(VLOOKUP(D198,Nomenclature!$B$2:$C$196,2,0),\"\")","v":""},null,null,null,null,{"$f":"IF(C198=\"\",0,IF(SUMIFS($G$5:G198,$C$5:C198,C198)-SUMIFS($I$4:I197,$C$4:C197,C198)<0,0,SUMIFS($G$5:G198,$C$5:C198,C198)-SUMIFS($I$4:I197,$C$4:C197,C198)))","v":0},null,{"$f":"IF(C198=\"\",0,IF(C198=$C$4,SUMIFS($I$4:I197,$C$4:C197,C197),SUMIFS($I$4:I197,$C$4:C197,C198)))","v":0},0]
[196,null,{"$f":"IFERROR(VLOOKUP(D199,Nomenclature!$B$2:$C$196,2,0),\"\")","v":""},null,null,null,null,{"$f":"IF(C199=\"\",0,IF(SUMIFS($G$5:G199,$C$5:C199,C199)-SUMIFS($I$4:I198,$C$4:C198,C199)<0,0,SUMIFS($G$5:G199,$C$5:C199,C199)-SUMIFS($I$4:I198,$C$4:C198,C199)))","v":0},null,{"$f":"IF(C199=\"\",0,IF(C199=$C$4,SUMIFS($I$4:I198,$C$4:C198,C198),SUMIFS($I$4:I198,$C$4:C198,C199)))","v":0},0]
[197,null,{"$f":"IFERROR(VLOOKUP(D200,Nomenclature!$B$2:$C$196,2,0),\"\")","v":""},null,null,null,null,{"$f":"IF(C200=\"\",0,IF(SUMIFS($G$5:G200,$C$5:C200,C200)-SUMIFS($I$4:I199,$C$4:C199,C200)<0,0,SUMIFS($G$5:G200,$C$5:C200,C200)-SUMIFS($I$4:I199,$C$4:C199,C200)))","v":0},null,{"$f":"IF(C200=\"\",0,IF(C200=$C$4,SUMIFS($I$4:I199,$C$4:C199,C199),SUMIFS($I$4:I199,$C$4:C199,C200)))","v":0},0]
[198,null,{"$f":"IFERROR(VLOOKUP(D201,Nomenclature!$B$2:$C$196,2,0),\"\")","v":""},null,null,null,null,{"$f":"IF(C201=\"\",0,IF(SUMIFS($G$5:G201,$C$5:C201,C201)-SUMIFS($I$4:I200,$C$4:C200,C201)<0,0,SUMIFS($G$5:G201,$C$5:C201,C201)-SUMIFS($I$4:I200,$C$4:C200,C201)))","v":0},null,{"$f":"IF(C201=\"\",0,IF(C201=$C$4,SUMIFS($I$4:I200,$C$4:C200,C200),SUMIFS($I$4:I200,$C$4:C200,C201)))","v":0},0]
[199,null,{"$f":"IFERROR(VLOOKUP(D202,Nomenclature!$B$2:$C$196,2,0),\"\")","v":""},null,null,null,null,{"$f":"IF(C202=\"\",0,IF(SUMIFS($G$5:G202,$C$5:C202,C202)-SUMIFS($I$4:I201,$C$4:C201,C202)<0,0,SUMIFS($G$5:G202,$C$5:C202,C202)-SUMIFS($I$4:I201,$C$4:C201,C202)))","v":0},null,{"$f":"IF(C202=\"\",0,IF(C202=$C$4,SUMIFS($I$4:I201,$C$4:C201,C201),SUMIFS($I$4:I201,$C$4:C201,C202)))","v":0},0]
[200,null,{"$f":"IFERROR(VLOOKUP(D203,Nomenclature!$B$2:$C$196,2,0),\"\")","v":""},null,null,null,null,{"$f":"IF(C203=\"\",0,IF(SUMIFS($G$5:G203,$C$5:C203,C203)-SUMIFS($I$4:I202,$C$4:C202,C203)<0,0,SUMIFS($G$5:G203,$C$5:C203,C203)-SUMIFS($I$4:I202,$C$4:C202,C203)))","v":0},null,{"$f":"IF(C203=\"\",0,IF(C203=$C$4,SUMIFS($I$4:I202,$C$4:C202,C202),SUMIFS($I$4:I202,$C$4:C202,C203)))","v":0},0]

{"sheet":"21000","index":7,"n_rows":203,"n_cols":44,"rows_kept":203,"cut":false,"hidden":false,"merged":[[50,23,50,24],[44,14,45,18],[44,22,45,26],[44,29,44,30],[46,14,47,18],[46,22,47,26],[47,29,47,30],[50,15,50,16],[33,14,33,17],[34,14,37,41],[39,14,39,17],[39,18,40,41],[42,14,42,27],[42,28,42,41],[28,38,29,41],[30,14,31,17],[30,18,31,21],[30,22,31,25],[30,26,31,29],[30,30,31,33],[30,34,31,37],[30,38,31,41],[28,14,29,17],[28,18,29,21],[28,22,29,25],[28,26,29,29],[28,30,29,33],[28,34,29,37],[19,14,19,15],[26,38,27,41],[20,22,20,32],[21,18,21,21],[21,22,21,32],[22,18,22,21],[22,22,22,32],[23,17,25,41],[20,18,20,21],[26,14,27,21],[26,22,27,25],[26,26,27,29],[26,30,27,33],[26,34,27,37],[15,19,15,20],[16,14,16,18],[16,19,16,20],[14,14,14,18],[14,19,14,27],[0,13,2,15],[3,14,3,41],[3,42,58,42],[4,14,4,18],[4,19,4,27],[5,14,5,18],[5,19,5,27],[6,14,6,18],[6,19,6,27],[10,15,11,19],[10,20,11,23],[10,31,11,32],[10,33,11,38],[13,14,13,18],[13,19,13,20],[15,14,15,18],[0,11,2,11],[0,0,2,0],[0,1,2,1],[0,2,2,2],[0,3,2,3],[0,4,2,4],[0,5,1,5],[0,6,1,6],[0,7,2,7],[0,8,1,8],[0,9,2,9],[0,10,1,10]]}
["رقم\nالاستمارة","التاريخ","الترميز","الصنف / الصنف الفرعي","ملاحظات المصلحة","AP Cat",{"$f":"IF(SUM(G4:G203)-SUM(F4:F203)<0,\"نقص في توزيع الاعتمادات على الاصناف الفرعية\",\nIF(SUM(G4:G203)-SUM(F4:F203)>0,\"تجاوز في الاعتمادات الموزعة على الاصناف الفرعية\",\"AP S.Cat\"))","v":"AP S.Cat"},"AP Sous_Cat",{"$f":"IF(I3>G3,\"تجاوز في الالتزامات\",\"∑ Engagements\")","v":"∑ Engagements"},"∑ Eng Sous_Cat","Reste","السند القانوني للعنوان الرابع",null,3]
[]
[null,null,null,null,null,{"$f":"SUM(F4:F203)","v":0},{"$f":"SUM(G4:G203)","v":0},null,{"$f":"SUM(I5:I203)","v":0},null,{"$f":"SUM(K4:K104)","v":0}]
[1,"2023-03-13",{"$f":"IFERROR(VLOOKUP(D4,Nomenclature!$B$2:$C$196,2,0),\"\")","v":21000},"التنقلات و النقل و الاتصالات","تكفل برخصة الالتزام المفتوحة لسنة 2023.",null,null,{"$f":"IF(C4=\"\",0,IF(SUMIFS($G4:G$5,$C4:C$5,C4)-SUMIFS($I3:I$4,$C3:C$4,C4)<0,0,SUMIFS($G4:G$5,$C4:C$5,C4)-SUMIFS($I3:I$4,$C3:C$4,C4)))","v":0},null,{"$f":"IF(I4=0,0,IF(C4=\"\",0,SUMIFS($I4:I$4,$C4:C$4,C4)))","v":0},{"$f":"IF(C4=\"\",0,H4-I4)","v":0},null,null,null,"الجمهورية الجزائرية الديمقراطية الشعبية"]
[2,"2023-04-01",{"$f":"IFERROR(VLOOKUP(D5,Nomenclature!$B$2:$C$196,2,0),\"\")","v":""},null,null,null,null,{"$f":"IF(C5=\"\",0,IF(SUMIFS($G$5:G5,$C$5:C5,C5)-SUMIFS($I$4:I4,$C$4:C4,C5)<0,0,SUMIFS($G$5:G5,$C$5:C5,C5)-SUMIFS($I$4:I4,$C$4:C4,C5)))","v":0},null,{"$f":"IF(C5=\"\",0,IF(C5=$C$4,SUMIFS($I$4:I4,$C$4:C4,C4),SUMIFS($I$4:I4,$C$4:C4,C5)))","v":0},0,null,null,null,"الـوزارة:",null,null,null,null,{"$f":"الواجهة!C2","v":"وزارة البيئة و الطاقات المتجددة"}]
[3,null,{"$f":"IFERROR(VLOOKUP(D6,Nomenclature!$B$2:$C$196,2,0),\"\")","v":""},null,null,null,null,{"$f":"IF(C6=\"\",0,IF(SUMIFS($G$5:G6,$C$5:C6,C6)-SUMIFS($I$4:I5,$C$4:C5,C6)<0,0,SUMIFS($G$5:G6,$C$5:C6,C6)-SUMIFS($I$4:I5,$C$4:C5,C6)))","v":0},null,{"$f":"IF(C6=\"\",0,IF(C6=$C$4,SUMIFS($I$4:I5,$C$4:C5,C5),SUMIFS($I$4:I5,$C$4:C5,C6)))","v":0},0,null,null,null,"الهيئة الإدارية:",null,null,null,null,{"$f":"الواجهة!C3","v":"مديرية البيئة لولاية المسيلة"}]
[4,null,{"$f":"IFERROR(VLOOKUP(D7,Nomenclature!$B$2:$C$196,2,0),\"\")","v":""},null,null,null,null,{"$f":"IF(C7=\"\",0,IF(SUMIFS($G$5:G7,$C$5:C7,C7)-SUMIFS($I$4:I6,$C$4:C6,C7)<0,0,SUMIFS($G$5:G7,$C$5:C7,C7)-SUMIFS($I$4:I6,$C$4:C6,C7)))","v":0},null,{"$f":"IF(C7=\"\",0,IF(C7=$C$4,SUMIFS($I$4:I6,$C$4:C6,C6),SUMIFS($I$4:I6,$C$4:C6,C7)))","v":0},0,null,null,null,"رمز الآمر بالصرف:",null,null,null,null,{"$f":"الواجهة!C4","v":"144 0 28 01"}]
[5,null,{"$f":"IFERROR(VLOOKUP(D8,Nomenclature!$B$2:$C$196,2,0),\"\")","v":""},null,null,null,null,{"$f":"IF(C8=\"\",0,IF(SUMIFS($G$5:G8,$C$5:C8,C8)-SUMIFS($I$4:I7,$C$4:C7,C8)<0,0,SUMIFS($G$5:G8,$C$5:C8,C8)-SUMIFS($I$4:I7,$C$4:C7,C8)))","v":0},null,{"$f":"IF(C8=\"\",0,IF(C8=$C$4,SUMIFS($I$4:I7,$C$4:C7,C7),SUMIFS($I$4:I7,$C$4:C7,C8)))","v":0},0,null,null,null,null,null,null,null,null,null,null,null,null,null,null,null,null,null,null,null,null,null,null,"."]
[6,null,{"$f":"IFERROR(VLOOKUP(D9,Nomenclature!$B$2:$C$196,2,0),\"\")","v":""},null,null,null,null,{"$f":"IF(C9=\"\",0,IF(SUMIFS($G$5:G9,$C$5:C9,C9)-SUMIFS($I$4:I8,$C$4:C8,C9)<0,0,SUMIFS($G$5:G9,$C$5:C9,C9)-SUMIFS($I$4:I8,$C$4:C8,C9)))","v":0},null,{"$f":"IF(C9=\"\",0,IF(C9=$C$4,SUMIFS($I$4:I8,$C$4:C8,C8),SUMIFS($I$4:I8,$C$4:C8,C9)))","v":0},0]
[7,null,{"$f":"IFERROR(VLOOKUP(D10,Nomenclature!$B$2:$C$196,2,0),\"\")","v":""},null,null,null,null,{"$f":"IF(C10=\"\",0,IF(SUMIFS($G$5:G10,$C$5:C10,C10)-SUMIFS($I$4:I9,$C$4:C9,C10)<0,0,SUMIFS($G$5:G10,$C$5:C10,C10)-SUMIFS($I$4:I9,$C$4:C9,C10)))","v":0},null,{"$f":"IF(C10=\"\",0,IF(C10=$C$4,SUMIFS($I$4:I9,$C$4:C9,C9),SUMIFS($I$4:I9,$C$4:C9,C10)))","v":0},0]
[8,null,{"$f":"IFERROR(VLOOKUP(D11,Nomenclature!$B$2:$C$196,2,0),\"\")","v":""},null,null,null,null,{"$f":"IF(C11=\"\",0,IF(SUMIFS($G$5:G11,$C$5:C11,C11)-SUMIFS($I$4:I10,$C$4:C10,C11)<0,0,SUMIFS($G$5:G11,$C$5:C11,C11)-SUMIFS($I$4:I10,$C$4:C10,C11)))","v":0},null,{"$f":"IF(C11=\"\",0,IF(C11=$C$4,SUMIFS($I$4:I10,$C$4:C10,C10),SUMIFS($I$4:I10,$C$4:C10,C11)))","v":0},0,null,null,null,null,"رقم بطاقة الالتزام:",null,null,null,null,{"$f":"IFERROR(VLOOKUP(N1,A4:L203,1,0),0)","v":3},null,null,null,null,null,null,null,null,null,null,"التاريخ:",null,{"$f":"IF(IFERROR(VLOOKUP(N1,A4:L203,2,0),0)=0,\"\",IFERROR(VLOOKUP(N1,A4:L203,2,0),0))","v":""}]
[9,null,{"$f":"IFERROR(VLOOKUP(D12,Nomenclature!$B$2:$C$196,2,0),\"\")","v":""},null,null,null,null,{"$f":"IF(C12=\"\",0,IF(SUMIFS($G$5:G12,$C$5:C12,C12)-SUMIFS($I$4:I11,$C$4:C11,C12)<0,0,SUMIFS($G$5:G12,$C$5:C12,C12)-SUMIFS($I$4:I11,$C$4:C11,C12)))","v":0},null,{"$f":"IF(C12=\"\",0,IF(C12=$C$4,SUMIFS($I$4:I11,$C$4:C11,C11),SUMIFS($I$4:I11,$C$4:C11,C12)))","v":0},0]
[10,null,{"$f":"IFERROR(VLOOKUP(D13,Nomenclature!$B$2:$C$196,2,0),\"\")","v":""},null,null,null,null,{"$f":"IF(C13=\"\",0,IF(SUMIFS($G$5:G13,$C$5:C13,C13)-SUMIFS($I$4:I12,$C$4:C12,C13)<0,0,SUMIFS($G$5:G13,$C$5:C13,C13)-SUMIFS($I$4:I12,$C$4:C12,C13)))","v":0},null,{"$f":"IF(C13=\"\",0,IF(C13=$C$4,SUMIFS($I$4:I12,$C$4:C12,C12),SUMIFS($I$4:I12,$C$4:C12,C13)))","v":0},0]
[11,null,{"$f":"IFERROR(VLOOKUP(D14,Nomenclature!$B$2:$C$196,2,0),\"\")","v":""},null,null,null,null,{"$f":"IF(C14=\"\",0,IF(SUMIFS($G$5:G14,$C$5:C14,C14)-SUMIFS($I$4:I13,$C$4:C13,C14)<0,0,SUMIFS($G$5:G14,$C$5:C14,C14)-SUMIFS($I$4:I13,$C$4:C13,C14)))","v":0},null,{"$f":"IF(C14=\"\",0,IF(C14=$C$4,SUMIFS($I$4:I13,$C$4:C13,C13),SUMIFS($I$4:I13,$C$4:C13,C14)))","v":0},0,null,null,null,"رمز البرنــامج:",null,null,null,null,{"$f":"الواجهة!C7","v":"116"}]
[12,null,{"$f":"IFERROR(VLOOKUP(D15,Nomenclature!$B$2:$C$196,2,0),\"\")","v":""},null,null,null,null,{"$f":"IF(C15=\"\",0,IF(SUMIFS($G$5:G15,$C$5:C15,C15)-SUMIFS($I$4:I14,$C$4:C14,C15)<0,0,SUMIFS($G$5:G15,$C$5:C15,C15)-SUMIFS($I$4:I14,$C$4:C14,C15)))","v":0},null,{"$f":"IF(C15=\"\",0,IF(C15=$C$4,SUMIFS($I$4:I14,$C$4:C14,C14),SUMIFS($I$4:I14,$C$4:C14,C15)))","v":0},0,null,null,null,"رمز النشــاط:",null,null,null,null,{"$f":"الواجهة!C6&\" \"&الواجهة!C7&\" \"&الواجهة!C10&\" \"&الواجهة!C8&\" \"&الواجهة!C9&\" \"&الواجهة!C11","v":"030 116 02 2001 000 028"}]
[13,null,{"$f":"IFERROR(VLOOKUP(D16,Nomenclature!$B$2:$C$196,2,0),\"\")","v":""},null,null,null,null,{"$f":"IF(C16=\"\",0,IF(SUMIFS($G$5:G16,$C$5:C16,C16)-SUMIFS($I$4:I15,$C$4:C15,C16)<0,0,SUMIFS($G$5:G16,$C$5:C16,C16)-SUMIFS($I$4:I15,$C$4:C15,C16)))","v":0},null,{"$f":"IF(C16=\"\",0,IF(C16=$C$4,SUMIFS($I$4:I15,$C$4:C15,C15),SUMIFS($I$4:I15,$C$4:C15,C16)))","v":0},0,null,null,null,"رمز النشــاط الفرعي:",null,null,null,null,{"$f":"الواجهة!C9","v":"000"}]
[14,null,{"$f":"IFERROR(VLOOKUP(D17,Nomenclature!$B$2:$C$196,2,0),\"\")","v":""},null,null,null,null,{"$f":"IF(C17=\"\",0,IF(SUMIFS($G$5:G17,$C$5:C17,C17)-SUMIFS($I$4:I16,$C$4:C16,C17)<0,0,SUMIFS($G$5:G17,$C$5:C17,C17)-SUMIFS($I$4:I16,$C$4:C16,C17)))","v":0},null,{"$f":"IF(C17=\"\",0,IF(C17=$C$4,SUMIFS($I$4:I16,$C$4:C16,C16),SUMIFS($I$4:I16,$C$4:C16,C17)))","v":0},0,null,null,null,"رمز البرنـامج الفرعي:",null,null,null,null,{"$f":"الواجهة!C10","v":"02"}]
[15,null,{"$f":"IFERROR(VLOOKUP(D18,Nomenclature!$B$2:$C$196,2,0),\"\")","v":""},null,null,null,null,{"$f":"IF(C18=\"\",0,IF(SUMIFS($G$5:G18,$C$5:C18,C18)-SUMIFS($I$4:I17,$C$4:C17,C18)<0,0,SUMIFS($G$5:G18,$C$5:C18,C18)-SUMIFS($I$4:I17,$C$4:C17,C18)))","v":0},null,{"$f":"IF(C18=\"\",0,IF(C18=$C$4,SUMIFS($I$4:I17,$C$4:C17,C17),SUMIFS($I$4:I17,$C$4:C17,C18)))","v":0},0,null,null,null,null,null,null,null,null,null,null,null,null,null,null,null,null,null,null,null,null,null,null,null,null,null,null,null,null,null,null,null,null,"\n\n\n"]
[16,null,{"$f":"IFERROR(VLOOKUP(D19,Nomenclature!$B$2:$C$196,2,0),\"\")","v":""},null,null,null,null,{"$f":"IF(C19=\"\",0,IF(SUMIFS($G$5:G19,$C$5:C19,C19)-SUMIFS($I$4:I18,$C$4:C18,C19)<0,0,SUMIFS($G$5:G19,$C$5:C19,C19)-SUMIFS($I$4:I18,$C$4:C18,C19)))","v":0},null,{"$f":"IF(C19=\"\",0,IF(C19=$C$4,SUMIFS($I$4:I18,$C$4:C18,C18),SUMIFS($I$4:I18,$C$4:C18,C19)))","v":0},0]
[17,null,{"$f":"IFERROR(VLOOKUP(D20,Nomenclature!$B$2:$C$196,2,0),\"\")","v":""},null,null,null,null,{"$f":"IF(C20=\"\",0,IF(SUMIFS($G$5:G20,$C$5:C20,C20)-SUMIFS($I$4:I19,$C$4:C19,C20)<0,0,SUMIFS($G$5:G20,$C$5:C20,C20)-SUMIFS($I$4:I19,$C$4:C19,C20)))","v":0},null,{"$f":"IF(C20=\"\",0,IF(C20=$C$4,SUMIFS($I$4:I19,$C$4:C19,C19),SUMIFS($I$4:I19,$C$4:C19,C20)))","v":0},0,null,null,null,"العنوان:"]
[18,null,{"$f":"IFERROR(VLOOKUP(D21,Nomenclature!$B$2:$C$196,2,0),\"\")","v":""},null,null,null,null,{"$f":"IF(C21=\"\",0,IF(SUMIFS($G$5:G21,$C$5:C21,C21)-SUMIFS($I$4:I20,$C$4:C20,C21)<0,0,SUMIFS($G$5:G21,$C$5:C21,C21)-SUMIFS($I$4:I20,$C$4:C20,C21)))","v":0},null,{"$f":"IF(C21=\"\",0,IF(C21=$C$4,SUMIFS($I$4:I20,$C$4:C20,C20),SUMIFS($I$4:I20,$C$4:C20,C21)))","v":0},0,null,null,null,null,null,{"$f":"IF(C4<20000,\"X\",\"\")","v":""},null,"العنوان الأول:",null,null,null,"نفقات المستخدمين"]
[19,null,{"$f":"IFERROR(VLOOKUP(D22,Nomenclature!$B$2:$C$196,2,0),\"\")","v":""},null,null,null,null,{"$f":"IF(C22=\"\",0,IF(SUMIFS($G$5:G22,$C$5:C22,C22)-SUMIFS($I$4:I21,$C$4:C21,C22)<0,0,SUMIFS($G$5:G22,$C$5:C22,C22)-SUMIFS($I$4:I21,$C$4:C21,C22)))","v":0},null,{"$f":"IF(C22=\"\",0,IF(C22=$C$4,SUMIFS($I$4:I21,$C$4:C21,C21),SUMIFS($I$4:I21,$C$4:C21,C22)))","v":0},0,null,null,null,null,null,{"$f":"IF(AND(C4>19999,C4<40000),\"X\",\"\")","v":"X"},null,"العنوان الثاني:",null,null,null,"نفقات تسيير المصالح"]
[20,null,{"$f":"IFERROR(VLOOKUP(D23,Nomenclature!$B$2:$C$196,2,0),\"\")","v":""},null,null,null,null,{"$f":"IF(C23=\"\",0,IF(SUMIFS($G$5:G23,$C$5:C23,C23)-SUMIFS($I$4:I22,$C$4:C22,C23)<0,0,SUMIFS($G$5:G23,$C$5:C23,C23)-SUMIFS($I$4:I22,$C$4:C22,C23)))","v":0},null,{"$f":"IF(C23=\"\",0,IF(C23=$C$4,SUMIFS($I$4:I22,$C$4:C22,C22),SUMIFS($I$4:I22,$C$4:C22,C23)))","v":0},0,null,null,null,null,null,{"$f":"IF(AND(Q21=\"\",Q22=\"\"),\"X\",\"\")","v":""},null,"العنوان الرابع:",null,null,null,"نفقات التحويل"]
[21,null,{"$f":"IFERROR(VLOOKUP(D24,Nomenclature!$B$2:$C$196,2,0),\"\")","v":""},null,null,null,null,{"$f":"IF(C24=\"\",0,IF(SUMIFS($G$5:G24,$C$5:C24,C24)-SUMIFS($I$4:I23,$C$4:C23,C24)<0,0,SUMIFS($G$5:G24,$C$5:C24,C24)-SUMIFS($I$4:I23,$C$4:C23,C24)))","v":0},null,{"$f":"IF(C24=\"\",0,IF(C24=$C$4,SUMIFS($I$4:I23,$C$4:C23,C23),SUMIFS($I$4:I23,$C$4:C23,C24)))","v":0},0,null,null,null,null,null,null,{"$f":"IF(VLOOKUP(N1,A4:L203,12,0)=\"\",\"- - - - - - - - - - - - - - - - - - - - - - - - - - - - - - - - - - - - - - - - - - - - - - - / / / - - - - - - - - - - - - - - - - - - - - - - - - - - - - - - - - - - - - - - - - - - - - - - -\"& CHAR(10)&\"- - - - - - - - - - - - - - - - - - - - - - - - - - - - - - - - - - - - - - - - - - - - - - - / / / - - - - - - - - - - - - - - - - - - - - - - - - - - - - - - - - - - - - - - - - - - - - - - -\",VLOOKUP(N1,A4:L203,12,0))","v":"- - - - - - - - - - - - - - - - - - - - - - - - - - - - - - - - - - - - - - - - - - - - - - - / / / - - - - - - - - - - - - - - - - - - - - - - - - - - - - - - - - - - - - - - - - - - - - - - -\n- - - - - - - - - - - - - - - - - - - - - - - - - - - - - - - - - - - - - - - - - - - - - - - / / / - - - - - - - - - - - - - - - - - - - - - - - - - - - - - - - - - - - - - - - - - - - - - - -"}]
[22,null,{"$f":"IFERROR(VLOOKUP(D25,Nomenclature!$B$2:$C$196,2,0),\"\")","v":""},null,null,null,null,{"$f":"IF(C25=\"\",0,IF(SUMIFS($G$5:G25,$C$5:C25,C25)-SUMIFS($I$4:I24,$C$4:C24,C25)<0,0,SUMIFS($G$5:G25,$C$5:C25,C25)-SUMIFS($I$4:I24,$C$4:C24,C25)))","v":0},null,{"$f":"IF(C25=\"\",0,IF(C25=$C$4,SUMIFS($I$4:I24,$C$4:C24,C24),SUMIFS($I$4:I24,$C$4:C24,C25)))","v":0},0]
[23,null,{"$f":"IFERROR(VLOOKUP(D26,Nomenclature!$B$2:$C$196,2,0),\"\")","v":""},null,null,null,null,{"$f":"IF(C26=\"\",0,IF(SUMIFS($G$5:G26,$C$5:C26,C26)-SUMIFS($I$4:I25,$C$4:C25,C26)<0,0,SUMIFS($G$5:G26,$C$5:C26,C26)-SUMIFS($I$4:I25,$C$4:C25,C26)))","v":0},null,{"$f":"IF(C26=\"\",0,IF(C26=$C$4,SUMIFS($I$4:I25,$C$4:C25,C25),SUMIFS($I$4:I25,$C$4:C25,C26)))","v":0},0]
[24,null,{"$f":"IFERROR(VLOOKUP(D27,Nomenclature!$B$2:$C$196,2,0),\"\")","v":""},null,null,null,null,{"$f":"IF(C27=\"\",0,IF(SUMIFS($G$5:G27,$C$5:C27,C27)-SUMIFS($I$4:I26,$C$4:C26,C27)<0,0,SUMIFS($G$5:G27,$C$5:C27,C27)-SUMIFS($I$4:I26,$C$4:C26,C27)))","v":0},null,{"$f":"IF(C27=\"\",0,IF(C27=$C$4,SUMIFS($I$4:I26,$C$4:C26,C26),SUMIFS($I$4:I26,$C$4:C26,C27)))","v":0},0,null,null,null,"الصنف / الصنف الفرعي",null,null,null,null,null,null,null,"رخصة الالتزام\nالمفتوحة/المعدلة",null,null,null,"مجموع الالتزامات السابقة",null,null,null,"الرصيد\nالأولي",null,null,null,"الالتزام\nالمقترح",null,null,null,"الرصيد المتبقى"]
[25,null,{"$f":"IFERROR(VLOOKUP(D28,Nomenclature!$B$2:$C$196,2,0),\"\")","v":""},null,null,null,null,{"$f":"IF(C28=\"\",0,IF(SUMIFS($G$5:G28,$C$5:C28,C28)-SUMIFS($I$4:I27,$C$4:C27,C28)<0,0,SUMIFS($G$5:G28,$C$5:C28,C28)-SUMIFS($I$4:I27,$C$4:C27,C28)))","v":0},null,{"$f":"IF(C28=\"\",0,IF(C28=$C$4,SUMIFS($I$4:I27,$C$4:C27,C27),SUMIFS($I$4:I27,$C$4:C27,C28)))","v":0},0]
[26,null,{"$f":"IFERROR(VLOOKUP(D29,Nomenclature!$B$2:$C$196,2,0),\"\")","v":""},null,null,null,null,{"$f":"IF(C29=\"\",0,IF(SUMIFS($G$5:G29,$C$5:C29,C29)-SUMIFS($I$4:I28,$C$4:C28,C29)<0,0,SUMIFS($G$5:G29,$C$5:C29,C29)-SUMIFS($I$4:I28,$C$4:C28,C29)))","v":0},null,{"$f":"IF(C29=\"\",0,IF(C29=$C$4,SUMIFS($I$4:I28,$C$4:C28,C28),SUMIFS($I$4:I28,$C$4:C28,C29)))","v":0},0,null,null,null,"الصنف",null,null,null,{"$f":"C4","v":21000},null,null,null,{"$f":"SUM($F$4:INDIRECT(\"f\"&N1+3))","v":0},null,null,null,{"$f":"SUM($I$4:INDIRECT(\"i\"&N1+2))","v":0},null,null,null,{"$f":"W29-AA29","v":0},null,null,null,{"$f":"IF(S31=\"\",0,VLOOKUP(N1,A4:L103,9,0))","v":0},null,null,null,{"$f":"IF((AE29-AI29)<0,\"رصيد غير كاف\",AE29-AI29)","v":0}]
[27,null,{"$f":"IFERROR(VLOOKUP(D30,Nomenclature!$B$2:$C$196,2,0),\"\")","v":""},null,null,null,null,{"$f":"IF(C30=\"\",0,IF(SUMIFS($G$5:G30,$C$5:C30,C30)-SUMIFS($I$4:I29,$C$4:C29,C30)<0,0,SUMIFS($G$5:G30,$C$5:C30,C30)-SUMIFS($I$4:I29,$C$4:C29,C30)))","v":0},null,{"$f":"IF(C30=\"\",0,IF(C30=$C$4,SUMIFS($I$4:I29,$C$4:C29,C29),SUMIFS($I$4:I29,$C$4:C29,C30)))","v":0},0]
[28,null,{"$f":"IFERROR(VLOOKUP(D31,Nomenclature!$B$2:$C$196,2,0),\"\")","v":""},null,null,null,null,{"$f":"IF(C31=\"\",0,IF(SUMIFS($G$5:G31,$C$5:C31,C31)-SUMIFS($I$4:I30,$C$4:C30,C31)<0,0,SUMIFS($G$5:G31,$C$5:C31,C31)-SUMIFS($I$4:I30,$C$4:C30,C31)))","v":0},null,{"$f":"IF(C31=\"\",0,IF(C31=$C$4,SUMIFS($I$4:I30,$C$4:C30,C30),SUMIFS($I$4:I30,$C$4:C30,C31)))","v":0},0,null,null,null,"الصنف الفرعي",null,null,null,{"$f":"IF(IFERROR(VLOOKUP(N1,A4:L103,3,0),\"انتبه خطأ\")=S29,\"\",IFERROR(VLOOKUP(N1,A4:L103,3,0),\"انتبه خطأ\"))","v":""},null,null,null,{"$f":"IF(S31=\"\",\"\",VLOOKUP(N1,A4:L103,8,0))","v":""},null,null,null,{"$f":"IF(S31=\"\",\"\",VLOOKUP(N1,A4:L103,10,0))","v":""},null,null,null,{"$f":"IF(S31=\"\",\"\",W31-AA31)","v":""},null,null,null,{"$f":"IF(S31=\"\",\"\",VLOOKUP(N1,A4:L103,9,0))","v":""},null,null,null,{"$f":"IF(S31=\"\",\"\",IF((AE31-AI31)<0,\"رصيد غير كاف\",AE31-AI31))","v":""}]
[29,null,{"$f":"IFERROR(VLOOKUP(D32,Nomenclature!$B$2:$C$196,2,0),\"\")","v":""},null,null,null,null,{"$f":"IF(C32=\"\",0,IF(SUMIFS($G$5:G32,$C$5:C32,C32)-SUMIFS($I$4:I31,$C$4:C31,C32)<0,0,SUMIFS($G$5:G32,$C$5:C32,C32)-SUMIFS($I$4:I31,$C$4:C31,C32)))","v":0},null,{"$f":"IF(C32=\"\",0,IF(C32=$C$4,SUMIFS($I$4:I31,$C$4:C31,C31),SUMIFS($I$4:I31,$C$4:C31,C32)))","v":0},0]
[30,null,{"$f":"IFERROR(VLOOKUP(D33,Nomenclature!$B$2:$C$196,2,0),\"\")","v":""},null,null,null,null,{"$f":"IF(C33=\"\",0,IF(SUMIFS($G$5:G33,$C$5:C33,C33)-SUMIFS($I$4:I32,$C$4:C32,C33)<0,0,SUMIFS($G$5:G33,$C$5:C33,C33)-SUMIFS($I$4:I32,$C$4:C32,C33)))","v":0},null,{"$f":"IF(C33=\"\",0,IF(C33=$C$4,SUMIFS($I$4:I32,$C$4:C32,C32),SUMIFS($I$4:I32,$C$4:C32,C33)))","v":0},0]
[31,null,{"$f":"IFERROR(VLOOKUP(D34,Nomenclature!$B$2:$C$196,2,0),\"\")","v":""},null,null,null,null,{"$f":"IF(C34=\"\",0,IF(SUMIFS($G$5:G34,$C$5:C34,C34)-SUMIFS($I$4:I33,$C$4:C33,C34)<0,0,SUMIFS($G$5:G34,$C$5:C34,C34)-SUMIFS($I$4:I33,$C$4:C33,C34)))","v":0},null,{"$f":"IF(C34=\"\",0,IF(C34=$C$4,SUMIFS($I$4:I33,$C$4:C33,C33),SUMIFS($I$4:I33,$C$4:C33,C34)))","v":0},0,null,null,null,"موضوع الالتزام:"]
[32,null,{"$f":"IFERROR(VLOOKUP(D35,Nomenclature!$B$2:$C$196,2,0),\"\")","v":""},null,null,null,null,{"$f":"IF(C35=\"\",0,IF(SUMIFS($G$5:G35,$C$5:C35,C35)-SUMIFS($I$4:I34,$C$4:C34,C35)<0,0,SUMIFS($G$5:G35,$C$5:C35,C35)-SUMIFS($I$4:I34,$C$4:C34,C35)))","v":0},null,{"$f":"IF(C35=\"\",0,IF(C35=$C$4,SUMIFS($I$4:I34,$C$4:C34,C34),SUMIFS($I$4:I34,$C$4:C34,C35)))","v":0},0,null,null,null,{"$f":"IF(VLOOKUP(N1,A4:L203,5,0)=0,\"\",IFERROR(VLOOKUP(N1,A4:L203,5,0),\"انتبه خطأ\"))","v":""}]
[33,null,{"$f":"IFERROR(VLOOKUP(D36,Nomenclature!$B$2:$C$196,2,0),\"\")","v":""},null,null,null,null,{"$f":"IF(C36=\"\",0,IF(SUMIFS($G$5:G36,$C$5:C36,C36)-SUMIFS($I$4:I35,$C$4:C35,C36)<0,0,SUMIFS($G$5:G36,$C$5:C36,C36)-SUMIFS($I$4:I35,$C$4:C35,C36)))","v":0},null,{"$f":"IF(C36=\"\",0,IF(C36=$C$4,SUMIFS($I$4:I35,$C$4:C35,C35),SUMIFS($I$4:I35,$C$4:C35,C36)))","v":0},0]
[34,null,{"$f":"IFERROR(VLOOKUP(D37,Nomenclature!$B$2:$C$196,2,0),\"\")","v":""},null,null,null,null,{"$f":"IF(C37=\"\",0,IF(SUMIFS($G$5:G37,$C$5:C37,C37)-SUMIFS($I$4:I36,$C$4:C36,C37)<0,0,SUMIFS($G$5:G37,$C$5:C37,C37)-SUMIFS($I$4:I36,$C$4:C36,C37)))","v":0},null,{"$f":"IF(C37=\"\",0,IF(C37=$C$4,SUMIFS($I$4:I36,$C$4:C36,C36),SUMIFS($I$4:I36,$C$4:C36,C37)))","v":0},0]
[35,null,{"$f":"IFERROR(VLOOKUP(D38,Nomenclature!$B$2:$C$196,2,0),\"\")","v":""},null,null,null,null,{"$f":"IF(C38=\"\",0,IF(SUMIFS($G$5:G38,$C$5:C38,C38)-SUMIFS($I$4:I37,$C$4:C37,C38)<0,0,SUMIFS($G$5:G38,$C$5:C38,C38)-SUMIFS($I$4:I37,$C$4:C37,C38)))","v":0},null,{"$f":"IF(C38=\"\",0,IF(C38=$C$4,SUMIFS($I$4:I37,$C$4:C37,C37),SUMIFS($I$4:I37,$C$4:C37,C38)))","v":0},0]
[36,null,{"$f":"IFERROR(VLOOKUP(D39,Nomenclature!$B$2:$C$196,2,0),\"\")","v":""},null,null,null,null,{"$f":"IF(C39=\"\",0,IF(SUMIFS($G$5:G39,$C$5:C39,C39)-SUMIFS($I$4:I38,$C$4:C38,C39)<0,0,SUMIFS($G$5:G39,$C$5:C39,C39)-SUMIFS($I$4:I38,$C$4:C38,C39)))","v":0},null,{"$f":"IF(C39=\"\",0,IF(C39=$C$4,SUMIFS($I$4:I38,$C$4:C38,C38),SUMIFS($I$4:I38,$C$4:C38,C39)))","v":0},0]
[37,null,{"$f":"IFERROR(VLOOKUP(D40,Nomenclature!$B$2:$C$196,2,0),\"\")","v":""},null,null,null,null,{"$f":"IF(C40=\"\",0,IF(SUMIFS($G$5:G40,$C$5:C40,C40)-SUMIFS($I$4:I39,$C$4:C39,C40)<0,0,SUMIFS($G$5:G40,$C$5:C40,C40)-SUMIFS($I$4:I39,$C$4:C39,C40)))","v":0},null,{"$f":"IF(C40=\"\",0,IF(C40=$C$4,SUMIFS($I$4:I39,$C$4:C39,C39),SUMIFS($I$4:I39,$C$4:C39,C40)))","v":0},0,null,null,null,"المبلغ بالحروف:",null,null,null,{"$f":"IFERROR(arretera(AI31),\"\")","v":""}]
[38,null,{"$f":"IFERROR(VLOOKUP(D41,Nomenclature!$B$2:$C$196,2,0),\"\")","v":""},null,null,null,null,{"$f":"IF(C41=\"\",0,IF(SUMIFS($G$5:G41,$C$5:C41,C41)-SUMIFS($I$4:I40,$C$4:C40,C41)<0,0,SUMIFS($G$5:G41,$C$5:C41,C41)-SUMIFS($I$4:I40,$C$4:C40,C41)))","v":0},null,{"$f":"IF(C41=\"\",0,IF(C41=$C$4,SUMIFS($I$4:I40,$C$4:C40,C40),SUMIFS($I$4:I40,$C$4:C40,C41)))","v":0},0]
[39,null,{"$f":"IFERROR(VLOOKUP(D42,Nomenclature!$B$2:$C$196,2,0),\"\")","v":""},null,null,null,null,{"$f":"IF(C42=\"\",0,IF(SUMIFS($G$5:G42,$C$5:C42,C42)-SUMIFS($I$4:I41,$C$4:C41,C42)<0,0,SUMIFS($G$5:G42,$C$5:C42,C42)-SUMIFS($I$4:I41,$C$4:C41,C42)))","v":0},null,{"$f":"IF(C42=\"\",0,IF(C42=$C$4,SUMIFS($I$4:I41,$C$4:C41,C41),SUMIFS($I$4:I41,$C$4:C41,C42)))","v":0},0]
[40,null,{"$f":"IFERROR(VLOOKUP(D43,Nomenclature!$B$2:$C$196,2,0),\"\")","v":""},null,null,null,null,{"$f":"IF(C43=\"\",0,IF(SUMIFS($G$5:G43,$C$5:C43,C43)-SUMIFS($I$4:I42,$C$4:C42,C43)<0,0,SUMIFS($G$5:G43,$C$5:C43,C43)-SUMIFS($I$4:I42,$C$4:C42,C43)))","v":0},null,{"$f":"IF(C43=\"\",0,IF(C43=$C$4,SUMIFS($I$4:I42,$C$4:C42,C42),SUMIFS($I$4:I42,$C$4:C42,C43)))","v":0},0,null,null,null,"إطار مخصص للمراقب الميزانياتي",null,null,null,null,null,null,null,null,null,null,null,null,null,"إطار مخصص للآمر بالصرف"]
[41,null,{"$f":"IFERROR(VLOOKUP(D44,Nomenclature!$B$2:$C$196,2,0),\"\")","v":""},null,null,null,null,{"$f":"IF(C44=\"\",0,IF(SUMIFS($G$5:G44,$C$5:C44,C44)-SUMIFS($I$4:I43,$C$4:C43,C44)<0,0,SUMIFS($G$5:G44,$C$5:C44,C44)-SUMIFS($I$4:I43,$C$4:C43,C44)))","v":0},null,{"$f":"IF(C44=\"\",0,IF(C44=$C$4,SUMIFS($I$4:I43,$C$4:C43,C43),SUMIFS($I$4:I43,$C$4:C43,C44)))","v":0},0]
[42,null,{"$f":"IFERROR(VLOOKUP(D45,Nomenclature!$B$2:$C$196,2,0),\"\")","v":""},null,null,null,null,{"$f":"IF(C45=\"\",0,IF(SUMIFS($G$5:G45,$C$5:C45,C45)-SUMIFS($I$4:I44,$C$4:C44,C45)<0,0,SUMIFS($G$5:G45,$C$5:C45,C45)-SUMIFS($I$4:I44,$C$4:C44,C45)))","v":0},null,{"$f":"IF(C45=\"\",0,IF(C45=$C$4,SUMIFS($I$4:I44,$C$4:C44,C44),SUMIFS($I$4:I44,$C$4:C44,C45)))","v":0},0,null,null,null,"رقم التأشيرة:",null,null,null,null,null,null,null,null,null,null,null,null,null,null,"ختم"]
[43,null,{"$f":"IFERROR(VLOOKUP(D46,Nomenclature!$B$2:$C$196,2,0),\"\")","v":""},null,null,null,null,{"$f":"IF(C46=\"\",0,IF(SUMIFS($G$5:G46,$C$5:C46,C46)-SUMIFS($I$4:I45,$C$4:C45,C46)<0,0,SUMIFS($G$5:G46,$C$5:C46,C46)-SUMIFS($I$4:I45,$C$4:C45,C46)))","v":0},null,{"$f":"IF(C46=\"\",0,IF(C46=$C$4,SUMIFS($I$4:I45,$C$4:C45,C45),SUMIFS($I$4:I45,$C$4:C45,C46)))","v":0},0]
[44,null,{"$f":"IFERROR(VLOOKUP(D47,Nomenclature!$B$2:$C$196,2,0),\"\")","v":""},null,null,null,null,{"$f":"IF(C47=\"\",0,IF(SUMIFS($G$5:G47,$C$5:C47,C47)-SUMIFS($I$4:I46,$C$4:C46,C47)<0,0,SUMIFS($G$5:G47,$C$5:C47,C47)-SUMIFS($I$4:I46,$C$4:C46,C47)))","v":0},null,{"$f":"IF(C47=\"\",0,IF(C47=$C$4,SUMIFS($I$4:I46,$C$4:C46,C46),SUMIFS($I$4:I46,$C$4:C46,C47)))","v":0},0,null,null,null,"تاريخ التأشيرة:"]
[45,null,{"$f":"IFERROR(VLOOKUP(D48,Nomenclature!$B$2:$C$196,2,0),\"\")","v":""},null,null,null,null,{"$f":"IF(C48=\"\",0,IF(SUMIFS($G$5:G48,$C$5:C48,C48)-SUMIFS($I$4:I47,$C$4:C47,C48)<0,0,SUMIFS($G$5:G48,$C$5:C48,C48)-SUMIFS($I$4:I47,$C$4:C47,C48)))","v":0},null,{"$f":"IF(C48=\"\",0,IF(C48=$C$4,SUMIFS($I$4:I47,$C$4:C47,C47),SUMIFS($I$4:I47,$C$4:C47,C48)))","v":0},0,null,null,null,null,null,null,null,null,null,null,null,null,null,null,null,null,null,null,"امضاء"]
[46,null,{"$f":"IFERROR(VLOOKUP(D49,Nomenclature!$B$2:$C$196,2,0),\"\")","v":""},null,null,null,null,{"$f":"IF(C49=\"\",0,IF(SUMIFS($G$5:G49,$C$5:C49,C49)-SUMIFS($I$4:I48,$C$4:C48,C49)<0,0,SUMIFS($G$5:G49,$C$5:C49,C49)-SUMIFS($I$4:I48,$C$4:C48,C49)))","v":0},null,{"$f":"IF(C49=\"\",0,IF(C49=$C$4,SUMIFS($I$4:I48,$C$4:C48,C48),SUMIFS($I$4:I48,$C$4:C48,C49)))","v":0},0]
[47,null,{"$f":"IFERROR(VLOOKUP(D50,Nomenclature!$B$2:$C$196,2,0),\"\")","v":""},null,null,null,null,{"$f":"IF(C50=\"\",0,IF(SUMIFS($G$5:G50,$C$5:C50,C50)-SUMIFS($I$4:I49,$C$4:C49,C50)<0,0,SUMIFS($G$5:G50,$C$5:C50,C50)-SUMIFS($I$4:I49,$C$4:C49,C50)))","v":0},null,{"$f":"IF(C50=\"\",0,IF(C50=$C$4,SUMIFS($I$4:I49,$C$4:C49,C49),SUMIFS($I$4:I49,$C$4:C49,C50)))","v":0},0]
[48,null,{"$f":"IFERROR(VLOOKUP(D51,Nomenclature!$B$2:$C$196,2,0),\"\")","v":""},null,null,null,null,{"$f":"IF(C51=\"\",0,IF(SUMIFS($G$5:G51,$C$5:C51,C51)-SUMIFS($I$4:I50,$C$4:C50,C51)<0,0,SUMIFS($G$5:G51,$C$5:C51,C51)-SUMIFS($I$4:I50,$C$4:C50,C51)))","v":0},null,{"$f":"IF(C51=\"\",0,IF(C51=$C$4,SUMIFS($I$4:I50,$C$4:C50,C50),SUMIFS($I$4:I50,$C$4:C50,C51)))","v":0},0,null,null,null,null,{"$f":"AD48","v":"امضاء"},null,null,null,null,null,null,null,{"$f":"AD45","v":"ختم"}]
[49,null,{"$f":"IFERROR(VLOOKUP(D52,Nomenclature!$B$2:$C$196,2,0),\"\")","v":""},null,null,null,null,{"$f":"IF(C52=\"\",0,IF(SUMIFS($G$5:G52,$C$5:C52,C52)-SUMIFS($I$4:I51,$C$4:C51,C52)<0,0,SUMIFS($G$5:G52,$C$5:C52,C52)-SUMIFS($I$4:I51,$C$4:C51,C52)))","v":0},null,{"$f":"IF(C52=\"\",0,IF(C52=$C$4,SUMIFS($I$4:I51,$C$4:C51,C51),SUMIFS($I$4:I51,$C$4:C51,C52)))","v":0},0]
[50,null,{"$f":"IFERROR(VLOOKUP(D53,Nomenclature!$B$2:$C$196,2,0),\"\")","v":""},null,null,null,null,{"$f":"IF(C53=\"\",0,IF(SUMIFS($G$5:G53,$C$5:C53,C53)-SUMIFS($I$4:I52,$C$4:C52,C53)<0,0,SUMIFS($G$5:G53,$C$5:C53,C53)-SUMIFS($I$4:I52,$C$4:C52,C53)))","v":0},null,{"$f":"IF(C53=\"\",0,IF(C53=$C$4,SUMIFS($I$4:I52,$C$4:C52,C52),SUMIFS($I$4:I52,$C$4:C52,C53)))","v":0},0]
[51,null,{"$f":"IFERROR(VLOOKUP(D54,Nomenclature!$B$2:$C$196,2,0),\"\")","v":""},null,null,null,null,{"$f":"IF(C54=\"\",0,IF(SUMIFS($G$5:G54,$C$5:C54,C54)-SUMIFS($I$4:I53,$C$4:C53,C54)<0,0,SUMIFS($G$5:G54,$C$5:C54,C54)-SUMIFS($I$4:I53,$C$4:C53,C54)))","v":0},null,{"$f":"IF(C54=\"\",0,IF(C54=$C$4,SUMIFS($I$4:I53,$C$4:C53,C53),SUMIFS($I$4:I53,$C$4:C53,C54)))","v":0},0]
[52,null,{"$f":"IFERROR(VLOOKUP(D55,Nomenclature!$B$2:$C$196,2,0),\"\")","v":""},null,null,null,null,{"$f":"IF(C55=\"\",0,IF(SUMIFS($G$5:G55,$C$5:C55,C55)-SUMIFS($I$4:I54,$C$4:C54,C55)<0,0,SUMIFS($G$5:G55,$C$5:C55,C55)-SUMIFS($I$4:I54,$C$4:C54,C55)))","v":0},null,{"$f":"IF(C55=\"\",0,IF(C55=$C$4,SUMIFS($I$4:I54,$C$4:C54,C54),SUMIFS($I$4:I54,$C$4:C54,C55)))","v":0},0]
[53,null,{"$f":"IFERROR(VLOOKUP(D56,Nomenclature!$B$2:$C$196,2,0),\"\")","v":""},null,null,null,null,{"$f":"IF(C56=\"\",0,IF(SUMIFS($G$5:G56,$C$5:C56,C56)-SUMIFS($I$4:I55,$C$4:C55,C56)<0,0,SUMIFS($G$5:G56,$C$5:C56,C56)-SUMIFS($I$4:I55,$C$4:C55,C56)))","v":0},null,{"$f":"IF(C56=\"\",0,IF(C56=$C$4,SUMIFS($I$4:I55,$C$4:C55,C55),SUMIFS($I$4:I55,$C$4:C55,C56)))","v":0},0]
[54,null,{"$f":"IFERROR(VLOOKUP(D57,Nomenclature!$B$2:$C$196,2,0),\"\")","v":""},null,null,null,null,{"$f":"IF(C57=\"\",0,IF(SUMIFS($G$5:G57,$C$5:C57,C57)-SUMIFS($I$4:I56,$C$4:C56,C57)<0,0,SUMIFS($G$5:G57,$C$5:C57,C57)-SUMIFS($I$4:I56,$C$4:C56,C57)))","v":0},null,{"$f":"IF(C57=\"\",0,IF(C57=$C$4,SUMIFS($I$4:I56,$C$4:C56,C56),SUMIFS($I$4:I56,$C$4:C56,C57)))","v":0},0]
[55,null,{"$f":"IFERROR(VLOOKUP(D58,Nomenclature!$B$2:$C$196,2,0),\"\")","v":""},null,null,null,null,{"$f":"IF(C58=\"\",0,IF(SUMIFS($G$5:G58,$C$5:C58,C58)-SUMIFS($I$4:I57,$C$4:C57,C58)<0,0,SUMIFS($G$5:G58,$C$5:C58,C58)-SUMIFS($I$4:I57,$C$4:C57,C58)))","v":0},null,{"$f":"IF(C58=\"\",0,IF(C58=$C$4,SUMIFS($I$4:I57,$C$4:C57,C57),SUMIFS($I$4:I57,$C$4:C57,C58)))","v":0},0]
[56,null,{"$f":"IFERROR(VLOOKUP(D59,Nomenclature!$B$2:$C$196,2,0),\"\")","v":""},null,null,null,null,{"$f":"IF(C59=\"\",0,IF(SUMIFS($G$5:G59,$C$5:C59,C59)-SUMIFS($I$4:I58,$C$4:C58,C59)<0,0,SUMIFS($G$5:G59,$C$5:C59,C59)-SUMIFS($I$4:I58,$C$4:C58,C59)))","v":0},null,{"$f":"IF(C59=\"\",0,IF(C59=$C$4,SUMIFS($I$4:I58,$C$4:C58,C58),SUMIFS($I$4:I58,$C$4:C58,C59)))","v":0},0]
[57,null,{"$f":"IFERROR(VLOOKUP(D60,Nomenclature!$B$2:$C$196,2,0),\"\")","v":""},null,null,null,null,{"$f":"IF(C60=\"\",0,IF(SUMIFS($G$5:G60,$C$5:C60,C60)-SUMIFS($I$4:I59,$C$4:C59,C60)<0,0,SUMIFS($G$5:G60,$C$5:C60,C60)-SUMIFS($I$4:I59,$C$4:C59,C60)))","v":0},null,{"$f":"IF(C60=\"\",0,IF(C60=$C$4,SUMIFS($I$4:I59,$C$4:C59,C59),SUMIFS($I$4:I59,$C$4:C59,C60)))","v":0},0]
[58,null,{"$f":"IFERROR(VLOOKUP(D61,Nomenclature!$B$2:$C$196,2,0),\"\")","v":""},null,null,null,null,{"$f":"IF(C61=\"\",0,IF(SUMIFS($G$5:G61,$C$5:C61,C61)-SUMIFS($I$4:I60,$C$4:C60,C61)<0,0,SUMIFS($G$5:G61,$C$5:C61,C61)-SUMIFS($I$4:I60,$C$4:C60,C61)))","v":0},null,{"$f":"IF(C61=\"\",0,IF(C61=$C$4,SUMIFS($I$4:I60,$C$4:C60,C60),SUMIFS($I$4:I60,$C$4:C60,C61)))","v":0},0]
[59,null,{"$f":"IFERROR(VLOOKUP(D62,Nomenclature!$B$2:$C$196,2,0),\"\")","v":""},null,null,null,null,{"$f":"IF(C62=\"\",0,IF(SUMIFS($G$5:G62,$C$5:C62,C62)-SUMIFS($I$4:I61,$C$4:C61,C62)<0,0,SUMIFS($G$5:G62,$C$5:C62,C62)-SUMIFS($I$4:I61,$C$4:C61,C62)))","v":0},null,{"$f":"IF(C62=\"\",0,IF(C62=$C$4,SUMIFS($I$4:I61,$C$4:C61,C61),SUMIFS($I$4:I61,$C$4:C61,C62)))","v":0},0]
[60,null,{"$f":"IFERROR(VLOOKUP(D63,Nomenclature!$B$2:$C$196,2,0),\"\")","v":""},null,null,null,null,{"$f":"IF(C63=\"\",0,IF(SUMIFS($G$5:G63,$C$5:C63,C63)-SUMIFS($I$4:I62,$C$4:C62,C63)<0,0,SUMIFS($G$5:G63,$C$5:C63,C63)-SUMIFS($I$4:I62,$C$4:C62,C63)))","v":0},null,{"$f":"IF(C63=\"\",0,IF(C63=$C$4,SUMIFS($I$4:I62,$C$4:C62,C62),SUMIFS($I$4:I62,$C$4:C62,C63)))","v":0},0]
[61,null,{"$f":"IFERROR(VLOOKUP(D64,Nomenclature!$B$2:$C$196,2,0),\"\")","v":""},null,null,null,null,{"$f":"IF(C64=\"\",0,IF(SUMIFS($G$5:G64,$C$5:C64,C64)-SUMIFS($I$4:I63,$C$4:C63,C64)<0,0,SUMIFS($G$5:G64,$C$5:C64,C64)-SUMIFS($I$4:I63,$C$4:C63,C64)))","v":0},null,{"$f":"IF(C64=\"\",0,IF(C64=$C$4,SUMIFS($I$4:I63,$C$4:C63,C63),SUMIFS($I$4:I63,$C$4:C63,C64)))","v":0},0]
[62,null,{"$f":"IFERROR(VLOOKUP(D65,Nomenclature!$B$2:$C$196,2,0),\"\")","v":""},null,null,null,null,{"$f":"IF(C65=\"\",0,IF(SUMIFS($G$5:G65,$C$5:C65,C65)-SUMIFS($I$4:I64,$C$4:C64,C65)<0,0,SUMIFS($G$5:G65,$C$5:C65,C65)-SUMIFS($I$4:I64,$C$4:C64,C65)))","v":0},null,{"$f":"IF(C65=\"\",0,IF(C65=$C$4,SUMIFS($I$4:I64,$C$4:C64,C64),SUMIFS($I$4:I64,$C$4:C64,C65)))","v":0},0]
[63,null,{"$f":"IFERROR(VLOOKUP(D66,Nomenclature!$B$2:$C$196,2,0),\"\")","v":""},null,null,null,null,{"$f":"IF(C66=\"\",0,IF(SUMIFS($G$5:G66,$C$5:C66,C66)-SUMIFS($I$4:I65,$C$4:C65,C66)<0,0,SUMIFS($G$5:G66,$C$5:C66,C66)-SUMIFS($I$4:I65,$C$4:C65,C66)))","v":0},null,{"$f":"IF(C66=\"\",0,IF(C66=$C$4,SUMIFS($I$4:I65,$C$4:C65,C65),SUMIFS($I$4:I65,$C$4:C65,C66)))","v":0},0]
[64,null,{"$f":"IFERROR(VLOOKUP(D67,Nomenclature!$B$2:$C$196,2,0),\"\")","v":""},null,null,null,null,{"$f":"IF(C67=\"\",0,IF(SUMIFS($G$5:G67,$C$5:C67,C67)-SUMIFS($I$4:I66,$C$4:C66,C67)<0,0,SUMIFS($G$5:G67,$C$5:C67,C67)-SUMIFS($I$4:I66,$C$4:C66,C67)))","v":0},null,{"$f":"IF(C67=\"\",0,IF(C67=$C$4,SUMIFS($I$4:I66,$C$4:C66,C66),SUMIFS($I$4:I66,$C$4:C66,C67)))","v":0},0]
[65,null,{"$f":"IFERROR(VLOOKUP(D68,Nomenclature!$B$2:$C$196,2,0),\"\")","v":""},null,null,null,null,{"$f":"IF(C68=\"\",0,IF(SUMIFS($G$5:G68,$C$5:C68,C68)-SUMIFS($I$4:I67,$C$4:C67,C68)<0,0,SUMIFS($G$5:G68,$C$5:C68,C68)-SUMIFS($I$4:I67,$C$4:C67,C68)))","v":0},null,{"$f":"IF(C68=\"\",0,IF(C68=$C$4,SUMIFS($I$4:I67,$C$4:C67,C67),SUMIFS($I$4:I67,$C$4:C67,C68)))","v":0},{"$f":"IF(C68=\"\",0,H68-I68)","v":0}]
[66,null,{"$f":"IFERROR(VLOOKUP(D69,Nomenclature!$B$2:$C$196,2,0),\"\")","v":""},null,null,null,null,{"$f":"IF(C69=\"\",0,IF(SUMIFS($G$5:G69,$C$5:C69,C69)-SUMIFS($I$4:I68,$C$4:C68,C69)<0,0,SUMIFS($G$5:G69,$C$5:C69,C69)-SUMIFS($I$4:I68,$C$4:C68,C69)))","v":0},null,{"$f":"IF(C69=\"\",0,IF(C69=$C$4,SUMIFS($I$4:I68,$C$4:C68,C68),SUMIFS($I$4:I68,$C$4:C68,C69)))","v":0},0]
[67,null,{"$f":"IFERROR(VLOOKUP(D70,Nomenclature!$B$2:$C$196,2,0),\"\")","v":""},null,null,null,null,{"$f":"IF(C70=\"\",0,IF(SUMIFS($G$5:G70,$C$5:C70,C70)-SUMIFS($I$4:I69,$C$4:C69,C70)<0,0,SUMIFS($G$5:G70,$C$5:C70,C70)-SUMIFS($I$4:I69,$C$4:C69,C70)))","v":0},null,{"$f":"IF(C70=\"\",0,IF(C70=$C$4,SUMIFS($I$4:I69,$C$4:C69,C69),SUMIFS($I$4:I69,$C$4:C69,C70)))","v":0},0]
[68,null,{"$f":"IFERROR(VLOOKUP(D71,Nomenclature!$B$2:$C$196,2,0),\"\")","v":""},null,null,null,null,{"$f":"IF(C71=\"\",0,IF(SUMIFS($G$5:G71,$C$5:C71,C71)-SUMIFS($I$4:I70,$C$4:C70,C71)<0,0,SUMIFS($G$5:G71,$C$5:C71,C71)-SUMIFS($I$4:I70,$C$4:C70,C71)))","v":0},null,{"$f":"IF(C71=\"\",0,IF(C71=$C$4,SUMIFS($I$4:I70,$C$4:C70,C70),SUMIFS($I$4:I70,$C$4:C70,C71)))","v":0},0]
[69,null,{"$f":"IFERROR(VLOOKUP(D72,Nomenclature!$B$2:$C$196,2,0),\"\")","v":""},null,null,null,null,{"$f":"IF(C72=\"\",0,IF(SUMIFS($G$5:G72,$C$5:C72,C72)-SUMIFS($I$4:I71,$C$4:C71,C72)<0,0,SUMIFS($G$5:G72,$C$5:C72,C72)-SUMIFS($I$4:I71,$C$4:C71,C72)))","v":0},null,{"$f":"IF(C72=\"\",0,IF(C72=$C$4,SUMIFS($I$4:I71,$C$4:C71,C71),SUMIFS($I$4:I71,$C$4:C71,C72)))","v":0},0]
[70,null,{"$f":"IFERROR(VLOOKUP(D73,Nomenclature!$B$2:$C$196,2,0),\"\")","v":""},null,null,null,null,{"$f":"IF(C73=\"\",0,IF(SUMIFS($G$5:G73,$C$5:C73,C73)-SUMIFS($I$4:I72,$C$4:C72,C73)<0,0,SUMIFS($G$5:G73,$C$5:C73,C73)-SUMIFS($I$4:I72,$C$4:C72,C73)))","v":0},null,{"$f":"IF(C73=\"\",0,IF(C73=$C$4,SUMIFS($I$4:I72,$C$4:C72,C72),SUMIFS($I$4:I72,$C$4:C72,C73)))","v":0},0]
[71,null,{"$f":"IFERROR(VLOOKUP(D74,Nomenclature!$B$2:$C$196,2,0),\"\")","v":""},null,null,null,null,{"$f":"IF(C74=\"\",0,IF(SUMIFS($G$5:G74,$C$5:C74,C74)-SUMIFS($I$4:I73,$C$4:C73,C74)<0,0,SUMIFS($G$5:G74,$C$5:C74,C74)-SUMIFS($I$4:I73,$C$4:C73,C74)))","v":0},null,{"$f":"IF(C74=\"\",0,IF(C74=$C$4,SUMIFS($I$4:I73,$C$4:C73,C73),SUMIFS($I$4:I73,$C$4:C73,C74)))","v":0},0]
[72,null,{"$f":"IFERROR(VLOOKUP(D75,Nomenclature!$B$2:$C$196,2,0),\"\")","v":""},null,null,null,null,{"$f":"IF(C75=\"\",0,IF(SUMIFS($G$5:G75,$C$5:C75,C75)-SUMIFS($I$4:I74,$C$4:C74,C75)<0,0,SUMIFS($G$5:G75,$C$5:C75,C75)-SUMIFS($I$4:I74,$C$4:C74,C75)))","v":0},null,{"$f":"IF(C75=\"\",0,IF(C75=$C$4,SUMIFS($I$4:I74,$C$4:C74,C74),SUMIFS($I$4:I74,$C$4:C74,C75)))","v":0},0]
[73,null,{"$f":"IFERROR(VLOOKUP(D76,Nomenclature!$B$2:$C$196,2,0),\"\")","v":""},null,null,null,null,{"$f":"IF(C76=\"\",0,IF(SUMIFS($G$5:G76,$C$5:C76,C76)-SUMIFS($I$4:I75,$C$4:C75,C76)<0,0,SUMIFS($G$5:G76,$C$5:C76,C76)-SUMIFS($I$4:I75,$C$4:C75,C76)))","v":0},null,{"$f":"IF(C76=\"\",0,IF(C76=$C$4,SUMIFS($I$4:I75,$C$4:C75,C75),SUMIFS($I$4:I75,$C$4:C75,C76)))","v":0},0]
[74,null,{"$f":"IFERROR(VLOOKUP(D77,Nomenclature!$B$2:$C$196,2,0),\"\")","v":""},null,null,null,null,{"$f":"IF(C77=\"\",0,IF(SUMIFS($G$5:G77,$C$5:C77,C77)-SUMIFS($I$4:I76,$C$4:C76,C77)<0,0,SUMIFS($G$5:G77,$C$5:C77,C77)-SUMIFS($I$4:I76,$C$4:C76,C77)))","v":0},null,{"$f":"IF(C77=\"\",0,IF(C77=$C$4,SUMIFS($I$4:I76,$C$4:C76,C76),SUMIFS($I$4:I76,$C$4:C76,C77)))","v":0},0]
[75,null,{"$f":"IFERROR(VLOOKUP(D78,Nomenclature!$B$2:$C$196,2,0),\"\")","v":""},null,null,null,null,{"$f":"IF(C78=\"\",0,IF(SUMIFS($G$5:G78,$C$5:C78,C78)-SUMIFS($I$4:I77,$C$4:C77,C78)<0,0,SUMIFS($G$5:G78,$C$5:C78,C78)-SUMIFS($I$4:I77,$C$4:C77,C78)))","v":0},null,{"$f":"IF(C78=\"\",0,IF(C78=$C$4,SUMIFS($I$4:I77,$C$4:C77,C77),SUMIFS($I$4:I77,$C$4:C77,C78)))","v":0},0]
[76,null,{"$f":"IFERROR(VLOOKUP(D79,Nomenclature!$B$2:$C$196,2,0),\"\")","v":""},null,null,null,null,{"$f":"IF(C79=\"\",0,IF(SUMIFS($G$5:G79,$C$5:C79,C79)-SUMIFS($I$4:I78,$C$4:C78,C79)<0,0,SUMIFS($G$5:G79,$C$5:C79,C79)-SUMIFS($I$4:I78,$C$4:C78,C79)))","v":0},null,{"$f":"IF(C79=\"\",0,IF(C79=$C$4,SUMIFS($I$4:I78,$C$4:C78,C78),SUMIFS($I$4:I78,$C$4:C78,C79)))","v":0},0]
[77,null,{"$f":"IFERROR(VLOOKUP(D80,Nomenclature!$B$2:$C$196,2,0),\"\")","v":""},null,null,null,null,{"$f":"IF(C80=\"\",0,IF(SUMIFS($G$5:G80,$C$5:C80,C80)-SUMIFS($I$4:I79,$C$4:C79,C80)<0,0,SUMIFS($G$5:G80,$C$5:C80,C80)-SUMIFS($I$4:I79,$C$4:C79,C80)))","v":0},null,{"$f":"IF(C80=\"\",0,IF(C80=$C$4,SUMIFS($I$4:I79,$C$4:C79,C79),SUMIFS($I$4:I79,$C$4:C79,C80)))","v":0},0]
[78,null,{"$f":"IFERROR(VLOOKUP(D81,Nomenclature!$B$2:$C$196,2,0),\"\")","v":""},null,null,null,null,{"$f":"IF(C81=\"\",0,IF(SUMIFS($G$5:G81,$C$5:C81,C81)-SUMIFS($I$4:I80,$C$4:C80,C81)<0,0,SUMIFS($G$5:G81,$C$5:C81,C81)-SUMIFS($I$4:I80,$C$4:C80,C81)))","v":0},null,{"$f":"IF(C81=\"\",0,IF(C81=$C$4,SUMIFS($I$4:I80,$C$4:C80,C80),SUMIFS($I$4:I80,$C$4:C80,C81)))","v":0},0]
[79,null,{"$f":"IFERROR(VLOOKUP(D82,Nomenclature!$B$2:$C$196,2,0),\"\")","v":""},null,null,null,null,{"$f":"IF(C82=\"\",0,IF(SUMIFS($G$5:G82,$C$5:C82,C82)-SUMIFS($I$4:I81,$C$4:C81,C82)<0,0,SUMIFS($G$5:G82,$C$5:C82,C82)-SUMIFS($I$4:I81,$C$4:C81,C82)))","v":0},null,{"$f":"IF(C82=\"\",0,IF(C82=$C$4,SUMIFS($I$4:I81,$C$4:C81,C81),SUMIFS($I$4:I81,$C$4:C81,C82)))","v":0},0]
[80,null,{"$f":"IFERROR(VLOOKUP(D83,Nomenclature!$B$2:$C$196,2,0),\"\")","v":""},null,null,null,null,{"$f":"IF(C83=\"\",0,IF(SUMIFS($G$5:G83,$C$5:C83,C83)-SUMIFS($I$4:I82,$C$4:C82,C83)<0,0,SUMIFS($G$5:G83,$C$5:C83,C83)-SUMIFS($I$4:I82,$C$4:C82,C83)))","v":0},null,{"$f":"IF(C83=\"\",0,IF(C83=$C$4,SUMIFS($I$4:I82,$C$4:C82,C82),SUMIFS($I$4:I82,$C$4:C82,C83)))","v":0},0]
[81,null,{"$f":"IFERROR(VLOOKUP(D84,Nomenclature!$B$2:$C$196,2,0),\"\")","v":""},null,null,null,null,{"$f":"IF(C84=\"\",0,IF(SUMIFS($G$5:G84,$C$5:C84,C84)-SUMIFS($I$4:I83,$C$4:C83,C84)<0,0,SUMIFS($G$5:G84,$C$5:C84,C84)-SUMIFS($I$4:I83,$C$4:C83,C84)))","v":0},null,{"$f":"IF(C84=\"\",0,IF(C84=$C$4,SUMIFS($I$4:I83,$C$4:C83,C83),SUMIFS($I$4:I83,$C$4:C83,C84)))","v":0},0]
[82,null,{"$f":"IFERROR(VLOOKUP(D85,Nomenclature!$B$2:$C$196,2,0),\"\")","v":""},null,null,null,null,{"$f":"IF(C85=\"\",0,IF(SUMIFS($G$5:G85,$C$5:C85,C85)-SUMIFS($I$4:I84,$C$4:C84,C85)<0,0,SUMIFS($G$5:G85,$C$5:C85,C85)-SUMIFS($I$4:I84,$C$4:C84,C85)))","v":0},null,{"$f":"IF(C85=\"\",0,IF(C85=$C$4,SUMIFS($I$4:I84,$C$4:C84,C84),SUMIFS($I$4:I84,$C$4:C84,C85)))","v":0},0]
[83,null,{"$f":"IFERROR(VLOOKUP(D86,Nomenclature!$B$2:$C$196,2,0),\"\")","v":""},null,null,null,null,{"$f":"IF(C86=\"\",0,IF(SUMIFS($G$5:G86,$C$5:C86,C86)-SUMIFS($I$4:I85,$C$4:C85,C86)<0,0,SUMIFS($G$5:G86,$C$5:C86,C86)-SUMIFS($I$4:I85,$C$4:C85,C86)))","v":0},null,{"$f":"IF(C86=\"\",0,IF(C86=$C$4,SUMIFS($I$4:I85,$C$4:C85,C85),SUMIFS($I$4:I85,$C$4:C85,C86)))","v":0},0]
[84,null,{"$f":"IFERROR(VLOOKUP(D87,Nomenclature!$B$2:$C$196,2,0),\"\")","v":""},null,null,null,null,{"$f":"IF(C87=\"\",0,IF(SUMIFS($G$5:G87,$C$5:C87,C87)-SUMIFS($I$4:I86,$C$4:C86,C87)<0,0,SUMIFS($G$5:G87,$C$5:C87,C87)-SUMIFS($I$4:I86,$C$4:C86,C87)))","v":0},null,{"$f":"IF(C87=\"\",0,IF(C87=$C$4,SUMIFS($I$4:I86,$C$4:C86,C86),SUMIFS($I$4:I86,$C$4:C86,C87)))","v":0},0]
[85,null,{"$f":"IFERROR(VLOOKUP(D88,Nomenclature!$B$2:$C$196,2,0),\"\")","v":""},null,null,null,null,{"$f":"IF(C88=\"\",0,IF(SUMIFS($G$5:G88,$C$5:C88,C88)-SUMIFS($I$4:I87,$C$4:C87,C88)<0,0,SUMIFS($G$5:G88,$C$5:C88,C88)-SUMIFS($I$4:I87,$C$4:C87,C88)))","v":0},null,{"$f":"IF(C88=\"\",0,IF(C88=$C$4,SUMIFS($I$4:I87,$C$4:C87,C87),SUMIFS($I$4:I87,$C$4:C87,C88)))","v":0},0]
[86,null,{"$f":"IFERROR(VLOOKUP(D89,Nomenclature!$B$2:$C$196,2,0),\"\")","v":""},null,null,null,null,{"$f":"IF(C89=\"\",0,IF(SUMIFS($G$5:G89,$C$5:C89,C89)-SUMIFS($I$4:I88,$C$4:C88,C89)<0,0,SUMIFS($G$5:G89,$C$5:C89,C89)-SUMIFS($I$4:I88,$C$4:C88,C89)))","v":0},null,{"$f":"IF(C89=\"\",0,IF(C89=$C$4,SUMIFS($I$4:I88,$C$4:C88,C88),SUMIFS($I$4:I88,$C$4:C88,C89)))","v":0},0]
[87,null,{"$f":"IFERROR(VLOOKUP(D90,Nomenclature!$B$2:$C$196,2,0),\"\")","v":""},null,null,null,null,{"$f":"IF(C90=\"\",0,IF(SUMIFS($G$5:G90,$C$5:C90,C90)-SUMIFS($I$4:I89,$C$4:C89,C90)<0,0,SUMIFS($G$5:G90,$C$5:C90,C90)-SUMIFS($I$4:I89,$C$4:C89,C90)))","v":0},null,{"$f":"IF(C90=\"\",0,IF(C90=$C$4,SUMIFS($I$4:I89,$C$4:C89,C89),SUMIFS($I$4:I89,$C$4:C89,C90)))","v":0},0]
[88,null,{"$f":"IFERROR(VLOOKUP(D91,Nomenclature!$B$2:$C$196,2,0),\"\")","v":""},null,null,null,null,{"$f":"IF(C91=\"\",0,IF(SUMIFS($G$5:G91,$C$5:C91,C91)-SUMIFS($I$4:I90,$C$4:C90,C91)<0,0,SUMIFS($G$5:G91,$C$5:C91,C91)-SUMIFS($I$4:I90,$C$4:C90,C91)))","v":0},null,{"$f":"IF(C91=\"\",0,IF(C91=$C$4,SUMIFS($I$4:I90,$C$4:C90,C90),SUMIFS($I$4:I90,$C$4:C90,C91)))","v":0},0]
[89,null,{"$f":"IFERROR(VLOOKUP(D92,Nomenclature!$B$2:$C$196,2,0),\"\")","v":""},null,null,null,null,{"$f":"IF(C92=\"\",0,IF(SUMIFS($G$5:G92,$C$5:C92,C92)-SUMIFS($I$4:I91,$C$4:C91,C92)<0,0,SUMIFS($G$5:G92,$C$5:C92,C92)-SUMIFS($I$4:I91,$C$4:C91,C92)))","v":0},null,{"$f":"IF(C92=\"\",0,IF(C92=$C$4,SUMIFS($I$4:I91,$C$4:C91,C91),SUMIFS($I$4:I91,$C$4:C91,C92)))","v":0},0]
[90,null,{"$f":"IFERROR(VLOOKUP(D93,Nomenclature!$B$2:$C$196,2,0),\"\")","v":""},null,null,null,null,{"$f":"IF(C93=\"\",0,IF(SUMIFS($G$5:G93,$C$5:C93,C93)-SUMIFS($I$4:I92,$C$4:C92,C93)<0,0,SUMIFS($G$5:G93,$C$5:C93,C93)-SUMIFS($I$4:I92,$C$4:C92,C93)))","v":0},null,{"$f":"IF(C93=\"\",0,IF(C93=$C$4,SUMIFS($I$4:I92,$C$4:C92,C92),SUMIFS($I$4:I92,$C$4:C92,C93)))","v":0},0]
[91,null,{"$f":"IFERROR(VLOOKUP(D94,Nomenclature!$B$2:$C$196,2,0),\"\")","v":""},null,null,null,null,{"$f":"IF(C94=\"\",0,IF(SUMIFS($G$5:G94,$C$5:C94,C94)-SUMIFS($I$4:I93,$C$4:C93,C94)<0,0,SUMIFS($G$5:G94,$C$5:C94,C94)-SUMIFS($I$4:I93,$C$4:C93,C94)))","v":0},null,{"$f":"IF(C94=\"\",0,IF(C94=$C$4,SUMIFS($I$4:I93,$C$4:C93,C93),SUMIFS($I$4:I93,$C$4:C93,C94)))","v":0},0]
[92,null,{"$f":"IFERROR(VLOOKUP(D95,Nomenclature!$B$2:$C$196,2,0),\"\")","v":""},null,null,null,null,{"$f":"IF(C95=\"\",0,IF(SUMIFS($G$5:G95,$C$5:C95,C95)-SUMIFS($I$4:I94,$C$4:C94,C95)<0,0,SUMIFS($G$5:G95,$C$5:C95,C95)-SUMIFS($I$4:I94,$C$4:C94,C95)))","v":0},null,{"$f":"IF(C95=\"\",0,IF(C95=$C$4,SUMIFS($I$4:I94,$C$4:C94,C94),SUMIFS($I$4:I94,$C$4:C94,C95)))","v":0},0]
[93,null,{"$f":"IFERROR(VLOOKUP(D96,Nomenclature!$B$2:$C$196,2,0),\"\")","v":""},null,null,null,null,{"$f":"IF(C96=\"\",0,IF(SUMIFS($G$5:G96,$C$5:C96,C96)-SUMIFS($I$4:I95,$C$4:C95,C96)<0,0,SUMIFS($G$5:G96,$C$5:C96,C96)-SUMIFS($I$4:I95,$C$4:C95,C96)))","v":0},null,{"$f":"IF(C96=\"\",0,IF(C96=$C$4,SUMIFS($I$4:I95,$C$4:C95,C95),SUMIFS($I$4:I95,$C$4:C95,C96)))","v":0},0]
[94,null,{"$f":"IFERROR(VLOOKUP(D97,Nomenclature!$B$2:$C$196,2,0),\"\")","v":""},null,null,null,null,{"$f":"IF(C97=\"\",0,IF(SUMIFS($G$5:G97,$C$5:C97,C97)-SUMIFS($I$4:I96,$C$4:C96,C97)<0,0,SUMIFS($G$5:G97,$C$5:C97,C97)-SUMIFS($I$4:I96,$C$4:C96,C97)))","v":0},null,{"$f":"IF(C97=\"\",0,IF(C97=$C$4,SUMIFS($I$4:I96,$C$4:C96,C96),SUMIFS($I$4:I96,$C$4:C96,C97)))","v":0},0]
[95,null,{"$f":"IFERROR(VLOOKUP(D98,Nomenclature!$B$2:$C$196,2,0),\"\")","v":""},null,null,null,null,{"$f":"IF(C98=\"\",0,IF(SUMIFS($G$5:G98,$C$5:C98,C98)-SUMIFS($I$4:I97,$C$4:C97,C98)<0,0,SUMIFS($G$5:G98,$C$5:C98,C98)-SUMIFS($I$4:I97,$C$4:C97,C98)))","v":0},null,{"$f":"IF(C98=\"\",0,IF(C98=$C$4,SUMIFS($I$4:I97,$C$4:C97,C97),SUMIFS($I$4:I97,$C$4:C97,C98)))","v":0},0]
[96,null,{"$f":"IFERROR(VLOOKUP(D99,Nomenclature!$B$2:$C$196,2,0),\"\")","v":""},null,null,null,null,{"$f":"IF(C99=\"\",0,IF(SUMIFS($G$5:G99,$C$5:C99,C99)-SUMIFS($I$4:I98,$C$4:C98,C99)<0,0,SUMIFS($G$5:G99,$C$5:C99,C99)-SUMIFS($I$4:I98,$C$4:C98,C99)))","v":0},null,{"$f":"IF(C99=\"\",0,IF(C99=$C$4,SUMIFS($I$4:I98,$C$4:C98,C98),SUMIFS($I$4:I98,$C$4:C98,C99)))","v":0},0]
[97,null,{"$f":"IFERROR(VLOOKUP(D100,Nomenclature!$B$2:$C$196,2,0),\"\")","v":""},null,null,null,null,{"$f":"IF(C100=\"\",0,IF(SUMIFS($G$5:G100,$C$5:C100,C100)-SUMIFS($I$4:I99,$C$4:C99,C100)<0,0,SUMIFS($G$5:G100,$C$5:C100,C100)-SUMIFS($I$4:I99,$C$4:C99,C100)))","v":0},null,{"$f":"IF(C100=\"\",0,IF(C100=$C$4,SUMIFS($I$4:I99,$C$4:C99,C99),SUMIFS($I$4:I99,$C$4:C99,C100)))","v":0},0]
[98,null,{"$f":"IFERROR(VLOOKUP(D101,Nomenclature!$B$2:$C$196,2,0),\"\")","v":""},null,null,null,null,{"$f":"IF(C101=\"\",0,IF(SUMIFS($G$5:G101,$C$5:C101,C101)-SUMIFS($I$4:I100,$C$4:C100,C101)<0,0,SUMIFS($G$5:G101,$C$5:C101,C101)-SUMIFS($I$4:I100,$C$4:C100,C101)))","v":0},null,{"$f":"IF(C101=\"\",0,IF(C101=$C$4,SUMIFS($I$4:I100,$C$4:C100,C100),SUMIFS($I$4:I100,$C$4:C100,C101)))","v":0},0]
[99,null,{"$f":"IFERROR(VLOOKUP(D102,Nomenclature!$B$2:$C$196,2,0),\"\")","v":""},null,null,null,null,{"$f":"IF(C102=\"\",0,IF(SUMIFS($G$5:G102,$C$5:C102,C102)-SUMIFS($I$4:I101,$C$4:C101,C102)<0,0,SUMIFS($G$5:G102,$C$5:C102,C102)-SUMIFS($I$4:I101,$C$4:C101,C102)))","v":0},null,{"$f":"IF(C102=\"\",0,IF(C102=$C$4,SUMIFS($I$4:I101,$C$4:C101,C101),SUMIFS($I$4:I101,$C$4:C101,C102)))","v":0},0]
[100,null,{"$f":"IFERROR(VLOOKUP(D103,Nomenclature!$B$2:$C$196,2,0),\"\")","v":""},null,null,null,null,{"$f":"IF(C103=\"\",0,IF(SUMIFS($G$5:G103,$C$5:C103,C103)-SUMIFS($I$4:I102,$C$4:C102,C103)<0,0,SUMIFS($G$5:G103,$C$5:C103,C103)-SUMIFS($I$4:I102,$C$4:C102,C103)))","v":0},null,{"$f":"IF(C103=\"\",0,IF(C103=$C$4,SUMIFS($I$4:I102,$C$4:C102,C102),SUMIFS($I$4:I102,$C$4:C102,C103)))","v":0},0]
[101,null,{"$f":"IFERROR(VLOOKUP(D104,Nomenclature!$B$2:$C$196,2,0),\"\")","v":""},null,null,null,null,{"$f":"IF(C104=\"\",0,IF(SUMIFS($G$5:G104,$C$5:C104,C104)-SUMIFS($I$4:I103,$C$4:C103,C104)<0,0,SUMIFS($G$5:G104,$C$5:C104,C104)-SUMIFS($I$4:I103,$C$4:C103,C104)))","v":0},null,{"$f":"IF(C104=\"\",0,IF(C104=$C$4,SUMIFS($I$4:I103,$C$4:C103,C103),SUMIFS($I$4:I103,$C$4:C103,C104)))","v":0},0]
[102,null,{"$f":"IFERROR(VLOOKUP(D105,Nomenclature!$B$2:$C$196,2,0),\"\")","v":""},null,null,null,null,{"$f":"IF(C105=\"\",0,IF(SUMIFS($G$5:G105,$C$5:C105,C105)-SUMIFS($I$4:I104,$C$4:C104,C105)<0,0,SUMIFS($G$5:G105,$C$5:C105,C105)-SUMIFS($I$4:I104,$C$4:C104,C105)))","v":0},null,{"$f":"IF(C105=\"\",0,IF(C105=$C$4,SUMIFS($I$4:I104,$C$4:C104,C104),SUMIFS($I$4:I104,$C$4:C104,C105)))","v":0},0]
[103,null,{"$f":"IFERROR(VLOOKUP(D106,Nomenclature!$B$2:$C$196,2,0),\"\")","v":""},null,null,null,null,{"$f":"IF(C106=\"\",0,IF(SUMIFS($G$5:G106,$C$5:C106,C106)-SUMIFS($I$4:I105,$C$4:C105,C106)<0,0,SUMIFS($G$5:G106,$C$5:C106,C106)-SUMIFS($I$4:I105,$C$4:C105,C106)))","v":0},null,{"$f":"IF(C106=\"\",0,IF(C106=$C$4,SUMIFS($I$4:I105,$C$4:C105,C105),SUMIFS($I$4:I105,$C$4:C105,C106)))","v":0},0]
[104,null,{"$f":"IFERROR(VLOOKUP(D107,Nomenclature!$B$2:$C$196,2,0),\"\")","v":""},null,null,null,null,{"$f":"IF(C107=\"\",0,IF(SUMIFS($G$5:G107,$C$5:C107,C107)-SUMIFS($I$4:I106,$C$4:C106,C107)<0,0,SUMIFS($G$5:G107,$C$5:C107,C107)-SUMIFS($I$4:I106,$C$4:C106,C107)))","v":0},null,{"$f":"IF(C107=\"\",0,IF(C107=$C$4,SUMIFS($I$4:I106,$C$4:C106,C106),SUMIFS($I$4:I106,$C$4:C106,C107)))","v":0},0]
[105,null,{"$f":"IFERROR(VLOOKUP(D108,Nomenclature!$B$2:$C$196,2,0),\"\")","v":""},null,null,null,null,{"$f":"IF(C108=\"\",0,IF(SUMIFS($G$5:G108,$C$5:C108,C108)-SUMIFS($I$4:I107,$C$4:C107,C108)<0,0,SUMIFS($G$5:G108,$C$5:C108,C108)-SUMIFS($I$4:I107,$C$4:C107,C108)))","v":0},null,{"$f":"IF(C108=\"\",0,IF(C108=$C$4,SUMIFS($I$4:I107,$C$4:C107,C107),SUMIFS($I$4:I107,$C$4:C107,C108)))","v":0},0]
[106,null,{"$f":"IFERROR(VLOOKUP(D109,Nomenclature!$B$2:$C$196,2,0),\"\")","v":""},null,null,null,null,{"$f":"IF(C109=\"\",0,IF(SUMIFS($G$5:G109,$C$5:C109,C109)-SUMIFS($I$4:I108,$C$4:C108,C109)<0,0,SUMIFS($G$5:G109,$C$5:C109,C109)-SUMIFS($I$4:I108,$C$4:C108,C109)))","v":0},null,{"$f":"IF(C109=\"\",0,IF(C109=$C$4,SUMIFS($I$4:I108,$C$4:C108,C108),SUMIFS($I$4:I108,$C$4:C108,C109)))","v":0},0]
[107,null,{"$f":"IFERROR(VLOOKUP(D110,Nomenclature!$B$2:$C$196,2,0),\"\")","v":""},null,null,null,null,{"$f":"IF(C110=\"\",0,IF(SUMIFS($G$5:G110,$C$5:C110,C110)-SUMIFS($I$4:I109,$C$4:C109,C110)<0,0,SUMIFS($G$5:G110,$C$5:C110,C110)-SUMIFS($I$4:I109,$C$4:C109,C110)))","v":0},null,{"$f":"IF(C110=\"\",0,IF(C110=$C$4,SUMIFS($I$4:I109,$C$4:C109,C109),SUMIFS($I$4:I109,$C$4:C109,C110)))","v":0},0]
[108,null,{"$f":"IFERROR(VLOOKUP(D111,Nomenclature!$B$2:$C$196,2,0),\"\")","v":""},null,null,null,null,{"$f":"IF(C111=\"\",0,IF(SUMIFS($G$5:G111,$C$5:C111,C111)-SUMIFS($I$4:I110,$C$4:C110,C111)<0,0,SUMIFS($G$5:G111,$C$5:C111,C111)-SUMIFS($I$4:I110,$C$4:C110,C111)))","v":0},null,{"$f":"IF(C111=\"\",0,IF(C111=$C$4,SUMIFS($I$4:I110,$C$4:C110,C110),SUMIFS($I$4:I110,$C$4:C110,C111)))","v":0},0]
[109,null,{"$f":"IFERROR(VLOOKUP(D112,Nomenclature!$B$2:$C$196,2,0),\"\")","v":""},null,null,null,null,{"$f":"IF(C112=\"\",0,IF(SUMIFS($G$5:G112,$C$5:C112,C112)-SUMIFS($I$4:I111,$C$4:C111,C112)<0,0,SUMIFS($G$5:G112,$C$5:C112,C112)-SUMIFS($I$4:I111,$C$4:C111,C112)))","v":0},null,{"$f":"IF(C112=\"\",0,IF(C112=$C$4,SUMIFS($I$4:I111,$C$4:C111,C111),SUMIFS($I$4:I111,$C$4:C111,C112)))","v":0},0]
[110,null,{"$f":"IFERROR(VLOOKUP(D113,Nomenclature!$B$2:$C$196,2,0),\"\")","v":""},null,null,null,null,{"$f":"IF(C113=\"\",0,IF(SUMIFS($G$5:G113,$C$5:C113,C113)-SUMIFS($I$4:I112,$C$4:C112,C113)<0,0,SUMIFS($G$5:G113,$C$5:C113,C113)-SUMIFS($I$4:I112,$C$4:C112,C113)))","v":0},null,{"$f":"IF(C113=\"\",0,IF(C113=$C$4,SUMIFS($I$4:I112,$C$4:C112,C112),SUMIFS($I$4:I112,$C$4:C112,C113)))","v":0},0]
[111,null,{"$f":"IFERROR(VLOOKUP(D114,Nomenclature!$B$2:$C$196,2,0),\"\")","v":""},null,null,null,null,{"$f":"IF(C114=\"\",0,IF(SUMIFS($G$5:G114,$C$5:C114,C114)-SUMIFS($I$4:I113,$C$4:C113,C114)<0,0,SUMIFS($G$5:G114,$C$5:C114,C114)-SUMIFS($I$4:I113,$C$4:C113,C114)))","v":0},null,{"$f":"IF(C114=\"\",0,IF(C114=$C$4,SUMIFS($I$4:I113,$C$4:C113,C113),SUMIFS($I$4:I113,$C$4:C113,C114)))","v":0},0]
[112,null,{"$f":"IFERROR(VLOOKUP(D115,Nomenclature!$B$2:$C$196,2,0),\"\")","v":""},null,null,null,null,{"$f":"IF(C115=\"\",0,IF(SUMIFS($G$5:G115,$C$5:C115,C115)-SUMIFS($I$4:I114,$C$4:C114,C115)<0,0,SUMIFS($G$5:G115,$C$5:C115,C115)-SUMIFS($I$4:I114,$C$4:C114,C115)))","v":0},null,{"$f":"IF(C115=\"\",0,IF(C115=$C$4,SUMIFS($I$4:I114,$C$4:C114,C114),SUMIFS($I$4:I114,$C$4:C114,C115)))","v":0},0]
[113,null,{"$f":"IFERROR(VLOOKUP(D116,Nomenclature!$B$2:$C$196,2,0),\"\")","v":""},null,null,null,null,{"$f":"IF(C116=\"\",0,IF(SUMIFS($G$5:G116,$C$5:C116,C116)-SUMIFS($I$4:I115,$C$4:C115,C116)<0,0,SUMIFS($G$5:G116,$C$5:C116,C116)-SUMIFS($I$4:I115,$C$4:C115,C116)))","v":0},null,{"$f":"IF(C116=\"\",0,IF(C116=$C$4,SUMIFS($I$4:I115,$C$4:C115,C115),SUMIFS($I$4:I115,$C$4:C115,C116)))","v":0},0]
[114,null,{"$f":"IFERROR(VLOOKUP(D117,Nomenclature!$B$2:$C$196,2,0),\"\")","v":""},null,null,null,null,{"$f":"IF(C117=\"\",0,IF(SUMIFS($G$5:G117,$C$5:C117,C117)-SUMIFS($I$4:I116,$C$4:C116,C117)<0,0,SUMIFS($G$5:G117,$C$5:C117,C117)-SUMIFS($I$4:I116,$C$4:C116,C117)))","v":0},null,{"$f":"IF(C117=\"\",0,IF(C117=$C$4,SUMIFS($I$4:I116,$C$4:C116,C116),SUMIFS($I$4:I116,$C$4:C116,C117)))","v":0},0]
[115,null,{"$f":"IFERROR(VLOOKUP(D118,Nomenclature!$B$2:$C$196,2,0),\"\")","v":""},null,null,null,null,{"$f":"IF(C118=\"\",0,IF(SUMIFS($G$5:G118,$C$5:C118,C118)-SUMIFS($I$4:I117,$C$4:C117,C118)<0,0,SUMIFS($G$5:G118,$C$5:C118,C118)-SUMIFS($I$4:I117,$C$4:C117,C118)))","v":0},null,{"$f":"IF(C118=\"\",0,IF(C118=$C$4,SUMIFS($I$4:I117,$C$4:C117,C117),SUMIFS($I$4:I117,$C$4:C117,C118)))","v":0},0]
[116,null,{"$f":"IFERROR(VLOOKUP(D119,Nomenclature!$B$2:$C$196,2,0),\"\")","v":""},null,null,null,null,{"$f":"IF(C119=\"\",0,IF(SUMIFS($G$5:G119,$C$5:C119,C119)-SUMIFS($I$4:I118,$C$4:C118,C119)<0,0,SUMIFS($G$5:G119,$C$5:C119,C119)-SUMIFS($I$4:I118,$C$4:C118,C119)))","v":0},null,{"$f":"IF(C119=\"\",0,IF(C119=$C$4,SUMIFS($I$4:I118,$C$4:C118,C118),SUMIFS($I$4:I118,$C$4:C118,C119)))","v":0},0]
[117,null,{"$f":"IFERROR(VLOOKUP(D120,Nomenclature!$B$2:$C$196,2,0),\"\")","v":""},null,null,null,null,{"$f":"IF(C120=\"\",0,IF(SUMIFS($G$5:G120,$C$5:C120,C120)-SUMIFS($I$4:I119,$C$4:C119,C120)<0,0,SUMIFS($G$5:G120,$C$5:C120,C120)-SUMIFS($I$4:I119,$C$4:C119,C120)))","v":0},null,{"$f":"IF(C120=\"\",0,IF(C120=$C$4,SUMIFS($I$4:I119,$C$4:C119,C119),SUMIFS($I$4:I119,$C$4:C119,C120)))","v":0},0]
[118,null,{"$f":"IFERROR(VLOOKUP(D121,Nomenclature!$B$2:$C$196,2,0),\"\")","v":""},null,null,null,null,{"$f":"IF(C121=\"\",0,IF(SUMIFS($G$5:G121,$C$5:C121,C121)-SUMIFS($I$4:I120,$C$4:C120,C121)<0,0,SUMIFS($G$5:G121,$C$5:C121,C121)-SUMIFS($I$4:I120,$C$4:C120,C121)))","v":0},null,{"$f":"IF(C121=\"\",0,IF(C121=$C$4,SUMIFS($I$4:I120,$C$4:C120,C120),SUMIFS($I$4:I120,$C$4:C120,C121)))","v":0},0]
[119,null,{"$f":"IFERROR(VLOOKUP(D122,Nomenclature!$B$2:$C$196,2,0),\"\")","v":""},null,null,null,null,{"$f":"IF(C122=\"\",0,IF(SUMIFS($G$5:G122,$C$5:C122,C122)-SUMIFS($I$4:I121,$C$4:C121,C122)<0,0,SUMIFS($G$5:G122,$C$5:C122,C122)-SUMIFS($I$4:I121,$C$4:C121,C122)))","v":0},null,{"$f":"IF(C122=\"\",0,IF(C122=$C$4,SUMIFS($I$4:I121,$C$4:C121,C121),SUMIFS($I$4:I121,$C$4:C121,C122)))","v":0},0]
[120,null,{"$f":"IFERROR(VLOOKUP(D123,Nomenclature!$B$2:$C$196,2,0),\"\")","v":""},null,null,null,null,{"$f":"IF(C123=\"\",0,IF(SUMIFS($G$5:G123,$C$5:C123,C123)-SUMIFS($I$4:I122,$C$4:C122,C123)<0,0,SUMIFS($G$5:G123,$C$5:C123,C123)-SUMIFS($I$4:I122,$C$4:C122,C123)))","v":0},null,{"$f":"IF(C123=\"\",0,IF(C123=$C$4,SUMIFS($I$4:I122,$C$4:C122,C122),SUMIFS($I$4:I122,$C$4:C122,C123)))","v":0},0]
[121,null,{"$f":"IFERROR(VLOOKUP(D124,Nomenclature!$B$2:$C$196,2,0),\"\")","v":""},null,null,null,null,{"$f":"IF(C124=\"\",0,IF(SUMIFS($G$5:G124,$C$5:C124,C124)-SUMIFS($I$4:I123,$C$4:C123,C124)<0,0,SUMIFS($G$5:G124,$C$5:C124,C124)-SUMIFS($I$4:I123,$C$4:C123,C124)))","v":0},null,{"$f":"IF(C124=\"\",0,IF(C124=$C$4,SUMIFS($I$4:I123,$C$4:C123,C123),SUMIFS($I$4:I123,$C$4:C123,C124)))","v":0},0]
[122,null,{"$f":"IFERROR(VLOOKUP(D125,Nomenclature!$B$2:$C$196,2,0),\"\")","v":""},null,null,null,null,{"$f":"IF(C125=\"\",0,IF(SUMIFS($G$5:G125,$C$5:C125,C125)-SUMIFS($I$4:I124,$C$4:C124,C125)<0,0,SUMIFS($G$5:G125,$C$5:C125,C125)-SUMIFS($I$4:I124,$C$4:C124,C125)))","v":0},null,{"$f":"IF(C125=\"\",0,IF(C125=$C$4,SUMIFS($I$4:I124,$C$4:C124,C124),SUMIFS($I$4:I124,$C$4:C124,C125)))","v":0},0]
[123,null,{"$f":"IFERROR(VLOOKUP(D126,Nomenclature!$B$2:$C$196,2,0),\"\")","v":""},null,null,null,null,{"$f":"IF(C126=\"\",0,IF(SUMIFS($G$5:G126,$C$5:C126,C126)-SUMIFS($I$4:I125,$C$4:C125,C126)<0,0,SUMIFS($G$5:G126,$C$5:C126,C126)-SUMIFS($I$4:I125,$C$4:C125,C126)))","v":0},null,{"$f":"IF(C126=\"\",0,IF(C126=$C$4,SUMIFS($I$4:I125,$C$4:C125,C125),SUMIFS($I$4:I125,$C$4:C125,C126)))","v":0},0]
[124,null,{"$f":"IFERROR(VLOOKUP(D127,Nomenclature!$B$2:$C$196,2,0),\"\")","v":""},null,null,null,null,{"$f":"IF(C127=\"\",0,IF(SUMIFS($G$5:G127,$C$5:C127,C127)-SUMIFS($I$4:I126,$C$4:C126,C127)<0,0,SUMIFS($G$5:G127,$C$5:C127,C127)-SUMIFS($I$4:I126,$C$4:C126,C127)))","v":0},null,{"$f":"IF(C127=\"\",0,IF(C127=$C$4,SUMIFS($I$4:I126,$C$4:C126,C126),SUMIFS($I$4:I126,$C$4:C126,C127)))","v":0},0]
[125,null,{"$f":"IFERROR(VLOOKUP(D128,Nomenclature!$B$2:$C$196,2,0),\"\")","v":""},null,null,null,null,{"$f":"IF(C128=\"\",0,IF(SUMIFS($G$5:G128,$C$5:C128,C128)-SUMIFS($I$4:I127,$C$4:C127,C128)<0,0,SUMIFS($G$5:G128,$C$5:C128,C128)-SUMIFS($I$4:I127,$C$4:C127,C128)))","v":0},null,{"$f":"IF(C128=\"\",0,IF(C128=$C$4,SUMIFS($I$4:I127,$C$4:C127,C127),SUMIFS($I$4:I127,$C$4:C127,C128)))","v":0},0]
[126,null,{"$f":"IFERROR(VLOOKUP(D129,Nomenclature!$B$2:$C$196,2,0),\"\")","v":""},null,null,null,null,{"$f":"IF(C129=\"\",0,IF(SUMIFS($G$5:G129,$C$5:C129,C129)-SUMIFS($I$4:I128,$C$4:C128,C129)<0,0,SUMIFS($G$5:G129,$C$5:C129,C129)-SUMIFS($I$4:I128,$C$4:C128,C129)))","v":0},null,{"$f":"IF(C129=\"\",0,IF(C129=$C$4,SUMIFS($I$4:I128,$C$4:C128,C128),SUMIFS($I$4:I128,$C$4:C128,C129)))","v":0},0]
[127,null,{"$f":"IFERROR(VLOOKUP(D130,Nomenclature!$B$2:$C$196,2,0),\"\")","v":""},null,null,null,null,{"$f":"IF(C130=\"\",0,IF(SUMIFS($G$5:G130,$C$5:C130,C130)-SUMIFS($I$4:I129,$C$4:C129,C130)<0,0,SUMIFS($G$5:G130,$C$5:C130,C130)-SUMIFS($I$4:I129,$C$4:C129,C130)))","v":0},null,{"$f":"IF(C130=\"\",0,IF(C130=$C$4,SUMIFS($I$4:I129,$C$4:C129,C129),SUMIFS($I$4:I129,$C$4:C129,C130)))","v":0},0]
[128,null,{"$f":"IFERROR(VLOOKUP(D131,Nomenclature!$B$2:$C$196,2,0),\"\")","v":""},null,null,null,null,{"$f":"IF(C131=\"\",0,IF(SUMIFS($G$5:G131,$C$5:C131,C131)-SUMIFS($I$4:I130,$C$4:C130,C131)<0,0,SUMIFS($G$5:G131,$C$5:C131,C131)-SUMIFS($I$4:I130,$C$4:C130,C131)))","v":0},null,{"$f":"IF(C131=\"\",0,IF(C131=$C$4,SUMIFS($I$4:I130,$C$4:C130,C130),SUMIFS($I$4:I130,$C$4:C130,C131)))","v":0},0]
[129,null,{"$f":"IFERROR(VLOOKUP(D132,Nomenclature!$B$2:$C$196,2,0),\"\")","v":""},null,null,null,null,{"$f":"IF(C132=\"\",0,IF(SUMIFS($G$5:G132,$C$5:C132,C132)-SUMIFS($I$4:I131,$C$4:C131,C132)<0,0,SUMIFS($G$5:G132,$C$5:C132,C132)-SUMIFS($I$4:I131,$C$4:C131,C132)))","v":0},null,{"$f":"IF(C132=\"\",0,IF(C132=$C$4,SUMIFS($I$4:I131,$C$4:C131,C131),SUMIFS($I$4:I131,$C$4:C131,C132)))","v":0},{"$f":"IF(C132=\"\",0,H132-I132)","v":0}]
[130,null,{"$f":"IFERROR(VLOOKUP(D133,Nomenclature!$B$2:$C$196,2,0),\"\")","v":""},null,null,null,null,{"$f":"IF(C133=\"\",0,IF(SUMIFS($G$5:G133,$C$5:C133,C133)-SUMIFS($I$4:I132,$C$4:C132,C133)<0,0,SUMIFS($G$5:G133,$C$5:C133,C133)-SUMIFS($I$4:I132,$C$4:C132,C133)))","v":0},null,{"$f":"IF(C133=\"\",0,IF(C133=$C$4,SUMIFS($I$4:I132,$C$4:C132,C132),SUMIFS($I$4:I132,$C$4:C132,C133)))","v":0},0]
[131,null,{"$f":"IFERROR(VLOOKUP(D134,Nomenclature!$B$2:$C$196,2,0),\"\")","v":""},null,null,null,null,{"$f":"IF(C134=\"\",0,IF(SUMIFS($G$5:G134,$C$5:C134,C134)-SUMIFS($I$4:I133,$C$4:C133,C134)<0,0,SUMIFS($G$5:G134,$C$5:C134,C134)-SUMIFS($I$4:I133,$C$4:C133,C134)))","v":0},null,{"$f":"IF(C134=\"\",0,IF(C134=$C$4,SUMIFS($I$4:I133,$C$4:C133,C133),SUMIFS($I$4:I133,$C$4:C133,C134)))","v":0},0]
[132,null,{"$f":"IFERROR(VLOOKUP(D135,Nomenclature!$B$2:$C$196,2,0),\"\")","v":""},null,null,null,null,{"$f":"IF(C135=\"\",0,IF(SUMIFS($G$5:G135,$C$5:C135,C135)-SUMIFS($I$4:I134,$C$4:C134,C135)<0,0,SUMIFS($G$5:G135,$C$5:C135,C135)-SUMIFS($I$4:I134,$C$4:C134,C135)))","v":0},null,{"$f":"IF(C135=\"\",0,IF(C135=$C$4,SUMIFS($I$4:I134,$C$4:C134,C134),SUMIFS($I$4:I134,$C$4:C134,C135)))","v":0},0]
[133,null,{"$f":"IFERROR(VLOOKUP(D136,Nomenclature!$B$2:$C$196,2,0),\"\")","v":""},null,null,null,null,{"$f":"IF(C136=\"\",0,IF(SUMIFS($G$5:G136,$C$5:C136,C136)-SUMIFS($I$4:I135,$C$4:C135,C136)<0,0,SUMIFS($G$5:G136,$C$5:C136,C136)-SUMIFS($I$4:I135,$C$4:C135,C136)))","v":0},null,{"$f":"IF(C136=\"\",0,IF(C136=$C$4,SUMIFS($I$4:I135,$C$4:C135,C135),SUMIFS($I$4:I135,$C$4:C135,C136)))","v":0},0]
[134,null,{"$f":"IFERROR(VLOOKUP(D137,Nomenclature!$B$2:$C$196,2,0),\"\")","v":""},null,null,null,null,{"$f":"IF(C137=\"\",0,IF(SUMIFS($G$5:G137,$C$5:C137,C137)-SUMIFS($I$4:I136,$C$4:C136,C137)<0,0,SUMIFS($G$5:G137,$C$5:C137,C137)-SUMIFS($I$4:I136,$C$4:C136,C137)))","v":0},null,{"$f":"IF(C137=\"\",0,IF(C137=$C$4,SUMIFS($I$4:I136,$C$4:C136,C136),SUMIFS($I$4:I136,$C$4:C136,C137)))","v":0},0]
[135,null,{"$f":"IFERROR(VLOOKUP(D138,Nomenclature!$B$2:$C$196,2,0),\"\")","v":""},null,null,null,null,{"$f":"IF(C138=\"\",0,IF(SUMIFS($G$5:G138,$C$5:C138,C138)-SUMIFS($I$4:I137,$C$4:C137,C138)<0,0,SUMIFS($G$5:G138,$C$5:C138,C138)-SUMIFS($I$4:I137,$C$4:C137,C138)))","v":0},null,{"$f":"IF(C138=\"\",0,IF(C138=$C$4,SUMIFS($I$4:I137,$C$4:C137,C137),SUMIFS($I$4:I137,$C$4:C137,C138)))","v":0},0]
[136,null,{"$f":"IFERROR(VLOOKUP(D139,Nomenclature!$B$2:$C$196,2,0),\"\")","v":""},null,null,null,null,{"$f":"IF(C139=\"\",0,IF(SUMIFS($G$5:G139,$C$5:C139,C139)-SUMIFS($I$4:I138,$C$4:C138,C139)<0,0,SUMIFS($G$5:G139,$C$5:C139,C139)-SUMIFS($I$4:I138,$C$4:C138,C139)))","v":0},null,{"$f":"IF(C139=\"\",0,IF(C139=$C$4,SUMIFS($I$4:I138,$C$4:C138,C138),SUMIFS($I$4:I138,$C$4:C138,C139)))","v":0},0]
[137,null,{"$f":"IFERROR(VLOOKUP(D140,Nomenclature!$B$2:$C$196,2,0),\"\")","v":""},null,null,null,null,{"$f":"IF(C140=\"\",0,IF(SUMIFS($G$5:G140,$C$5:C140,C140)-SUMIFS($I$4:I139,$C$4:C139,C140)<0,0,SUMIFS($G$5:G140,$C$5:C140,C140)-SUMIFS($I$4:I139,$C$4:C139,C140)))","v":0},null,{"$f":"IF(C140=\"\",0,IF(C140=$C$4,SUMIFS($I$4:I139,$C$4:C139,C139),SUMIFS($I$4:I139,$C$4:C139,C140)))","v":0},0]
[138,null,{"$f":"IFERROR(VLOOKUP(D141,Nomenclature!$B$2:$C$196,2,0),\"\")","v":""},null,null,null,null,{"$f":"IF(C141=\"\",0,IF(SUMIFS($G$5:G141,$C$5:C141,C141)-SUMIFS($I$4:I140,$C$4:C140,C141)<0,0,SUMIFS($G$5:G141,$C$5:C141,C141)-SUMIFS($I$4:I140,$C$4:C140,C141)))","v":0},null,{"$f":"IF(C141=\"\",0,IF(C141=$C$4,SUMIFS($I$4:I140,$C$4:C140,C140),SUMIFS($I$4:I140,$C$4:C140,C141)))","v":0},0]
[139,null,{"$f":"IFERROR(VLOOKUP(D142,Nomenclature!$B$2:$C$196,2,0),\"\")","v":""},null,null,null,null,{"$f":"IF(C142=\"\",0,IF(SUMIFS($G$5:G142,$C$5:C142,C142)-SUMIFS($I$4:I141,$C$4:C141,C142)<0,0,SUMIFS($G$5:G142,$C$5:C142,C142)-SUMIFS($I$4:I141,$C$4:C141,C142)))","v":0},null,{"$f":"IF(C142=\"\",0,IF(C142=$C$4,SUMIFS($I$4:I141,$C$4:C141,C141),SUMIFS($I$4:I141,$C$4:C141,C142)))","v":0},0]
[140,null,{"$f":"IFERROR(VLOOKUP(D143,Nomenclature!$B$2:$C$196,2,0),\"\")","v":""},null,null,null,null,{"$f":"IF(C143=\"\",0,IF(SUMIFS($G$5:G143,$C$5:C143,C143)-SUMIFS($I$4:I142,$C$4:C142,C143)<0,0,SUMIFS($G$5:G143,$C$5:C143,C143)-SUMIFS($I$4:I142,$C$4:C142,C143)))","v":0},null,{"$f":"IF(C143=\"\",0,IF(C143=$C$4,SUMIFS($I$4:I142,$C$4:C142,C142),SUMIFS($I$4:I142,$C$4:C142,C143)))","v":0},0]
[141,null,{"$f":"IFERROR(VLOOKUP(D144,Nomenclature!$B$2:$C$196,2,0),\"\")","v":""},null,null,null,null,{"$f":"IF(C144=\"\",0,IF(SUMIFS($G$5:G144,$C$5:C144,C144)-SUMIFS($I$4:I143,$C$4:C143,C144)<0,0,SUMIFS($G$5:G144,$C$5:C144,C144)-SUMIFS($I$4:I143,$C$4:C143,C144)))","v":0},null,{"$f":"IF(C144=\"\",0,IF(C144=$C$4,SUMIFS($I$4:I143,$C$4:C143,C143),SUMIFS($I$4:I143,$C$4:C143,C144)))","v":0},0]
[142,null,{"$f":"IFERROR(VLOOKUP(D145,Nomenclature!$B$2:$C$196,2,0),\"\")","v":""},null,null,null,null,{"$f":"IF(C145=\"\",0,IF(SUMIFS($G$5:G145,$C$5:C145,C145)-SUMIFS($I$4:I144,$C$4:C144,C145)<0,0,SUMIFS($G$5:G145,$C$5:C145,C145)-SUMIFS($I$4:I144,$C$4:C144,C145)))","v":0},null,{"$f":"IF(C145=\"\",0,IF(C145=$C$4,SUMIFS($I$4:I144,$C$4:C144,C144),SUMIFS($I$4:I144,$C$4:C144,C145)))","v":0},0]
[143,null,{"$f":"IFERROR(VLOOKUP(D146,Nomenclature!$B$2:$C$196,2,0),\"\")","v":""},null,null,null,null,{"$f":"IF(C146=\"\",0,IF(SUMIFS($G$5:G146,$C$5:C146,C146)-SUMIFS($I$4:I145,$C$4:C145,C146)<0,0,SUMIFS($G$5:G146,$C$5:C146,C146)-SUMIFS($I$4:I145,$C$4:C145,C146)))","v":0},null,{"$f":"IF(C146=\"\",0,IF(C146=$C$4,SUMIFS($I$4:I145,$C$4:C145,C145),SUMIFS($I$4:I145,$C$4:C145,C146)))","v":0},0]
[144,null,{"$f":"IFERROR(VLOOKUP(D147,Nomenclature!$B$2:$C$196,2,0),\"\")","v":""},null,null,null,null,{"$f":"IF(C147=\"\",0,IF(SUMIFS($G$5:G147,$C$5:C147,C147)-SUMIFS($I$4:I146,$C$4:C146,C147)<0,0,SUMIFS($G$5:G147,$C$5:C147,C147)-SUMIFS($I$4:I146,$C$4:C146,C147)))","v":0},null,{"$f":"IF(C147=\"\",0,IF(C147=$C$4,SUMIFS($I$4:I146,$C$4:C146,C146),SUMIFS($I$4:I146,$C$4:C146,C147)))","v":0},0]
[145,null,{"$f":"IFERROR(VLOOKUP(D148,Nomenclature!$B$2:$C$196,2,0),\"\")","v":""},null,null,null,null,{"$f":"IF(C148=\"\",0,IF(SUMIFS($G$5:G148,$C$5:C148,C148)-SUMIFS($I$4:I147,$C$4:C147,C148)<0,0,SUMIFS($G$5:G148,$C$5:C148,C148)-SUMIFS($I$4:I147,$C$4:C147,C148)))","v":0},null,{"$f":"IF(C148=\"\",0,IF(C148=$C$4,SUMIFS($I$4:I147,$C$4:C147,C147),SUMIFS($I$4:I147,$C$4:C147,C148)))","v":0},0]
[146,null,{"$f":"IFERROR(VLOOKUP(D149,Nomenclature!$B$2:$C$196,2,0),\"\")","v":""},null,null,null,null,{"$f":"IF(C149=\"\",0,IF(SUMIFS($G$5:G149,$C$5:C149,C149)-SUMIFS($I$4:I148,$C$4:C148,C149)<0,0,SUMIFS($G$5:G149,$C$5:C149,C149)-SUMIFS($I$4:I148,$C$4:C148,C149)))","v":0},null,{"$f":"IF(C149=\"\",0,IF(C149=$C$4,SUMIFS($I$4:I148,$C$4:C148,C148),SUMIFS($I$4:I148,$C$4:C148,C149)))","v":0},0]
[147,null,{"$f":"IFERROR(VLOOKUP(D150,Nomenclature!$B$2:$C$196,2,0),\"\")","v":""},null,null,null,null,{"$f":"IF(C150=\"\",0,IF(SUMIFS($G$5:G150,$C$5:C150,C150)-SUMIFS($I$4:I149,$C$4:C149,C150)<0,0,SUMIFS($G$5:G150,$C$5:C150,C150)-SUMIFS($I$4:I149,$C$4:C149,C150)))","v":0},null,{"$f":"IF(C150=\"\",0,IF(C150=$C$4,SUMIFS($I$4:I149,$C$4:C149,C149),SUMIFS($I$4:I149,$C$4:C149,C150)))","v":0},0]
[148,null,{"$f":"IFERROR(VLOOKUP(D151,Nomenclature!$B$2:$C$196,2,0),\"\")","v":""},null,null,null,null,{"$f":"IF(C151=\"\",0,IF(SUMIFS($G$5:G151,$C$5:C151,C151)-SUMIFS($I$4:I150,$C$4:C150,C151)<0,0,SUMIFS($G$5:G151,$C$5:C151,C151)-SUMIFS($I$4:I150,$C$4:C150,C151)))","v":0},null,{"$f":"IF(C151=\"\",0,IF(C151=$C$4,SUMIFS($I$4:I150,$C$4:C150,C150),SUMIFS($I$4:I150,$C$4:C150,C151)))","v":0},0]
[149,null,{"$f":"IFERROR(VLOOKUP(D152,Nomenclature!$B$2:$C$196,2,0),\"\")","v":""},null,null,null,null,{"$f":"IF(C152=\"\",0,IF(SUMIFS($G$5:G152,$C$5:C152,C152)-SUMIFS($I$4:I151,$C$4:C151,C152)<0,0,SUMIFS($G$5:G152,$C$5:C152,C152)-SUMIFS($I$4:I151,$C$4:C151,C152)))","v":0},null,{"$f":"IF(C152=\"\",0,IF(C152=$C$4,SUMIFS($I$4:I151,$C$4:C151,C151),SUMIFS($I$4:I151,$C$4:C151,C152)))","v":0},0]
[150,null,{"$f":"IFERROR(VLOOKUP(D153,Nomenclature!$B$2:$C$196,2,0),\"\")","v":""},null,null,null,null,{"$f":"IF(C153=\"\",0,IF(SUMIFS($G$5:G153,$C$5:C153,C153)-SUMIFS($I$4:I152,$C$4:C152,C153)<0,0,SUMIFS($G$5:G153,$C$5:C153,C153)-SUMIFS($I$4:I152,$C$4:C152,C153)))","v":0},null,{"$f":"IF(C153=\"\",0,IF(C153=$C$4,SUMIFS($I$4:I152,$C$4:C152,C152),SUMIFS($I$4:I152,$C$4:C152,C153)))","v":0},0]
[151,null,{"$f":"IFERROR(VLOOKUP(D154,Nomenclature!$B$2:$C$196,2,0),\"\")","v":""},null,null,null,null,{"$f":"IF(C154=\"\",0,IF(SUMIFS($G$5:G154,$C$5:C154,C154)-SUMIFS($I$4:I153,$C$4:C153,C154)<0,0,SUMIFS($G$5:G154,$C$5:C154,C154)-SUMIFS($I$4:I153,$C$4:C153,C154)))","v":0},null,{"$f":"IF(C154=\"\",0,IF(C154=$C$4,SUMIFS($I$4:I153,$C$4:C153,C153),SUMIFS($I$4:I153,$C$4:C153,C154)))","v":0},0]
[152,null,{"$f":"IFERROR(VLOOKUP(D155,Nomenclature!$B$2:$C$196,2,0),\"\")","v":""},null,null,null,null,{"$f":"IF(C155=\"\",0,IF(SUMIFS($G$5:G155,$C$5:C155,C155)-SUMIFS($I$4:I154,$C$4:C154,C155)<0,0,SUMIFS($G$5:G155,$C$5:C155,C155)-SUMIFS($I$4:I154,$C$4:C154,C155)))","v":0},null,{"$f":"IF(C155=\"\",0,IF(C155=$C$4,SUMIFS($I$4:I154,$C$4:C154,C154),SUMIFS($I$4:I154,$C$4:C154,C155)))","v":0},0]
[153,null,{"$f":"IFERROR(VLOOKUP(D156,Nomenclature!$B$2:$C$196,2,0),\"\")","v":""},null,null,null,null,{"$f":"IF(C156=\"\",0,IF(SUMIFS($G$5:G156,$C$5:C156,C156)-SUMIFS($I$4:I155,$C$4:C155,C156)<0,0,SUMIFS($G$5:G156,$C$5:C156,C156)-SUMIFS($I$4:I155,$C$4:C155,C156)))","v":0},null,{"$f":"IF(C156=\"\",0,IF(C156=$C$4,SUMIFS($I$4:I155,$C$4:C155,C155),SUMIFS($I$4:I155,$C$4:C155,C156)))","v":0},0]
[154,null,{"$f":"IFERROR(VLOOKUP(D157,Nomenclature!$B$2:$C$196,2,0),\"\")","v":""},null,null,null,null,{"$f":"IF(C157=\"\",0,IF(SUMIFS($G$5:G157,$C$5:C157,C157)-SUMIFS($I$4:I156,$C$4:C156,C157)<0,0,SUMIFS($G$5:G157,$C$5:C157,C157)-SUMIFS($I$4:I156,$C$4:C156,C157)))","v":0},null,{"$f":"IF(C157=\"\",0,IF(C157=$C$4,SUMIFS($I$4:I156,$C$4:C156,C156),SUMIFS($I$4:I156,$C$4:C156,C157)))","v":0},0]
[155,null,{"$f":"IFERROR(VLOOKUP(D158,Nomenclature!$B$2:$C$196,2,0),\"\")","v":""},null,null,null,null,{"$f":"IF(C158=\"\",0,IF(SUMIFS($G$5:G158,$C$5:C158,C158)-SUMIFS($I$4:I157,$C$4:C157,C158)<0,0,SUMIFS($G$5:G158,$C$5:C158,C158)-SUMIFS($I$4:I157,$C$4:C157,C158)))","v":0},null,{"$f":"IF(C158=\"\",0,IF(C158=$C$4,SUMIFS($I$4:I157,$C$4:C157,C157),SUMIFS($I$4:I157,$C$4:C157,C158)))","v":0},0]
[156,null,{"$f":"IFERROR(VLOOKUP(D159,Nomenclature!$B$2:$C$196,2,0),\"\")","v":""},null,null,null,null,{"$f":"IF(C159=\"\",0,IF(SUMIFS($G$5:G159,$C$5:C159,C159)-SUMIFS($I$4:I158,$C$4:C158,C159)<0,0,SUMIFS($G$5:G159,$C$5:C159,C159)-SUMIFS($I$4:I158,$C$4:C158,C159)))","v":0},null,{"$f":"IF(C159=\"\",0,IF(C159=$C$4,SUMIFS($I$4:I158,$C$4:C158,C158),SUMIFS($I$4:I158,$C$4:C158,C159)))","v":0},0]
[157,null,{"$f":"IFERROR(VLOOKUP(D160,Nomenclature!$B$2:$C$196,2,0),\"\")","v":""},null,null,null,null,{"$f":"IF(C160=\"\",0,IF(SUMIFS($G$5:G160,$C$5:C160,C160)-SUMIFS($I$4:I159,$C$4:C159,C160)<0,0,SUMIFS($G$5:G160,$C$5:C160,C160)-SUMIFS($I$4:I159,$C$4:C159,C160)))","v":0},null,{"$f":"IF(C160=\"\",0,IF(C160=$C$4,SUMIFS($I$4:I159,$C$4:C159,C159),SUMIFS($I$4:I159,$C$4:C159,C160)))","v":0},0]
[158,null,{"$f":"IFERROR(VLOOKUP(D161,Nomenclature!$B$2:$C$196,2,0),\"\")","v":""},null,null,null,null,{"$f":"IF(C161=\"\",0,IF(SUMIFS($G$5:G161,$C$5:C161,C161)-SUMIFS($I$4:I160,$C$4:C160,C161)<0,0,SUMIFS($G$5:G161,$C$5:C161,C161)-SUMIFS($I$4:I160,$C$4:C160,C161)))","v":0},null,{"$f":"IF(C161=\"\",0,IF(C161=$C$4,SUMIFS($I$4:I160,$C$4:C160,C160),SUMIFS($I$4:I160,$C$4:C160,C161)))","v":0},0]
[159,null,{"$f":"IFERROR(VLOOKUP(D162,Nomenclature!$B$2:$C$196,2,0),\"\")","v":""},null,null,null,null,{"$f":"IF(C162=\"\",0,IF(SUMIFS($G$5:G162,$C$5:C162,C162)-SUMIFS($I$4:I161,$C$4:C161,C162)<0,0,SUMIFS($G$5:G162,$C$5:C162,C162)-SUMIFS($I$4:I161,$C$4:C161,C162)))","v":0},null,{"$f":"IF(C162=\"\",0,IF(C162=$C$4,SUMIFS($I$4:I161,$C$4:C161,C161),SUMIFS($I$4:I161,$C$4:C161,C162)))","v":0},0]
[160,null,{"$f":"IFERROR(VLOOKUP(D163,Nomenclature!$B$2:$C$196,2,0),\"\")","v":""},null,null,null,null,{"$f":"IF(C163=\"\",0,IF(SUMIFS($G$5:G163,$C$5:C163,C163)-SUMIFS($I$4:I162,$C$4:C162,C163)<0,0,SUMIFS($G$5:G163,$C$5:C163,C163)-SUMIFS($I$4:I162,$C$4:C162,C163)))","v":0},null,{"$f":"IF(C163=\"\",0,IF(C163=$C$4,SUMIFS($I$4:I162,$C$4:C162,C162),SUMIFS($I$4:I162,$C$4:C162,C163)))","v":0},0]
[161,null,{"$f":"IFERROR(VLOOKUP(D164,Nomenclature!$B$2:$C$196,2,0),\"\")","v":""},null,null,null,null,{"$f":"IF(C164=\"\",0,IF(SUMIFS($G$5:G164,$C$5:C164,C164)-SUMIFS($I$4:I163,$C$4:C163,C164)<0,0,SUMIFS($G$5:G164,$C$5:C164,C164)-SUMIFS($I$4:I163,$C$4:C163,C164)))","v":0},null,{"$f":"IF(C164=\"\",0,IF(C164=$C$4,SUMIFS($I$4:I163,$C$4:C163,C163),SUMIFS($I$4:I163,$C$4:C163,C164)))","v":0},0]
[162,null,{"$f":"IFERROR(VLOOKUP(D165,Nomenclature!$B$2:$C$196,2,0),\"\")","v":""},null,null,null,null,{"$f":"IF(C165=\"\",0,IF(SUMIFS($G$5:G165,$C$5:C165,C165)-SUMIFS($I$4:I164,$C$4:C164,C165)<0,0,SUMIFS($G$5:G165,$C$5:C165,C165)-SUMIFS($I$4:I164,$C$4:C164,C165)))","v":0},null,{"$f":"IF(C165=\"\",0,IF(C165=$C$4,SUMIFS($I$4:I164,$C$4:C164,C164),SUMIFS($I$4:I164,$C$4:C164,C165)))","v":0},0]
[163,null,{"$f":"IFERROR(VLOOKUP(D166,Nomenclature!$B$2:$C$196,2,0),\"\")","v":""},null,null,null,null,{"$f":"IF(C166=\"\",0,IF(SUMIFS($G$5:G166,$C$5:C166,C166)-SUMIFS($I$4:I165,$C$4:C165,C166)<0,0,SUMIFS($G$5:G166,$C$5:C166,C166)-SUMIFS($I$4:I165,$C$4:C165,C166)))","v":0},null,{"$f":"IF(C166=\"\",0,IF(C166=$C$4,SUMIFS($I$4:I165,$C$4:C165,C165),SUMIFS($I$4:I165,$C$4:C165,C166)))","v":0},0]
[164,null,{"$f":"IFERROR(VLOOKUP(D167,Nomenclature!$B$2:$C$196,2,0),\"\")","v":""},null,null,null,null,{"$f":"IF(C167=\"\",0,IF(SUMIFS($G$5:G167,$C$5:C167,C167)-SUMIFS($I$4:I166,$C$4:C166,C167)<0,0,SUMIFS($G$5:G167,$C$5:C167,C167)-SUMIFS($I$4:I166,$C$4:C166,C167)))","v":0},null,{"$f":"IF(C167=\"\",0,IF(C167=$C$4,SUMIFS($I$4:I166,$C$4:C166,C166),SUMIFS($I$4:I166,$C$4:C166,C167)))","v":0},0]
[165,null,{"$f":"IFERROR(VLOOKUP(D168,Nomenclature!$B$2:$C$196,2,0),\"\")","v":""},null,null,null,null,{"$f":"IF(C168=\"\",0,IF(SUMIFS($G$5:G168,$C$5:C168,C168)-SUMIFS($I$4:I167,$C$4:C167,C168)<0,0,SUMIFS($G$5:G168,$C$5:C168,C168)-SUMIFS($I$4:I167,$C$4:C167,C168)))","v":0},null,{"$f":"IF(C168=\"\",0,IF(C168=$C$4,SUMIFS($I$4:I167,$C$4:C167,C167),SUMIFS($I$4:I167,$C$4:C167,C168)))","v":0},0]
[166,null,{"$f":"IFERROR(VLOOKUP(D169,Nomenclature!$B$2:$C$196,2,0),\"\")","v":""},null,null,null,null,{"$f":"IF(C169=\"\",0,IF(SUMIFS($G$5:G169,$C$5:C169,C169)-SUMIFS($I$4:I168,$C$4:C168,C169)<0,0,SUMIFS($G$5:G169,$C$5:C169,C169)-SUMIFS($I$4:I168,$C$4:C168,C169)))","v":0},null,{"$f":"IF(C169=\"\",0,IF(C169=$C$4,SUMIFS($I$4:I168,$C$4:C168,C168),SUMIFS($I$4:I168,$C$4:C168,C169)))","v":0},0]
[167,null,{"$f":"IFERROR(VLOOKUP(D170,Nomenclature!$B$2:$C$196,2,0),\"\")","v":""},null,null,null,null,{"$f":"IF(C170=\"\",0,IF(SUMIFS($G$5:G170,$C$5:C170,C170)-SUMIFS($I$4:I169,$C$4:C169,C170)<0,0,SUMIFS($G$5:G170,$C$5:C170,C170)-SUMIFS($I$4:I169,$C$4:C169,C170)))","v":0},null,{"$f":"IF(C170=\"\",0,IF(C170=$C$4,SUMIFS($I$4:I169,$C$4:C169,C169),SUMIFS($I$4:I169,$C$4:C169,C170)))","v":0},0]
[168,null,{"$f":"IFERROR(VLOOKUP(D171,Nomenclature!$B$2:$C$196,2,0),\"\")","v":""},null,null,null,null,{"$f":"IF(C171=\"\",0,IF(SUMIFS($G$5:G171,$C$5:C171,C171)-SUMIFS($I$4:I170,$C$4:C170,C171)<0,0,SUMIFS($G$5:G171,$C$5:C171,C171)-SUMIFS($I$4:I170,$C$4:C170,C171)))","v":0},null,{"$f":"IF(C171=\"\",0,IF(C171=$C$4,SUMIFS($I$4:I170,$C$4:C170,C170),SUMIFS($I$4:I170,$C$4:C170,C171)))","v":0},0]
[169,null,{"$f":"IFERROR(VLOOKUP(D172,Nomenclature!$B$2:$C$196,2,0),\"\")","v":""},null,null,null,null,{"$f":"IF(C172=\"\",0,IF(SUMIFS($G$5:G172,$C$5:C172,C172)-SUMIFS($I$4:I171,$C$4:C171,C172)<0,0,SUMIFS($G$5:G172,$C$5:C172,C172)-SUMIFS($I$4:I171,$C$4:C171,C172)))","v":0},null,{"$f":"IF(C172=\"\",0,IF(C172=$C$4,SUMIFS($I$4:I171,$C$4:C171,C171),SUMIFS($I$4:I171,$C$4:C171,C172)))","v":0},0]
[170,null,{"$f":"IFERROR(VLOOKUP(D173,Nomenclature!$B$2:$C$196,2,0),\"\")","v":""},null,null,null,null,{"$f":"IF(C173=\"\",0,IF(SUMIFS($G$5:G173,$C$5:C173,C173)-SUMIFS($I$4:I172,$C$4:C172,C173)<0,0,SUMIFS($G$5:G173,$C$5:C173,C173)-SUMIFS($I$4:I172,$C$4:C172,C173)))","v":0},null,{"$f":"IF(C173=\"\",0,IF(C173=$C$4,SUMIFS($I$4:I172,$C$4:C172,C172),SUMIFS($I$4:I172,$C$4:C172,C173)))","v":0},0]
[171,null,{"$f":"IFERROR(VLOOKUP(D174,Nomenclature!$B$2:$C$196,2,0),\"\")","v":""},null,null,null,null,{"$f":"IF(C174=\"\",0,IF(SUMIFS($G$5:G174,$C$5:C174,C174)-SUMIFS($I$4:I173,$C$4:C173,C174)<0,0,SUMIFS($G$5:G174,$C$5:C174,C174)-SUMIFS($I$4:I173,$C$4:C173,C174)))","v":0},null,{"$f":"IF(C174=\"\",0,IF(C174=$C$4,SUMIFS($I$4:I173,$C$4:C173,C173),SUMIFS($I$4:I173,$C$4:C173,C174)))","v":0},0]
[172,null,{"$f":"IFERROR(VLOOKUP(D175,Nomenclature!$B$2:$C$196,2,0),\"\")","v":""},null,null,null,null,{"$f":"IF(C175=\"\",0,IF(SUMIFS($G$5:G175,$C$5:C175,C175)-SUMIFS($I$4:I174,$C$4:C174,C175)<0,0,SUMIFS($G$5:G175,$C$5:C175,C175)-SUMIFS($I$4:I174,$C$4:C174,C175)))","v":0},null,{"$f":"IF(C175=\"\",0,IF(C175=$C$4,SUMIFS($I$4:I174,$C$4:C174,C174),SUMIFS($I$4:I174,$C$4:C174,C175)))","v":0},0]
[173,null,{"$f":"IFERROR(VLOOKUP(D176,Nomenclature!$B$2:$C$196,2,0),\"\")","v":""},null,null,null,null,{"$f":"IF(C176=\"\",0,IF(SUMIFS($G$5:G176,$C$5:C176,C176)-SUMIFS($I$4:I175,$C$4:C175,C176)<0,0,SUMIFS($G$5:G176,$C$5:C176,C176)-SUMIFS($I$4:I175,$C$4:C175,C176)))","v":0},null,{"$f":"IF(C176=\"\",0,IF(C176=$C$4,SUMIFS($I$4:I175,$C$4:C175,C175),SUMIFS($I$4:I175,$C$4:C175,C176)))","v":0},0]
[174,null,{"$f":"IFERROR(VLOOKUP(D177,Nomenclature!$B$2:$C$196,2,0),\"\")","v":""},null,null,null,null,{"$f":"IF(C177=\"\",0,IF(SUMIFS($G$5:G177,$C$5:C177,C177)-SUMIFS($I$4:I176,$C$4:C176,C177)<0,0,SUMIFS($G$5:G177,$C$5:C177,C177)-SUMIFS($I$4:I176,$C$4:C176,C177)))","v":0},null,{"$f":"IF(C177=\"\",0,IF(C177=$C$4,SUMIFS($I$4:I176,$C$4:C176,C176),SUMIFS($I$4:I176,$C$4:C176,C177)))","v":0},0]
[175,null,{"$f":"IFERROR(VLOOKUP(D178,Nomenclature!$B$2:$C$196,2,0),\"\")","v":""},null,null,null,null,{"$f":"IF(C178=\"\",0,IF(SUMIFS($G$5:G178,$C$5:C178,C178)-SUMIFS($I$4:I177,$C$4:C177,C178)<0,0,SUMIFS($G$5:G178,$C$5:C178,C178)-SUMIFS($I$4:I177,$C$4:C177,C178)))","v":0},null,{"$f":"IF(C178=\"\",0,IF(C178=$C$4,SUMIFS($I$4:I177,$C$4:C177,C177),SUMIFS($I$4:I177,$C$4:C177,C178)))","v":0},0]
[176,null,{"$f":"IFERROR(VLOOKUP(D179,Nomenclature!$B$2:$C$196,2,0),\"\")","v":""},null,null,null,null,{"$f":"IF(C179=\"\",0,IF(SUMIFS($G$5:G179,$C$5:C179,C179)-SUMIFS($I$4:I178,$C$4:C178,C179)<0,0,SUMIFS($G$5:G179,$C$5:C179,C179)-SUMIFS($I$4:I178,$C$4:C178,C179)))","v":0},null,{"$f":"IF(C179=\"\",0,IF(C179=$C$4,SUMIFS($I$4:I178,$C$4:C178,C178),SUMIFS($I$4:I178,$C$4:C178,C179)))","v":0},0]
[177,null,{"$f":"IFERROR(VLOOKUP(D180,Nomenclature!$B$2:$C$196,2,0),\"\")","v":""},null,null,null,null,{"$f":"IF(C180=\"\",0,IF(SUMIFS($G$5:G180,$C$5:C180,C180)-SUMIFS($I$4:I179,$C$4:C179,C180)<0,0,SUMIFS($G$5:G180,$C$5:C180,C180)-SUMIFS($I$4:I179,$C$4:C179,C180)))","v":0},null,{"$f":"IF(C180=\"\",0,IF(C180=$C$4,SUMIFS($I$4:I179,$C$4:C179,C179),SUMIFS($I$4:I179,$C$4:C179,C180)))","v":0},0]
[178,null,{"$f":"IFERROR(VLOOKUP(D181,Nomenclature!$B$2:$C$196,2,0),\"\")","v":""},null,null,null,null,{"$f":"IF(C181=\"\",0,IF(SUMIFS($G$5:G181,$C$5:C181,C181)-SUMIFS($I$4:I180,$C$4:C180,C181)<0,0,SUMIFS($G$5:G181,$C$5:C181,C181)-SUMIFS($I$4:I180,$C$4:C180,C181)))","v":0},null,{"$f":"IF(C181=\"\",0,IF(C181=$C$4,SUMIFS($I$4:I180,$C$4:C180,C180),SUMIFS($I$4:I180,$C$4:C180,C181)))","v":0},0]
[179,null,{"$f":"IFERROR(VLOOKUP(D182,Nomenclature!$B$2:$C$196,2,0),\"\")","v":""},null,null,null,null,{"$f":"IF(C182=\"\",0,IF(SUMIFS($G$5:G182,$C$5:C182,C182)-SUMIFS($I$4:I181,$C$4:C181,C182)<0,0,SUMIFS($G$5:G182,$C$5:C182,C182)-SUMIFS($I$4:I181,$C$4:C181,C182)))","v":0},null,{"$f":"IF(C182=\"\",0,IF(C182=$C$4,SUMIFS($I$4:I181,$C$4:C181,C181),SUMIFS($I$4:I181,$C$4:C181,C182)))","v":0},0]
[180,null,{"$f":"IFERROR(VLOOKUP(D183,Nomenclature!$B$2:$C$196,2,0),\"\")","v":""},null,null,null,null,{"$f":"IF(C183=\"\",0,IF(SUMIFS($G$5:G183,$C$5:C183,C183)-SUMIFS($I$4:I182,$C$4:C182,C183)<0,0,SUMIFS($G$5:G183,$C$5:C183,C183)-SUMIFS($I$4:I182,$C$4:C182,C183)))","v":0},null,{"$f":"IF(C183=\"\",0,IF(C183=$C$4,SUMIFS($I$4:I182,$C$4:C182,C182),SUMIFS($I$4:I182,$C$4:C182,C183)))","v":0},0]
[181,null,{"$f":"IFERROR(VLOOKUP(D184,Nomenclature!$B$2:$C$196,2,0),\"\")","v":""},null,null,null,null,{"$f":"IF(C184=\"\",0,IF(SUMIFS($G$5:G184,$C$5:C184,C184)-SUMIFS($I$4:I183,$C$4:C183,C184)<0,0,SUMIFS($G$5:G184,$C$5:C184,C184)-SUMIFS($I$4:I183,$C$4:C183,C184)))","v":0},null,{"$f":"IF(C184=\"\",0,IF(C184=$C$4,SUMIFS($I$4:I183,$C$4:C183,C183),SUMIFS($I$4:I183,$C$4:C183,C184)))","v":0},0]
[182,null,{"$f":"IFERROR(VLOOKUP(D185,Nomenclature!$B$2:$C$196,2,0),\"\")","v":""},null,null,null,null,{"$f":"IF(C185=\"\",0,IF(SUMIFS($G$5:G185,$C$5:C185,C185)-SUMIFS($I$4:I184,$C$4:C184,C185)<0,0,SUMIFS($G$5:G185,$C$5:C185,C185)-SUMIFS($I$4:I184,$C$4:C184,C185)))","v":0},null,{"$f":"IF(C185=\"\",0,IF(C185=$C$4,SUMIFS($I$4:I184,$C$4:C184,C184),SUMIFS($I$4:I184,$C$4:C184,C185)))","v":0},0]
[183,null,{"$f":"IFERROR(VLOOKUP(D186,Nomenclature!$B$2:$C$196,2,0),\"\")","v":""},null,null,null,null,{"$f":"IF(C186=\"\",0,IF(SUMIFS($G$5:G186,$C$5:C186,C186)-SUMIFS($I$4:I185,$C$4:C185,C186)<0,0,SUMIFS($G$5:G186,$C$5:C186,C186)-SUMIFS($I$4:I185,$C$4:C185,C186)))","v":0},null,{"$f":"IF(C186=\"\",0,IF(C186=$C$4,SUMIFS($I$4:I185,$C$4:C185,C185),SUMIFS($I$4:I185,$C$4:C185,C186)))","v":0},0]
[184,null,{"$f":"IFERROR(VLOOKUP(D187,Nomenclature!$B$2:$C$196,2,0),\"\")","v":""},null,null,null,null,{"$f":"IF(C187=\"\",0,IF(SUMIFS($G$5:G187,$C$5:C187,C187)-SUMIFS($I$4:I186,$C$4:C186,C187)<0,0,SUMIFS($G$5:G187,$C$5:C187,C187)-SUMIFS($I$4:I186,$C$4:C186,C187)))","v":0},null,{"$f":"IF(C187=\"\",0,IF(C187=$C$4,SUMIFS($I$4:I186,$C$4:C186,C186),SUMIFS($I$4:I186,$C$4:C186,C187)))","v":0},0]
[185,null,{"$f":"IFERROR(VLOOKUP(D188,Nomenclature!$B$2:$C$196,2,0),\"\")","v":""},null,null,null,null,{"$f":"IF(C188=\"\",0,IF(SUMIFS($G$5:G188,$C$5:C188,C188)-SUMIFS($I$4:I187,$C$4:C187,C188)<0,0,SUMIFS($G$5:G188,$C$5:C188,C188)-SUMIFS($I$4:I187,$C$4:C187,C188)))","v":0},null,{"$f":"IF(C188=\"\",0,IF(C188=$C$4,SUMIFS($I$4:I187,$C$4:C187,C187),SUMIFS($I$4:I187,$C$4:C187,C188)))","v":0},0]
[186,null,{"$f":"IFERROR(VLOOKUP(D189,Nomenclature!$B$2:$C$196,2,0),\"\")","v":""},null,null,null,null,{"$f":"IF(C189=\"\",0,IF(SUMIFS($G$5:G189,$C$5:C189,C189)-SUMIFS($I$4:I188,$C$4:C188,C189)<0,0,SUMIFS($G$5:G189,$C$5:C189,C189)-SUMIFS($I$4:I188,$C$4:C188,C189)))","v":0},null,{"$f":"IF(C189=\"\",0,IF(C189=$C$4,SUMIFS($I$4:I188,$C$4:C188,C188),SUMIFS($I$4:I188,$C$4:C188,C189)))","v":0},0]
[187,null,{"$f":"IFERROR(VLOOKUP(D190,Nomenclature!$B$2:$C$196,2,0),\"\")","v":""},null,null,null,null,{"$f":"IF(C190=\"\",0,IF(SUMIFS($G$5:G190,$C$5:C190,C190)-SUMIFS($I$4:I189,$C$4:C189,C190)<0,0,SUMIFS($G$5:G190,$C$5:C190,C190)-SUMIFS($I$4:I189,$C$4:C189,C190)))","v":0},null,{"$f":"IF(C190=\"\",0,IF(C190=$C$4,SUMIFS($I$4:I189,$C$4:C189,C189),SUMIFS($I$4:I189,$C$4:C189,C190)))","v":0},0]
[188,null,{"$f":"IFERROR(VLOOKUP(D191,Nomenclature!$B$2:$C$196,2,0),\"\")","v":""},null,null,null,null,{"$f":"IF(C191=\"\",0,IF(SUMIFS($G$5:G191,$C$5:C191,C191)-SUMIFS($I$4:I190,$C$4:C190,C191)<0,0,SUMIFS($G$5:G191,$C$5:C191,C191)-SUMIFS($I$4:I190,$C$4:C190,C191)))","v":0},null,{"$f":"IF(C191=\"\",0,IF(C191=$C$4,SUMIFS($I$4:I190,$C$4:C190,C190),SUMIFS($I$4:I190,$C$4:C190,C191)))","v":0},0]
[189,null,{"$f":"IFERROR(VLOOKUP(D192,Nomenclature!$B$2:$C$196,2,0),\"\")","v":""},null,null,null,null,{"$f":"IF(C192=\"\",0,IF(SUMIFS($G$5:G192,$C$5:C192,C192)-SUMIFS($I$4:I191,$C$4:C191,C192)<0,0,SUMIFS($G$5:G192,$C$5:C192,C192)-SUMIFS($I$4:I191,$C$4:C191,C192)))","v":0},null,{"$f":"IF(C192=\"\",0,IF(C192=$C$4,SUMIFS($I$4:I191,$C$4:C191,C191),SUMIFS($I$4:I191,$C$4:C191,C192)))","v":0},0]
[190,null,{"$f":"IFERROR(VLOOKUP(D193,Nomenclature!$B$2:$C$196,2,0),\"\")","v":""},null,null,null,null,{"$f":"IF(C193=\"\",0,IF(SUMIFS($G$5:G193,$C$5:C193,C193)-SUMIFS($I$4:I192,$C$4:C192,C193)<0,0,SUMIFS($G$5:G193,$C$5:C193,C193)-SUMIFS($I$4:I192,$C$4:C192,C193)))","v":0},null,{"$f":"IF(C193=\"\",0,IF(C193=$C$4,SUMIFS($I$4:I192,$C$4:C192,C192),SUMIFS($I$4:I192,$C$4:C192,C193)))","v":0},0]
[191,null,{"$f":"IFERROR(VLOOKUP(D194,Nomenclature!$B$2:$C$196,2,0),\"\")","v":""},null,null,null,null,{"$f":"IF(C194=\"\",0,IF(SUMIFS($G$5:G194,$C$5:C194,C194)-SUMIFS($I$4:I193,$C$4:C193,C194)<0,0,SUMIFS($G$5:G194,$C$5:C194,C194)-SUMIFS($I$4:I193,$C$4:C193,C194)))","v":0},null,{"$f":"IF(C194=\"\",0,IF(C194=$C$4,SUMIFS($I$4:I193,$C$4:C193,C193),SUMIFS($I$4:I193,$C$4:C193,C194)))","v":0},0]
[192,null,{"$f":"IFERROR(VLOOKUP(D195,Nomenclature!$B$2:$C$196,2,0),\"\")","v":""},null,null,null,null,{"$f":"IF(C195=\"\",0,IF(SUMIFS($G$5:G195,$C$5:C195,C195)-SUMIFS($I$4:I194,$C$4:C194,C195)<0,0,SUMIFS($G$5:G195,$C$5:C195,C195)-SUMIFS($I$4:I194,$C$4:C194,C195)))","v":0},null,{"$f":"IF(C195=\"\",0,IF(C195=$C$4,SUMIFS($I$4:I194,$C$4:C194,C194),SUMIFS($I$4:I194,$C$4:C194,C195)))","v":0},0]
[193,null,{"$f":"IFERROR(VLOOKUP(D196,Nomenclature!$B$2:$C$196,2,0),\"\")","v":""},null,null,null,null,{"$f":"IF(C196=\"\",0,IF(SUMIFS($G$5:G196,$C$5:C196,C196)-SUMIFS($I$4:I195,$C$4:C195,C196)<0,0,SUMIFS($G$5:G196,$C$5:C196,C196)-SUMIFS($I$4:I195,$C$4:C195,C196)))","v":0},null,{"$f":"IF(C196=\"\",0,IF(C196=$C$4,SUMIFS($I$4:I195,$C$4:C195,C195),SUMIFS($I$4:I195,$C$4:C195,C196)))","v":0},{"$f":"IF(C196=\"\",0,H196-I196)","v":0}]
[194,null,{"$f":"IFERROR(VLOOKUP(D197,Nomenclature!$B$2:$C$196,2,0),\"\")","v":""},null,null,null,null,{"$f":"IF(C197=\"\",0,IF(SUMIFS($G$5:G197,$C$5:C197,C197)-SUMIFS($I$4:I196,$C$4:C196,C197)<0,0,SUMIFS($G$5:G197,$C$5:C197,C197)-SUMIFS($I$4:I196,$C$4:C196,C197)))","v":0},null,{"$f":"IF(C197=\"\",0,IF(C197=$C$4,SUMIFS($I$4:I196,$C$4:C196,C196),SUMIFS($I$4:I196,$C$4:C196,C197)))","v":0},0]
[195,null,{"$f":"IFERROR(VLOOKUP(D198,Nomenclature!$B$2:$C$196,2,0),\"\")","v":""},null,null,null,null,{"$f":"IF(C198=\"\",0,IF(SUMIFS($G$5:G198,$C$5:C198,C198)-SUMIFS($I$4:I197,$C$4:C197,C198)<0,0,SUMIFS($G$5:G198,$C$5:C198,C198)-SUMIFS($I$4:I197,$C$4:C197,C198)))","v":0},null,{"$f":"IF(C198=\"\",0,IF(C198=$C$4,SUMIFS($I$4:I197,$C$4:C197,C197),SUMIFS($I$4:I197,$C$4:C197,C198)))","v":0},0]
[196,null,{"$f":"IFERROR(VLOOKUP(D199,Nomenclature!$B$2:$C$196,2,0),\"\")","v":""},null,null,null,null,{"$f":"IF(C199=\"\",0,IF(SUMIFS($G$5:G199,$C$5:C199,C199)-SUMIFS($I$4:I198,$C$4:C198,C199)<0,0,SUMIFS($G$5:G199,$C$5:C199,C199)-SUMIFS($I$4:I198,$C$4:C198,C199)))","v":0},null,{"$f":"IF(C199=\"\",0,IF(C199=$C$4,SUMIFS($I$4:I198,$C$4:C198,C198),SUMIFS($I$4:I198,$C$4:C198,C199)))","v":0},0]
[197,null,{"$f":"IFERROR(VLOOKUP(D200,Nomenclature!$B$2:$C$196,2,0),\"\")","v":""},null,null,null,null,{"$f":"IF(C200=\"\",0,IF(SUMIFS($G$5:G200,$C$5:C200,C200)-SUMIFS($I$4:I199,$C$4:C199,C200)<0,0,SUMIFS($G$5:G200,$C$5:C200,C200)-SUMIFS($I$4:I199,$C$4:C199,C200)))","v":0},null,{"$f":"IF(C200=\"\",0,IF(C200=$C$4,SUMIFS($I$4:I199,$C$4:C199,C199),SUMIFS($I$4:I199,$C$4:C199,C200)))","v":0},0]
[198,null,{"$f":"IFERROR(VLOOKUP(D201,Nomenclature!$B$2:$C$196,2,0),\"\")","v":""},null,null,null,null,{"$f":"IF(C201=\"\",0,IF(SUMIFS($G$5:G201,$C$5:C201,C201)-SUMIFS($I$4:I200,$C$4:C200,C201)<0,0,SUMIFS($G$5:G201,$C$5:C201,C201)-SUMIFS($I$4:I200,$C$4:C200,C201)))","v":0},null,{"$f":"IF(C201=\"\",0,IF(C201=$C$4,SUMIFS($I$4:I200,$C$4:C200,C200),SUMIFS($I$4:I200,$C$4:C200,C201)))","v":0},0]
[199,null,{"$f":"IFERROR(VLOOKUP(D202,Nomenclature!$B$2:$C$196,2,0),\"\")","v":""},null,null,null,null,{"$f":"IF(C202=\"\",0,IF(SUMIFS($G$5:G202,$C$5:C202,C202)-SUMIFS($I$4:I201,$C$4:C201,C202)<0,0,SUMIFS($G$5:G202,$C$5:C202,C202)-SUMIFS($I$4:I201,$C$4:C201,C202)))","v":0},null,{"$f":"IF(C202=\"\",0,IF(C202=$C$4,SUMIFS($I$4:I201,$C$4:C201,C201),SUMIFS($I$4:I201,$C$4:C201,C202)))","v":0},0]
[200,null,{"$f":"IFERROR(VLOOKUP(D203,Nomenclature!$B$2:$C$196,2,0),\"\")","v":""},null,null,null,null,{"$f":"IF(C203=\"\",0,IF(SUMIFS($G$5:G203,$C$5:C203,C203)-SUMIFS($I$4:I202,$C$4:C202,C203)<0,0,SUMIFS($G$5:G203,$C$5:C203,C203)-SUMIFS($I$4:I202,$C$4:C202,C203)))","v":0},null,{"$f":"IF(C203=\"\",0,IF(C203=$C$4,SUMIFS($I$4:I202,$C$4:C202,C202),SUMIFS($I$4:I202,$C$4:C202,C203)))","v":0},0]

{"sheet":"22000","index":8,"n_rows":203,"n_cols":44,"rows_kept":203,"cut":false,"hidden":false,"merged":[[50,23,50,24],[44,14,45,18],[44,22,45,26],[44,29,44,30],[46,14,47,18],[46,22,47,26],[47,29,47,30],[50,15,50,16],[33,14,33,17],[34,14,37,41],[39,14,39,17],[39,18,40,41],[42,14,42,27],[42,28,42,41],[28,38,29,41],[30,14,31,17],[30,18,31,21],[30,22,31,25],[30,26,31,29],[30,30,31,33],[30,34,31,37],[30,38,31,41],[28,14,29,17],[28,18,29,21],[28,22,29,25],[28,26,29,29],[28,30,29,33],[28,34,29,37],[19,14,19,15],[26,38,27,41],[20,22,20,32],[21,18,21,21],[21,22,21,32],[22,18,22,21],[22,22,22,32],[23,17,25,41],[20,18,20,21],[26,14,27,21],[26,22,27,25],[26,26,27,29],[26,30,27,33],[26,34,27,37],[15,19,15,20],[16,14,16,18],[16,19,16,20],[14,14,14,18],[14,19,14,27],[0,13,2,15],[3,14,3,41],[3,42,58,42],[4,14,4,18],[4,19,4,27],[5,14,5,18],[5,19,5,27],[6,14,6,18],[6,19,6,27],[10,15,11,19],[10,20,11,23],[10,31,11,32],[10,33,11,38],[13,14,13,18],[13,19,13,20],[15,14,15,18],[0,11,2,11],[0,0,2,0],[0,1,2,1],[0,2,2,2],[0,3,2,3],[0,4,2,4],[0,5,1,5],[0,6,1,6],[0,7,2,7],[0,8,1,8],[0,9,2,9],[0,10,1,10]]}
["رقم\nالاستمارة","التاريخ","الترميز","الصنف / الصنف الفرعي","ملاحظات المصلحة","AP Cat",{"$f":"IF(SUM(G4:G203)-SUM(F4:F203)<0,\"نقص في توزيع الاعتمادات على الاصناف الفرعية\",\nIF(SUM(G4:G203)-SUM(F4:F203)>0,\"تجاوز في الاعتمادات الموزعة على الاصناف الفرعية\",\"AP S.Cat\"))","v":"AP S.Cat"},"AP Sous_Cat",{"$f":"IF(I3>G3,\"تجاوز في الالتزامات\",\"∑ Engagements\")","v":"∑ Engagements"},"∑ Eng Sous_Cat","Reste","السند القانوني للعنوان الرابع",null,1]
[]
[null,null,null,null,null,{"$f":"SUM(F4:F203)","v":0},{"$f":"SUM(G4:G203)","v":0},null,{"$f":"SUM(I5:I203)","v":0},null,{"$f":"SUM(K4:K104)","v":0}]
[1,"2023-03-13",{"$f":"IFERROR(VLOOKUP(D4,Nomenclature!$B$2:$C$196,2,0),\"\")","v":22000},"الاعلام و التوثيق","تكفل برخصة الالتزام المفتوحة لسنة 2023.",null,null,{"$f":"IF(C4=\"\",0,IF(SUMIFS($G4:G$5,$C4:C$5,C4)-SUMIFS($I3:I$4,$C3:C$4,C4)<0,0,SUMIFS($G4:G$5,$C4:C$5,C4)-SUMIFS($I3:I$4,$C3:C$4,C4)))","v":0},null,{"$f":"IF(I4=0,0,IF(C4=\"\",0,SUMIFS($I4:I$4,$C4:C$4,C4)))","v":0},{"$f":"IF(C4=\"\",0,H4-I4)","v":0},null,null,null,"الجمهورية الجزائرية الديمقراطية الشعبية"]
[2,"2023-04-01",{"$f":"IFERROR(VLOOKUP(D5,Nomenclature!$B$2:$C$196,2,0),\"\")","v":""},null,null,null,null,{"$f":"IF(C5=\"\",0,IF(SUMIFS($G$5:G5,$C$5:C5,C5)-SUMIFS($I$4:I4,$C$4:C4,C5)<0,0,SUMIFS($G$5:G5,$C$5:C5,C5)-SUMIFS($I$4:I4,$C$4:C4,C5)))","v":0},null,{"$f":"IF(C5=\"\",0,IF(C5=$C$4,SUMIFS($I$4:I4,$C$4:C4,C4),SUMIFS($I$4:I4,$C$4:C4,C5)))","v":0},0,null,null,null,"الـوزارة:",null,null,null,null,{"$f":"الواجهة!C2","v":"وزارة البيئة و الطاقات المتجددة"}]
[3,null,{"$f":"IFERROR(VLOOKUP(D6,Nomenclature!$B$2:$C$196,2,0),\"\")","v":""},null,null,null,null,{"$f":"IF(C6=\"\",0,IF(SUMIFS($G$5:G6,$C$5:C6,C6)-SUMIFS($I$4:I5,$C$4:C5,C6)<0,0,SUMIFS($G$5:G6,$C$5:C6,C6)-SUMIFS($I$4:I5,$C$4:C5,C6)))","v":0},null,{"$f":"IF(C6=\"\",0,IF(C6=$C$4,SUMIFS($I$4:I5,$C$4:C5,C5),SUMIFS($I$4:I5,$C$4:C5,C6)))","v":0},0,null,null,null,"الهيئة الإدارية:",null,null,null,null,{"$f":"الواجهة!C3","v":"مديرية البيئة لولاية المسيلة"}]
[4,null,{"$f":"IFERROR(VLOOKUP(D7,Nomenclature!$B$2:$C$196,2,0),\"\")","v":""},null,null,null,null,{"$f":"IF(C7=\"\",0,IF(SUMIFS($G$5:G7,$C$5:C7,C7)-SUMIFS($I$4:I6,$C$4:C6,C7)<0,0,SUMIFS($G$5:G7,$C$5:C7,C7)-SUMIFS($I$4:I6,$C$4:C6,C7)))","v":0},null,{"$f":"IF(C7=\"\",0,IF(C7=$C$4,SUMIFS($I$4:I6,$C$4:C6,C6),SUMIFS($I$4:I6,$C$4:C6,C7)))","v":0},0,null,null,null,"رمز الآمر بالصرف:",null,null,null,null,{"$f":"الواجهة!C4","v":"144 0 28 01"}]
[5,null,{"$f":"IFERROR(VLOOKUP(D8,Nomenclature!$B$2:$C$196,2,0),\"\")","v":""},null,null,null,null,{"$f":"IF(C8=\"\",0,IF(SUMIFS($G$5:G8,$C$5:C8,C8)-SUMIFS($I$4:I7,$C$4:C7,C8)<0,0,SUMIFS($G$5:G8,$C$5:C8,C8)-SUMIFS($I$4:I7,$C$4:C7,C8)))","v":0},null,{"$f":"IF(C8=\"\",0,IF(C8=$C$4,SUMIFS($I$4:I7,$C$4:C7,C7),SUMIFS($I$4:I7,$C$4:C7,C8)))","v":0},0,null,null,null,null,null,null,null,null,null,null,null,null,null,null,null,null,null,null,null,null,null,null,"."]
[6,null,{"$f":"IFERROR(VLOOKUP(D9,Nomenclature!$B$2:$C$196,2,0),\"\")","v":""},null,null,null,null,{"$f":"IF(C9=\"\",0,IF(SUMIFS($G$5:G9,$C$5:C9,C9)-SUMIFS($I$4:I8,$C$4:C8,C9)<0,0,SUMIFS($G$5:G9,$C$5:C9,C9)-SUMIFS($I$4:I8,$C$4:C8,C9)))","v":0},null,{"$f":"IF(C9=\"\",0,IF(C9=$C$4,SUMIFS($I$4:I8,$C$4:C8,C8),SUMIFS($I$4:I8,$C$4:C8,C9)))","v":0},0]
[7,null,{"$f":"IFERROR(VLOOKUP(D10,Nomenclature!$B$2:$C$196,2,0),\"\")","v":""},null,null,null,null,{"$f":"IF(C10=\"\",0,IF(SUMIFS($G$5:G10,$C$5:C10,C10)-SUMIFS($I$4:I9,$C$4:C9,C10)<0,0,SUMIFS($G$5:G10,$C$5:C10,C10)-SUMIFS($I$4:I9,$C$4:C9,C10)))","v":0},null,{"$f":"IF(C10=\"\",0,IF(C10=$C$4,SUMIFS($I$4:I9,$C$4:C9,C9),SUMIFS($I$4:I9,$C$4:C9,C10)))","v":0},0]
[8,null,{"$f":"IFERROR(VLOOKUP(D11,Nomenclature!$B$2:$C$196,2,0),\"\")","v":""},null,null,null,null,{"$f":"IF(C11=\"\",0,IF(SUMIFS($G$5:G11,$C$5:C11,C11)-SUMIFS($I$4:I10,$C$4:C10,C11)<0,0,SUMIFS($G$5:G11,$C$5:C11,C11)-SUMIFS($I$4:I10,$C$4:C10,C11)))","v":0},null,{"$f":"IF(C11=\"\",0,IF(C11=$C$4,SUMIFS($I$4:I10,$C$4:C10,C10),SUMIFS($I$4:I10,$C$4:C10,C11)))","v":0},0,null,null,null,null,"رقم بطاقة الالتزام:",null,null,null,null,{"$f":"IFERROR(VLOOKUP(N1,A4:L203,1,0),0)","v":1},null,null,null,null,null,null,null,null,null,null,"التاريخ:",null,{"$f":"IF(IFERROR(VLOOKUP(N1,A4:L203,2,0),0)=0,\"\",IFERROR(VLOOKUP(N1,A4:L203,2,0),0))","v":"2023-03-13"}]
[9,null,{"$f":"IFERROR(VLOOKUP(D12,Nomenclature!$B$2:$C$196,2,0),\"\")","v":""},null,null,null,null,{"$f":"IF(C12=\"\",0,IF(SUMIFS($G$5:G12,$C$5:C12,C12)-SUMIFS($I$4:I11,$C$4:C11,C12)<0,0,SUMIFS($G$5:G12,$C$5:C12,C12)-SUMIFS($I$4:I11,$C$4:C11,C12)))","v":0},null,{"$f":"IF(C12=\"\",0,IF(C12=$C$4,SUMIFS($I$4:I11,$C$4:C11,C11),SUMIFS($I$4:I11,$C$4:C11,C12)))","v":0},0]
[10,null,{"$f":"IFERROR(VLOOKUP(D13,Nomenclature!$B$2:$C$196,2,0),\"\")","v":""},null,null,null,null,{"$f":"IF(C13=\"\",0,IF(SUMIFS($G$5:G13,$C$5:C13,C13)-SUMIFS($I$4:I12,$C$4:C12,C13)<0,0,SUMIFS($G$5:G13,$C$5:C13,C13)-SUMIFS($I$4:I12,$C$4:C12,C13)))","v":0},null,{"$f":"IF(C13=\"\",0,IF(C13=$C$4,SUMIFS($I$4:I12,$C$4:C12,C12),SUMIFS($I$4:I12,$C$4:C12,C13)))","v":0},0]
[11,null,{"$f":"IFERROR(VLOOKUP(D14,Nomenclature!$B$2:$C$196,2,0),\"\")","v":""},null,null,null,null,{"$f":"IF(C14=\"\",0,IF(SUMIFS($G$5:G14,$C$5:C14,C14)-SUMIFS($I$4:I13,$C$4:C13,C14)<0,0,SUMIFS($G$5:G14,$C$5:C14,C14)-SUMIFS($I$4:I13,$C$4:C13,C14)))","v":0},null,{"$f":"IF(C14=\"\",0,IF(C14=$C$4,SUMIFS($I$4:I13,$C$4:C13,C13),SUMIFS($I$4:I13,$C$4:C13,C14)))","v":0},0,null,null,null,"رمز البرنــامج:",null,null,null,null,{"$f":"الواجهة!C7","v":"116"}]
[12,null,{"$f":"IFERROR(VLOOKUP(D15,Nomenclature!$B$2:$C$196,2,0),\"\")","v":""},null,null,null,null,{"$f":"IF(C15=\"\",0,IF(SUMIFS($G$5:G15,$C$5:C15,C15)-SUMIFS($I$4:I14,$C$4:C14,C15)<0,0,SUMIFS($G$5:G15,$C$5:C15,C15)-SUMIFS($I$4:I14,$C$4:C14,C15)))","v":0},null,{"$f":"IF(C15=\"\",0,IF(C15=$C$4,SUMIFS($I$4:I14,$C$4:C14,C14),SUMIFS($I$4:I14,$C$4:C14,C15)))","v":0},0,null,null,null,"رمز النشــاط:",null,null,null,null,{"$f":"الواجهة!C6&\" \"&الواجهة!C7&\" \"&الواجهة!C10&\" \"&الواجهة!C8&\" \"&الواجهة!C9&\" \"&الواجهة!C11","v":"030 116 02 2001 000 028"}]
[13,null,{"$f":"IFERROR(VLOOKUP(D16,Nomenclature!$B$2:$C$196,2,0),\"\")","v":""},null,null,null,null,{"$f":"IF(C16=\"\",0,IF(SUMIFS($G$5:G16,$C$5:C16,C16)-SUMIFS($I$4:I15,$C$4:C15,C16)<0,0,SUMIFS($G$5:G16,$C$5:C16,C16)-SUMIFS($I$4:I15,$C$4:C15,C16)))","v":0},null,{"$f":"IF(C16=\"\",0,IF(C16=$C$4,SUMIFS($I$4:I15,$C$4:C15,C15),SUMIFS($I$4:I15,$C$4:C15,C16)))","v":0},0,null,null,null,"رمز النشــاط الفرعي:",null,null,null,null,{"$f":"الواجهة!C9","v":"000"}]
[14,null,{"$f":"IFERROR(VLOOKUP(D17,Nomenclature!$B$2:$C$196,2,0),\"\")","v":""},null,null,null,null,{"$f":"IF(C17=\"\",0,IF(SUMIFS($G$5:G17,$C$5:C17,C17)-SUMIFS($I$4:I16,$C$4:C16,C17)<0,0,SUMIFS($G$5:G17,$C$5:C17,C17)-SUMIFS($I$4:I16,$C$4:C16,C17)))","v":0},null,{"$f":"IF(C17=\"\",0,IF(C17=$C$4,SUMIFS($I$4:I16,$C$4:C16,C16),SUMIFS($I$4:I16,$C$4:C16,C17)))","v":0},0,null,null,null,"رمز البرنـامج الفرعي:",null,null,null,null,{"$f":"الواجهة!C10","v":"02"}]
[15,null,{"$f":"IFERROR(VLOOKUP(D18,Nomenclature!$B$2:$C$196,2,0),\"\")","v":""},null,null,null,null,{"$f":"IF(C18=\"\",0,IF(SUMIFS($G$5:G18,$C$5:C18,C18)-SUMIFS($I$4:I17,$C$4:C17,C18)<0,0,SUMIFS($G$5:G18,$C$5:C18,C18)-SUMIFS($I$4:I17,$C$4:C17,C18)))","v":0},null,{"$f":"IF(C18=\"\",0,IF(C18=$C$4,SUMIFS($I$4:I17,$C$4:C17,C17),SUMIFS($I$4:I17,$C$4:C17,C18)))","v":0},0,null,null,null,null,null,null,null,null,null,null,null,null,null,null,null,null,null,null,null,null,null,null,null,null,null,null,null,null,null,null,null,null,"\n\n\n"]
[16,null,{"$f":"IFERROR(VLOOKUP(D19,Nomenclature!$B$2:$C$196,2,0),\"\")","v":""},null,null,null,null,{"$f":"IF(C19=\"\",0,IF(SUMIFS($G$5:G19,$C$5:C19,C19)-SUMIFS($I$4:I18,$C$4:C18,C19)<0,0,SUMIFS($G$5:G19,$C$5:C19,C19)-SUMIFS($I$4:I18,$C$4:C18,C19)))","v":0},null,{"$f":"IF(C19=\"\",0,IF(C19=$C$4,SUMIFS($I$4:I18,$C$4:C18,C18),SUMIFS($I$4:I18,$C$4:C18,C19)))","v":0},0]
[17,null,{"$f":"IFERROR(VLOOKUP(D20,Nomenclature!$B$2:$C$196,2,0),\"\")","v":""},null,null,null,null,{"$f":"IF(C20=\"\",0,IF(SUMIFS($G$5:G20,$C$5:C20,C20)-SUMIFS($I$4:I19,$C$4:C19,C20)<0,0,SUMIFS($G$5:G20,$C$5:C20,C20)-SUMIFS($I$4:I19,$C$4:C19,C20)))","v":0},null,{"$f":"IF(C20=\"\",0,IF(C20=$C$4,SUMIFS($I$4:I19,$C$4:C19,C19),SUMIFS($I$4:I19,$C$4:C19,C20)))","v":0},0,null,null,null,"العنوان:"]
[18,null,{"$f":"IFERROR(VLOOKUP(D21,Nomenclature!$B$2:$C$196,2,0),\"\")","v":""},null,null,null,null,{"$f":"IF(C21=\"\",0,IF(SUMIFS($G$5:G21,$C$5:C21,C21)-SUMIFS($I$4:I20,$C$4:C20,C21)<0,0,SUMIFS($G$5:G21,$C$5:C21,C21)-SUMIFS($I$4:I20,$C$4:C20,C21)))","v":0},null,{"$f":"IF(C21=\"\",0,IF(C21=$C$4,SUMIFS($I$4:I20,$C$4:C20,C20),SUMIFS($I$4:I20,$C$4:C20,C21)))","v":0},0,null,null,null,null,null,{"$f":"IF(C4<20000,\"X\",\"\")","v":""},null,"العنوان الأول:",null,null,null,"نفقات المستخدمين"]
[19,null,{"$f":"IFERROR(VLOOKUP(D22,Nomenclature!$B$2:$C$196,2,0),\"\")","v":""},null,null,null,null,{"$f":"IF(C22=\"\",0,IF(SUMIFS($G$5:G22,$C$5:C22,C22)-SUMIFS($I$4:I21,$C$4:C21,C22)<0,0,SUMIFS($G$5:G22,$C$5:C22,C22)-SUMIFS($I$4:I21,$C$4:C21,C22)))","v":0},null,{"$f":"IF(C22=\"\",0,IF(C22=$C$4,SUMIFS($I$4:I21,$C$4:C21,C21),SUMIFS($I$4:I21,$C$4:C21,C22)))","v":0},0,null,null,null,null,null,{"$f":"IF(AND(C4>19999,C4<40000),\"X\",\"\")","v":"X"},null,"العنوان الثاني:",null,null,null,"نفقات تسيير المصالح"]
[20,null,{"$f":"IFERROR(VLOOKUP(D23,Nomenclature!$B$2:$C$196,2,0),\"\")","v":""},null,null,null,null,{"$f":"IF(C23=\"\",0,IF(SUMIFS($G$5:G23,$C$5:C23,C23)-SUMIFS($I$4:I22,$C$4:C22,C23)<0,0,SUMIFS($G$5:G23,$C$5:C23,C23)-SUMIFS($I$4:I22,$C$4:C22,C23)))","v":0},null,{"$f":"IF(C23=\"\",0,IF(C23=$C$4,SUMIFS($I$4:I22,$C$4:C22,C22),SUMIFS($I$4:I22,$C$4:C22,C23)))","v":0},0,null,null,null,null,null,{"$f":"IF(AND(Q21=\"\",Q22=\"\"),\"X\",\"\")","v":""},null,"العنوان الرابع:",null,null,null,"نفقات التحويل"]
[21,null,{"$f":"IFERROR(VLOOKUP(D24,Nomenclature!$B$2:$C$196,2,0),\"\")","v":""},null,null,null,null,{"$f":"IF(C24=\"\",0,IF(SUMIFS($G$5:G24,$C$5:C24,C24)-SUMIFS($I$4:I23,$C$4:C23,C24)<0,0,SUMIFS($G$5:G24,$C$5:C24,C24)-SUMIFS($I$4:I23,$C$4:C23,C24)))","v":0},null,{"$f":"IF(C24=\"\",0,IF(C24=$C$4,SUMIFS($I$4:I23,$C$4:C23,C23),SUMIFS($I$4:I23,$C$4:C23,C24)))","v":0},0,null,null,null,null,null,null,{"$f":"IF(VLOOKUP(N1,A4:L203,12,0)=\"\",\"- - - - - - - - - - - - - - - - - - - - - - - - - - - - - - - - - - - - - - - - - - - - - - - / / / - - - - - - - - - - - - - - - - - - - - - - - - - - - - - - - - - - - - - - - - - - - - - - -\"& CHAR(10)&\"- - - - - - - - - - - - - - - - - - - - - - - - - - - - - - - - - - - - - - - - - - - - - - - / / / - - - - - - - - - - - - - - - - - - - - - - - - - - - - - - - - - - - - - - - - - - - - - - -\",VLOOKUP(N1,A4:L203,12,0))","v":"- - - - - - - - - - - - - - - - - - - - - - - - - - - - - - - - - - - - - - - - - - - - - - - / / / - - - - - - - - - - - - - - - - - - - - - - - - - - - - - - - - - - - - - - - - - - - - - - -\n- - - - - - - - - - - - - - - - - - - - - - - - - - - - - - - - - - - - - - - - - - - - - - - / / / - - - - - - - - - - - - - - - - - - - - - - - - - - - - - - - - - - - - - - - - - - - - - - -"}]
[22,null,{"$f":"IFERROR(VLOOKUP(D25,Nomenclature!$B$2:$C$196,2,0),\"\")","v":""},null,null,null,null,{"$f":"IF(C25=\"\",0,IF(SUMIFS($G$5:G25,$C$5:C25,C25)-SUMIFS($I$4:I24,$C$4:C24,C25)<0,0,SUMIFS($G$5:G25,$C$5:C25,C25)-SUMIFS($I$4:I24,$C$4:C24,C25)))","v":0},null,{"$f":"IF(C25=\"\",0,IF(C25=$C$4,SUMIFS($I$4:I24,$C$4:C24,C24),SUMIFS($I$4:I24,$C$4:C24,C25)))","v":0},0]
[23,null,{"$f":"IFERROR(VLOOKUP(D26,Nomenclature!$B$2:$C$196,2,0),\"\")","v":""},null,null,null,null,{"$f":"IF(C26=\"\",0,IF(SUMIFS($G$5:G26,$C$5:C26,C26)-SUMIFS($I$4:I25,$C$4:C25,C26)<0,0,SUMIFS($G$5:G26,$C$5:C26,C26)-SUMIFS($I$4:I25,$C$4:C25,C26)))","v":0},null,{"$f":"IF(C26=\"\",0,IF(C26=$C$4,SUMIFS($I$4:I25,$C$4:C25,C25),SUMIFS($I$4:I25,$C$4:C25,C26)))","v":0},0]
[24,null,{"$f":"IFERROR(VLOOKUP(D27,Nomenclature!$B$2:$C$196,2,0),\"\")","v":""},null,null,null,null,{"$f":"IF(C27=\"\",0,IF(SUMIFS($G$5:G27,$C$5:C27,C27)-SUMIFS($I$4:I26,$C$4:C26,C27)<0,0,SUMIFS($G$5:G27,$C$5:C27,C27)-SUMIFS($I$4:I26,$C$4:C26,C27)))","v":0},null,{"$f":"IF(C27=\"\",0,IF(C27=$C$4,SUMIFS($I$4:I26,$C$4:C26,C26),SUMIFS($I$4:I26,$C$4:C26,C27)))","v":0},0,null,null,null,"الصنف / الصنف الفرعي",null,null,null,null,null,null,null,"رخصة الالتزام\nالمفتوحة/المعدلة",null,null,null,"مجموع الالتزامات السابقة",null,null,null,"الرصيد\nالأولي",null,null,null,"الالتزام\nالمقترح",null,null,null,"الرصيد المتبقى"]
[25,null,{"$f":"IFERROR(VLOOKUP(D28,Nomenclature!$B$2:$C$196,2,0),\"\")","v":""},null,null,null,null,{"$f":"IF(C28=\"\",0,IF(SUMIFS($G$5:G28,$C$5:C28,C28)-SUMIFS($I$4:I27,$C$4:C27,C28)<0,0,SUMIFS($G$5:G28,$C$5:C28,C28)-SUMIFS($I$4:I27,$C$4:C27,C28)))","v":0},null,{"$f":"IF(C28=\"\",0,IF(C28=$C$4,SUMIFS($I$4:I27,$C$4:C27,C27),SUMIFS($I$4:I27,$C$4:C27,C28)))","v":0},0]
[26,null,{"$f":"IFERROR(VLOOKUP(D29,Nomenclature!$B$2:$C$196,2,0),\"\")","v":""},null,null,null,null,{"$f":"IF(C29=\"\",0,IF(SUMIFS($G$5:G29,$C$5:C29,C29)-SUMIFS($I$4:I28,$C$4:C28,C29)<0,0,SUMIFS($G$5:G29,$C$5:C29,C29)-SUMIFS($I$4:I28,$C$4:C28,C29)))","v":0},null,{"$f":"IF(C29=\"\",0,IF(C29=$C$4,SUMIFS($I$4:I28,$C$4:C28,C28),SUMIFS($I$4:I28,$C$4:C28,C29)))","v":0},0,null,null,null,"الصنف",null,null,null,{"$f":"C4","v":22000},null,null,null,{"$f":"SUM($F$4:INDIRECT(\"f\"&N1+3))","v":0},null,null,null,{"$f":"SUM($I$4:INDIRECT(\"i\"&N1+2))","v":0},null,null,null,{"$f":"W29-AA29","v":0},null,null,null,{"$f":"IF(S31=\"\",0,VLOOKUP(N1,A4:L103,9,0))","v":0},null,null,null,{"$f":"IF((AE29-AI29)<0,\"رصيد غير كاف\",AE29-AI29)","v":0}]
[27,null,{"$f":"IFERROR(VLOOKUP(D30,Nomenclature!$B$2:$C$196,2,0),\"\")","v":""},null,null,null,null,{"$f":"IF(C30=\"\",0,IF(SUMIFS($G$5:G30,$C$5:C30,C30)-SUMIFS($I$4:I29,$C$4:C29,C30)<0,0,SUMIFS($G$5:G30,$C$5:C30,C30)-SUMIFS($I$4:I29,$C$4:C29,C30)))","v":0},null,{"$f":"IF(C30=\"\",0,IF(C30=$C$4,SUMIFS($I$4:I29,$C$4:C29,C29),SUMIFS($I$4:I29,$C$4:C29,C30)))","v":0},0]
[28,null,{"$f":"IFERROR(VLOOKUP(D31,Nomenclature!$B$2:$C$196,2,0),\"\")","v":""},null,null,null,null,{"$f":"IF(C31=\"\",0,IF(SUMIFS($G$5:G31,$C$5:C31,C31)-SUMIFS($I$4:I30,$C$4:C30,C31)<0,0,SUMIFS($G$5:G31,$C$5:C31,C31)-SUMIFS($I$4:I30,$C$4:C30,C31)))","v":0},null,{"$f":"IF(C31=\"\",0,IF(C31=$C$4,SUMIFS($I$4:I30,$C$4:C30,C30),SUMIFS($I$4:I30,$C$4:C30,C31)))","v":0},0,null,null,null,"الصنف الفرعي",null,null,null,{"$f":"IF(IFERROR(VLOOKUP(N1,A4:L103,3,0),\"انتبه خطأ\")=S29,\"\",IFERROR(VLOOKUP(N1,A4:L103,3,0),\"انتبه خطأ\"))","v":""},null,null,null,{"$f":"IF(S31=\"\",\"\",VLOOKUP(N1,A4:L103,8,0))","v":""},null,null,null,{"$f":"IF(S31=\"\",\"\",VLOOKUP(N1,A4:L103,10,0))","v":""},null,null,null,{"$f":"IF(S31=\"\",\"\",W31-AA31)","v":""},null,null,null,{"$f":"IF(S31=\"\",\"\",VLOOKUP(N1,A4:L103,9,0))","v":""},null,null,null,{"$f":"IF(S31=\"\",\"\",IF((AE31-AI31)<0,\"رصيد غير كاف\",AE31-AI31))","v":""}]
[29,null,{"$f":"IFERROR(VLOOKUP(D32,Nomenclature!$B$2:$C$196,2,0),\"\")","v":""},null,null,null,null,{"$f":"IF(C32=\"\",0,IF(SUMIFS($G$5:G32,$C$5:C32,C32)-SUMIFS($I$4:I31,$C$4:C31,C32)<0,0,SUMIFS($G$5:G32,$C$5:C32,C32)-SUMIFS($I$4:I31,$C$4:C31,C32)))","v":0},null,{"$f":"IF(C32=\"\",0,IF(C32=$C$4,SUMIFS($I$4:I31,$C$4:C31,C31),SUMIFS($I$4:I31,$C$4:C31,C32)))","v":0},0]
[30,null,{"$f":"IFERROR(VLOOKUP(D33,Nomenclature!$B$2:$C$196,2,0),\"\")","v":""},null,null,null,null,{"$f":"IF(C33=\"\",0,IF(SUMIFS($G$5:G33,$C$5:C33,C33)-SUMIFS($I$4:I32,$C$4:C32,C33)<0,0,SUMIFS($G$5:G33,$C$5:C33,C33)-SUMIFS($I$4:I32,$C$4:C32,C33)))","v":0},null,{"$f":"IF(C33=\"\",0,IF(C33=$C$4,SUMIFS($I$4:I32,$C$4:C32,C32),SUMIFS($I$4:I32,$C$4:C32,C33)))","v":0},0]
[31,null,{"$f":"IFERROR(VLOOKUP(D34,Nomenclature!$B$2:$C$196,2,0),\"\")","v":""},null,null,null,null,{"$f":"IF(C34=\"\",0,IF(SUMIFS($G$5:G34,$C$5:C34,C34)-SUMIFS($I$4:I33,$C$4:C33,C34)<0,0,SUMIFS($G$5:G34,$C$5:C34,C34)-SUMIFS($I$4:I33,$C$4:C33,C34)))","v":0},null,{"$f":"IF(C34=\"\",0,IF(C34=$C$4,SUMIFS($I$4:I33,$C$4:C33,C33),SUMIFS($I$4:I33,$C$4:C33,C34)))","v":0},0,null,null,null,"موضوع الالتزام:"]
[32,null,{"$f":"IFERROR(VLOOKUP(D35,Nomenclature!$B$2:$C$196,2,0),\"\")","v":""},null,null,null,null,{"$f":"IF(C35=\"\",0,IF(SUMIFS($G$5:G35,$C$5:C35,C35)-SUMIFS($I$4:I34,$C$4:C34,C35)<0,0,SUMIFS($G$5:G35,$C$5:C35,C35)-SUMIFS($I$4:I34,$C$4:C34,C35)))","v":0},null,{"$f":"IF(C35=\"\",0,IF(C35=$C$4,SUMIFS($I$4:I34,$C$4:C34,C34),SUMIFS($I$4:I34,$C$4:C34,C35)))","v":0},0,null,null,null,{"$f":"IF(VLOOKUP(N1,A4:L203,5,0)=0,\"\",IFERROR(VLOOKUP(N1,A4:L203,5,0),\"انتبه خطأ\"))","v":"تكفل برخصة الالتزام المفتوحة لسنة 2023."}]
[33,null,{"$f":"IFERROR(VLOOKUP(D36,Nomenclature!$B$2:$C$196,2,0),\"\")","v":""},null,null,null,null,{"$f":"IF(C36=\"\",0,IF(SUMIFS($G$5:G36,$C$5:C36,C36)-SUMIFS($I$4:I35,$C$4:C35,C36)<0,0,SUMIFS($G$5:G36,$C$5:C36,C36)-SUMIFS($I$4:I35,$C$4:C35,C36)))","v":0},null,{"$f":"IF(C36=\"\",0,IF(C36=$C$4,SUMIFS($I$4:I35,$C$4:C35,C35),SUMIFS($I$4:I35,$C$4:C35,C36)))","v":0},0]
[34,null,{"$f":"IFERROR(VLOOKUP(D37,Nomenclature!$B$2:$C$196,2,0),\"\")","v":""},null,null,null,null,{"$f":"IF(C37=\"\",0,IF(SUMIFS($G$5:G37,$C$5:C37,C37)-SUMIFS($I$4:I36,$C$4:C36,C37)<0,0,SUMIFS($G$5:G37,$C$5:C37,C37)-SUMIFS($I$4:I36,$C$4:C36,C37)))","v":0},null,{"$f":"IF(C37=\"\",0,IF(C37=$C$4,SUMIFS($I$4:I36,$C$4:C36,C36),SUMIFS($I$4:I36,$C$4:C36,C37)))","v":0},0]
[35,null,{"$f":"IFERROR(VLOOKUP(D38,Nomenclature!$B$2:$C$196,2,0),\"\")","v":""},null,null,null,null,{"$f":"IF(C38=\"\",0,IF(SUMIFS($G$5:G38,$C$5:C38,C38)-SUMIFS($I$4:I37,$C$4:C37,C38)<0,0,SUMIFS($G$5:G38,$C$5:C38,C38)-SUMIFS($I$4:I37,$C$4:C37,C38)))","v":0},null,{"$f":"IF(C38=\"\",0,IF(C38=$C$4,SUMIFS($I$4:I37,$C$4:C37,C37),SUMIFS($I$4:I37,$C$4:C37,C38)))","v":0},0]
[36,null,{"$f":"IFERROR(VLOOKUP(D39,Nomenclature!$B$2:$C$196,2,0),\"\")","v":""},null,null,null,null,{"$f":"IF(C39=\"\",0,IF(SUMIFS($G$5:G39,$C$5:C39,C39)-SUMIFS($I$4:I38,$C$4:C38,C39)<0,0,SUMIFS($G$5:G39,$C$5:C39,C39)-SUMIFS($I$4:I38,$C$4:C38,C39)))","v":0},null,{"$f":"IF(C39=\"\",0,IF(C39=$C$4,SUMIFS($I$4:I38,$C$4:C38,C38),SUMIFS($I$4:I38,$C$4:C38,C39)))","v":0},0]
[37,null,{"$f":"IFERROR(VLOOKUP(D40,Nomenclature!$B$2:$C$196,2,0),\"\")","v":""},null,null,null,null,{"$f":"IF(C40=\"\",0,IF(SUMIFS($G$5:G40,$C$5:C40,C40)-SUMIFS($I$4:I39,$C$4:C39,C40)<0,0,SUMIFS($G$5:G40,$C$5:C40,C40)-SUMIFS($I$4:I39,$C$4:C39,C40)))","v":0},null,{"$f":"IF(C40=\"\",0,IF(C40=$C$4,SUMIFS($I$4:I39,$C$4:C39,C39),SUMIFS($I$4:I39,$C$4:C39,C40)))","v":0},0,null,null,null,"المبلغ بالحروف:",null,null,null,{"$f":"IFERROR(arretera(AI31),\"\")","v":""}]
[38,null,{"$f":"IFERROR(VLOOKUP(D41,Nomenclature!$B$2:$C$196,2,0),\"\")","v":""},null,null,null,null,{"$f":"IF(C41=\"\",0,IF(SUMIFS($G$5:G41,$C$5:C41,C41)-SUMIFS($I$4:I40,$C$4:C40,C41)<0,0,SUMIFS($G$5:G41,$C$5:C41,C41)-SUMIFS($I$4:I40,$C$4:C40,C41)))","v":0},null,{"$f":"IF(C41=\"\",0,IF(C41=$C$4,SUMIFS($I$4:I40,$C$4:C40,C40),SUMIFS($I$4:I40,$C$4:C40,C41)))","v":0},0]
[39,null,{"$f":"IFERROR(VLOOKUP(D42,Nomenclature!$B$2:$C$196,2,0),\"\")","v":""},null,null,null,null,{"$f":"IF(C42=\"\",0,IF(SUMIFS($G$5:G42,$C$5:C42,C42)-SUMIFS($I$4:I41,$C$4:C41,C42)<0,0,SUMIFS($G$5:G42,$C$5:C42,C42)-SUMIFS($I$4:I41,$C$4:C41,C42)))","v":0},null,{"$f":"IF(C42=\"\",0,IF(C42=$C$4,SUMIFS($I$4:I41,$C$4:C41,C41),SUMIFS($I$4:I41,$C$4:C41,C42)))","v":0},0]
[40,null,{"$f":"IFERROR(VLOOKUP(D43,Nomenclature!$B$2:$C$196,2,0),\"\")","v":""},null,null,null,null,{"$f":"IF(C43=\"\",0,IF(SUMIFS($G$5:G43,$C$5:C43,C43)-SUMIFS($I$4:I42,$C$4:C42,C43)<0,0,SUMIFS($G$5:G43,$C$5:C43,C43)-SUMIFS($I$4:I42,$C$4:C42,C43)))","v":0},null,{"$f":"IF(C43=\"\",0,IF(C43=$C$4,SUMIFS($I$4:I42,$C$4:C42,C42),SUMIFS($I$4:I42,$C$4:C42,C43)))","v":0},0,null,null,null,"إطار مخصص للمراقب الميزانياتي",null,null,null,null,null,null,null,null,null,null,null,null,null,"إطار مخصص للآمر بالصرف"]
[41,null,{"$f":"IFERROR(VLOOKUP(D44,Nomenclature!$B$2:$C$196,2,0),\"\")","v":""},null,null,null,null,{"$f":"IF(C44=\"\",0,IF(SUMIFS($G$5:G44,$C$5:C44,C44)-SUMIFS($I$4:I43,$C$4:C43,C44)<0,0,SUMIFS($G$5:G44,$C$5:C44,C44)-SUMIFS($I$4:I43,$C$4:C43,C44)))","v":0},null,{"$f":"IF(C44=\"\",0,IF(C44=$C$4,SUMIFS($I$4:I43,$C$4:C43,C43),SUMIFS($I$4:I43,$C$4:C43,C44)))","v":0},0]
[42,null,{"$f":"IFERROR(VLOOKUP(D45,Nomenclature!$B$2:$C$196,2,0),\"\")","v":""},null,null,null,null,{"$f":"IF(C45=\"\",0,IF(SUMIFS($G$5:G45,$C$5:C45,C45)-SUMIFS($I$4:I44,$C$4:C44,C45)<0,0,SUMIFS($G$5:G45,$C$5:C45,C45)-SUMIFS($I$4:I44,$C$4:C44,C45)))","v":0},null,{"$f":"IF(C45=\"\",0,IF(C45=$C$4,SUMIFS($I$4:I44,$C$4:C44,C44),SUMIFS($I$4:I44,$C$4:C44,C45)))","v":0},0,null,null,null,"رقم التأشيرة:",null,null,null,null,null,null,null,null,null,null,null,null,null,null,"ختم"]
[43,null,{"$f":"IFERROR(VLOOKUP(D46,Nomenclature!$B$2:$C$196,2,0),\"\")","v":""},null,null,null,null,{"$f":"IF(C46=\"\",0,IF(SUMIFS($G$5:G46,$C$5:C46,C46)-SUMIFS($I$4:I45,$C$4:C45,C46)<0,0,SUMIFS($G$5:G46,$C$5:C46,C46)-SUMIFS($I$4:I45,$C$4:C45,C46)))","v":0},null,{"$f":"IF(C46=\"\",0,IF(C46=$C$4,SUMIFS($I$4:I45,$C$4:C45,C45),SUMIFS($I$4:I45,$C$4:C45,C46)))","v":0},0]
[44,null,{"$f":"IFERROR(VLOOKUP(D47,Nomenclature!$B$2:$C$196,2,0),\"\")","v":""},null,null,null,null,{"$f":"IF(C47=\"\",0,IF(SUMIFS($G$5:G47,$C$5:C47,C47)-SUMIFS($I$4:I46,$C$4:C46,C47)<0,0,SUMIFS($G$5:G47,$C$5:C47,C47)-SUMIFS($I$4:I46,$C$4:C46,C47)))","v":0},null,{"$f":"IF(C47=\"\",0,IF(C47=$C$4,SUMIFS($I$4:I46,$C$4:C46,C46),SUMIFS($I$4:I46,$C$4:C46,C47)))","v":0},0,null,null,null,"تاريخ التأشيرة:"]
[45,null,{"$f":"IFERROR(VLOOKUP(D48,Nomenclature!$B$2:$C$196,2,0),\"\")","v":""},null,null,null,null,{"$f":"IF(C48=\"\",0,IF(SUMIFS($G$5:G48,$C$5:C48,C48)-SUMIFS($I$4:I47,$C$4:C47,C48)<0,0,SUMIFS($G$5:G48,$C$5:C48,C48)-SUMIFS($I$4:I47,$C$4:C47,C48)))","v":0},null,{"$f":"IF(C48=\"\",0,IF(C48=$C$4,SUMIFS($I$4:I47,$C$4:C47,C47),SUMIFS($I$4:I47,$C$4:C47,C48)))","v":0},0,null,null,null,null,null,null,null,null,null,null,null,null,null,null,null,null,null,null,"امضاء"]
[46,null,{"$f":"IFERROR(VLOOKUP(D49,Nomenclature!$B$2:$C$196,2,0),\"\")","v":""},null,null,null,null,{"$f":"IF(C49=\"\",0,IF(SUMIFS($G$5:G49,$C$5:C49,C49)-SUMIFS($I$4:I48,$C$4:C48,C49)<0,0,SUMIFS($G$5:G49,$C$5:C49,C49)-SUMIFS($I$4:I48,$C$4:C48,C49)))","v":0},null,{"$f":"IF(C49=\"\",0,IF(C49=$C$4,SUMIFS($I$4:I48,$C$4:C48,C48),SUMIFS($I$4:I48,$C$4:C48,C49)))","v":0},0]
[47,null,{"$f":"IFERROR(VLOOKUP(D50,Nomenclature!$B$2:$C$196,2,0),\"\")","v":""},null,null,null,null,{"$f":"IF(C50=\"\",0,IF(SUMIFS($G$5:G50,$C$5:C50,C50)-SUMIFS($I$4:I49,$C$4:C49,C50)<0,0,SUMIFS($G$5:G50,$C$5:C50,C50)-SUMIFS($I$4:I49,$C$4:C49,C50)))","v":0},null,{"$f":"IF(C50=\"\",0,IF(C50=$C$4,SUMIFS($I$4:I49,$C$4:C49,C49),SUMIFS($I$4:I49,$C$4:C49,C50)))","v":0},0]
[48,null,{"$f":"IFERROR(VLOOKUP(D51,Nomenclature!$B$2:$C$196,2,0),\"\")","v":""},null,null,null,null,{"$f":"IF(C51=\"\",0,IF(SUMIFS($G$5:G51,$C$5:C51,C51)-SUMIFS($I$4:I50,$C$4:C50,C51)<0,0,SUMIFS($G$5:G51,$C$5:C51,C51)-SUMIFS($I$4:I50,$C$4:C50,C51)))","v":0},null,{"$f":"IF(C51=\"\",0,IF(C51=$C$4,SUMIFS($I$4:I50,$C$4:C50,C50),SUMIFS($I$4:I50,$C$4:C50,C51)))","v":0},0,null,null,null,null,{"$f":"AD48","v":"امضاء"},null,null,null,null,null,null,null,{"$f":"AD45","v":"ختم"}]
[49,null,{"$f":"IFERROR(VLOOKUP(D52,Nomenclature!$B$2:$C$196,2,0),\"\")","v":""},null,null,null,null,{"$f":"IF(C52=\"\",0,IF(SUMIFS($G$5:G52,$C$5:C52,C52)-SUMIFS($I$4:I51,$C$4:C51,C52)<0,0,SUMIFS($G$5:G52,$C$5:C52,C52)-SUMIFS($I$4:I51,$C$4:C51,C52)))","v":0},null,{"$f":"IF(C52=\"\",0,IF(C52=$C$4,SUMIFS($I$4:I51,$C$4:C51,C51),SUMIFS($I$4:I51,$C$4:C51,C52)))","v":0},0]
[50,null,{"$f":"IFERROR(VLOOKUP(D53,Nomenclature!$B$2:$C$196,2,0),\"\")","v":""},null,null,null,null,{"$f":"IF(C53=\"\",0,IF(SUMIFS($G$5:G53,$C$5:C53,C53)-SUMIFS($I$4:I52,$C$4:C52,C53)<0,0,SUMIFS($G$5:G53,$C$5:C53,C53)-SUMIFS($I$4:I52,$C$4:C52,C53)))","v":0},null,{"$f":"IF(C53=\"\",0,IF(C53=$C$4,SUMIFS($I$4:I52,$C$4:C52,C52),SUMIFS($I$4:I52,$C$4:C52,C53)))","v":0},0]
[51,null,{"$f":"IFERROR(VLOOKUP(D54,Nomenclature!$B$2:$C$196,2,0),\"\")","v":""},null,null,null,null,{"$f":"IF(C54=\"\",0,IF(SUMIFS($G$5:G54,$C$5:C54,C54)-SUMIFS($I$4:I53,$C$4:C53,C54)<0,0,SUMIFS($G$5:G54,$C$5:C54,C54)-SUMIFS($I$4:I53,$C$4:C53,C54)))","v":0},null,{"$f":"IF(C54=\"\",0,IF(C54=$C$4,SUMIFS($I$4:I53,$C$4:C53,C53),SUMIFS($I$4:I53,$C$4:C53,C54)))","v":0},0]
[52,null,{"$f":"IFERROR(VLOOKUP(D55,Nomenclature!$B$2:$C$196,2,0),\"\")","v":""},null,null,null,null,{"$f":"IF(C55=\"\",0,IF(SUMIFS($G$5:G55,$C$5:C55,C55)-SUMIFS($I$4:I54,$C$4:C54,C55)<0,0,SUMIFS($G$5:G55,$C$5:C55,C55)-SUMIFS($I$4:I54,$C$4:C54,C55)))","v":0},null,{"$f":"IF(C55=\"\",0,IF(C55=$C$4,SUMIFS($I$4:I54,$C$4:C54,C54),SUMIFS($I$4:I54,$C$4:C54,C55)))","v":0},0]
[53,null,{"$f":"IFERROR(VLOOKUP(D56,Nomenclature!$B$2:$C$196,2,0),\"\")","v":""},null,null,null,null,{"$f":"IF(C56=\"\",0,IF(SUMIFS($G$5:G56,$C$5:C56,C56)-SUMIFS($I$4:I55,$C$4:C55,C56)<0,0,SUMIFS($G$5:G56,$C$5:C56,C56)-SUMIFS($I$4:I55,$C$4:C55,C56)))","v":0},null,{"$f":"IF(C56=\"\",0,IF(C56=$C$4,SUMIFS($I$4:I55,$C$4:C55,C55),SUMIFS($I$4:I55,$C$4:C55,C56)))","v":0},0]
[54,null,{"$f":"IFERROR(VLOOKUP(D57,Nomenclature!$B$2:$C$196,2,0),\"\")","v":""},null,null,null,null,{"$f":"IF(C57=\"\",0,IF(SUMIFS($G$5:G57,$C$5:C57,C57)-SUMIFS($I$4:I56,$C$4:C56,C57)<0,0,SUMIFS($G$5:G57,$C$5:C57,C57)-SUMIFS($I$4:I56,$C$4:C56,C57)))","v":0},null,{"$f":"IF(C57=\"\",0,IF(C57=$C$4,SUMIFS($I$4:I56,$C$4:C56,C56),SUMIFS($I$4:I56,$C$4:C56,C57)))","v":0},0]
[55,null,{"$f":"IFERROR(VLOOKUP(D58,Nomenclature!$B$2:$C$196,2,0),\"\")","v":""},null,null,null,null,{"$f":"IF(C58=\"\",0,IF(SUMIFS($G$5:G58,$C$5:C58,C58)-SUMIFS($I$4:I57,$C$4:C57,C58)<0,0,SUMIFS($G$5:G58,$C$5:C58,C58)-SUMIFS($I$4:I57,$C$4:C57,C58)))","v":0},null,{"$f":"IF(C58=\"\",0,IF(C58=$C$4,SUMIFS($I$4:I57,$C$4:C57,C57),SUMIFS($I$4:I57,$C$4:C57,C58)))","v":0},0]
[56,null,{"$f":"IFERROR(VLOOKUP(D59,Nomenclature!$B$2:$C$196,2,0),\"\")","v":""},null,null,null,null,{"$f":"IF(C59=\"\",0,IF(SUMIFS($G$5:G59,$C$5:C59,C59)-SUMIFS($I$4:I58,$C$4:C58,C59)<0,0,SUMIFS($G$5:G59,$C$5:C59,C59)-SUMIFS($I$4:I58,$C$4:C58,C59)))","v":0},null,{"$f":"IF(C59=\"\",0,IF(C59=$C$4,SUMIFS($I$4:I58,$C$4:C58,C58),SUMIFS($I$4:I58,$C$4:C58,C59)))","v":0},0]
[57,null,{"$f":"IFERROR(VLOOKUP(D60,Nomenclature!$B$2:$C$196,2,0),\"\")","v":""},null,null,null,null,{"$f":"IF(C60=\"\",0,IF(SUMIFS($G$5:G60,$C$5:C60,C60)-SUMIFS($I$4:I59,$C$4:C59,C60)<0,0,SUMIFS($G$5:G60,$C$5:C60,C60)-SUMIFS($I$4:I59,$C$4:C59,C60)))","v":0},null,{"$f":"IF(C60=\"\",0,IF(C60=$C$4,SUMIFS($I$4:I59,$C$4:C59,C59),SUMIFS($I$4:I59,$C$4:C59,C60)))","v":0},0]
[58,null,{"$f":"IFERROR(VLOOKUP(D61,Nomenclature!$B$2:$C$196,2,0),\"\")","v":""},null,null,null,null,{"$f":"IF(C61=\"\",0,IF(SUMIFS($G$5:G61,$C$5:C61,C61)-SUMIFS($I$4:I60,$C$4:C60,C61)<0,0,SUMIFS($G$5:G61,$C$5:C61,C61)-SUMIFS($I$4:I60,$C$4:C60,C61)))","v":0},null,{"$f":"IF(C61=\"\",0,IF(C61=$C$4,SUMIFS($I$4:I60,$C$4:C60,C60),SUMIFS($I$4:I60,$C$4:C60,C61)))","v":0},0]
[59,null,{"$f":"IFERROR(VLOOKUP(D62,Nomenclature!$B$2:$C$196,2,0),\"\")","v":""},null,null,null,null,{"$f":"IF(C62=\"\",0,IF(SUMIFS($G$5:G62,$C$5:C62,C62)-SUMIFS($I$4:I61,$C$4:C61,C62)<0,0,SUMIFS($G$5:G62,$C$5:C62,C62)-SUMIFS($I$4:I61,$C$4:C61,C62)))","v":0},null,{"$f":"IF(C62=\"\",0,IF(C62=$C$4,SUMIFS($I$4:I61,$C$4:C61,C61),SUMIFS($I$4:I61,$C$4:C61,C62)))","v":0},0]
[60,null,{"$f":"IFERROR(VLOOKUP(D63,Nomenclature!$B$2:$C$196,2,0),\"\")","v":""},null,null,null,null,{"$f":"IF(C63=\"\",0,IF(SUMIFS($G$5:G63,$C$5:C63,C63)-SUMIFS($I$4:I62,$C$4:C62,C63)<0,0,SUMIFS($G$5:G63,$C$5:C63,C63)-SUMIFS($I$4:I62,$C$4:C62,C63)))","v":0},null,{"$f":"IF(C63=\"\",0,IF(C63=$C$4,SUMIFS($I$4:I62,$C$4:C62,C62),SUMIFS($I$4:I62,$C$4:C62,C63)))","v":0},0]
[61,null,{"$f":"IFERROR(VLOOKUP(D64,Nomenclature!$B$2:$C$196,2,0),\"\")","v":""},null,null,null,null,{"$f":"IF(C64=\"\",0,IF(SUMIFS($G$5:G64,$C$5:C64,C64)-SUMIFS($I$4:I63,$C$4:C63,C64)<0,0,SUMIFS($G$5:G64,$C$5:C64,C64)-SUMIFS($I$4:I63,$C$4:C63,C64)))","v":0},null,{"$f":"IF(C64=\"\",0,IF(C64=$C$4,SUMIFS($I$4:I63,$C$4:C63,C63),SUMIFS($I$4:I63,$C$4:C63,C64)))","v":0},0]
[62,null,{"$f":"IFERROR(VLOOKUP(D65,Nomenclature!$B$2:$C$196,2,0),\"\")","v":""},null,null,null,null,{"$f":"IF(C65=\"\",0,IF(SUMIFS($G$5:G65,$C$5:C65,C65)-SUMIFS($I$4:I64,$C$4:C64,C65)<0,0,SUMIFS($G$5:G65,$C$5:C65,C65)-SUMIFS($I$4:I64,$C$4:C64,C65)))","v":0},null,{"$f":"IF(C65=\"\",0,IF(C65=$C$4,SUMIFS($I$4:I64,$C$4:C64,C64),SUMIFS($I$4:I64,$C$4:C64,C65)))","v":0},0]
[63,null,{"$f":"IFERROR(VLOOKUP(D66,Nomenclature!$B$2:$C$196,2,0),\"\")","v":""},null,null,null,null,{"$f":"IF(C66=\"\",0,IF(SUMIFS($G$5:G66,$C$5:C66,C66)-SUMIFS($I$4:I65,$C$4:C65,C66)<0,0,SUMIFS($G$5:G66,$C$5:C66,C66)-SUMIFS($I$4:I65,$C$4:C65,C66)))","v":0},null,{"$f":"IF(C66=\"\",0,IF(C66=$C$4,SUMIFS($I$4:I65,$C$4:C65,C65),SUMIFS($I$4:I65,$C$4:C65,C66)))","v":0},0]
[64,null,{"$f":"IFERROR(VLOOKUP(D67,Nomenclature!$B$2:$C$196,2,0),\"\")","v":""},null,null,null,null,{"$f":"IF(C67=\"\",0,IF(SUMIFS($G$5:G67,$C$5:C67,C67)-SUMIFS($I$4:I66,$C$4:C66,C67)<0,0,SUMIFS($G$5:G67,$C$5:C67,C67)-SUMIFS($I$4:I66,$C$4:C66,C67)))","v":0},null,{"$f":"IF(C67=\"\",0,IF(C67=$C$4,SUMIFS($I$4:I66,$C$4:C66,C66),SUMIFS($I$4:I66,$C$4:C66,C67)))","v":0},0]
[65,null,{"$f":"IFERROR(VLOOKUP(D68,Nomenclature!$B$2:$C$196,2,0),\"\")","v":""},null,null,null,null,{"$f":"IF(C68=\"\",0,IF(SUMIFS($G$5:G68,$C$5:C68,C68)-SUMIFS($I$4:I67,$C$4:C67,C68)<0,0,SUMIFS($G$5:G68,$C$5:C68,C68)-SUMIFS($I$4:I67,$C$4:C67,C68)))","v":0},null,{"$f":"IF(C68=\"\",0,IF(C68=$C$4,SUMIFS($I$4:I67,$C$4:C67,C67),SUMIFS($I$4:I67,$C$4:C67,C68)))","v":0},{"$f":"IF(C68=\"\",0,H68-I68)","v":0}]
[66,null,{"$f":"IFERROR(VLOOKUP(D69,Nomenclature!$B$2:$C$196,2,0),\"\")","v":""},null,null,null,null,{"$f":"IF(C69=\"\",0,IF(SUMIFS($G$5:G69,$C$5:C69,C69)-SUMIFS($I$4:I68,$C$4:C68,C69)<0,0,SUMIFS($G$5:G69,$C$5:C69,C69)-SUMIFS($I$4:I68,$C$4:C68,C69)))","v":0},null,{"$f":"IF(C69=\"\",0,IF(C69=$C$4,SUMIFS($I$4:I68,$C$4:C68,C68),SUMIFS($I$4:I68,$C$4:C68,C69)))","v":0},0]
[67,null,{"$f":"IFERROR(VLOOKUP(D70,Nomenclature!$B$2:$C$196,2,0),\"\")","v":""},null,null,null,null,{"$f":"IF(C70=\"\",0,IF(SUMIFS($G$5:G70,$C$5:C70,C70)-SUMIFS($I$4:I69,$C$4:C69,C70)<0,0,SUMIFS($G$5:G70,$C$5:C70,C70)-SUMIFS($I$4:I69,$C$4:C69,C70)))","v":0},null,{"$f":"IF(C70=\"\",0,IF(C70=$C$4,SUMIFS($I$4:I69,$C$4:C69,C69),SUMIFS($I$4:I69,$C$4:C69,C70)))","v":0},0]
[68,null,{"$f":"IFERROR(VLOOKUP(D71,Nomenclature!$B$2:$C$196,2,0),\"\")","v":""},null,null,null,null,{"$f":"IF(C71=\"\",0,IF(SUMIFS($G$5:G71,$C$5:C71,C71)-SUMIFS($I$4:I70,$C$4:C70,C71)<0,0,SUMIFS($G$5:G71,$C$5:C71,C71)-SUMIFS($I$4:I70,$C$4:C70,C71)))","v":0},null,{"$f":"IF(C71=\"\",0,IF(C71=$C$4,SUMIFS($I$4:I70,$C$4:C70,C70),SUMIFS($I$4:I70,$C$4:C70,C71)))","v":0},0]
[69,null,{"$f":"IFERROR(VLOOKUP(D72,Nomenclature!$B$2:$C$196,2,0),\"\")","v":""},null,null,null,null,{"$f":"IF(C72=\"\",0,IF(SUMIFS($G$5:G72,$C$5:C72,C72)-SUMIFS($I$4:I71,$C$4:C71,C72)<0,0,SUMIFS($G$5:G72,$C$5:C72,C72)-SUMIFS($I$4:I71,$C$4:C71,C72)))","v":0},null,{"$f":"IF(C72=\"\",0,IF(C72=$C$4,SUMIFS($I$4:I71,$C$4:C71,C71),SUMIFS($I$4:I71,$C$4:C71,C72)))","v":0},0]
[70,null,{"$f":"IFERROR(VLOOKUP(D73,Nomenclature!$B$2:$C$196,2,0),\"\")","v":""},null,null,null,null,{"$f":"IF(C73=\"\",0,IF(SUMIFS($G$5:G73,$C$5:C73,C73)-SUMIFS($I$4:I72,$C$4:C72,C73)<0,0,SUMIFS($G$5:G73,$C$5:C73,C73)-SUMIFS($I$4:I72,$C$4:C72,C73)))","v":0},null,{"$f":"IF(C73=\"\",0,IF(C73=$C$4,SUMIFS($I$4:I72,$C$4:C72,C72),SUMIFS($I$4:I72,$C$4:C72,C73)))","v":0},0]
[71,null,{"$f":"IFERROR(VLOOKUP(D74,Nomenclature!$B$2:$C$196,2,0),\"\")","v":""},null,null,null,null,{"$f":"IF(C74=\"\",0,IF(SUMIFS($G$5:G74,$C$5:C74,C74)-SUMIFS($I$4:I73,$C$4:C73,C74)<0,0,SUMIFS($G$5:G74,$C$5:C74,C74)-SUMIFS($I$4:I73,$C$4:C73,C74)))","v":0},null,{"$f":"IF(C74=\"\",0,IF(C74=$C$4,SUMIFS($I$4:I73,$C$4:C73,C73),SUMIFS($I$4:I73,$C$4:C73,C74)))","v":0},0]
[72,null,{"$f":"IFERROR(VLOOKUP(D75,Nomenclature!$B$2:$C$196,2,0),\"\")","v":""},null,null,null,null,{"$f":"IF(C75=\"\",0,IF(SUMIFS($G$5:G75,$C$5:C75,C75)-SUMIFS($I$4:I74,$C$4:C74,C75)<0,0,SUMIFS($G$5:G75,$C$5:C75,C75)-SUMIFS($I$4:I74,$C$4:C74,C75)))","v":0},null,{"$f":"IF(C75=\"\",0,IF(C75=$C$4,SUMIFS($I$4:I74,$C$4:C74,C74),SUMIFS($I$4:I74,$C$4:C74,C75)))","v":0},0]
[73,null,{"$f":"IFERROR(VLOOKUP(D76,Nomenclature!$B$2:$C$196,2,0),\"\")","v":""},null,null,null,null,{"$f":"IF(C76=\"\",0,IF(SUMIFS($G$5:G76,$C$5:C76,C76)-SUMIFS($I$4:I75,$C$4:C75,C76)<0,0,SUMIFS($G$5:G76,$C$5:C76,C76)-SUMIFS($I$4:I75,$C$4:C75,C76)))","v":0},null,{"$f":"IF(C76=\"\",0,IF(C76=$C$4,SUMIFS($I$4:I75,$C$4:C75,C75),SUMIFS($I$4:I75,$C$4:C75,C76)))","v":0},0]
[74,null,{"$f":"IFERROR(VLOOKUP(D77,Nomenclature!$B$2:$C$196,2,0),\"\")","v":""},null,null,null,null,{"$f":"IF(C77=\"\",0,IF(SUMIFS($G$5:G77,$C$5:C77,C77)-SUMIFS($I$4:I76,$C$4:C76,C77)<0,0,SUMIFS($G$5:G77,$C$5:C77,C77)-SUMIFS($I$4:I76,$C$4:C76,C77)))","v":0},null,{"$f":"IF(C77=\"\",0,IF(C77=$C$4,SUMIFS($I$4:I76,$C$4:C76,C76),SUMIFS($I$4:I76,$C$4:C76,C77)))","v":0},0]
[75,null,{"$f":"IFERROR(VLOOKUP(D78,Nomenclature!$B$2:$C$196,2,0),\"\")","v":""},null,null,null,null,{"$f":"IF(C78=\"\",0,IF(SUMIFS($G$5:G78,$C$5:C78,C78)-SUMIFS($I$4:I77,$C$4:C77,C78)<0,0,SUMIFS($G$5:G78,$C$5:C78,C78)-SUMIFS($I$4:I77,$C$4:C77,C78)))","v":0},null,{"$f":"IF(C78=\"\",0,IF(C78=$C$4,SUMIFS($I$4:I77,$C$4:C77,C77),SUMIFS($I$4:I77,$C$4:C77,C78)))","v":0},0]
[76,null,{"$f":"IFERROR(VLOOKUP(D79,Nomenclature!$B$2:$C$196,2,0),\"\")","v":""},null,null,null,null,{"$f":"IF(C79=\"\",0,IF(SUMIFS($G$5:G79,$C$5:C79,C79)-SUMIFS($I$4:I78,$C$4:C78,C79)<0,0,SUMIFS($G$5:G79,$C$5:C79,C79)-SUMIFS($I$4:I78,$C$4:C78,C79)))","v":0},null,{"$f":"IF(C79=\"\",0,IF(C79=$C$4,SUMIFS($I$4:I78,$C$4:C78,C78),SUMIFS($I$4:I78,$C$4:C78,C79)))","v":0},0]
[77,null,{"$f":"IFERROR(VLOOKUP(D80,Nomenclature!$B$2:$C$196,2,0),\"\")","v":""},null,null,null,null,{"$f":"IF(C80=\"\",0,IF(SUMIFS($G$5:G80,$C$5:C80,C80)-SUMIFS($I$4:I79,$C$4:C79,C80)<0,0,SUMIFS($G$5:G80,$C$5:C80,C80)-SUMIFS($I$4:I79,$C$4:C79,C80)))","v":0},null,{"$f":"IF(C80=\"\",0,IF(C80=$C$4,SUMIFS($I$4:I79,$C$4:C79,C79),SUMIFS($I$4:I79,$C$4:C79,C80)))","v":0},0]
[78,null,{"$f":"IFERROR(VLOOKUP(D81,Nomenclature!$B$2:$C$196,2,0),\"\")","v":""},null,null,null,null,{"$f":"IF(C81=\"\",0,IF(SUMIFS($G$5:G81,$C$5:C81,C81)-SUMIFS($I$4:I80,$C$4:C80,C81)<0,0,SUMIFS($G$5:G81,$C$5:C81,C81)-SUMIFS($I$4:I80,$C$4:C80,C81)))","v":0},null,{"$f":"IF(C81=\"\",0,IF(C81=$C$4,SUMIFS($I$4:I80,$C$4:C80,C80),SUMIFS($I$4:I80,$C$4:C80,C81)))","v":0},0]
[79,null,{"$f":"IFERROR(VLOOKUP(D82,Nomenclature!$B$2:$C$196,2,0),\"\")","v":""},null,null,null,null,{"$f":"IF(C82=\"\",0,IF(SUMIFS($G$5:G82,$C$5:C82,C82)-SUMIFS($I$4:I81,$C$4:C81,C82)<0,0,SUMIFS($G$5:G82,$C$5:C82,C82)-SUMIFS($I$4:I81,$C$4:C81,C82)))","v":0},null,{"$f":"IF(C82=\"\",0,IF(C82=$C$4,SUMIFS($I$4:I81,$C$4:C81,C81),SUMIFS($I$4:I81,$C$4:C81,C82)))","v":0},0]
[80,null,{"$f":"IFERROR(VLOOKUP(D83,Nomenclature!$B$2:$C$196,2,0),\"\")","v":""},null,null,null,null,{"$f":"IF(C83=\"\",0,IF(SUMIFS($G$5:G83,$C$5:C83,C83)-SUMIFS($I$4:I82,$C$4:C82,C83)<0,0,SUMIFS($G$5:G83,$C$5:C83,C83)-SUMIFS($I$4:I82,$C$4:C82,C83)))","v":0},null,{"$f":"IF(C83=\"\",0,IF(C83=$C$4,SUMIFS($I$4:I82,$C$4:C82,C82),SUMIFS($I$4:I82,$C$4:C82,C83)))","v":0},0]
[81,null,{"$f":"IFERROR(VLOOKUP(D84,Nomenclature!$B$2:$C$196,2,0),\"\")","v":""},null,null,null,null,{"$f":"IF(C84=\"\",0,IF(SUMIFS($G$5:G84,$C$5:C84,C84)-SUMIFS($I$4:I83,$C$4:C83,C84)<0,0,SUMIFS($G$5:G84,$C$5:C84,C84)-SUMIFS($I$4:I83,$C$4:C83,C84)))","v":0},null,{"$f":"IF(C84=\"\",0,IF(C84=$C$4,SUMIFS($I$4:I83,$C$4:C83,C83),SUMIFS($I$4:I83,$C$4:C83,C84)))","v":0},0]
[82,null,{"$f":"IFERROR(VLOOKUP(D85,Nomenclature!$B$2:$C$196,2,0),\"\")","v":""},null,null,null,null,{"$f":"IF(C85=\"\",0,IF(SUMIFS($G$5:G85,$C$5:C85,C85)-SUMIFS($I$4:I84,$C$4:C84,C85)<0,0,SUMIFS($G$5:G85,$C$5:C85,C85)-SUMIFS($I$4:I84,$C$4:C84,C85)))","v":0},null,{"$f":"IF(C85=\"\",0,IF(C85=$C$4,SUMIFS($I$4:I84,$C$4:C84,C84),SUMIFS($I$4:I84,$C$4:C84,C85)))","v":0},0]
[83,null,{"$f":"IFERROR(VLOOKUP(D86,Nomenclature!$B$2:$C$196,2,0),\"\")","v":""},null,null,null,null,{"$f":"IF(C86=\"\",0,IF(SUMIFS($G$5:G86,$C$5:C86,C86)-SUMIFS($I$4:I85,$C$4:C85,C86)<0,0,SUMIFS($G$5:G86,$C$5:C86,C86)-SUMIFS($I$4:I85,$C$4:C85,C86)))","v":0},null,{"$f":"IF(C86=\"\",0,IF(C86=$C$4,SUMIFS($I$4:I85,$C$4:C85,C85),SUMIFS($I$4:I85,$C$4:C85,C86)))","v":0},0]
[84,null,{"$f":"IFERROR(VLOOKUP(D87,Nomenclature!$B$2:$C$196,2,0),\"\")","v":""},null,null,null,null,{"$f":"IF(C87=\"\",0,IF(SUMIFS($G$5:G87,$C$5:C87,C87)-SUMIFS($I$4:I86,$C$4:C86,C87)<0,0,SUMIFS($G$5:G87,$C$5:C87,C87)-SUMIFS($I$4:I86,$C$4:C86,C87)))","v":0},null,{"$f":"IF(C87=\"\",0,IF(C87=$C$4,SUMIFS($I$4:I86,$C$4:C86,C86),SUMIFS($I$4:I86,$C$4:C86,C87)))","v":0},0]
[85,null,{"$f":"IFERROR(VLOOKUP(D88,Nomenclature!$B$2:$C$196,2,0),\"\")","v":""},null,null,null,null,{"$f":"IF(C88=\"\",0,IF(SUMIFS($G$5:G88,$C$5:C88,C88)-SUMIFS($I$4:I87,$C$4:C87,C88)<0,0,SUMIFS($G$5:G88,$C$5:C88,C88)-SUMIFS($I$4:I87,$C$4:C87,C88)))","v":0},null,{"$f":"IF(C88=\"\",0,IF(C88=$C$4,SUMIFS($I$4:I87,$C$4:C87,C87),SUMIFS($I$4:I87,$C$4:C87,C88)))","v":0},0]
[86,null,{"$f":"IFERROR(VLOOKUP(D89,Nomenclature!$B$2:$C$196,2,0),\"\")","v":""},null,null,null,null,{"$f":"IF(C89=\"\",0,IF(SUMIFS($G$5:G89,$C$5:C89,C89)-SUMIFS($I$4:I88,$C$4:C88,C89)<0,0,SUMIFS($G$5:G89,$C$5:C89,C89)-SUMIFS($I$4:I88,$C$4:C88,C89)))","v":0},null,{"$f":"IF(C89=\"\",0,IF(C89=$C$4,SUMIFS($I$4:I88,$C$4:C88,C88),SUMIFS($I$4:I88,$C$4:C88,C89)))","v":0},0]
[87,null,{"$f":"IFERROR(VLOOKUP(D90,Nomenclature!$B$2:$C$196,2,0),\"\")","v":""},null,null,null,null,{"$f":"IF(C90=\"\",0,IF(SUMIFS($G$5:G90,$C$5:C90,C90)-SUMIFS($I$4:I89,$C$4:C89,C90)<0,0,SUMIFS($G$5:G90,$C$5:C90,C90)-SUMIFS($I$4:I89,$C$4:C89,C90)))","v":0},null,{"$f":"IF(C90=\"\",0,IF(C90=$C$4,SUMIFS($I$4:I89,$C$4:C89,C89),SUMIFS($I$4:I89,$C$4:C89,C90)))","v":0},0]
[88,null,{"$f":"IFERROR(VLOOKUP(D91,Nomenclature!$B$2:$C$196,2,0),\"\")","v":""},null,null,null,null,{"$f":"IF(C91=\"\",0,IF(SUMIFS($G$5:G91,$C$5:C91,C91)-SUMIFS($I$4:I90,$C$4:C90,C91)<0,0,SUMIFS($G$5:G91,$C$5:C91,C91)-SUMIFS($I$4:I90,$C$4:C90,C91)))","v":0},null,{"$f":"IF(C91=\"\",0,IF(C91=$C$4,SUMIFS($I$4:I90,$C$4:C90,C90),SUMIFS($I$4:I90,$C$4:C90,C91)))","v":0},0]
[89,null,{"$f":"IFERROR(VLOOKUP(D92,Nomenclature!$B$2:$C$196,2,0),\"\")","v":""},null,null,null,null,{"$f":"IF(C92=\"\",0,IF(SUMIFS($G$5:G92,$C$5:C92,C92)-SUMIFS($I$4:I91,$C$4:C91,C92)<0,0,SUMIFS($G$5:G92,$C$5:C92,C92)-SUMIFS($I$4:I91,$C$4:C91,C92)))","v":0},null,{"$f":"IF(C92=\"\",0,IF(C92=$C$4,SUMIFS($I$4:I91,$C$4:C91,C91),SUMIFS($I$4:I91,$C$4:C91,C92)))","v":0},0]
[90,null,{"$f":"IFERROR(VLOOKUP(D93,Nomenclature!$B$2:$C$196,2,0),\"\")","v":""},null,null,null,null,{"$f":"IF(C93=\"\",0,IF(SUMIFS($G$5:G93,$C$5:C93,C93)-SUMIFS($I$4:I92,$C$4:C92,C93)<0,0,SUMIFS($G$5:G93,$C$5:C93,C93)-SUMIFS($I$4:I92,$C$4:C92,C93)))","v":0},null,{"$f":"IF(C93=\"\",0,IF(C93=$C$4,SUMIFS($I$4:I92,$C$4:C92,C92),SUMIFS($I$4:I92,$C$4:C92,C93)))","v":0},0]
[91,null,{"$f":"IFERROR(VLOOKUP(D94,Nomenclature!$B$2:$C$196,2,0),\"\")","v":""},null,null,null,null,{"$f":"IF(C94=\"\",0,IF(SUMIFS($G$5:G94,$C$5:C94,C94)-SUMIFS($I$4:I93,$C$4:C93,C94)<0,0,SUMIFS($G$5:G94,$C$5:C94,C94)-SUMIFS($I$4:I93,$C$4:C93,C94)))","v":0},null,{"$f":"IF(C94=\"\",0,IF(C94=$C$4,SUMIFS($I$4:I93,$C$4:C93,C93),SUMIFS($I$4:I93,$C$4:C93,C94)))","v":0},0]
[92,null,{"$f":"IFERROR(VLOOKUP(D95,Nomenclature!$B$2:$C$196,2,0),\"\")","v":""},null,null,null,null,{"$f":"IF(C95=\"\",0,IF(SUMIFS($G$5:G95,$C$5:C95,C95)-SUMIFS($I$4:I94,$C$4:C94,C95)<0,0,SUMIFS($G$5:G95,$C$5:C95,C95)-SUMIFS($I$4:I94,$C$4:C94,C95)))","v":0},null,{"$f":"IF(C95=\"\",0,IF(C95=$C$4,SUMIFS($I$4:I94,$C$4:C94,C94),SUMIFS($I$4:I94,$C$4:C94,C95)))","v":0},0]
[93,null,{"$f":"IFERROR(VLOOKUP(D96,Nomenclature!$B$2:$C$196,2,0),\"\")","v":""},null,null,null,null,{"$f":"IF(C96=\"\",0,IF(SUMIFS($G$5:G96,$C$5:C96,C96)-SUMIFS($I$4:I95,$C$4:C95,C96)<0,0,SUMIFS($G$5:G96,$C$5:C96,C96)-SUMIFS($I$4:I95,$C$4:C95,C96)))","v":0},null,{"$f":"IF(C96=\"\",0,IF(C96=$C$4,SUMIFS($I$4:I95,$C$4:C95,C95),SUMIFS($I$4:I95,$C$4:C95,C96)))","v":0},0]
[94,null,{"$f":"IFERROR(VLOOKUP(D97,Nomenclature!$B$2:$C$196,2,0),\"\")","v":""},null,null,null,null,{"$f":"IF(C97=\"\",0,IF(SUMIFS($G$5:G97,$C$5:C97,C97)-SUMIFS($I$4:I96,$C$4:C96,C97)<0,0,SUMIFS($G$5:G97,$C$5:C97,C97)-SUMIFS($I$4:I96,$C$4:C96,C97)))","v":0},null,{"$f":"IF(C97=\"\",0,IF(C97=$C$4,SUMIFS($I$4:I96,$C$4:C96,C96),SUMIFS($I$4:I96,$C$4:C96,C97)))","v":0},0]
[95,null,{"$f":"IFERROR(VLOOKUP(D98,Nomenclature!$B$2:$C$196,2,0),\"\")","v":""},null,null,null,null,{"$f":"IF(C98=\"\",0,IF(SUMIFS($G$5:G98,$C$5:C98,C98)-SUMIFS($I$4:I97,$C$4:C97,C98)<0,0,SUMIFS($G$5:G98,$C$5:C98,C98)-SUMIFS($I$4:I97,$C$4:C97,C98)))","v":0},null,{"$f":"IF(C98=\"\",0,IF(C98=$C$4,SUMIFS($I$4:I97,$C$4:C97,C97),SUMIFS($I$4:I97,$C$4:C97,C98)))","v":0},0]
[96,null,{"$f":"IFERROR(VLOOKUP(D99,Nomenclature!$B$2:$C$196,2,0),\"\")","v":""},null,null,null,null,{"$f":"IF(C99=\"\",0,IF(SUMIFS($G$5:G99,$C$5:C99,C99)-SUMIFS($I$4:I98,$C$4:C98,C99)<0,0,SUMIFS($G$5:G99,$C$5:C99,C99)-SUMIFS($I$4:I98,$C$4:C98,C99)))","v":0},null,{"$f":"IF(C99=\"\",0,IF(C99=$C$4,SUMIFS($I$4:I98,$C$4:C98,C98),SUMIFS($I$4:I98,$C$4:C98,C99)))","v":0},0]
[97,null,{"$f":"IFERROR(VLOOKUP(D100,Nomenclature!$B$2:$C$196,2,0),\"\")","v":""},null,null,null,null,{"$f":"IF(C100=\"\",0,IF(SUMIFS($G$5:G100,$C$5:C100,C100)-SUMIFS($I$4:I99,$C$4:C99,C100)<0,0,SUMIFS($G$5:G100,$C$5:C100,C100)-SUMIFS($I$4:I99,$C$4:C99,C100)))","v":0},null,{"$f":"IF(C100=\"\",0,IF(C100=$C$4,SUMIFS($I$4:I99,$C$4:C99,C99),SUMIFS($I$4:I99,$C$4:C99,C100)))","v":0},0]
[98,null,{"$f":"IFERROR(VLOOKUP(D101,Nomenclature!$B$2:$C$196,2,0),\"\")","v":""},null,null,null,null,{"$f":"IF(C101=\"\",0,IF(SUMIFS($G$5:G101,$C$5:C101,C101)-SUMIFS($I$4:I100,$C$4:C100,C101)<0,0,SUMIFS($G$5:G101,$C$5:C101,C101)-SUMIFS($I$4:I100,$C$4:C100,C101)))","v":0},null,{"$f":"IF(C101=\"\",0,IF(C101=$C$4,SUMIFS($I$4:I100,$C$4:C100,C100),SUMIFS($I$4:I100,$C$4:C100,C101)))","v":0},0]
[99,null,{"$f":"IFERROR(VLOOKUP(D102,Nomenclature!$B$2:$C$196,2,0),\"\")","v":""},null,null,null,null,{"$f":"IF(C102=\"\",0,IF(SUMIFS($G$5:G102,$C$5:C102,C102)-SUMIFS($I$4:I101,$C$4:C101,C102)<0,0,SUMIFS($G$5:G102,$C$5:C102,C102)-SUMIFS($I$4:I101,$C$4:C101,C102)))","v":0},null,{"$f":"IF(C102=\"\",0,IF(C102=$C$4,SUMIFS($I$4:I101,$C$4:C101,C101),SUMIFS($I$4:I101,$C$4:C101,C102)))","v":0},0]
[100,null,{"$f":"IFERROR(VLOOKUP(D103,Nomenclature!$B$2:$C$196,2,0),\"\")","v":""},null,null,null,null,{"$f":"IF(C103=\"\",0,IF(SUMIFS($G$5:G103,$C$5:C103,C103)-SUMIFS($I$4:I102,$C$4:C102,C103)<0,0,SUMIFS($G$5:G103,$C$5:C103,C103)-SUMIFS($I$4:I102,$C$4:C102,C103)))","v":0},null,{"$f":"IF(C103=\"\",0,IF(C103=$C$4,SUMIFS($I$4:I102,$C$4:C102,C102),SUMIFS($I$4:I102,$C$4:C102,C103)))","v":0},0]
[101,null,{"$f":"IFERROR(VLOOKUP(D104,Nomenclature!$B$2:$C$196,2,0),\"\")","v":""},null,null,null,null,{"$f":"IF(C104=\"\",0,IF(SUMIFS($G$5:G104,$C$5:C104,C104)-SUMIFS($I$4:I103,$C$4:C103,C104)<0,0,SUMIFS($G$5:G104,$C$5:C104,C104)-SUMIFS($I$4:I103,$C$4:C103,C104)))","v":0},null,{"$f":"IF(C104=\"\",0,IF(C104=$C$4,SUMIFS($I$4:I103,$C$4:C103,C103),SUMIFS($I$4:I103,$C$4:C103,C104)))","v":0},0]
[102,null,{"$f":"IFERROR(VLOOKUP(D105,Nomenclature!$B$2:$C$196,2,0),\"\")","v":""},null,null,null,null,{"$f":"IF(C105=\"\",0,IF(SUMIFS($G$5:G105,$C$5:C105,C105)-SUMIFS($I$4:I104,$C$4:C104,C105)<0,0,SUMIFS($G$5:G105,$C$5:C105,C105)-SUMIFS($I$4:I104,$C$4:C104,C105)))","v":0},null,{"$f":"IF(C105=\"\",0,IF(C105=$C$4,SUMIFS($I$4:I104,$C$4:C104,C104),SUMIFS($I$4:I104,$C$4:C104,C105)))","v":0},0]
[103,null,{"$f":"IFERROR(VLOOKUP(D106,Nomenclature!$B$2:$C$196,2,0),\"\")","v":""},null,null,null,null,{"$f":"IF(C106=\"\",0,IF(SUMIFS($G$5:G106,$C$5:C106,C106)-SUMIFS($I$4:I105,$C$4:C105,C106)<0,0,SUMIFS($G$5:G106,$C$5:C106,C106)-SUMIFS($I$4:I105,$C$4:C105,C106)))","v":0},null,{"$f":"IF(C106=\"\",0,IF(C106=$C$4,SUMIFS($I$4:I105,$C$4:C105,C105),SUMIFS($I$4:I105,$C$4:C105,C106)))","v":0},0]
[104,null,{"$f":"IFERROR(VLOOKUP(D107,Nomenclature!$B$2:$C$196,2,0),\"\")","v":""},null,null,null,null,{"$f":"IF(C107=\"\",0,IF(SUMIFS($G$5:G107,$C$5:C107,C107)-SUMIFS($I$4:I106,$C$4:C106,C107)<0,0,SUMIFS($G$5:G107,$C$5:C107,C107)-SUMIFS($I$4:I106,$C$4:C106,C107)))","v":0},null,{"$f":"IF(C107=\"\",0,IF(C107=$C$4,SUMIFS($I$4:I106,$C$4:C106,C106),SUMIFS($I$4:I106,$C$4:C106,C107)))","v":0},0]
[105,null,{"$f":"IFERROR(VLOOKUP(D108,Nomenclature!$B$2:$C$196,2,0),\"\")","v":""},null,null,null,null,{"$f":"IF(C108=\"\",0,IF(SUMIFS($G$5:G108,$C$5:C108,C108)-SUMIFS($I$4:I107,$C$4:C107,C108)<0,0,SUMIFS($G$5:G108,$C$5:C108,C108)-SUMIFS($I$4:I107,$C$4:C107,C108)))","v":0},null,{"$f":"IF(C108=\"\",0,IF(C108=$C$4,SUMIFS($I$4:I107,$C$4:C107,C107),SUMIFS($I$4:I107,$C$4:C107,C108)))","v":0},0]
[106,null,{"$f":"IFERROR(VLOOKUP(D109,Nomenclature!$B$2:$C$196,2,0),\"\")","v":""},null,null,null,null,{"$f":"IF(C109=\"\",0,IF(SUMIFS($G$5:G109,$C$5:C109,C109)-SUMIFS($I$4:I108,$C$4:C108,C109)<0,0,SUMIFS($G$5:G109,$C$5:C109,C109)-SUMIFS($I$4:I108,$C$4:C108,C109)))","v":0},null,{"$f":"IF(C109=\"\",0,IF(C109=$C$4,SUMIFS($I$4:I108,$C$4:C108,C108),SUMIFS($I$4:I108,$C$4:C108,C109)))","v":0},0]
[107,null,{"$f":"IFERROR(VLOOKUP(D110,Nomenclature!$B$2:$C$196,2,0),\"\")","v":""},null,null,null,null,{"$f":"IF(C110=\"\",0,IF(SUMIFS($G$5:G110,$C$5:C110,C110)-SUMIFS($I$4:I109,$C$4:C109,C110)<0,0,SUMIFS($G$5:G110,$C$5:C110,C110)-SUMIFS($I$4:I109,$C$4:C109,C110)))","v":0},null,{"$f":"IF(C110=\"\",0,IF(C110=$C$4,SUMIFS($I$4:I109,$C$4:C109,C109),SUMIFS($I$4:I109,$C$4:C109,C110)))","v":0},0]
[108,null,{"$f":"IFERROR(VLOOKUP(D111,Nomenclature!$B$2:$C$196,2,0),\"\")","v":""},null,null,null,null,{"$f":"IF(C111=\"\",0,IF(SUMIFS($G$5:G111,$C$5:C111,C111)-SUMIFS($I$4:I110,$C$4:C110,C111)<0,0,SUMIFS($G$5:G111,$C$5:C111,C111)-SUMIFS($I$4:I110,$C$4:C110,C111)))","v":0},null,{"$f":"IF(C111=\"\",0,IF(C111=$C$4,SUMIFS($I$4:I110,$C$4:C110,C110),SUMIFS($I$4:I110,$C$4:C110,C111)))","v":0},0]
[109,null,{"$f":"IFERROR(VLOOKUP(D112,Nomenclature!$B$2:$C$196,2,0),\"\")","v":""},null,null,null,null,{"$f":"IF(C112=\"\",0,IF(SUMIFS($G$5:G112,$C$5:C112,C112)-SUMIFS($I$4:I111,$C$4:C111,C112)<0,0,SUMIFS($G$5:G112,$C$5:C112,C112)-SUMIFS($I$4:I111,$C$4:C111,C112)))","v":0},null,{"$f":"IF(C112=\"\",0,IF(C112=$C$4,SUMIFS($I$4:I111,$C$4:C111,C111),SUMIFS($I$4:I111,$C$4:C111,C112)))","v":0},0]
[110,null,{"$f":"IFERROR(VLOOKUP(D113,Nomenclature!$B$2:$C$196,2,0),\"\")","v":""},null,null,null,null,{"$f":"IF(C113=\"\",0,IF(SUMIFS($G$5:G113,$C$5:C113,C113)-SUMIFS($I$4:I112,$C$4:C112,C113)<0,0,SUMIFS($G$5:G113,$C$5:C113,C113)-SUMIFS($I$4:I112,$C$4:C112,C113)))","v":0},null,{"$f":"IF(C113=\"\",0,IF(C113=$C$4,SUMIFS($I$4:I112,$C$4:C112,C112),SUMIFS($I$4:I112,$C$4:C112,C113)))","v":0},0]
[111,null,{"$f":"IFERROR(VLOOKUP(D114,Nomenclature!$B$2:$C$196,2,0),\"\")","v":""},null,null,null,null,{"$f":"IF(C114=\"\",0,IF(SUMIFS($G$5:G114,$C$5:C114,C114)-SUMIFS($I$4:I113,$C$4:C113,C114)<0,0,SUMIFS($G$5:G114,$C$5:C114,C114)-SUMIFS($I$4:I113,$C$4:C113,C114)))","v":0},null,{"$f":"IF(C114=\"\",0,IF(C114=$C$4,SUMIFS($I$4:I113,$C$4:C113,C113),SUMIFS($I$4:I113,$C$4:C113,C114)))","v":0},0]
[112,null,{"$f":"IFERROR(VLOOKUP(D115,Nomenclature!$B$2:$C$196,2,0),\"\")","v":""},null,null,null,null,{"$f":"IF(C115=\"\",0,IF(SUMIFS($G$5:G115,$C$5:C115,C115)-SUMIFS($I$4:I114,$C$4:C114,C115)<0,0,SUMIFS($G$5:G115,$C$5:C115,C115)-SUMIFS($I$4:I114,$C$4:C114,C115)))","v":0},null,{"$f":"IF(C115=\"\",0,IF(C115=$C$4,SUMIFS($I$4:I114,$C$4:C114,C114),SUMIFS($I$4:I114,$C$4:C114,C115)))","v":0},0]
[113,null,{"$f":"IFERROR(VLOOKUP(D116,Nomenclature!$B$2:$C$196,2,0),\"\")","v":""},null,null,null,null,{"$f":"IF(C116=\"\",0,IF(SUMIFS($G$5:G116,$C$5:C116,C116)-SUMIFS($I$4:I115,$C$4:C115,C116)<0,0,SUMIFS($G$5:G116,$C$5:C116,C116)-SUMIFS($I$4:I115,$C$4:C115,C116)))","v":0},null,{"$f":"IF(C116=\"\",0,IF(C116=$C$4,SUMIFS($I$4:I115,$C$4:C115,C115),SUMIFS($I$4:I115,$C$4:C115,C116)))","v":0},0]
[114,null,{"$f":"IFERROR(VLOOKUP(D117,Nomenclature!$B$2:$C$196,2,0),\"\")","v":""},null,null,null,null,{"$f":"IF(C117=\"\",0,IF(SUMIFS($G$5:G117,$C$5:C117,C117)-SUMIFS($I$4:I116,$C$4:C116,C117)<0,0,SUMIFS($G$5:G117,$C$5:C117,C117)-SUMIFS($I$4:I116,$C$4:C116,C117)))","v":0},null,{"$f":"IF(C117=\"\",0,IF(C117=$C$4,SUMIFS($I$4:I116,$C$4:C116,C116),SUMIFS($I$4:I116,$C$4:C116,C117)))","v":0},0]
[115,null,{"$f":"IFERROR(VLOOKUP(D118,Nomenclature!$B$2:$C$196,2,0),\"\")","v":""},null,null,null,null,{"$f":"IF(C118=\"\",0,IF(SUMIFS($G$5:G118,$C$5:C118,C118)-SUMIFS($I$4:I117,$C$4:C117,C118)<0,0,SUMIFS($G$5:G118,$C$5:C118,C118)-SUMIFS($I$4:I117,$C$4:C117,C118)))","v":0},null,{"$f":"IF(C118=\"\",0,IF(C118=$C$4,SUMIFS($I$4:I117,$C$4:C117,C117),SUMIFS($I$4:I117,$C$4:C117,C118)))","v":0},0]
[116,null,{"$f":"IFERROR(VLOOKUP(D119,Nomenclature!$B$2:$C$196,2,0),\"\")","v":""},null,null,null,null,{"$f":"IF(C119=\"\",0,IF(SUMIFS($G$5:G119,$C$5:C119,C119)-SUMIFS($I$4:I118,$C$4:C118,C119)<0,0,SUMIFS($G$5:G119,$C$5:C119,C119)-SUMIFS($I$4:I118,$C$4:C118,C119)))","v":0},null,{"$f":"IF(C119=\"\",0,IF(C119=$C$4,SUMIFS($I$4:I118,$C$4:C118,C118),SUMIFS($I$4:I118,$C$4:C118,C119)))","v":0},0]
[117,null,{"$f":"IFERROR(VLOOKUP(D120,Nomenclature!$B$2:$C$196,2,0),\"\")","v":""},null,null,null,null,{"$f":"IF(C120=\"\",0,IF(SUMIFS($G$5:G120,$C$5:C120,C120)-SUMIFS($I$4:I119,$C$4:C119,C120)<0,0,SUMIFS($G$5:G120,$C$5:C120,C120)-SUMIFS($I$4:I119,$C$4:C119,C120)))","v":0},null,{"$f":"IF(C120=\"\",0,IF(C120=$C$4,SUMIFS($I$4:I119,$C$4:C119,C119),SUMIFS($I$4:I119,$C$4:C119,C120)))","v":0},0]
[118,null,{"$f":"IFERROR(VLOOKUP(D121,Nomenclature!$B$2:$C$196,2,0),\"\")","v":""},null,null,null,null,{"$f":"IF(C121=\"\",0,IF(SUMIFS($G$5:G121,$C$5:C121,C121)-SUMIFS($I$4:I120,$C$4:C120,C121)<0,0,SUMIFS($G$5:G121,$C$5:C121,C121)-SUMIFS($I$4:I120,$C$4:C120,C121)))","v":0},null,{"$f":"IF(C121=\"\",0,IF(C121=$C$4,SUMIFS($I$4:I120,$C$4:C120,C120),SUMIFS($I$4:I120,$C$4:C120,C121)))","v":0},0]
[119,null,{"$f":"IFERROR(VLOOKUP(D122,Nomenclature!$B$2:$C$196,2,0),\"\")","v":""},null,null,null,null,{"$f":"IF(C122=\"\",0,IF(SUMIFS($G$5:G122,$C$5:C122,C122)-SUMIFS($I$4:I121,$C$4:C121,C122)<0,0,SUMIFS($G$5:G122,$C$5:C122,C122)-SUMIFS($I$4:I121,$C$4:C121,C122)))","v":0},null,{"$f":"IF(C122=\"\",0,IF(C122=$C$4,SUMIFS($I$4:I121,$C$4:C121,C121),SUMIFS($I$4:I121,$C$4:C121,C122)))","v":0},0]
[120,null,{"$f":"IFERROR(VLOOKUP(D123,Nomenclature!$B$2:$C$196,2,0),\"\")","v":""},null,null,null,null,{"$f":"IF(C123=\"\",0,IF(SUMIFS($G$5:G123,$C$5:C123,C123)-SUMIFS($I$4:I122,$C$4:C122,C123)<0,0,SUMIFS($G$5:G123,$C$5:C123,C123)-SUMIFS($I$4:I122,$C$4:C122,C123)))","v":0},null,{"$f":"IF(C123=\"\",0,IF(C123=$C$4,SUMIFS($I$4:I122,$C$4:C122,C122),SUMIFS($I$4:I122,$C$4:C122,C123)))","v":0},0]
[121,null,{"$f":"IFERROR(VLOOKUP(D124,Nomenclature!$B$2:$C$196,2,0),\"\")","v":""},null,null,null,null,{"$f":"IF(C124=\"\",0,IF(SUMIFS($G$5:G124,$C$5:C124,C124)-SUMIFS($I$4:I123,$C$4:C123,C124)<0,0,SUMIFS($G$5:G124,$C$5:C124,C124)-SUMIFS($I$4:I123,$C$4:C123,C124)))","v":0},null,{"$f":"IF(C124=\"\",0,IF(C124=$C$4,SUMIFS($I$4:I123,$C$4:C123,C123),SUMIFS($I$4:I123,$C$4:C123,C124)))","v":0},0]
[122,null,{"$f":"IFERROR(VLOOKUP(D125,Nomenclature!$B$2:$C$196,2,0),\"\")","v":""},null,null,null,null,{"$f":"IF(C125=\"\",0,IF(SUMIFS($G$5:G125,$C$5:C125,C125)-SUMIFS($I$4:I124,$C$4:C124,C125)<0,0,SUMIFS($G$5:G125,$C$5:C125,C125)-SUMIFS($I$4:I124,$C$4:C124,C125)))","v":0},null,{"$f":"IF(C125=\"\",0,IF(C125=$C$4,SUMIFS($I$4:I124,$C$4:C124,C124),SUMIFS($I$4:I124,$C$4:C124,C125)))","v":0},0]
[123,null,{"$f":"IFERROR(VLOOKUP(D126,Nomenclature!$B$2:$C$196,2,0),\"\")","v":""},null,null,null,null,{"$f":"IF(C126=\"\",0,IF(SUMIFS($G$5:G126,$C$5:C126,C126)-SUMIFS($I$4:I125,$C$4:C125,C126)<0,0,SUMIFS($G$5:G126,$C$5:C126,C126)-SUMIFS($I$4:I125,$C$4:C125,C126)))","v":0},null,{"$f":"IF(C126=\"\",0,IF(C126=$C$4,SUMIFS($I$4:I125,$C$4:C125,C125),SUMIFS($I$4:I125,$C$4:C125,C126)))","v":0},0]
[124,null,{"$f":"IFERROR(VLOOKUP(D127,Nomenclature!$B$2:$C$196,2,0),\"\")","v":""},null,null,null,null,{"$f":"IF(C127=\"\",0,IF(SUMIFS($G$5:G127,$C$5:C127,C127)-SUMIFS($I$4:I126,$C$4:C126,C127)<0,0,SUMIFS($G$5:G127,$C$5:C127,C127)-SUMIFS($I$4:I126,$C$4:C126,C127)))","v":0},null,{"$f":"IF(C127=\"\",0,IF(C127=$C$4,SUMIFS($I$4:I126,$C$4:C126,C126),SUMIFS($I$4:I126,$C$4:C126,C127)))","v":0},0]
[125,null,{"$f":"IFERROR(VLOOKUP(D128,Nomenclature!$B$2:$C$196,2,0),\"\")","v":""},null,null,null,null,{"$f":"IF(C128=\"\",0,IF(SUMIFS($G$5:G128,$C$5:C128,C128)-SUMIFS($I$4:I127,$C$4:C127,C128)<0,0,SUMIFS($G$5:G128,$C$5:C128,C128)-SUMIFS($I$4:I127,$C$4:C127,C128)))","v":0},null,{"$f":"IF(C128=\"\",0,IF(C128=$C$4,SUMIFS($I$4:I127,$C$4:C127,C127),SUMIFS($I$4:I127,$C$4:C127,C128)))","v":0},0]
[126,null,{"$f":"IFERROR(VLOOKUP(D129,Nomenclature!$B$2:$C$196,2,0),\"\")","v":""},null,null,null,null,{"$f":"IF(C129=\"\",0,IF(SUMIFS($G$5:G129,$C$5:C129,C129)-SUMIFS($I$4:I128,$C$4:C128,C129)<0,0,SUMIFS($G$5:G129,$C$5:C129,C129)-SUMIFS($I$4:I128,$C$4:C128,C129)))","v":0},null,{"$f":"IF(C129=\"\",0,IF(C129=$C$4,SUMIFS($I$4:I128,$C$4:C128,C128),SUMIFS($I$4:I128,$C$4:C128,C129)))","v":0},0]
[127,null,{"$f":"IFERROR(VLOOKUP(D130,Nomenclature!$B$2:$C$196,2,0),\"\")","v":""},null,null,null,null,{"$f":"IF(C130=\"\",0,IF(SUMIFS($G$5:G130,$C$5:C130,C130)-SUMIFS($I$4:I129,$C$4:C129,C130)<0,0,SUMIFS($G$5:G130,$C$5:C130,C130)-SUMIFS($I$4:I129,$C$4:C129,C130)))","v":0},null,{"$f":"IF(C130=\"\",0,IF(C130=$C$4,SUMIFS($I$4:I129,$C$4:C129,C129),SUMIFS($I$4:I129,$C$4:C129,C130)))","v":0},0]
[128,null,{"$f":"IFERROR(VLOOKUP(D131,Nomenclature!$B$2:$C$196,2,0),\"\")","v":""},null,null,null,null,{"$f":"IF(C131=\"\",0,IF(SUMIFS($G$5:G131,$C$5:C131,C131)-SUMIFS($I$4:I130,$C$4:C130,C131)<0,0,SUMIFS($G$5:G131,$C$5:C131,C131)-SUMIFS($I$4:I130,$C$4:C130,C131)))","v":0},null,{"$f":"IF(C131=\"\",0,IF(C131=$C$4,SUMIFS($I$4:I130,$C$4:C130,C130),SUMIFS($I$4:I130,$C$4:C130,C131)))","v":0},0]
[129,null,{"$f":"IFERROR(VLOOKUP(D132,Nomenclature!$B$2:$C$196,2,0),\"\")","v":""},null,null,null,null,{"$f":"IF(C132=\"\",0,IF(SUMIFS($G$5:G132,$C$5:C132,C132)-SUMIFS($I$4:I131,$C$4:C131,C132)<0,0,SUMIFS($G$5:G132,$C$5:C132,C132)-SUMIFS($I$4:I131,$C$4:C131,C132)))","v":0},null,{"$f":"IF(C132=\"\",0,IF(C132=$C$4,SUMIFS($I$4:I131,$C$4:C131,C131),SUMIFS($I$4:I131,$C$4:C131,C132)))","v":0},{"$f":"IF(C132=\"\",0,H132-I132)","v":0}]
[130,null,{"$f":"IFERROR(VLOOKUP(D133,Nomenclature!$B$2:$C$196,2,0),\"\")","v":""},null,null,null,null,{"$f":"IF(C133=\"\",0,IF(SUMIFS($G$5:G133,$C$5:C133,C133)-SUMIFS($I$4:I132,$C$4:C132,C133)<0,0,SUMIFS($G$5:G133,$C$5:C133,C133)-SUMIFS($I$4:I132,$C$4:C132,C133)))","v":0},null,{"$f":"IF(C133=\"\",0,IF(C133=$C$4,SUMIFS($I$4:I132,$C$4:C132,C132),SUMIFS($I$4:I132,$C$4:C132,C133)))","v":0},0]
[131,null,{"$f":"IFERROR(VLOOKUP(D134,Nomenclature!$B$2:$C$196,2,0),\"\")","v":""},null,null,null,null,{"$f":"IF(C134=\"\",0,IF(SUMIFS($G$5:G134,$C$5:C134,C134)-SUMIFS($I$4:I133,$C$4:C133,C134)<0,0,SUMIFS($G$5:G134,$C$5:C134,C134)-SUMIFS($I$4:I133,$C$4:C133,C134)))","v":0},null,{"$f":"IF(C134=\"\",0,IF(C134=$C$4,SUMIFS($I$4:I133,$C$4:C133,C133),SUMIFS($I$4:I133,$C$4:C133,C134)))","v":0},0]
[132,null,{"$f":"IFERROR(VLOOKUP(D135,Nomenclature!$B$2:$C$196,2,0),\"\")","v":""},null,null,null,null,{"$f":"IF(C135=\"\",0,IF(SUMIFS($G$5:G135,$C$5:C135,C135)-SUMIFS($I$4:I134,$C$4:C134,C135)<0,0,SUMIFS($G$5:G135,$C$5:C135,C135)-SUMIFS($I$4:I134,$C$4:C134,C135)))","v":0},null,{"$f":"IF(C135=\"\",0,IF(C135=$C$4,SUMIFS($I$4:I134,$C$4:C134,C134),SUMIFS($I$4:I134,$C$4:C134,C135)))","v":0},0]
[133,null,{"$f":"IFERROR(VLOOKUP(D136,Nomenclature!$B$2:$C$196,2,0),\"\")","v":""},null,null,null,null,{"$f":"IF(C136=\"\",0,IF(SUMIFS($G$5:G136,$C$5:C136,C136)-SUMIFS($I$4:I135,$C$4:C135,C136)<0,0,SUMIFS($G$5:G136,$C$5:C136,C136)-SUMIFS($I$4:I135,$C$4:C135,C136)))","v":0},null,{"$f":"IF(C136=\"\",0,IF(C136=$C$4,SUMIFS($I$4:I135,$C$4:C135,C135),SUMIFS($I$4:I135,$C$4:C135,C136)))","v":0},0]
[134,null,{"$f":"IFERROR(VLOOKUP(D137,Nomenclature!$B$2:$C$196,2,0),\"\")","v":""},null,null,null,null,{"$f":"IF(C137=\"\",0,IF(SUMIFS($G$5:G137,$C$5:C137,C137)-SUMIFS($I$4:I136,$C$4:C136,C137)<0,0,SUMIFS($G$5:G137,$C$5:C137,C137)-SUMIFS($I$4:I136,$C$4:C136,C137)))","v":0},null,{"$f":"IF(C137=\"\",0,IF(C137=$C$4,SUMIFS($I$4:I136,$C$4:C136,C136),SUMIFS($I$4:I136,$C$4:C136,C137)))","v":0},0]
[135,null,{"$f":"IFERROR(VLOOKUP(D138,Nomenclature!$B$2:$C$196,2,0),\"\")","v":""},null,null,null,null,{"$f":"IF(C138=\"\",0,IF(SUMIFS($G$5:G138,$C$5:C138,C138)-SUMIFS($I$4:I137,$C$4:C137,C138)<0,0,SUMIFS($G$5:G138,$C$5:C138,C138)-SUMIFS($I$4:I137,$C$4:C137,C138)))","v":0},null,{"$f":"IF(C138=\"\",0,IF(C138=$C$4,SUMIFS($I$4:I137,$C$4:C137,C137),SUMIFS($I$4:I137,$C$4:C137,C138)))","v":0},0]
[136,null,{"$f":"IFERROR(VLOOKUP(D139,Nomenclature!$B$2:$C$196,2,0),\"\")","v":""},null,null,null,null,{"$f":"IF(C139=\"\",0,IF(SUMIFS($G$5:G139,$C$5:C139,C139)-SUMIFS($I$4:I138,$C$4:C138,C139)<0,0,SUMIFS($G$5:G139,$C$5:C139,C139)-SUMIFS($I$4:I138,$C$4:C138,C139)))","v":0},null,{"$f":"IF(C139=\"\",0,IF(C139=$C$4,SUMIFS($I$4:I138,$C$4:C138,C138),SUMIFS($I$4:I138,$C$4:C138,C139)))","v":0},0]
[137,null,{"$f":"IFERROR(VLOOKUP(D140,Nomenclature!$B$2:$C$196,2,0),\"\")","v":""},null,null,null,null,{"$f":"IF(C140=\"\",0,IF(SUMIFS($G$5:G140,$C$5:C140,C140)-SUMIFS($I$4:I139,$C$4:C139,C140)<0,0,SUMIFS($G$5:G140,$C$5:C140,C140)-SUMIFS($I$4:I139,$C$4:C139,C140)))","v":0},null,{"$f":"IF(C140=\"\",0,IF(C140=$C$4,SUMIFS($I$4:I139,$C$4:C139,C139),SUMIFS($I$4:I139,$C$4:C139,C140)))","v":0},0]
[138,null,{"$f":"IFERROR(VLOOKUP(D141,Nomenclature!$B$2:$C$196,2,0),\"\")","v":""},null,null,null,null,{"$f":"IF(C141=\"\",0,IF(SUMIFS($G$5:G141,$C$5:C141,C141)-SUMIFS($I$4:I140,$C$4:C140,C141)<0,0,SUMIFS($G$5:G141,$C$5:C141,C141)-SUMIFS($I$4:I140,$C$4:C140,C141)))","v":0},null,{"$f":"IF(C141=\"\",0,IF(C141=$C$4,SUMIFS($I$4:I140,$C$4:C140,C140),SUMIFS($I$4:I140,$C$4:C140,C141)))","v":0},0]
[139,null,{"$f":"IFERROR(VLOOKUP(D142,Nomenclature!$B$2:$C$196,2,0),\"\")","v":""},null,null,null,null,{"$f":"IF(C142=\"\",0,IF(SUMIFS($G$5:G142,$C$5:C142,C142)-SUMIFS($I$4:I141,$C$4:C141,C142)<0,0,SUMIFS($G$5:G142,$C$5:C142,C142)-SUMIFS($I$4:I141,$C$4:C141,C142)))","v":0},null,{"$f":"IF(C142=\"\",0,IF(C142=$C$4,SUMIFS($I$4:I141,$C$4:C141,C141),SUMIFS($I$4:I141,$C$4:C141,C142)))","v":0},0]
[140,null,{"$f":"IFERROR(VLOOKUP(D143,Nomenclature!$B$2:$C$196,2,0),\"\")","v":""},null,null,null,null,{"$f":"IF(C143=\"\",0,IF(SUMIFS($G$5:G143,$C$5:C143,C143)-SUMIFS($I$4:I142,$C$4:C142,C143)<0,0,SUMIFS($G$5:G143,$C$5:C143,C143)-SUMIFS($I$4:I142,$C$4:C142,C143)))","v":0},null,{"$f":"IF(C143=\"\",0,IF(C143=$C$4,SUMIFS($I$4:I142,$C$4:C142,C142),SUMIFS($I$4:I142,$C$4:C142,C143)))","v":0},0]
[141,null,{"$f":"IFERROR(VLOOKUP(D144,Nomenclature!$B$2:$C$196,2,0),\"\")","v":""},null,null,null,null,{"$f":"IF(C144=\"\",0,IF(SUMIFS($G$5:G144,$C$5:C144,C144)-SUMIFS($I$4:I143,$C$4:C143,C144)<0,0,SUMIFS($G$5:G144,$C$5:C144,C144)-SUMIFS($I$4:I143,$C$4:C143,C144)))","v":0},null,{"$f":"IF(C144=\"\",0,IF(C144=$C$4,SUMIFS($I$4:I143,$C$4:C143,C143),SUMIFS($I$4:I143,$C$4:C143,C144)))","v":0},0]
[142,null,{"$f":"IFERROR(VLOOKUP(D145,Nomenclature!$B$2:$C$196,2,0),\"\")","v":""},null,null,null,null,{"$f":"IF(C145=\"\",0,IF(SUMIFS($G$5:G145,$C$5:C145,C145)-SUMIFS($I$4:I144,$C$4:C144,C145)<0,0,SUMIFS($G$5:G145,$C$5:C145,C145)-SUMIFS($I$4:I144,$C$4:C144,C145)))","v":0},null,{"$f":"IF(C145=\"\",0,IF(C145=$C$4,SUMIFS($I$4:I144,$C$4:C144,C144),SUMIFS($I$4:I144,$C$4:C144,C145)))","v":0},0]
[143,null,{"$f":"IFERROR(VLOOKUP(D146,Nomenclature!$B$2:$C$196,2,0),\"\")","v":""},null,null,null,null,{"$f":"IF(C146=\"\",0,IF(SUMIFS($G$5:G146,$C$5:C146,C146)-SUMIFS($I$4:I145,$C$4:C145,C146)<0,0,SUMIFS($G$5:G146,$C$5:C146,C146)-SUMIFS($I$4:I145,$C$4:C145,C146)))","v":0},null,{"$f":"IF(C146=\"\",0,IF(C146=$C$4,SUMIFS($I$4:I145,$C$4:C145,C145),SUMIFS($I$4:I145,$C$4:C145,C146)))","v":0},0]
[144,null,{"$f":"IFERROR(VLOOKUP(D147,Nomenclature!$B$2:$C$196,2,0),\"\")","v":""},null,null,null,null,{"$f":"IF(C147=\"\",0,IF(SUMIFS($G$5:G147,$C$5:C147,C147)-SUMIFS($I$4:I146,$C$4:C146,C147)<0,0,SUMIFS($G$5:G147,$C$5:C147,C147)-SUMIFS($I$4:I146,$C$4:C146,C147)))","v":0},null,{"$f":"IF(C147=\"\",0,IF(C147=$C$4,SUMIFS($I$4:I146,$C$4:C146,C146),SUMIFS($I$4:I146,$C$4:C146,C147)))","v":0},0]
[145,null,{"$f":"IFERROR(VLOOKUP(D148,Nomenclature!$B$2:$C$196,2,0),\"\")","v":""},null,null,null,null,{"$f":"IF(C148=\"\",0,IF(SUMIFS($G$5:G148,$C$5:C148,C148)-SUMIFS($I$4:I147,$C$4:C147,C148)<0,0,SUMIFS($G$5:G148,$C$5:C148,C148)-SUMIFS($I$4:I147,$C$4:C147,C148)))","v":0},null,{"$f":"IF(C148=\"\",0,IF(C148=$C$4,SUMIFS($I$4:I147,$C$4:C147,C147),SUMIFS($I$4:I147,$C$4:C147,C148)))","v":0},0]
[146,null,{"$f":"IFERROR(VLOOKUP(D149,Nomenclature!$B$2:$C$196,2,0),\"\")","v":""},null,null,null,null,{"$f":"IF(C149=\"\",0,IF(SUMIFS($G$5:G149,$C$5:C149,C149)-SUMIFS($I$4:I148,$C$4:C148,C149)<0,0,SUMIFS($G$5:G149,$C$5:C149,C149)-SUMIFS($I$4:I148,$C$4:C148,C149)))","v":0},null,{"$f":"IF(C149=\"\",0,IF(C149=$C$4,SUMIFS($I$4:I148,$C$4:C148,C148),SUMIFS($I$4:I148,$C$4:C148,C149)))","v":0},0]
[147,null,{"$f":"IFERROR(VLOOKUP(D150,Nomenclature!$B$2:$C$196,2,0),\"\")","v":""},null,null,null,null,{"$f":"IF(C150=\"\",0,IF(SUMIFS($G$5:G150,$C$5:C150,C150)-SUMIFS($I$4:I149,$C$4:C149,C150)<0,0,SUMIFS($G$5:G150,$C$5:C150,C150)-SUMIFS($I$4:I149,$C$4:C149,C150)))","v":0},null,{"$f":"IF(C150=\"\",0,IF(C150=$C$4,SUMIFS($I$4:I149,$C$4:C149,C149),SUMIFS($I$4:I149,$C$4:C149,C150)))","v":0},0]
[148,null,{"$f":"IFERROR(VLOOKUP(D151,Nomenclature!$B$2:$C$196,2,0),\"\")","v":""},null,null,null,null,{"$f":"IF(C151=\"\",0,IF(SUMIFS($G$5:G151,$C$5:C151,C151)-SUMIFS($I$4:I150,$C$4:C150,C151)<0,0,SUMIFS($G$5:G151,$C$5:C151,C151)-SUMIFS($I$4:I150,$C$4:C150,C151)))","v":0},null,{"$f":"IF(C151=\"\",0,IF(C151=$C$4,SUMIFS($I$4:I150,$C$4:C150,C150),SUMIFS($I$4:I150,$C$4:C150,C151)))","v":0},0]
[149,null,{"$f":"IFERROR(VLOOKUP(D152,Nomenclature!$B$2:$C$196,2,0),\"\")","v":""},null,null,null,null,{"$f":"IF(C152=\"\",0,IF(SUMIFS($G$5:G152,$C$5:C152,C152)-SUMIFS($I$4:I151,$C$4:C151,C152)<0,0,SUMIFS($G$5:G152,$C$5:C152,C152)-SUMIFS($I$4:I151,$C$4:C151,C152)))","v":0},null,{"$f":"IF(C152=\"\",0,IF(C152=$C$4,SUMIFS($I$4:I151,$C$4:C151,C151),SUMIFS($I$4:I151,$C$4:C151,C152)))","v":0},0]
[150,null,{"$f":"IFERROR(VLOOKUP(D153,Nomenclature!$B$2:$C$196,2,0),\"\")","v":""},null,null,null,null,{"$f":"IF(C153=\"\",0,IF(SUMIFS($G$5:G153,$C$5:C153,C153)-SUMIFS($I$4:I152,$C$4:C152,C153)<0,0,SUMIFS($G$5:G153,$C$5:C153,C153)-SUMIFS($I$4:I152,$C$4:C152,C153)))","v":0},null,{"$f":"IF(C153=\"\",0,IF(C153=$C$4,SUMIFS($I$4:I152,$C$4:C152,C152),SUMIFS($I$4:I152,$C$4:C152,C153)))","v":0},0]
[151,null,{"$f":"IFERROR(VLOOKUP(D154,Nomenclature!$B$2:$C$196,2,0),\"\")","v":""},null,null,null,null,{"$f":"IF(C154=\"\",0,IF(SUMIFS($G$5:G154,$C$5:C154,C154)-SUMIFS($I$4:I153,$C$4:C153,C154)<0,0,SUMIFS($G$5:G154,$C$5:C154,C154)-SUMIFS($I$4:I153,$C$4:C153,C154)))","v":0},null,{"$f":"IF(C154=\"\",0,IF(C154=$C$4,SUMIFS($I$4:I153,$C$4:C153,C153),SUMIFS($I$4:I153,$C$4:C153,C154)))","v":0},0]
[152,null,{"$f":"IFERROR(VLOOKUP(D155,Nomenclature!$B$2:$C$196,2,0),\"\")","v":""},null,null,null,null,{"$f":"IF(C155=\"\",0,IF(SUMIFS($G$5:G155,$C$5:C155,C155)-SUMIFS($I$4:I154,$C$4:C154,C155)<0,0,SUMIFS($G$5:G155,$C$5:C155,C155)-SUMIFS($I$4:I154,$C$4:C154,C155)))","v":0},null,{"$f":"IF(C155=\"\",0,IF(C155=$C$4,SUMIFS($I$4:I154,$C$4:C154,C154),SUMIFS($I$4:I154,$C$4:C154,C155)))","v":0},0]
[153,null,{"$f":"IFERROR(VLOOKUP(D156,Nomenclature!$B$2:$C$196,2,0),\"\")","v":""},null,null,null,null,{"$f":"IF(C156=\"\",0,IF(SUMIFS($G$5:G156,$C$5:C156,C156)-SUMIFS($I$4:I155,$C$4:C155,C156)<0,0,SUMIFS($G$5:G156,$C$5:C156,C156)-SUMIFS($I$4:I155,$C$4:C155,C156)))","v":0},null,{"$f":"IF(C156=\"\",0,IF(C156=$C$4,SUMIFS($I$4:I155,$C$4:C155,C155),SUMIFS($I$4:I155,$C$4:C155,C156)))","v":0},0]
[154,null,{"$f":"IFERROR(VLOOKUP(D157,Nomenclature!$B$2:$C$196,2,0),\"\")","v":""},null,null,null,null,{"$f":"IF(C157=\"\",0,IF(SUMIFS($G$5:G157,$C$5:C157,C157)-SUMIFS($I$4:I156,$C$4:C156,C157)<0,0,SUMIFS($G$5:G157,$C$5:C157,C157)-SUMIFS($I$4:I156,$C$4:C156,C157)))","v":0},null,{"$f":"IF(C157=\"\",0,IF(C157=$C$4,SUMIFS($I$4:I156,$C$4:C156,C156),SUMIFS($I$4:I156,$C$4:C156,C157)))","v":0},0]
[155,null,{"$f":"IFERROR(VLOOKUP(D158,Nomenclature!$B$2:$C$196,2,0),\"\")","v":""},null,null,null,null,{"$f":"IF(C158=\"\",0,IF(SUMIFS($G$5:G158,$C$5:C158,C158)-SUMIFS($I$4:I157,$C$4:C157,C158)<0,0,SUMIFS($G$5:G158,$C$5:C158,C158)-SUMIFS($I$4:I157,$C$4:C157,C158)))","v":0},null,{"$f":"IF(C158=\"\",0,IF(C158=$C$4,SUMIFS($I$4:I157,$C$4:C157,C157),SUMIFS($I$4:I157,$C$4:C157,C158)))","v":0},0]
[156,null,{"$f":"IFERROR(VLOOKUP(D159,Nomenclature!$B$2:$C$196,2,0),\"\")","v":""},null,null,null,null,{"$f":"IF(C159=\"\",0,IF(SUMIFS($G$5:G159,$C$5:C159,C159)-SUMIFS($I$4:I158,$C$4:C158,C159)<0,0,SUMIFS($G$5:G159,$C$5:C159,C159)-SUMIFS($I$4:I158,$C$4:C158,C159)))","v":0},null,{"$f":"IF(C159=\"\",0,IF(C159=$C$4,SUMIFS($I$4:I158,$C$4:C158,C158),SUMIFS($I$4:I158,$C$4:C158,C159)))","v":0},0]
[157,null,{"$f":"IFERROR(VLOOKUP(D160,Nomenclature!$B$2:$C$196,2,0),\"\")","v":""},null,null,null,null,{"$f":"IF(C160=\"\",0,IF(SUMIFS($G$5:G160,$C$5:C160,C160)-SUMIFS($I$4:I159,$C$4:C159,C160)<0,0,SUMIFS($G$5:G160,$C$5:C160,C160)-SUMIFS($I$4:I159,$C$4:C159,C160)))","v":0},null,{"$f":"IF(C160=\"\",0,IF(C160=$C$4,SUMIFS($I$4:I159,$C$4:C159,C159),SUMIFS($I$4:I159,$C$4:C159,C160)))","v":0},0]
[158,null,{"$f":"IFERROR(VLOOKUP(D161,Nomenclature!$B$2:$C$196,2,0),\"\")","v":""},null,null,null,null,{"$f":"IF(C161=\"\",0,IF(SUMIFS($G$5:G161,$C$5:C161,C161)-SUMIFS($I$4:I160,$C$4:C160,C161)<0,0,SUMIFS($G$5:G161,$C$5:C161,C161)-SUMIFS($I$4:I160,$C$4:C160,C161)))","v":0},null,{"$f":"IF(C161=\"\",0,IF(C161=$C$4,SUMIFS($I$4:I160,$C$4:C160,C160),SUMIFS($I$4:I160,$C$4:C160,C161)))","v":0},0]
[159,null,{"$f":"IFERROR(VLOOKUP(D162,Nomenclature!$B$2:$C$196,2,0),\"\")","v":""},null,null,null,null,{"$f":"IF(C162=\"\",0,IF(SUMIFS($G$5:G162,$C$5:C162,C162)-SUMIFS($I$4:I161,$C$4:C161,C162)<0,0,SUMIFS($G$5:G162,$C$5:C162,C162)-SUMIFS($I$4:I161,$C$4:C161,C162)))","v":0},null,{"$f":"IF(C162=\"\",0,IF(C162=$C$4,SUMIFS($I$4:I161,$C$4:C161,C161),SUMIFS($I$4:I161,$C$4:C161,C162)))","v":0},0]
[160,null,{"$f":"IFERROR(VLOOKUP(D163,Nomenclature!$B$2:$C$196,2,0),\"\")","v":""},null,null,null,null,{"$f":"IF(C163=\"\",0,IF(SUMIFS($G$5:G163,$C$5:C163,C163)-SUMIFS($I$4:I162,$C$4:C162,C163)<0,0,SUMIFS($G$5:G163,$C$5:C163,C163)-SUMIFS($I$4:I162,$C$4:C162,C163)))","v":0},null,{"$f":"IF(C163=\"\",0,IF(C163=$C$4,SUMIFS($I$4:I162,$C$4:C162,C162),SUMIFS($I$4:I162,$C$4:C162,C163)))","v":0},0]
[161,null,{"$f":"IFERROR(VLOOKUP(D164,Nomenclature!$B$2:$C$196,2,0),\"\")","v":""},null,null,null,null,{"$f":"IF(C164=\"\",0,IF(SUMIFS($G$5:G164,$C$5:C164,C164)-SUMIFS($I$4:I163,$C$4:C163,C164)<0,0,SUMIFS($G$5:G164,$C$5:C164,C164)-SUMIFS($I$4:I163,$C$4:C163,C164)))","v":0},null,{"$f":"IF(C164=\"\",0,IF(C164=$C$4,SUMIFS($I$4:I163,$C$4:C163,C163),SUMIFS($I$4:I163,$C$4:C163,C164)))","v":0},0]
[162,null,{"$f":"IFERROR(VLOOKUP(D165,Nomenclature!$B$2:$C$196,2,0),\"\")","v":""},null,null,null,null,{"$f":"IF(C165=\"\",0,IF(SUMIFS($G$5:G165,$C$5:C165,C165)-SUMIFS($I$4:I164,$C$4:C164,C165)<0,0,SUMIFS($G$5:G165,$C$5:C165,C165)-SUMIFS($I$4:I164,$C$4:C164,C165)))","v":0},null,{"$f":"IF(C165=\"\",0,IF(C165=$C$4,SUMIFS($I$4:I164,$C$4:C164,C164),SUMIFS($I$4:I164,$C$4:C164,C165)))","v":0},0]
[163,null,{"$f":"IFERROR(VLOOKUP(D166,Nomenclature!$B$2:$C$196,2,0),\"\")","v":""},null,null,null,null,{"$f":"IF(C166=\"\",0,IF(SUMIFS($G$5:G166,$C$5:C166,C166)-SUMIFS($I$4:I165,$C$4:C165,C166)<0,0,SUMIFS($G$5:G166,$C$5:C166,C166)-SUMIFS($I$4:I165,$C$4:C165,C166)))","v":0},null,{"$f":"IF(C166=\"\",0,IF(C166=$C$4,SUMIFS($I$4:I165,$C$4:C165,C165),SUMIFS($I$4:I165,$C$4:C165,C166)))","v":0},0]
[164,null,{"$f":"IFERROR(VLOOKUP(D167,Nomenclature!$B$2:$C$196,2,0),\"\")","v":""},null,null,null,null,{"$f":"IF(C167=\"\",0,IF(SUMIFS($G$5:G167,$C$5:C167,C167)-SUMIFS($I$4:I166,$C$4:C166,C167)<0,0,SUMIFS($G$5:G167,$C$5:C167,C167)-SUMIFS($I$4:I166,$C$4:C166,C167)))","v":0},null,{"$f":"IF(C167=\"\",0,IF(C167=$C$4,SUMIFS($I$4:I166,$C$4:C166,C166),SUMIFS($I$4:I166,$C$4:C166,C167)))","v":0},0]
[165,null,{"$f":"IFERROR(VLOOKUP(D168,Nomenclature!$B$2:$C$196,2,0),\"\")","v":""},null,null,null,null,{"$f":"IF(C168=\"\",0,IF(SUMIFS($G$5:G168,$C$5:C168,C168)-SUMIFS($I$4:I167,$C$4:C167,C168)<0,0,SUMIFS($G$5:G168,$C$5:C168,C168)-SUMIFS($I$4:I167,$C$4:C167,C168)))","v":0},null,{"$f":"IF(C168=\"\",0,IF(C168=$C$4,SUMIFS($I$4:I167,$C$4:C167,C167),SUMIFS($I$4:I167,$C$4:C167,C168)))","v":0},0]
[166,null,{"$f":"IFERROR(VLOOKUP(D169,Nomenclature!$B$2:$C$196,2,0),\"\")","v":""},null,null,null,null,{"$f":"IF(C169=\"\",0,IF(SUMIFS($G$5:G169,$C$5:C169,C169)-SUMIFS($I$4:I168,$C$4:C168,C169)<0,0,SUMIFS($G$5:G169,$C$5:C169,C169)-SUMIFS($I$4:I168,$C$4:C168,C169)))","v":0},null,{"$f":"IF(C169=\"\",0,IF(C169=$C$4,SUMIFS($I$4:I168,$C$4:C168,C168),SUMIFS($I$4:I168,$C$4:C168,C169)))","v":0},0]
[167,null,{"$f":"IFERROR(VLOOKUP(D170,Nomenclature!$B$2:$C$196,2,0),\"\")","v":""},null,null,null,null,{"$f":"IF(C170=\"\",0,IF(SUMIFS($G$5:G170,$C$5:C170,C170)-SUMIFS($I$4:I169,$C$4:C169,C170)<0,0,SUMIFS($G$5:G170,$C$5:C170,C170)-SUMIFS($I$4:I169,$C$4:C169,C170)))","v":0},null,{"$f":"IF(C170=\"\",0,IF(C170=$C$4,SUMIFS($I$4:I169,$C$4:C169,C169),SUMIFS($I$4:I169,$C$4:C169,C170)))","v":0},0]
[168,null,{"$f":"IFERROR(VLOOKUP(D171,Nomenclature!$B$2:$C$196,2,0),\"\")","v":""},null,null,null,null,{"$f":"IF(C171=\"\",0,IF(SUMIFS($G$5:G171,$C$5:C171,C171)-SUMIFS($I$4:I170,$C$4:C170,C171)<0,0,SUMIFS($G$5:G171,$C$5:C171,C171)-SUMIFS($I$4:I170,$C$4:C170,C171)))","v":0},null,{"$f":"IF(C171=\"\",0,IF(C171=$C$4,SUMIFS($I$4:I170,$C$4:C170,C170),SUMIFS($I$4:I170,$C$4:C170,C171)))","v":0},0]
[169,null,{"$f":"IFERROR(VLOOKUP(D172,Nomenclature!$B$2:$C$196,2,0),\"\")","v":""},null,null,null,null,{"$f":"IF(C172=\"\",0,IF(SUMIFS($G$5:G172,$C$5:C172,C172)-SUMIFS($I$4:I171,$C$4:C171,C172)<0,0,SUMIFS($G$5:G172,$C$5:C172,C172)-SUMIFS($I$4:I171,$C$4:C171,C172)))","v":0},null,{"$f":"IF(C172=\"\",0,IF(C172=$C$4,SUMIFS($I$4:I171,$C$4:C171,C171),SUMIFS($I$4:I171,$C$4:C171,C172)))","v":0},0]
[170,null,{"$f":"IFERROR(VLOOKUP(D173,Nomenclature!$B$2:$C$196,2,0),\"\")","v":""},null,null,null,null,{"$f":"IF(C173=\"\",0,IF(SUMIFS($G$5:G173,$C$5:C173,C173)-SUMIFS($I$4:I172,$C$4:C172,C173)<0,0,SUMIFS($G$5:G173,$C$5:C173,C173)-SUMIFS($I$4:I172,$C$4:C172,C173)))","v":0},null,{"$f":"IF(C173=\"\",0,IF(C173=$C$4,SUMIFS($I$4:I172,$C$4:C172,C172),SUMIFS($I$4:I172,$C$4:C172,C173)))","v":0},0]
[171,null,{"$f":"IFERROR(VLOOKUP(D174,Nomenclature!$B$2:$C$196,2,0),\"\")","v":""},null,null,null,null,{"$f":"IF(C174=\"\",0,IF(SUMIFS($G$5:G174,$C$5:C174,C174)-SUMIFS($I$4:I173,$C$4:C173,C174)<0,0,SUMIFS($G$5:G174,$C$5:C174,C174)-SUMIFS($I$4:I173,$C$4:C173,C174)))","v":0},null,{"$f":"IF(C174=\"\",0,IF(C174=$C$4,SUMIFS($I$4:I173,$C$4:C173,C173),SUMIFS($I$4:I173,$C$4:C173,C174)))","v":0},0]
[172,null,{"$f":"IFERROR(VLOOKUP(D175,Nomenclature!$B$2:$C$196,2,0),\"\")","v":""},null,null,null,null,{"$f":"IF(C175=\"\",0,IF(SUMIFS($G$5:G175,$C$5:C175,C175)-SUMIFS($I$4:I174,$C$4:C174,C175)<0,0,SUMIFS($G$5:G175,$C$5:C175,C175)-SUMIFS($I$4:I174,$C$4:C174,C175)))","v":0},null,{"$f":"IF(C175=\"\",0,IF(C175=$C$4,SUMIFS($I$4:I174,$C$4:C174,C174),SUMIFS($I$4:I174,$C$4:C174,C175)))","v":0},0]
[173,null,{"$f":"IFERROR(VLOOKUP(D176,Nomenclature!$B$2:$C$196,2,0),\"\")","v":""},null,null,null,null,{"$f":"IF(C176=\"\",0,IF(SUMIFS($G$5:G176,$C$5:C176,C176)-SUMIFS($I$4:I175,$C$4:C175,C176)<0,0,SUMIFS($G$5:G176,$C$5:C176,C176)-SUMIFS($I$4:I175,$C$4:C175,C176)))","v":0},null,{"$f":"IF(C176=\"\",0,IF(C176=$C$4,SUMIFS($I$4:I175,$C$4:C175,C175),SUMIFS($I$4:I175,$C$4:C175,C176)))","v":0},0]
[174,null,{"$f":"IFERROR(VLOOKUP(D177,Nomenclature!$B$2:$C$196,2,0),\"\")","v":""},null,null,null,null,{"$f":"IF(C177=\"\",0,IF(SUMIFS($G$5:G177,$C$5:C177,C177)-SUMIFS($I$4:I176,$C$4:C176,C177)<0,0,SUMIFS($G$5:G177,$C$5:C177,C177)-SUMIFS($I$4:I176,$C$4:C176,C177)))","v":0},null,{"$f":"IF(C177=\"\",0,IF(C177=$C$4,SUMIFS($I$4:I176,$C$4:C176,C176),SUMIFS($I$4:I176,$C$4:C176,C177)))","v":0},0]
[175,null,{"$f":"IFERROR(VLOOKUP(D178,Nomenclature!$B$2:$C$196,2,0),\"\")","v":""},null,null,null,null,{"$f":"IF(C178=\"\",0,IF(SUMIFS($G$5:G178,$C$5:C178,C178)-SUMIFS($I$4:I177,$C$4:C177,C178)<0,0,SUMIFS($G$5:G178,$C$5:C178,C178)-SUMIFS($I$4:I177,$C$4:C177,C178)))","v":0},null,{"$f":"IF(C178=\"\",0,IF(C178=$C$4,SUMIFS($I$4:I177,$C$4:C177,C177),SUMIFS($I$4:I177,$C$4:C177,C178)))","v":0},0]
[176,null,{"$f":"IFERROR(VLOOKUP(D179,Nomenclature!$B$2:$C$196,2,0),\"\")","v":""},null,null,null,null,{"$f":"IF(C179=\"\",0,IF(SUMIFS($G$5:G179,$C$5:C179,C179)-SUMIFS($I$4:I178,$C$4:C178,C179)<0,0,SUMIFS($G$5:G179,$C$5:C179,C179)-SUMIFS($I$4:I178,$C$4:C178,C179)))","v":0},null,{"$f":"IF(C179=\"\",0,IF(C179=$C$4,SUMIFS($I$4:I178,$C$4:C178,C178),SUMIFS($I$4:I178,$C$4:C178,C179)))","v":0},0]
[177,null,{"$f":"IFERROR(VLOOKUP(D180,Nomenclature!$B$2:$C$196,2,0),\"\")","v":""},null,null,null,null,{"$f":"IF(C180=\"\",0,IF(SUMIFS($G$5:G180,$C$5:C180,C180)-SUMIFS($I$4:I179,$C$4:C179,C180)<0,0,SUMIFS($G$5:G180,$C$5:C180,C180)-SUMIFS($I$4:I179,$C$4:C179,C180)))","v":0},null,{"$f":"IF(C180=\"\",0,IF(C180=$C$4,SUMIFS($I$4:I179,$C$4:C179,C179),SUMIFS($I$4:I179,$C$4:C179,C180)))","v":0},0]
[178,null,{"$f":"IFERROR(VLOOKUP(D181,Nomenclature!$B$2:$C$196,2,0),\"\")","v":""},null,null,null,null,{"$f":"IF(C181=\"\",0,IF(SUMIFS($G$5:G181,$C$5:C181,C181)-SUMIFS($I$4:I180,$C$4:C180,C181)<0,0,SUMIFS($G$5:G181,$C$5:C181,C181)-SUMIFS($I$4:I180,$C$4:C180,C181)))","v":0},null,{"$f":"IF(C181=\"\",0,IF(C181=$C$4,SUMIFS($I$4:I180,$C$4:C180,C180),SUMIFS($I$4:I180,$C$4:C180,C181)))","v":0},0]
[179,null,{"$f":"IFERROR(VLOOKUP(D182,Nomenclature!$B$2:$C$196,2,0),\"\")","v":""},null,null,null,null,{"$f":"IF(C182=\"\",0,IF(SUMIFS($G$5:G182,$C$5:C182,C182)-SUMIFS($I$4:I181,$C$4:C181,C182)<0,0,SUMIFS($G$5:G182,$C$5:C182,C182)-SUMIFS($I$4:I181,$C$4:C181,C182)))","v":0},null,{"$f":"IF(C182=\"\",0,IF(C182=$C$4,SUMIFS($I$4:I181,$C$4:C181,C181),SUMIFS($I$4:I181,$C$4:C181,C182)))","v":0},0]
[180,null,{"$f":"IFERROR(VLOOKUP(D183,Nomenclature!$B$2:$C$196,2,0),\"\")","v":""},null,null,null,null,{"$f":"IF(C183=\"\",0,IF(SUMIFS($G$5:G183,$C$5:C183,C183)-SUMIFS($I$4:I182,$C$4:C182,C183)<0,0,SUMIFS($G$5:G183,$C$5:C183,C183)-SUMIFS($I$4:I182,$C$4:C182,C183)))","v":0},null,{"$f":"IF(C183=\"\",0,IF(C183=$C$4,SUMIFS($I$4:I182,$C$4:C182,C182),SUMIFS($I$4:I182,$C$4:C182,C183)))","v":0},0]
[181,null,{"$f":"IFERROR(VLOOKUP(D184,Nomenclature!$B$2:$C$196,2,0),\"\")","v":""},null,null,null,null,{"$f":"IF(C184=\"\",0,IF(SUMIFS($G$5:G184,$C$5:C184,C184)-SUMIFS($I$4:I183,$C$4:C183,C184)<0,0,SUMIFS($G$5:G184,$C$5:C184,C184)-SUMIFS($I$4:I183,$C$4:C183,C184)))","v":0},null,{"$f":"IF(C184=\"\",0,IF(C184=$C$4,SUMIFS($I$4:I183,$C$4:C183,C183),SUMIFS($I$4:I183,$C$4:C183,C184)))","v":0},0]
[182,null,{"$f":"IFERROR(VLOOKUP(D185,Nomenclature!$B$2:$C$196,2,0),\"\")","v":""},null,null,null,null,{"$f":"IF(C185=\"\",0,IF(SUMIFS($G$5:G185,$C$5:C185,C185)-SUMIFS($I$4:I184,$C$4:C184,C185)<0,0,SUMIFS($G$5:G185,$C$5:C185,C185)-SUMIFS($I$4:I184,$C$4:C184,C185)))","v":0},null,{"$f":"IF(C185=\"\",0,IF(C185=$C$4,SUMIFS($I$4:I184,$C$4:C184,C184),SUMIFS($I$4:I184,$C$4:C184,C185)))","v":0},0]
[183,null,{"$f":"IFERROR(VLOOKUP(D186,Nomenclature!$B$2:$C$196,2,0),\"\")","v":""},null,null,null,null,{"$f":"IF(C186=\"\",0,IF(SUMIFS($G$5:G186,$C$5:C186,C186)-SUMIFS($I$4:I185,$C$4:C185,C186)<0,0,SUMIFS($G$5:G186,$C$5:C186,C186)-SUMIFS($I$4:I185,$C$4:C185,C186)))","v":0},null,{"$f":"IF(C186=\"\",0,IF(C186=$C$4,SUMIFS($I$4:I185,$C$4:C185,C185),SUMIFS($I$4:I185,$C$4:C185,C186)))","v":0},0]
[184,null,{"$f":"IFERROR(VLOOKUP(D187,Nomenclature!$B$2:$C$196,2,0),\"\")","v":""},null,null,null,null,{"$f":"IF(C187=\"\",0,IF(SUMIFS($G$5:G187,$C$5:C187,C187)-SUMIFS($I$4:I186,$C$4:C186,C187)<0,0,SUMIFS($G$5:G187,$C$5:C187,C187)-SUMIFS($I$4:I186,$C$4:C186,C187)))","v":0},null,{"$f":"IF(C187=\"\",0,IF(C187=$C$4,SUMIFS($I$4:I186,$C$4:C186,C186),SUMIFS($I$4:I186,$C$4:C186,C187)))","v":0},0]
[185,null,{"$f":"IFERROR(VLOOKUP(D188,Nomenclature!$B$2:$C$196,2,0),\"\")","v":""},null,null,null,null,{"$f":"IF(C188=\"\",0,IF(SUMIFS($G$5:G188,$C$5:C188,C188)-SUMIFS($I$4:I187,$C$4:C187,C188)<0,0,SUMIFS($G$5:G188,$C$5:C188,C188)-SUMIFS($I$4:I187,$C$4:C187,C188)))","v":0},null,{"$f":"IF(C188=\"\",0,IF(C188=$C$4,SUMIFS($I$4:I187,$C$4:C187,C187),SUMIFS($I$4:I187,$C$4:C187,C188)))","v":0},0]
[186,null,{"$f":"IFERROR(VLOOKUP(D189,Nomenclature!$B$2:$C$196,2,0),\"\")","v":""},null,null,null,null,{"$f":"IF(C189=\"\",0,IF(SUMIFS($G$5:G189,$C$5:C189,C189)-SUMIFS($I$4:I188,$C$4:C188,C189)<0,0,SUMIFS($G$5:G189,$C$5:C189,C189)-SUMIFS($I$4:I188,$C$4:C188,C189)))","v":0},null,{"$f":"IF(C189=\"\",0,IF(C189=$C$4,SUMIFS($I$4:I188,$C$4:C188,C188),SUMIFS($I$4:I188,$C$4:C188,C189)))","v":0},0]
[187,null,{"$f":"IFERROR(VLOOKUP(D190,Nomenclature!$B$2:$C$196,2,0),\"\")","v":""},null,null,null,null,{"$f":"IF(C190=\"\",0,IF(SUMIFS($G$5:G190,$C$5:C190,C190)-SUMIFS($I$4:I189,$C$4:C189,C190)<0,0,SUMIFS($G$5:G190,$C$5:C190,C190)-SUMIFS($I$4:I189,$C$4:C189,C190)))","v":0},null,{"$f":"IF(C190=\"\",0,IF(C190=$C$4,SUMIFS($I$4:I189,$C$4:C189,C189),SUMIFS($I$4:I189,$C$4:C189,C190)))","v":0},0]
[188,null,{"$f":"IFERROR(VLOOKUP(D191,Nomenclature!$B$2:$C$196,2,0),\"\")","v":""},null,null,null,null,{"$f":"IF(C191=\"\",0,IF(SUMIFS($G$5:G191,$C$5:C191,C191)-SUMIFS($I$4:I190,$C$4:C190,C191)<0,0,SUMIFS($G$5:G191,$C$5:C191,C191)-SUMIFS($I$4:I190,$C$4:C190,C191)))","v":0},null,{"$f":"IF(C191=\"\",0,IF(C191=$C$4,SUMIFS($I$4:I190,$C$4:C190,C190),SUMIFS($I$4:I190,$C$4:C190,C191)))","v":0},0]
[189,null,{"$f":"IFERROR(VLOOKUP(D192,Nomenclature!$B$2:$C$196,2,0),\"\")","v":""},null,null,null,null,{"$f":"IF(C192=\"\",0,IF(SUMIFS($G$5:G192,$C$5:C192,C192)-SUMIFS($I$4:I191,$C$4:C191,C192)<0,0,SUMIFS($G$5:G192,$C$5:C192,C192)-SUMIFS($I$4:I191,$C$4:C191,C192)))","v":0},null,{"$f":"IF(C192=\"\",0,IF(C192=$C$4,SUMIFS($I$4:I191,$C$4:C191,C191),SUMIFS($I$4:I191,$C$4:C191,C192)))","v":0},0]
[190,null,{"$f":"IFERROR(VLOOKUP(D193,Nomenclature!$B$2:$C$196,2,0),\"\")","v":""},null,null,null,null,{"$f":"IF(C193=\"\",0,IF(SUMIFS($G$5:G193,$C$5:C193,C193)-SUMIFS($I$4:I192,$C$4:C192,C193)<0,0,SUMIFS($G$5:G193,$C$5:C193,C193)-SUMIFS($I$4:I192,$C$4:C192,C193)))","v":0},null,{"$f":"IF(C193=\"\",0,IF(C193=$C$4,SUMIFS($I$4:I192,$C$4:C192,C192),SUMIFS($I$4:I192,$C$4:C192,C193)))","v":0},0]
[191,null,{"$f":"IFERROR(VLOOKUP(D194,Nomenclature!$B$2:$C$196,2,0),\"\")","v":""},null,null,null,null,{"$f":"IF(C194=\"\",0,IF(SUMIFS($G$5:G194,$C$5:C194,C194)-SUMIFS($I$4:I193,$C$4:C193,C194)<0,0,SUMIFS($G$5:G194,$C$5:C194,C194)-SUMIFS($I$4:I193,$C$4:C193,C194)))","v":0},null,{"$f":"IF(C194=\"\",0,IF(C194=$C$4,SUMIFS($I$4:I193,$C$4:C193,C193),SUMIFS($I$4:I193,$C$4:C193,C194)))","v":0},0]
[192,null,{"$f":"IFERROR(VLOOKUP(D195,Nomenclature!$B$2:$C$196,2,0),\"\")","v":""},null,null,null,null,{"$f":"IF(C195=\"\",0,IF(SUMIFS($G$5:G195,$C$5:C195,C195)-SUMIFS($I$4:I194,$C$4:C194,C195)<0,0,SUMIFS($G$5:G195,$C$5:C195,C195)-SUMIFS($I$4:I194,$C$4:C194,C195)))","v":0},null,{"$f":"IF(C195=\"\",0,IF(C195=$C$4,SUMIFS($I$4:I194,$C$4:C194,C194),SUMIFS($I$4:I194,$C$4:C194,C195)))","v":0},0]
[193,null,{"$f":"IFERROR(VLOOKUP(D196,Nomenclature!$B$2:$C$196,2,0),\"\")","v":""},null,null,null,null,{"$f":"IF(C196=\"\",0,IF(SUMIFS($G$5:G196,$C$5:C196,C196)-SUMIFS($I$4:I195,$C$4:C195,C196)<0,0,SUMIFS($G$5:G196,$C$5:C196,C196)-SUMIFS($I$4:I195,$C$4:C195,C196)))","v":0},null,{"$f":"IF(C196=\"\",0,IF(C196=$C$4,SUMIFS($I$4:I195,$C$4:C195,C195),SUMIFS($I$4:I195,$C$4:C195,C196)))","v":0},{"$f":"IF(C196=\"\",0,H196-I196)","v":0}]
[194,null,{"$f":"IFERROR(VLOOKUP(D197,Nomenclature!$B$2:$C$196,2,0),\"\")","v":""},null,null,null,null,{"$f":"IF(C197=\"\",0,IF(SUMIFS($G$5:G197,$C$5:C197,C197)-SUMIFS($I$4:I196,$C$4:C196,C197)<0,0,SUMIFS($G$5:G197,$C$5:C197,C197)-SUMIFS($I$4:I196,$C$4:C196,C197)))","v":0},null,{"$f":"IF(C197=\"\",0,IF(C197=$C$4,SUMIFS($I$4:I196,$C$4:C196,C196),SUMIFS($I$4:I196,$C$4:C196,C197)))","v":0},0]
[195,null,{"$f":"IFERROR(VLOOKUP(D198,Nomenclature!$B$2:$C$196,2,0),\"\")","v":""},null,null,null,null,{"$f":"IF(C198=\"\",0,IF(SUMIFS($G$5:G198,$C$5:C198,C198)-SUMIFS($I$4:I197,$C$4:C197,C198)<0,0,SUMIFS($G$5:G198,$C$5:C198,C198)-SUMIFS($I$4:I197,$C$4:C197,C198)))","v":0},null,{"$f":"IF(C198=\"\",0,IF(C198=$C$4,SUMIFS($I$4:I197,$C$4:C197,C197),SUMIFS($I$4:I197,$C$4:C197,C198)))","v":0},0]
[196,null,{"$f":"IFERROR(VLOOKUP(D199,Nomenclature!$B$2:$C$196,2,0),\"\")","v":""},null,null,null,null,{"$f":"IF(C199=\"\",0,IF(SUMIFS($G$5:G199,$C$5:C199,C199)-SUMIFS($I$4:I198,$C$4:C198,C199)<0,0,SUMIFS($G$5:G199,$C$5:C199,C199)-SUMIFS($I$4:I198,$C$4:C198,C199)))","v":0},null,{"$f":"IF(C199=\"\",0,IF(C199=$C$4,SUMIFS($I$4:I198,$C$4:C198,C198),SUMIFS($I$4:I198,$C$4:C198,C199)))","v":0},0]
[197,null,{"$f":"IFERROR(VLOOKUP(D200,Nomenclature!$B$2:$C$196,2,0),\"\")","v":""},null,null,null,null,{"$f":"IF(C200=\"\",0,IF(SUMIFS($G$5:G200,$C$5:C200,C200)-SUMIFS($I$4:I199,$C$4:C199,C200)<0,0,SUMIFS($G$5:G200,$C$5:C200,C200)-SUMIFS($I$4:I199,$C$4:C199,C200)))","v":0},null,{"$f":"IF(C200=\"\",0,IF(C200=$C$4,SUMIFS($I$4:I199,$C$4:C199,C199),SUMIFS($I$4:I199,$C$4:C199,C200)))","v":0},0]
[198,null,{"$f":"IFERROR(VLOOKUP(D201,Nomenclature!$B$2:$C$196,2,0),\"\")","v":""},null,null,null,null,{"$f":"IF(C201=\"\",0,IF(SUMIFS($G$5:G201,$C$5:C201,C201)-SUMIFS($I$4:I200,$C$4:C200,C201)<0,0,SUMIFS($G$5:G201,$C$5:C201,C201)-SUMIFS($I$4:I200,$C$4:C200,C201)))","v":0},null,{"$f":"IF(C201=\"\",0,IF(C201=$C$4,SUMIFS($I$4:I200,$C$4:C200,C200),SUMIFS($I$4:I200,$C$4:C200,C201)))","v":0},0]
[199,null,{"$f":"IFERROR(VLOOKUP(D202,Nomenclature!$B$2:$C$196,2,0),\"\")","v":""},null,null,null,null,{"$f":"IF(C202=\"\",0,IF(SUMIFS($G$5:G202,$C$5:C202,C202)-SUMIFS($I$4:I201,$C$4:C201,C202)<0,0,SUMIFS($G$5:G202,$C$5:C202,C202)-SUMIFS($I$4:I201,$C$4:C201,C202)))","v":0},null,{"$f":"IF(C202=\"\",0,IF(C202=$C$4,SUMIFS($I$4:I201,$C$4:C201,C201),SUMIFS($I$4:I201,$C$4:C201,C202)))","v":0},0]
[200,null,{"$f":"IFERROR(VLOOKUP(D203,Nomenclature!$B$2:$C$196,2,0),\"\")","v":""},null,null,null,null,{"$f":"IF(C203=\"\",0,IF(SUMIFS($G$5:G203,$C$5:C203,C203)-SUMIFS($I$4:I202,$C$4:C202,C203)<0,0,SUMIFS($G$5:G203,$C$5:C203,C203)-SUMIFS($I$4:I202,$C$4:C202,C203)))","v":0},null,{"$f":"IF(C203=\"\",0,IF(C203=$C$4,SUMIFS($I$4:I202,$C$4:C202,C202),SUMIFS($I$4:I202,$C$4:C202,C203)))","v":0},0]

{"sheet":"23000","index":9,"n_rows":203,"n_cols":44,"rows_kept":203,"cut":false,"hidden":false,"merged":[[50,23,50,24],[44,14,45,18],[44,22,45,26],[44,29,44,30],[46,14,47,18],[46,22,47,26],[47,29,47,30],[50,15,50,16],[33,14,33,17],[34,14,37,41],[39,14,39,17],[39,18,40,41],[42,14,42,27],[42,28,42,41],[28,38,29,41],[30,14,31,17],[30,18,31,21],[30,22,31,25],[30,26,31,29],[30,30,31,33],[30,34,31,37],[30,38,31,41],[28,14,29,17],[28,18,29,21],[28,22,29,25],[28,26,29,29],[28,30,29,33],[28,34,29,37],[19,14,19,15],[26,38,27,41],[20,22,20,32],[21,18,21,21],[21,22,21,32],[22,18,22,21],[22,22,22,32],[23,17,25,41],[20,18,20,21],[26,14,27,21],[26,22,27,25],[26,26,27,29],[26,30,27,33],[26,34,27,37],[15,19,15,20],[16,14,16,18],[16,19,16,20],[14,14,14,18],[14,19,14,27],[0,13,2,15],[3,14,3,41],[3,42,58,42],[4,14,4,18],[4,19,4,27],[5,14,5,18],[5,19,5,27],[6,14,6,18],[6,19,6,27],[10,15,11,19],[10,20,11,23],[10,31,11,32],[10,33,11,38],[13,14,13,18],[13,19,13,20],[15,14,15,18],[0,11,2,11],[0,0,2,0],[0,1,2,1],[0,2,2,2],[0,3,2,3],[0,4,2,4],[0,5,1,5],[0,6,1,6],[0,7,2,7],[0,8,1,8],[0,9,2,9],[0,10,1,10]]}
["رقم\nالاستمارة","التاريخ","الترميز","الصنف / الصنف الفرعي","ملاحظات المصلحة","AP Cat",{"$f":"IF(SUM(G4:G203)-SUM(F4:F203)<0,\"نقص في توزيع الاعتمادات على الاصناف الفرعية\",\nIF(SUM(G4:G203)-SUM(F4:F203)>0,\"تجاوز في الاعتمادات الموزعة على الاصناف الفرعية\",\"AP S.Cat\"))","v":"AP S.Cat"},"AP Sous_Cat",{"$f":"IF(I3>G3,\"تجاوز في الالتزامات\",\"∑ Engagements\")","v":"∑ Engagements"},"∑ Eng Sous_Cat","Reste","السند القانوني للعنوان الرابع",null,1]
[]
[null,null,null,null,null,{"$f":"SUM(F4:F203)","v":0},{"$f":"SUM(G4:G203)","v":0},null,{"$f":"SUM(I5:I203)","v":0},null,{"$f":"SUM(K4:K104)","v":0}]
[1,"2023-03-13",{"$f":"IFERROR(VLOOKUP(D4,Nomenclature!$B$2:$C$196,2,0),\"\")","v":23000},"الخدمات المهنية","تكفل برخصة الالتزام المفتوحة لسنة 2023.",null,null,{"$f":"IF(C4=\"\",0,IF(SUMIFS($G4:G$5,$C4:C$5,C4)-SUMIFS($I3:I$4,$C3:C$4,C4)<0,0,SUMIFS($G4:G$5,$C4:C$5,C4)-SUMIFS($I3:I$4,$C3:C$4,C4)))","v":0},null,{"$f":"IF(I4=0,0,IF(C4=\"\",0,SUMIFS($I4:I$4,$C4:C$4,C4)))","v":0},{"$f":"IF(C4=\"\",0,H4-I4)","v":0},null,null,null,"الجمهورية الجزائرية الديمقراطية الشعبية"]
[2,"2023-04-01",{"$f":"IFERROR(VLOOKUP(D5,Nomenclature!$B$2:$C$196,2,0),\"\")","v":""},null,null,null,null,{"$f":"IF(C5=\"\",0,IF(SUMIFS($G$5:G5,$C$5:C5,C5)-SUMIFS($I$4:I4,$C$4:C4,C5)<0,0,SUMIFS($G$5:G5,$C$5:C5,C5)-SUMIFS($I$4:I4,$C$4:C4,C5)))","v":0},null,{"$f":"IF(C5=\"\",0,IF(C5=$C$4,SUMIFS($I$4:I4,$C$4:C4,C4),SUMIFS($I$4:I4,$C$4:C4,C5)))","v":0},0,null,null,null,"الـوزارة:",null,null,null,null,{"$f":"الواجهة!C2","v":"وزارة البيئة و الطاقات المتجددة"}]
[3,null,{"$f":"IFERROR(VLOOKUP(D6,Nomenclature!$B$2:$C$196,2,0),\"\")","v":""},null,null,null,null,{"$f":"IF(C6=\"\",0,IF(SUMIFS($G$5:G6,$C$5:C6,C6)-SUMIFS($I$4:I5,$C$4:C5,C6)<0,0,SUMIFS($G$5:G6,$C$5:C6,C6)-SUMIFS($I$4:I5,$C$4:C5,C6)))","v":0},null,{"$f":"IF(C6=\"\",0,IF(C6=$C$4,SUMIFS($I$4:I5,$C$4:C5,C5),SUMIFS($I$4:I5,$C$4:C5,C6)))","v":0},0,null,null,null,"الهيئة الإدارية:",null,null,null,null,{"$f":"الواجهة!C3","v":"مديرية البيئة لولاية المسيلة"}]
[4,null,{"$f":"IFERROR(VLOOKUP(D7,Nomenclature!$B$2:$C$196,2,0),\"\")","v":""},null,null,null,null,{"$f":"IF(C7=\"\",0,IF(SUMIFS($G$5:G7,$C$5:C7,C7)-SUMIFS($I$4:I6,$C$4:C6,C7)<0,0,SUMIFS($G$5:G7,$C$5:C7,C7)-SUMIFS($I$4:I6,$C$4:C6,C7)))","v":0},null,{"$f":"IF(C7=\"\",0,IF(C7=$C$4,SUMIFS($I$4:I6,$C$4:C6,C6),SUMIFS($I$4:I6,$C$4:C6,C7)))","v":0},0,null,null,null,"رمز الآمر بالصرف:",null,null,null,null,{"$f":"الواجهة!C4","v":"144 0 28 01"}]
[5,null,{"$f":"IFERROR(VLOOKUP(D8,Nomenclature!$B$2:$C$196,2,0),\"\")","v":""},null,null,null,null,{"$f":"IF(C8=\"\",0,IF(SUMIFS($G$5:G8,$C$5:C8,C8)-SUMIFS($I$4:I7,$C$4:C7,C8)<0,0,SUMIFS($G$5:G8,$C$5:C8,C8)-SUMIFS($I$4:I7,$C$4:C7,C8)))","v":0},null,{"$f":"IF(C8=\"\",0,IF(C8=$C$4,SUMIFS($I$4:I7,$C$4:C7,C7),SUMIFS($I$4:I7,$C$4:C7,C8)))","v":0},0,null,null,null,null,null,null,null,null,null,null,null,null,null,null,null,null,null,null,null,null,null,null,"."]
[6,null,{"$f":"IFERROR(VLOOKUP(D9,Nomenclature!$B$2:$C$196,2,0),\"\")","v":""},null,null,null,null,{"$f":"IF(C9=\"\",0,IF(SUMIFS($G$5:G9,$C$5:C9,C9)-SUMIFS($I$4:I8,$C$4:C8,C9)<0,0,SUMIFS($G$5:G9,$C$5:C9,C9)-SUMIFS($I$4:I8,$C$4:C8,C9)))","v":0},null,{"$f":"IF(C9=\"\",0,IF(C9=$C$4,SUMIFS($I$4:I8,$C$4:C8,C8),SUMIFS($I$4:I8,$C$4:C8,C9)))","v":0},0]
[7,null,{"$f":"IFERROR(VLOOKUP(D10,Nomenclature!$B$2:$C$196,2,0),\"\")","v":""},null,null,null,null,{"$f":"IF(C10=\"\",0,IF(SUMIFS($G$5:G10,$C$5:C10,C10)-SUMIFS($I$4:I9,$C$4:C9,C10)<0,0,SUMIFS($G$5:G10,$C$5:C10,C10)-SUMIFS($I$4:I9,$C$4:C9,C10)))","v":0},null,{"$f":"IF(C10=\"\",0,IF(C10=$C$4,SUMIFS($I$4:I9,$C$4:C9,C9),SUMIFS($I$4:I9,$C$4:C9,C10)))","v":0},0]
[8,null,{"$f":"IFERROR(VLOOKUP(D11,Nomenclature!$B$2:$C$196,2,0),\"\")","v":""},null,null,null,null,{"$f":"IF(C11=\"\",0,IF(SUMIFS($G$5:G11,$C$5:C11,C11)-SUMIFS($I$4:I10,$C$4:C10,C11)<0,0,SUMIFS($G$5:G11,$C$5:C11,C11)-SUMIFS($I$4:I10,$C$4:C10,C11)))","v":0},null,{"$f":"IF(C11=\"\",0,IF(C11=$C$4,SUMIFS($I$4:I10,$C$4:C10,C10),SUMIFS($I$4:I10,$C$4:C10,C11)))","v":0},0,null,null,null,null,"رقم بطاقة الالتزام:",null,null,null,null,{"$f":"IFERROR(VLOOKUP(N1,A4:L203,1,0),0)","v":1},null,null,null,null,null,null,null,null,null,null,"التاريخ:",null,{"$f":"IF(IFERROR(VLOOKUP(N1,A4:L203,2,0),0)=0,\"\",IFERROR(VLOOKUP(N1,A4:L203,2,0),0))","v":"2023-03-13"}]
[9,null,{"$f":"IFERROR(VLOOKUP(D12,Nomenclature!$B$2:$C$196,2,0),\"\")","v":""},null,null,null,null,{"$f":"IF(C12=\"\",0,IF(SUMIFS($G$5:G12,$C$5:C12,C12)-SUMIFS($I$4:I11,$C$4:C11,C12)<0,0,SUMIFS($G$5:G12,$C$5:C12,C12)-SUMIFS($I$4:I11,$C$4:C11,C12)))","v":0},null,{"$f":"IF(C12=\"\",0,IF(C12=$C$4,SUMIFS($I$4:I11,$C$4:C11,C11),SUMIFS($I$4:I11,$C$4:C11,C12)))","v":0},0]
[10,null,{"$f":"IFERROR(VLOOKUP(D13,Nomenclature!$B$2:$C$196,2,0),\"\")","v":""},null,null,null,null,{"$f":"IF(C13=\"\",0,IF(SUMIFS($G$5:G13,$C$5:C13,C13)-SUMIFS($I$4:I12,$C$4:C12,C13)<0,0,SUMIFS($G$5:G13,$C$5:C13,C13)-SUMIFS($I$4:I12,$C$4:C12,C13)))","v":0},null,{"$f":"IF(C13=\"\",0,IF(C13=$C$4,SUMIFS($I$4:I12,$C$4:C12,C12),SUMIFS($I$4:I12,$C$4:C12,C13)))","v":0},0]
[11,null,{"$f":"IFERROR(VLOOKUP(D14,Nomenclature!$B$2:$C$196,2,0),\"\")","v":""},null,null,null,null,{"$f":"IF(C14=\"\",0,IF(SUMIFS($G$5:G14,$C$5:C14,C14)-SUMIFS($I$4:I13,$C$4:C13,C14)<0,0,SUMIFS($G$5:G14,$C$5:C14,C14)-SUMIFS($I$4:I13,$C$4:C13,C14)))","v":0},null,{"$f":"IF(C14=\"\",0,IF(C14=$C$4,SUMIFS($I$4:I13,$C$4:C13,C13),SUMIFS($I$4:I13,$C$4:C13,C14)))","v":0},0,null,null,null,"رمز البرنــامج:",null,null,null,null,{"$f":"الواجهة!C7","v":"116"}]
[12,null,{"$f":"IFERROR(VLOOKUP(D15,Nomenclature!$B$2:$C$196,2,0),\"\")","v":""},null,null,null,null,{"$f":"IF(C15=\"\",0,IF(SUMIFS($G$5:G15,$C$5:C15,C15)-SUMIFS($I$4:I14,$C$4:C14,C15)<0,0,SUMIFS($G$5:G15,$C$5:C15,C15)-SUMIFS($I$4:I14,$C$4:C14,C15)))","v":0},null,{"$f":"IF(C15=\"\",0,IF(C15=$C$4,SUMIFS($I$4:I14,$C$4:C14,C14),SUMIFS($I$4:I14,$C$4:C14,C15)))","v":0},0,null,null,null,"رمز النشــاط:",null,null,null,null,{"$f":"الواجهة!C6&\" \"&الواجهة!C7&\" \"&الواجهة!C10&\" \"&الواجهة!C8&\" \"&الواجهة!C9&\" \"&الواجهة!C11","v":"030 116 02 2001 000 028"}]
[13,null,{"$f":"IFERROR(VLOOKUP(D16,Nomenclature!$B$2:$C$196,2,0),\"\")","v":""},null,null,null,null,{"$f":"IF(C16=\"\",0,IF(SUMIFS($G$5:G16,$C$5:C16,C16)-SUMIFS($I$4:I15,$C$4:C15,C16)<0,0,SUMIFS($G$5:G16,$C$5:C16,C16)-SUMIFS($I$4:I15,$C$4:C15,C16)))","v":0},null,{"$f":"IF(C16=\"\",0,IF(C16=$C$4,SUMIFS($I$4:I15,$C$4:C15,C15),SUMIFS($I$4:I15,$C$4:C15,C16)))","v":0},0,null,null,null,"رمز النشــاط الفرعي:",null,null,null,null,{"$f":"الواجهة!C9","v":"000"}]
[14,null,{"$f":"IFERROR(VLOOKUP(D17,Nomenclature!$B$2:$C$196,2,0),\"\")","v":""},null,null,null,null,{"$f":"IF(C17=\"\",0,IF(SUMIFS($G$5:G17,$C$5:C17,C17)-SUMIFS($I$4:I16,$C$4:C16,C17)<0,0,SUMIFS($G$5:G17,$C$5:C17,C17)-SUMIFS($I$4:I16,$C$4:C16,C17)))","v":0},null,{"$f":"IF(C17=\"\",0,IF(C17=$C$4,SUMIFS($I$4:I16,$C$4:C16,C16),SUMIFS($I$4:I16,$C$4:C16,C17)))","v":0},0,null,null,null,"رمز البرنـامج الفرعي:",null,null,null,null,{"$f":"الواجهة!C10","v":"02"}]
[15,null,{"$f":"IFERROR(VLOOKUP(D18,Nomenclature!$B$2:$C$196,2,0),\"\")","v":""},null,null,null,null,{"$f":"IF(C18=\"\",0,IF(SUMIFS($G$5:G18,$C$5:C18,C18)-SUMIFS($I$4:I17,$C$4:C17,C18)<0,0,SUMIFS($G$5:G18,$C$5:C18,C18)-SUMIFS($I$4:I17,$C$4:C17,C18)))","v":0},null,{"$f":"IF(C18=\"\",0,IF(C18=$C$4,SUMIFS($I$4:I17,$C$4:C17,C17),SUMIFS($I$4:I17,$C$4:C17,C18)))","v":0},0,null,null,null,null,null,null,null,null,null,null,null,null,null,null,null,null,null,null,null,null,null,null,null,null,null,null,null,null,null,null,null,null,"\n\n\n"]
[16,null,{"$f":"IFERROR(VLOOKUP(D19,Nomenclature!$B$2:$C$196,2,0),\"\")","v":""},null,null,null,null,{"$f":"IF(C19=\"\",0,IF(SUMIFS($G$5:G19,$C$5:C19,C19)-SUMIFS($I$4:I18,$C$4:C18,C19)<0,0,SUMIFS($G$5:G19,$C$5:C19,C19)-SUMIFS($I$4:I18,$C$4:C18,C19)))","v":0},null,{"$f":"IF(C19=\"\",0,IF(C19=$C$4,SUMIFS($I$4:I18,$C$4:C18,C18),SUMIFS($I$4:I18,$C$4:C18,C19)))","v":0},0]
[17,null,{"$f":"IFERROR(VLOOKUP(D20,Nomenclature!$B$2:$C$196,2,0),\"\")","v":""},null,null,null,null,{"$f":"IF(C20=\"\",0,IF(SUMIFS($G$5:G20,$C$5:C20,C20)-SUMIFS($I$4:I19,$C$4:C19,C20)<0,0,SUMIFS($G$5:G20,$C$5:C20,C20)-SUMIFS($I$4:I19,$C$4:C19,C20)))","v":0},null,{"$f":"IF(C20=\"\",0,IF(C20=$C$4,SUMIFS($I$4:I19,$C$4:C19,C19),SUMIFS($I$4:I19,$C$4:C19,C20)))","v":0},0,null,null,null,"العنوان:"]
[18,null,{"$f":"IFERROR(VLOOKUP(D21,Nomenclature!$B$2:$C$196,2,0),\"\")","v":""},null,null,null,null,{"$f":"IF(C21=\"\",0,IF(SUMIFS($G$5:G21,$C$5:C21,C21)-SUMIFS($I$4:I20,$C$4:C20,C21)<0,0,SUMIFS($G$5:G21,$C$5:C21,C21)-SUMIFS($I$4:I20,$C$4:C20,C21)))","v":0},null,{"$f":"IF(C21=\"\",0,IF(C21=$C$4,SUMIFS($I$4:I20,$C$4:C20,C20),SUMIFS($I$4:I20,$C$4:C20,C21)))","v":0},0,null,null,null,null,null,{"$f":"IF(C4<20000,\"X\",\"\")","v":""},null,"العنوان الأول:",null,null,null,"نفقات المستخدمين"]
[19,null,{"$f":"IFERROR(VLOOKUP(D22,Nomenclature!$B$2:$C$196,2,0),\"\")","v":""},null,null,null,null,{"$f":"IF(C22=\"\",0,IF(SUMIFS($G$5:G22,$C$5:C22,C22)-SUMIFS($I$4:I21,$C$4:C21,C22)<0,0,SUMIFS($G$5:G22,$C$5:C22,C22)-SUMIFS($I$4:I21,$C$4:C21,C22)))","v":0},null,{"$f":"IF(C22=\"\",0,IF(C22=$C$4,SUMIFS($I$4:I21,$C$4:C21,C21),SUMIFS($I$4:I21,$C$4:C21,C22)))","v":0},0,null,null,null,null,null,{"$f":"IF(AND(C4>19999,C4<40000),\"X\",\"\")","v":"X"},null,"العنوان الثاني:",null,null,null,"نفقات تسيير المصالح"]
[20,null,{"$f":"IFERROR(VLOOKUP(D23,Nomenclature!$B$2:$C$196,2,0),\"\")","v":""},null,null,null,null,{"$f":"IF(C23=\"\",0,IF(SUMIFS($G$5:G23,$C$5:C23,C23)-SUMIFS($I$4:I22,$C$4:C22,C23)<0,0,SUMIFS($G$5:G23,$C$5:C23,C23)-SUMIFS($I$4:I22,$C$4:C22,C23)))","v":0},null,{"$f":"IF(C23=\"\",0,IF(C23=$C$4,SUMIFS($I$4:I22,$C$4:C22,C22),SUMIFS($I$4:I22,$C$4:C22,C23)))","v":0},0,null,null,null,null,null,{"$f":"IF(AND(Q21=\"\",Q22=\"\"),\"X\",\"\")","v":""},null,"العنوان الرابع:",null,null,null,"نفقات التحويل"]
[21,null,{"$f":"IFERROR(VLOOKUP(D24,Nomenclature!$B$2:$C$196,2,0),\"\")","v":""},null,null,null,null,{"$f":"IF(C24=\"\",0,IF(SUMIFS($G$5:G24,$C$5:C24,C24)-SUMIFS($I$4:I23,$C$4:C23,C24)<0,0,SUMIFS($G$5:G24,$C$5:C24,C24)-SUMIFS($I$4:I23,$C$4:C23,C24)))","v":0},null,{"$f":"IF(C24=\"\",0,IF(C24=$C$4,SUMIFS($I$4:I23,$C$4:C23,C23),SUMIFS($I$4:I23,$C$4:C23,C24)))","v":0},0,null,null,null,null,null,null,{"$f":"IF(VLOOKUP(N1,A4:L203,12,0)=\"\",\"- - - - - - - - - - - - - - - - - - - - - - - - - - - - - - - - - - - - - - - - - - - - - - - / / / - - - - - - - - - - - - - - - - - - - - - - - - - - - - - - - - - - - - - - - - - - - - - - -\"& CHAR(10)&\"- - - - - - - - - - - - - - - - - - - - - - - - - - - - - - - - - - - - - - - - - - - - - - - / / / - - - - - - - - - - - - - - - - - - - - - - - - - - - - - - - - - - - - - - - - - - - - - - -\",VLOOKUP(N1,A4:L203,12,0))","v":"- - - - - - - - - - - - - - - - - - - - - - - - - - - - - - - - - - - - - - - - - - - - - - - / / / - - - - - - - - - - - - - - - - - - - - - - - - - - - - - - - - - - - - - - - - - - - - - - -\n- - - - - - - - - - - - - - - - - - - - - - - - - - - - - - - - - - - - - - - - - - - - - - - / / / - - - - - - - - - - - - - - - - - - - - - - - - - - - - - - - - - - - - - - - - - - - - - - -"}]
[22,null,{"$f":"IFERROR(VLOOKUP(D25,Nomenclature!$B$2:$C$196,2,0),\"\")","v":""},null,null,null,null,{"$f":"IF(C25=\"\",0,IF(SUMIFS($G$5:G25,$C$5:C25,C25)-SUMIFS($I$4:I24,$C$4:C24,C25)<0,0,SUMIFS($G$5:G25,$C$5:C25,C25)-SUMIFS($I$4:I24,$C$4:C24,C25)))","v":0},null,{"$f":"IF(C25=\"\",0,IF(C25=$C$4,SUMIFS($I$4:I24,$C$4:C24,C24),SUMIFS($I$4:I24,$C$4:C24,C25)))","v":0},0]
[23,null,{"$f":"IFERROR(VLOOKUP(D26,Nomenclature!$B$2:$C$196,2,0),\"\")","v":""},null,null,null,null,{"$f":"IF(C26=\"\",0,IF(SUMIFS($G$5:G26,$C$5:C26,C26)-SUMIFS($I$4:I25,$C$4:C25,C26)<0,0,SUMIFS($G$5:G26,$C$5:C26,C26)-SUMIFS($I$4:I25,$C$4:C25,C26)))","v":0},null,{"$f":"IF(C26=\"\",0,IF(C26=$C$4,SUMIFS($I$4:I25,$C$4:C25,C25),SUMIFS($I$4:I25,$C$4:C25,C26)))","v":0},0]
[24,null,{"$f":"IFERROR(VLOOKUP(D27,Nomenclature!$B$2:$C$196,2,0),\"\")","v":""},null,null,null,null,{"$f":"IF(C27=\"\",0,IF(SUMIFS($G$5:G27,$C$5:C27,C27)-SUMIFS($I$4:I26,$C$4:C26,C27)<0,0,SUMIFS($G$5:G27,$C$5:C27,C27)-SUMIFS($I$4:I26,$C$4:C26,C27)))","v":0},null,{"$f":"IF(C27=\"\",0,IF(C27=$C$4,SUMIFS($I$4:I26,$C$4:C26,C26),SUMIFS($I$4:I26,$C$4:C26,C27)))","v":0},0,null,null,null,"الصنف / الصنف الفرعي",null,null,null,null,null,null,null,"رخصة الالتزام\nالمفتوحة/المعدلة",null,null,null,"مجموع الالتزامات السابقة",null,null,null,"الرصيد\nالأولي",null,null,null,"الالتزام\nالمقترح",null,null,null,"الرصيد المتبقى"]
[25,null,{"$f":"IFERROR(VLOOKUP(D28,Nomenclature!$B$2:$C$196,2,0),\"\")","v":""},null,null,null,null,{"$f":"IF(C28=\"\",0,IF(SUMIFS($G$5:G28,$C$5:C28,C28)-SUMIFS($I$4:I27,$C$4:C27,C28)<0,0,SUMIFS($G$5:G28,$C$5:C28,C28)-SUMIFS($I$4:I27,$C$4:C27,C28)))","v":0},null,{"$f":"IF(C28=\"\",0,IF(C28=$C$4,SUMIFS($I$4:I27,$C$4:C27,C27),SUMIFS($I$4:I27,$C$4:C27,C28)))","v":0},0]
[26,null,{"$f":"IFERROR(VLOOKUP(D29,Nomenclature!$B$2:$C$196,2,0),\"\")","v":""},null,null,null,null,{"$f":"IF(C29=\"\",0,IF(SUMIFS($G$5:G29,$C$5:C29,C29)-SUMIFS($I$4:I28,$C$4:C28,C29)<0,0,SUMIFS($G$5:G29,$C$5:C29,C29)-SUMIFS($I$4:I28,$C$4:C28,C29)))","v":0},null,{"$f":"IF(C29=\"\",0,IF(C29=$C$4,SUMIFS($I$4:I28,$C$4:C28,C28),SUMIFS($I$4:I28,$C$4:C28,C29)))","v":0},0,null,null,null,"الصنف",null,null,null,{"$f":"C4","v":23000},null,null,null,{"$f":"SUM($F$4:INDIRECT(\"f\"&N1+3))","v":0},null,null,null,{"$f":"SUM($I$4:INDIRECT(\"i\"&N1+2))","v":0},null,null,null,{"$f":"W29-AA29","v":0},null,null,null,{"$f":"IF(S31=\"\",0,VLOOKUP(N1,A4:L103,9,0))","v":0},null,null,null,{"$f":"IF((AE29-AI29)<0,\"رصيد غير كاف\",AE29-AI29)","v":0}]
[27,null,{"$f":"IFERROR(VLOOKUP(D30,Nomenclature!$B$2:$C$196,2,0),\"\")","v":""},null,null,null,null,{"$f":"IF(C30=\"\",0,IF(SUMIFS($G$5:G30,$C$5:C30,C30)-SUMIFS($I$4:I29,$C$4:C29,C30)<0,0,SUMIFS($G$5:G30,$C$5:C30,C30)-SUMIFS($I$4:I29,$C$4:C29,C30)))","v":0},null,{"$f":"IF(C30=\"\",0,IF(C30=$C$4,SUMIFS($I$4:I29,$C$4:C29,C29),SUMIFS($I$4:I29,$C$4:C29,C30)))","v":0},0]
[28,null,{"$f":"IFERROR(VLOOKUP(D31,Nomenclature!$B$2:$C$196,2,0),\"\")","v":""},null,null,null,null,{"$f":"IF(C31=\"\",0,IF(SUMIFS($G$5:G31,$C$5:C31,C31)-SUMIFS($I$4:I30,$C$4:C30,C31)<0,0,SUMIFS($G$5:G31,$C$5:C31,C31)-SUMIFS($I$4:I30,$C$4:C30,C31)))","v":0},null,{"$f":"IF(C31=\"\",0,IF(C31=$C$4,SUMIFS($I$4:I30,$C$4:C30,C30),SUMIFS($I$4:I30,$C$4:C30,C31)))","v":0},0,null,null,null,"الصنف الفرعي",null,null,null,{"$f":"IF(IFERROR(VLOOKUP(N1,A4:L103,3,0),\"انتبه خطأ\")=S29,\"\",IFERROR(VLOOKUP(N1,A4:L103,3,0),\"انتبه خطأ\"))","v":""},null,null,null,{"$f":"IF(S31=\"\",\"\",VLOOKUP(N1,A4:L103,8,0))","v":""},null,null,null,{"$f":"IF(S31=\"\",\"\",VLOOKUP(N1,A4:L103,10,0))","v":""},null,null,null,{"$f":"IF(S31=\"\",\"\",W31-AA31)","v":""},null,null,null,{"$f":"IF(S31=\"\",\"\",VLOOKUP(N1,A4:L103,9,0))","v":""},null,null,null,{"$f":"IF(S31=\"\",\"\",IF((AE31-AI31)<0,\"رصيد غير كاف\",AE31-AI31))","v":""}]
[29,null,{"$f":"IFERROR(VLOOKUP(D32,Nomenclature!$B$2:$C$196,2,0),\"\")","v":""},null,null,null,null,{"$f":"IF(C32=\"\",0,IF(SUMIFS($G$5:G32,$C$5:C32,C32)-SUMIFS($I$4:I31,$C$4:C31,C32)<0,0,SUMIFS($G$5:G32,$C$5:C32,C32)-SUMIFS($I$4:I31,$C$4:C31,C32)))","v":0},null,{"$f":"IF(C32=\"\",0,IF(C32=$C$4,SUMIFS($I$4:I31,$C$4:C31,C31),SUMIFS($I$4:I31,$C$4:C31,C32)))","v":0},0]
[30,null,{"$f":"IFERROR(VLOOKUP(D33,Nomenclature!$B$2:$C$196,2,0),\"\")","v":""},null,null,null,null,{"$f":"IF(C33=\"\",0,IF(SUMIFS($G$5:G33,$C$5:C33,C33)-SUMIFS($I$4:I32,$C$4:C32,C33)<0,0,SUMIFS($G$5:G33,$C$5:C33,C33)-SUMIFS($I$4:I32,$C$4:C32,C33)))","v":0},null,{"$f":"IF(C33=\"\",0,IF(C33=$C$4,SUMIFS($I$4:I32,$C$4:C32,C32),SUMIFS($I$4:I32,$C$4:C32,C33)))","v":0},0]
[31,null,{"$f":"IFERROR(VLOOKUP(D34,Nomenclature!$B$2:$C$196,2,0),\"\")","v":""},null,null,null,null,{"$f":"IF(C34=\"\",0,IF(SUMIFS($G$5:G34,$C$5:C34,C34)-SUMIFS($I$4:I33,$C$4:C33,C34)<0,0,SUMIFS($G$5:G34,$C$5:C34,C34)-SUMIFS($I$4:I33,$C$4:C33,C34)))","v":0},null,{"$f":"IF(C34=\"\",0,IF(C34=$C$4,SUMIFS($I$4:I33,$C$4:C33,C33),SUMIFS($I$4:I33,$C$4:C33,C34)))","v":0},0,null,null,null,"موضوع الالتزام:"]
[32,null,{"$f":"IFERROR(VLOOKUP(D35,Nomenclature!$B$2:$C$196,2,0),\"\")","v":""},null,null,null,null,{"$f":"IF(C35=\"\",0,IF(SUMIFS($G$5:G35,$C$5:C35,C35)-SUMIFS($I$4:I34,$C$4:C34,C35)<0,0,SUMIFS($G$5:G35,$C$5:C35,C35)-SUMIFS($I$4:I34,$C$4:C34,C35)))","v":0},null,{"$f":"IF(C35=\"\",0,IF(C35=$C$4,SUMIFS($I$4:I34,$C$4:C34,C34),SUMIFS($I$4:I34,$C$4:C34,C35)))","v":0},0,null,null,null,{"$f":"IF(VLOOKUP(N1,A4:L203,5,0)=0,\"\",IFERROR(VLOOKUP(N1,A4:L203,5,0),\"انتبه خطأ\"))","v":"تكفل برخصة الالتزام المفتوحة لسنة 2023."}]
[33,null,{"$f":"IFERROR(VLOOKUP(D36,Nomenclature!$B$2:$C$196,2,0),\"\")","v":""},null,null,null,null,{"$f":"IF(C36=\"\",0,IF(SUMIFS($G$5:G36,$C$5:C36,C36)-SUMIFS($I$4:I35,$C$4:C35,C36)<0,0,SUMIFS($G$5:G36,$C$5:C36,C36)-SUMIFS($I$4:I35,$C$4:C35,C36)))","v":0},null,{"$f":"IF(C36=\"\",0,IF(C36=$C$4,SUMIFS($I$4:I35,$C$4:C35,C35),SUMIFS($I$4:I35,$C$4:C35,C36)))","v":0},0]
[34,null,{"$f":"IFERROR(VLOOKUP(D37,Nomenclature!$B$2:$C$196,2,0),\"\")","v":""},null,null,null,null,{"$f":"IF(C37=\"\",0,IF(SUMIFS($G$5:G37,$C$5:C37,C37)-SUMIFS($I$4:I36,$C$4:C36,C37)<0,0,SUMIFS($G$5:G37,$C$5:C37,C37)-SUMIFS($I$4:I36,$C$4:C36,C37)))","v":0},null,{"$f":"IF(C37=\"\",0,IF(C37=$C$4,SUMIFS($I$4:I36,$C$4:C36,C36),SUMIFS($I$4:I36,$C$4:C36,C37)))","v":0},0]
[35,null,{"$f":"IFERROR(VLOOKUP(D38,Nomenclature!$B$2:$C$196,2,0),\"\")","v":""},null,null,null,null,{"$f":"IF(C38=\"\",0,IF(SUMIFS($G$5:G38,$C$5:C38,C38)-SUMIFS($I$4:I37,$C$4:C37,C38)<0,0,SUMIFS($G$5:G38,$C$5:C38,C38)-SUMIFS($I$4:I37,$C$4:C37,C38)))","v":0},null,{"$f":"IF(C38=\"\",0,IF(C38=$C$4,SUMIFS($I$4:I37,$C$4:C37,C37),SUMIFS($I$4:I37,$C$4:C37,C38)))","v":0},0]
[36,null,{"$f":"IFERROR(VLOOKUP(D39,Nomenclature!$B$2:$C$196,2,0),\"\")","v":""},null,null,null,null,{"$f":"IF(C39=\"\",0,IF(SUMIFS($G$5:G39,$C$5:C39,C39)-SUMIFS($I$4:I38,$C$4:C38,C39)<0,0,SUMIFS($G$5:G39,$C$5:C39,C39)-SUMIFS($I$4:I38,$C$4:C38,C39)))","v":0},null,{"$f":"IF(C39=\"\",0,IF(C39=$C$4,SUMIFS($I$4:I38,$C$4:C38,C38),SUMIFS($I$4:I38,$C$4:C38,C39)))","v":0},0]
[37,null,{"$f":"IFERROR(VLOOKUP(D40,Nomenclature!$B$2:$C$196,2,0),\"\")","v":""},null,null,null,null,{"$f":"IF(C40=\"\",0,IF(SUMIFS($G$5:G40,$C$5:C40,C40)-SUMIFS($I$4:I39,$C$4:C39,C40)<0,0,SUMIFS($G$5:G40,$C$5:C40,C40)-SUMIFS($I$4:I39,$C$4:C39,C40)))","v":0},null,{"$f":"IF(C40=\"\",0,IF(C40=$C$4,SUMIFS($I$4:I39,$C$4:C39,C39),SUMIFS($I$4:I39,$C$4:C39,C40)))","v":0},0,null,null,null,"المبلغ بالحروف:",null,null,null,{"$f":"IFERROR(arretera(AI31),\"\")","v":""}]
[38,null,{"$f":"IFERROR(VLOOKUP(D41,Nomenclature!$B$2:$C$196,2,0),\"\")","v":""},null,null,null,null,{"$f":"IF(C41=\"\",0,IF(SUMIFS($G$5:G41,$C$5:C41,C41)-SUMIFS($I$4:I40,$C$4:C40,C41)<0,0,SUMIFS($G$5:G41,$C$5:C41,C41)-SUMIFS($I$4:I40,$C$4:C40,C41)))","v":0},null,{"$f":"IF(C41=\"\",0,IF(C41=$C$4,SUMIFS($I$4:I40,$C$4:C40,C40),SUMIFS($I$4:I40,$C$4:C40,C41)))","v":0},0]
[39,null,{"$f":"IFERROR(VLOOKUP(D42,Nomenclature!$B$2:$C$196,2,0),\"\")","v":""},null,null,null,null,{"$f":"IF(C42=\"\",0,IF(SUMIFS($G$5:G42,$C$5:C42,C42)-SUMIFS($I$4:I41,$C$4:C41,C42)<0,0,SUMIFS($G$5:G42,$C$5:C42,C42)-SUMIFS($I$4:I41,$C$4:C41,C42)))","v":0},null,{"$f":"IF(C42=\"\",0,IF(C42=$C$4,SUMIFS($I$4:I41,$C$4:C41,C41),SUMIFS($I$4:I41,$C$4:C41,C42)))","v":0},0]
[40,null,{"$f":"IFERROR(VLOOKUP(D43,Nomenclature!$B$2:$C$196,2,0),\"\")","v":""},null,null,null,null,{"$f":"IF(C43=\"\",0,IF(SUMIFS($G$5:G43,$C$5:C43,C43)-SUMIFS($I$4:I42,$C$4:C42,C43)<0,0,SUMIFS($G$5:G43,$C$5:C43,C43)-SUMIFS($I$4:I42,$C$4:C42,C43)))","v":0},null,{"$f":"IF(C43=\"\",0,IF(C43=$C$4,SUMIFS($I$4:I42,$C$4:C42,C42),SUMIFS($I$4:I42,$C$4:C42,C43)))","v":0},0,null,null,null,"إطار مخصص للمراقب الميزانياتي",null,null,null,null,null,null,null,null,null,null,null,null,null,"إطار مخصص للآمر بالصرف"]
[41,null,{"$f":"IFERROR(VLOOKUP(D44,Nomenclature!$B$2:$C$196,2,0),\"\")","v":""},null,null,null,null,{"$f":"IF(C44=\"\",0,IF(SUMIFS($G$5:G44,$C$5:C44,C44)-SUMIFS($I$4:I43,$C$4:C43,C44)<0,0,SUMIFS($G$5:G44,$C$5:C44,C44)-SUMIFS($I$4:I43,$C$4:C43,C44)))","v":0},null,{"$f":"IF(C44=\"\",0,IF(C44=$C$4,SUMIFS($I$4:I43,$C$4:C43,C43),SUMIFS($I$4:I43,$C$4:C43,C44)))","v":0},0]
[42,null,{"$f":"IFERROR(VLOOKUP(D45,Nomenclature!$B$2:$C$196,2,0),\"\")","v":""},null,null,null,null,{"$f":"IF(C45=\"\",0,IF(SUMIFS($G$5:G45,$C$5:C45,C45)-SUMIFS($I$4:I44,$C$4:C44,C45)<0,0,SUMIFS($G$5:G45,$C$5:C45,C45)-SUMIFS($I$4:I44,$C$4:C44,C45)))","v":0},null,{"$f":"IF(C45=\"\",0,IF(C45=$C$4,SUMIFS($I$4:I44,$C$4:C44,C44),SUMIFS($I$4:I44,$C$4:C44,C45)))","v":0},0,null,null,null,"رقم التأشيرة:",null,null,null,null,null,null,null,null,null,null,null,null,null,null,"ختم"]
[43,null,{"$f":"IFERROR(VLOOKUP(D46,Nomenclature!$B$2:$C$196,2,0),\"\")","v":""},null,null,null,null,{"$f":"IF(C46=\"\",0,IF(SUMIFS($G$5:G46,$C$5:C46,C46)-SUMIFS($I$4:I45,$C$4:C45,C46)<0,0,SUMIFS($G$5:G46,$C$5:C46,C46)-SUMIFS($I$4:I45,$C$4:C45,C46)))","v":0},null,{"$f":"IF(C46=\"\",0,IF(C46=$C$4,SUMIFS($I$4:I45,$C$4:C45,C45),SUMIFS($I$4:I45,$C$4:C45,C46)))","v":0},0]
[44,null,{"$f":"IFERROR(VLOOKUP(D47,Nomenclature!$B$2:$C$196,2,0),\"\")","v":""},null,null,null,null,{"$f":"IF(C47=\"\",0,IF(SUMIFS($G$5:G47,$C$5:C47,C47)-SUMIFS($I$4:I46,$C$4:C46,C47)<0,0,SUMIFS($G$5:G47,$C$5:C47,C47)-SUMIFS($I$4:I46,$C$4:C46,C47)))","v":0},null,{"$f":"IF(C47=\"\",0,IF(C47=$C$4,SUMIFS($I$4:I46,$C$4:C46,C46),SUMIFS($I$4:I46,$C$4:C46,C47)))","v":0},0,null,null,null,"تاريخ التأشيرة:"]
[45,null,{"$f":"IFERROR(VLOOKUP(D48,Nomenclature!$B$2:$C$196,2,0),\"\")","v":""},null,null,null,null,{"$f":"IF(C48=\"\",0,IF(SUMIFS($G$5:G48,$C$5:C48,C48)-SUMIFS($I$4:I47,$C$4:C47,C48)<0,0,SUMIFS($G$5:G48,$C$5:C48,C48)-SUMIFS($I$4:I47,$C$4:C47,C48)))","v":0},null,{"$f":"IF(C48=\"\",0,IF(C48=$C$4,SUMIFS($I$4:I47,$C$4:C47,C47),SUMIFS($I$4:I47,$C$4:C47,C48)))","v":0},0,null,null,null,null,null,null,null,null,null,null,null,null,null,null,null,null,null,null,"امضاء"]
[46,null,{"$f":"IFERROR(VLOOKUP(D49,Nomenclature!$B$2:$C$196,2,0),\"\")","v":""},null,null,null,null,{"$f":"IF(C49=\"\",0,IF(SUMIFS($G$5:G49,$C$5:C49,C49)-SUMIFS($I$4:I48,$C$4:C48,C49)<0,0,SUMIFS($G$5:G49,$C$5:C49,C49)-SUMIFS($I$4:I48,$C$4:C48,C49)))","v":0},null,{"$f":"IF(C49=\"\",0,IF(C49=$C$4,SUMIFS($I$4:I48,$C$4:C48,C48),SUMIFS($I$4:I48,$C$4:C48,C49)))","v":0},0]
[47,null,{"$f":"IFERROR(VLOOKUP(D50,Nomenclature!$B$2:$C$196,2,0),\"\")","v":""},null,null,null,null,{"$f":"IF(C50=\"\",0,IF(SUMIFS($G$5:G50,$C$5:C50,C50)-SUMIFS($I$4:I49,$C$4:C49,C50)<0,0,SUMIFS($G$5:G50,$C$5:C50,C50)-SUMIFS($I$4:I49,$C$4:C49,C50)))","v":0},null,{"$f":"IF(C50=\"\",0,IF(C50=$C$4,SUMIFS($I$4:I49,$C$4:C49,C49),SUMIFS($I$4:I49,$C$4:C49,C50)))","v":0},0]
[48,null,{"$f":"IFERROR(VLOOKUP(D51,Nomenclature!$B$2:$C$196,2,0),\"\")","v":""},null,null,null,null,{"$f":"IF(C51=\"\",0,IF(SUMIFS($G$5:G51,$C$5:C51,C51)-SUMIFS($I$4:I50,$C$4:C50,C51)<0,0,SUMIFS($G$5:G51,$C$5:C51,C51)-SUMIFS($I$4:I50,$C$4:C50,C51)))","v":0},null,{"$f":"IF(C51=\"\",0,IF(C51=$C$4,SUMIFS($I$4:I50,$C$4:C50,C50),SUMIFS($I$4:I50,$C$4:C50,C51)))","v":0},0,null,null,null,null,{"$f":"AD48","v":"امضاء"},null,null,null,null,null,null,null,{"$f":"AD45","v":"ختم"}]
[49,null,{"$f":"IFERROR(VLOOKUP(D52,Nomenclature!$B$2:$C$196,2,0),\"\")","v":""},null,null,null,null,{"$f":"IF(C52=\"\",0,IF(SUMIFS($G$5:G52,$C$5:C52,C52)-SUMIFS($I$4:I51,$C$4:C51,C52)<0,0,SUMIFS($G$5:G52,$C$5:C52,C52)-SUMIFS($I$4:I51,$C$4:C51,C52)))","v":0},null,{"$f":"IF(C52=\"\",0,IF(C52=$C$4,SUMIFS($I$4:I51,$C$4:C51,C51),SUMIFS($I$4:I51,$C$4:C51,C52)))","v":0},0]
[50,null,{"$f":"IFERROR(VLOOKUP(D53,Nomenclature!$B$2:$C$196,2,0),\"\")","v":""},null,null,null,null,{"$f":"IF(C53=\"\",0,IF(SUMIFS($G$5:G53,$C$5:C53,C53)-SUMIFS($I$4:I52,$C$4:C52,C53)<0,0,SUMIFS($G$5:G53,$C$5:C53,C53)-SUMIFS($I$4:I52,$C$4:C52,C53)))","v":0},null,{"$f":"IF(C53=\"\",0,IF(C53=$C$4,SUMIFS($I$4:I52,$C$4:C52,C52),SUMIFS($I$4:I52,$C$4:C52,C53)))","v":0},0]
[51,null,{"$f":"IFERROR(VLOOKUP(D54,Nomenclature!$B$2:$C$196,2,0),\"\")","v":""},null,null,null,null,{"$f":"IF(C54=\"\",0,IF(SUMIFS($G$5:G54,$C$5:C54,C54)-SUMIFS($I$4:I53,$C$4:C53,C54)<0,0,SUMIFS($G$5:G54,$C$5:C54,C54)-SUMIFS($I$4:I53,$C$4:C53,C54)))","v":0},null,{"$f":"IF(C54=\"\",0,IF(C54=$C$4,SUMIFS($I$4:I53,$C$4:C53,C53),SUMIFS($I$4:I53,$C$4:C53,C54)))","v":0},0]
[52,null,{"$f":"IFERROR(VLOOKUP(D55,Nomenclature!$B$2:$C$196,2,0),\"\")","v":""},null,null,null,null,{"$f":"IF(C55=\"\",0,IF(SUMIFS($G$5:G55,$C$5:C55,C55)-SUMIFS($I$4:I54,$C$4:C54,C55)<0,0,SUMIFS($G$5:G55,$C$5:C55,C55)-SUMIFS($I$4:I54,$C$4:C54,C55)))","v":0},null,{"$f":"IF(C55=\"\",0,IF(C55=$C$4,SUMIFS($I$4:I54,$C$4:C54,C54),SUMIFS($I$4:I54,$C$4:C54,C55)))","v":0},0]
[53,null,{"$f":"IFERROR(VLOOKUP(D56,Nomenclature!$B$2:$C$196,2,0),\"\")","v":""},null,null,null,null,{"$f":"IF(C56=\"\",0,IF(SUMIFS($G$5:G56,$C$5:C56,C56)-SUMIFS($I$4:I55,$C$4:C55,C56)<0,0,SUMIFS($G$5:G56,$C$5:C56,C56)-SUMIFS($I$4:I55,$C$4:C55,C56)))","v":0},null,{"$f":"IF(C56=\"\",0,IF(C56=$C$4,SUMIFS($I$4:I55,$C$4:C55,C55),SUMIFS($I$4:I55,$C$4:C55,C56)))","v":0},0]
[54,null,{"$f":"IFERROR(VLOOKUP(D57,Nomenclature!$B$2:$C$196,2,0),\"\")","v":""},null,null,null,null,{"$f":"IF(C57=\"\",0,IF(SUMIFS($G$5:G57,$C$5:C57,C57)-SUMIFS($I$4:I56,$C$4:C56,C57)<0,0,SUMIFS($G$5:G57,$C$5:C57,C57)-SUMIFS($I$4:I56,$C$4:C56,C57)))","v":0},null,{"$f":"IF(C57=\"\",0,IF(C57=$C$4,SUMIFS($I$4:I56,$C$4:C56,C56),SUMIFS($I$4:I56,$C$4:C56,C57)))","v":0},0]
[55,null,{"$f":"IFERROR(VLOOKUP(D58,Nomenclature!$B$2:$C$196,2,0),\"\")","v":""},null,null,null,null,{"$f":"IF(C58=\"\",0,IF(SUMIFS($G$5:G58,$C$5:C58,C58)-SUMIFS($I$4:I57,$C$4:C57,C58)<0,0,SUMIFS($G$5:G58,$C$5:C58,C58)-SUMIFS($I$4:I57,$C$4:C57,C58)))","v":0},null,{"$f":"IF(C58=\"\",0,IF(C58=$C$4,SUMIFS($I$4:I57,$C$4:C57,C57),SUMIFS($I$4:I57,$C$4:C57,C58)))","v":0},0]
[56,null,{"$f":"IFERROR(VLOOKUP(D59,Nomenclature!$B$2:$C$196,2,0),\"\")","v":""},null,null,null,null,{"$f":"IF(C59=\"\",0,IF(SUMIFS($G$5:G59,$C$5:C59,C59)-SUMIFS($I$4:I58,$C$4:C58,C59)<0,0,SUMIFS($G$5:G59,$C$5:C59,C59)-SUMIFS($I$4:I58,$C$4:C58,C59)))","v":0},null,{"$f":"IF(C59=\"\",0,IF(C59=$C$4,SUMIFS($I$4:I58,$C$4:C58,C58),SUMIFS($I$4:I58,$C$4:C58,C59)))","v":0},0]
[57,null,{"$f":"IFERROR(VLOOKUP(D60,Nomenclature!$B$2:$C$196,2,0),\"\")","v":""},null,null,null,null,{"$f":"IF(C60=\"\",0,IF(SUMIFS($G$5:G60,$C$5:C60,C60)-SUMIFS($I$4:I59,$C$4:C59,C60)<0,0,SUMIFS($G$5:G60,$C$5:C60,C60)-SUMIFS($I$4:I59,$C$4:C59,C60)))","v":0},null,{"$f":"IF(C60=\"\",0,IF(C60=$C$4,SUMIFS($I$4:I59,$C$4:C59,C59),SUMIFS($I$4:I59,$C$4:C59,C60)))","v":0},0]
[58,null,{"$f":"IFERROR(VLOOKUP(D61,Nomenclature!$B$2:$C$196,2,0),\"\")","v":""},null,null,null,null,{"$f":"IF(C61=\"\",0,IF(SUMIFS($G$5:G61,$C$5:C61,C61)-SUMIFS($I$4:I60,$C$4:C60,C61)<0,0,SUMIFS($G$5:G61,$C$5:C61,C61)-SUMIFS($I$4:I60,$C$4:C60,C61)))","v":0},null,{"$f":"IF(C61=\"\",0,IF(C61=$C$4,SUMIFS($I$4:I60,$C$4:C60,C60),SUMIFS($I$4:I60,$C$4:C60,C61)))","v":0},0]
[59,null,{"$f":"IFERROR(VLOOKUP(D62,Nomenclature!$B$2:$C$196,2,0),\"\")","v":""},null,null,null,null,{"$f":"IF(C62=\"\",0,IF(SUMIFS($G$5:G62,$C$5:C62,C62)-SUMIFS($I$4:I61,$C$4:C61,C62)<0,0,SUMIFS($G$5:G62,$C$5:C62,C62)-SUMIFS($I$4:I61,$C$4:C61,C62)))","v":0},null,{"$f":"IF(C62=\"\",0,IF(C62=$C$4,SUMIFS($I$4:I61,$C$4:C61,C61),SUMIFS($I$4:I61,$C$4:C61,C62)))","v":0},0]
[60,null,{"$f":"IFERROR(VLOOKUP(D63,Nomenclature!$B$2:$C$196,2,0),\"\")","v":""},null,null,null,null,{"$f":"IF(C63=\"\",0,IF(SUMIFS($G$5:G63,$C$5:C63,C63)-SUMIFS($I$4:I62,$C$4:C62,C63)<0,0,SUMIFS($G$5:G63,$C$5:C63,C63)-SUMIFS($I$4:I62,$C$4:C62,C63)))","v":0},null,{"$f":"IF(C63=\"\",0,IF(C63=$C$4,SUMIFS($I$4:I62,$C$4:C62,C62),SUMIFS($I$4:I62,$C$4:C62,C63)))","v":0},0]
[61,null,{"$f":"IFERROR(VLOOKUP(D64,Nomenclature!$B$2:$C$196,2,0),\"\")","v":""},null,null,null,null,{"$f":"IF(C64=\"\",0,IF(SUMIFS($G$5:G64,$C$5:C64,C64)-SUMIFS($I$4:I63,$C$4:C63,C64)<0,0,SUMIFS($G$5:G64,$C$5:C64,C64)-SUMIFS($I$4:I63,$C$4:C63,C64)))","v":0},null,{"$f":"IF(C64=\"\",0,IF(C64=$C$4,SUMIFS($I$4:I63,$C$4:C63,C63),SUMIFS($I$4:I63,$C$4:C63,C64)))","v":0},0]
[62,null,{"$f":"IFERROR(VLOOKUP(D65,Nomenclature!$B$2:$C$196,2,0),\"\")","v":""},null,null,null,null,{"$f":"IF(C65=\"\",0,IF(SUMIFS($G$5:G65,$C$5:C65,C65)-SUMIFS($I$4:I64,$C$4:C64,C65)<0,0,SUMIFS($G$5:G65,$C$5:C65,C65)-SUMIFS($I$4:I64,$C$4:C64,C65)))","v":0},null,{"$f":"IF(C65=\"\",0,IF(C65=$C$4,SUMIFS($I$4:I64,$C$4:C64,C64),SUMIFS($I$4:I64,$C$4:C64,C65)))","v":0},0]
[63,null,{"$f":"IFERROR(VLOOKUP(D66,Nomenclature!$B$2:$C$196,2,0),\"\")","v":""},null,null,null,null,{"$f":"IF(C66=\"\",0,IF(SUMIFS($G$5:G66,$C$5:C66,C66)-SUMIFS($I$4:I65,$C$4:C65,C66)<0,0,SUMIFS($G$5:G66,$C$5:C66,C66)-SUMIFS($I$4:I65,$C$4:C65,C66)))","v":0},null,{"$f":"IF(C66=\"\",0,IF(C66=$C$4,SUMIFS($I$4:I65,$C$4:C65,C65),SUMIFS($I$4:I65,$C$4:C65,C66)))","v":0},0]
[64,null,{"$f":"IFERROR(VLOOKUP(D67,Nomenclature!$B$2:$C$196,2,0),\"\")","v":""},null,null,null,null,{"$f":"IF(C67=\"\",0,IF(SUMIFS($G$5:G67,$C$5:C67,C67)-SUMIFS($I$4:I66,$C$4:C66,C67)<0,0,SUMIFS($G$5:G67,$C$5:C67,C67)-SUMIFS($I$4:I66,$C$4:C66,C67)))","v":0},null,{"$f":"IF(C67=\"\",0,IF(C67=$C$4,SUMIFS($I$4:I66,$C$4:C66,C66),SUMIFS($I$4:I66,$C$4:C66,C67)))","v":0},0]
[65,null,{"$f":"IFERROR(VLOOKUP(D68,Nomenclature!$B$2:$C$196,2,0),\"\")","v":""},null,null,null,null,{"$f":"IF(C68=\"\",0,IF(SUMIFS($G$5:G68,$C$5:C68,C68)-SUMIFS($I$4:I67,$C$4:C67,C68)<0,0,SUMIFS($G$5:G68,$C$5:C68,C68)-SUMIFS($I$4:I67,$C$4:C67,C68)))","v":0},null,{"$f":"IF(C68=\"\",0,IF(C68=$C$4,SUMIFS($I$4:I67,$C$4:C67,C67),SUMIFS($I$4:I67,$C$4:C67,C68)))","v":0},{"$f":"IF(C68=\"\",0,H68-I68)","v":0}]
[66,null,{"$f":"IFERROR(VLOOKUP(D69,Nomenclature!$B$2:$C$196,2,0),\"\")","v":""},null,null,null,null,{"$f":"IF(C69=\"\",0,IF(SUMIFS($G$5:G69,$C$5:C69,C69)-SUMIFS($I$4:I68,$C$4:C68,C69)<0,0,SUMIFS($G$5:G69,$C$5:C69,C69)-SUMIFS($I$4:I68,$C$4:C68,C69)))","v":0},null,{"$f":"IF(C69=\"\",0,IF(C69=$C$4,SUMIFS($I$4:I68,$C$4:C68,C68),SUMIFS($I$4:I68,$C$4:C68,C69)))","v":0},0]
[67,null,{"$f":"IFERROR(VLOOKUP(D70,Nomenclature!$B$2:$C$196,2,0),\"\")","v":""},null,null,null,null,{"$f":"IF(C70=\"\",0,IF(SUMIFS($G$5:G70,$C$5:C70,C70)-SUMIFS($I$4:I69,$C$4:C69,C70)<0,0,SUMIFS($G$5:G70,$C$5:C70,C70)-SUMIFS($I$4:I69,$C$4:C69,C70)))","v":0},null,{"$f":"IF(C70=\"\",0,IF(C70=$C$4,SUMIFS($I$4:I69,$C$4:C69,C69),SUMIFS($I$4:I69,$C$4:C69,C70)))","v":0},0]
[68,null,{"$f":"IFERROR(VLOOKUP(D71,Nomenclature!$B$2:$C$196,2,0),\"\")","v":""},null,null,null,null,{"$f":"IF(C71=\"\",0,IF(SUMIFS($G$5:G71,$C$5:C71,C71)-SUMIFS($I$4:I70,$C$4:C70,C71)<0,0,SUMIFS($G$5:G71,$C$5:C71,C71)-SUMIFS($I$4:I70,$C$4:C70,C71)))","v":0},null,{"$f":"IF(C71=\"\",0,IF(C71=$C$4,SUMIFS($I$4:I70,$C$4:C70,C70),SUMIFS($I$4:I70,$C$4:C70,C71)))","v":0},0]
[69,null,{"$f":"IFERROR(VLOOKUP(D72,Nomenclature!$B$2:$C$196,2,0),\"\")","v":""},null,null,null,null,{"$f":"IF(C72=\"\",0,IF(SUMIFS($G$5:G72,$C$5:C72,C72)-SUMIFS($I$4:I71,$C$4:C71,C72)<0,0,SUMIFS($G$5:G72,$C$5:C72,C72)-SUMIFS($I$4:I71,$C$4:C71,C72)))","v":0},null,{"$f":"IF(C72=\"\",0,IF(C72=$C$4,SUMIFS($I$4:I71,$C$4:C71,C71),SUMIFS($I$4:I71,$C$4:C71,C72)))","v":0},0]
[70,null,{"$f":"IFERROR(VLOOKUP(D73,Nomenclature!$B$2:$C$196,2,0),\"\")","v":""},null,null,null,null,{"$f":"IF(C73=\"\",0,IF(SUMIFS($G$5:G73,$C$5:C73,C73)-SUMIFS($I$4:I72,$C$4:C72,C73)<0,0,SUMIFS($G$5:G73,$C$5:C73,C73)-SUMIFS($I$4:I72,$C$4:C72,C73)))","v":0},null,{"$f":"IF(C73=\"\",0,IF(C73=$C$4,SUMIFS($I$4:I72,$C$4:C72,C72),SUMIFS($I$4:I72,$C$4:C72,C73)))","v":0},0]
[71,null,{"$f":"IFERROR(VLOOKUP(D74,Nomenclature!$B$2:$C$196,2,0),\"\")","v":""},null,null,null,null,{"$f":"IF(C74=\"\",0,IF(SUMIFS($G$5:G74,$C$5:C74,C74)-SUMIFS($I$4:I73,$C$4:C73,C74)<0,0,SUMIFS($G$5:G74,$C$5:C74,C74)-SUMIFS($I$4:I73,$C$4:C73,C74)))","v":0},null,{"$f":"IF(C74=\"\",0,IF(C74=$C$4,SUMIFS($I$4:I73,$C$4:C73,C73),SUMIFS($I$4:I73,$C$4:C73,C74)))","v":0},0]
[72,null,{"$f":"IFERROR(VLOOKUP(D75,Nomenclature!$B$2:$C$196,2,0),\"\")","v":""},null,null,null,null,{"$f":"IF(C75=\"\",0,IF(SUMIFS($G$5:G75,$C$5:C75,C75)-SUMIFS($I$4:I74,$C$4:C74,C75)<0,0,SUMIFS($G$5:G75,$C$5:C75,C75)-SUMIFS($I$4:I74,$C$4:C74,C75)))","v":0},null,{"$f":"IF(C75=\"\",0,IF(C75=$C$4,SUMIFS($I$4:I74,$C$4:C74,C74),SUMIFS($I$4:I74,$C$4:C74,C75)))","v":0},0]
[73,null,{"$f":"IFERROR(VLOOKUP(D76,Nomenclature!$B$2:$C$196,2,0),\"\")","v":""},null,null,null,null,{"$f":"IF(C76=\"\",0,IF(SUMIFS($G$5:G76,$C$5:C76,C76)-SUMIFS($I$4:I75,$C$4:C75,C76)<0,0,SUMIFS($G$5:G76,$C$5:C76,C76)-SUMIFS($I$4:I75,$C$4:C75,C76)))","v":0},null,{"$f":"IF(C76=\"\",0,IF(C76=$C$4,SUMIFS($I$4:I75,$C$4:C75,C75),SUMIFS($I$4:I75,$C$4:C75,C76)))","v":0},0]
[74,null,{"$f":"IFERROR(VLOOKUP(D77,Nomenclature!$B$2:$C$196,2,0),\"\")","v":""},null,null,null,null,{"$f":"IF(C77=\"\",0,IF(SUMIFS($G$5:G77,$C$5:C77,C77)-SUMIFS($I$4:I76,$C$4:C76,C77)<0,0,SUMIFS($G$5:G77,$C$5:C77,C77)-SUMIFS($I$4:I76,$C$4:C76,C77)))","v":0},null,{"$f":"IF(C77=\"\",0,IF(C77=$C$4,SUMIFS($I$4:I76,$C$4:C76,C76),SUMIFS($I$4:I76,$C$4:C76,C77)))","v":0},0]
[75,null,{"$f":"IFERROR(VLOOKUP(D78,Nomenclature!$B$2:$C$196,2,0),\"\")","v":""},null,null,null,null,{"$f":"IF(C78=\"\",0,IF(SUMIFS($G$5:G78,$C$5:C78,C78)-SUMIFS($I$4:I77,$C$4:C77,C78)<0,0,SUMIFS($G$5:G78,$C$5:C78,C78)-SUMIFS($I$4:I77,$C$4:C77,C78)))","v":0},null,{"$f":"IF(C78=\"\",0,IF(C78=$C$4,SUMIFS($I$4:I77,$C$4:C77,C77),SUMIFS($I$4:I77,$C$4:C77,C78)))","v":0},0]
[76,null,{"$f":"IFERROR(VLOOKUP(D79,Nomenclature!$B$2:$C$196,2,0),\"\")","v":""},null,null,null,null,{"$f":"IF(C79=\"\",0,IF(SUMIFS($G$5:G79,$C$5:C79,C79)-SUMIFS($I$4:I78,$C$4:C78,C79)<0,0,SUMIFS($G$5:G79,$C$5:C79,C79)-SUMIFS($I$4:I78,$C$4:C78,C79)))","v":0},null,{"$f":"IF(C79=\"\",0,IF(C79=$C$4,SUMIFS($I$4:I78,$C$4:C78,C78),SUMIFS($I$4:I78,$C$4:C78,C79)))","v":0},0]
[77,null,{"$f":"IFERROR(VLOOKUP(D80,Nomenclature!$B$2:$C$196,2,0),\"\")","v":""},null,null,null,null,{"$f":"IF(C80=\"\",0,IF(SUMIFS($G$5:G80,$C$5:C80,C80)-SUMIFS($I$4:I79,$C$4:C79,C80)<0,0,SUMIFS($G$5:G80,$C$5:C80,C80)-SUMIFS($I$4:I79,$C$4:C79,C80)))","v":0},null,{"$f":"IF(C80=\"\",0,IF(C80=$C$4,SUMIFS($I$4:I79,$C$4:C79,C79),SUMIFS($I$4:I79,$C$4:C79,C80)))","v":0},0]
[78,null,{"$f":"IFERROR(VLOOKUP(D81,Nomenclature!$B$2:$C$196,2,0),\"\")","v":""},null,null,null,null,{"$f":"IF(C81=\"\",0,IF(SUMIFS($G$5:G81,$C$5:C81,C81)-SUMIFS($I$4:I80,$C$4:C80,C81)<0,0,SUMIFS($G$5:G81,$C$5:C81,C81)-SUMIFS($I$4:I80,$C$4:C80,C81)))","v":0},null,{"$f":"IF(C81=\"\",0,IF(C81=$C$4,SUMIFS($I$4:I80,$C$4:C80,C80),SUMIFS($I$4:I80,$C$4:C80,C81)))","v":0},0]
[79,null,{"$f":"IFERROR(VLOOKUP(D82,Nomenclature!$B$2:$C$196,2,0),\"\")","v":""},null,null,null,null,{"$f":"IF(C82=\"\",0,IF(SUMIFS($G$5:G82,$C$5:C82,C82)-SUMIFS($I$4:I81,$C$4:C81,C82)<0,0,SUMIFS($G$5:G82,$C$5:C82,C82)-SUMIFS($I$4:I81,$C$4:C81,C82)))","v":0},null,{"$f":"IF(C82=\"\",0,IF(C82=$C$4,SUMIFS($I$4:I81,$C$4:C81,C81),SUMIFS($I$4:I81,$C$4:C81,C82)))","v":0},0]
[80,null,{"$f":"IFERROR(VLOOKUP(D83,Nomenclature!$B$2:$C$196,2,0),\"\")","v":""},null,null,null,null,{"$f":"IF(C83=\"\",0,IF(SUMIFS($G$5:G83,$C$5:C83,C83)-SUMIFS($I$4:I82,$C$4:C82,C83)<0,0,SUMIFS($G$5:G83,$C$5:C83,C83)-SUMIFS($I$4:I82,$C$4:C82,C83)))","v":0},null,{"$f":"IF(C83=\"\",0,IF(C83=$C$4,SUMIFS($I$4:I82,$C$4:C82,C82),SUMIFS($I$4:I82,$C$4:C82,C83)))","v":0},0]
[81,null,{"$f":"IFERROR(VLOOKUP(D84,Nomenclature!$B$2:$C$196,2,0),\"\")","v":""},null,null,null,null,{"$f":"IF(C84=\"\",0,IF(SUMIFS($G$5:G84,$C$5:C84,C84)-SUMIFS($I$4:I83,$C$4:C83,C84)<0,0,SUMIFS($G$5:G84,$C$5:C84,C84)-SUMIFS($I$4:I83,$C$4:C83,C84)))","v":0},null,{"$f":"IF(C84=\"\",0,IF(C84=$C$4,SUMIFS($I$4:I83,$C$4:C83,C83),SUMIFS($I$4:I83,$C$4:C83,C84)))","v":0},0]
[82,null,{"$f":"IFERROR(VLOOKUP(D85,Nomenclature!$B$2:$C$196,2,0),\"\")","v":""},null,null,null,null,{"$f":"IF(C85=\"\",0,IF(SUMIFS($G$5:G85,$C$5:C85,C85)-SUMIFS($I$4:I84,$C$4:C84,C85)<0,0,SUMIFS($G$5:G85,$C$5:C85,C85)-SUMIFS($I$4:I84,$C$4:C84,C85)))","v":0},null,{"$f":"IF(C85=\"\",0,IF(C85=$C$4,SUMIFS($I$4:I84,$C$4:C84,C84),SUMIFS($I$4:I84,$C$4:C84,C85)))","v":0},0]
[83,null,{"$f":"IFERROR(VLOOKUP(D86,Nomenclature!$B$2:$C$196,2,0),\"\")","v":""},null,null,null,null,{"$f":"IF(C86=\"\",0,IF(SUMIFS($G$5:G86,$C$5:C86,C86)-SUMIFS($I$4:I85,$C$4:C85,C86)<0,0,SUMIFS($G$5:G86,$C$5:C86,C86)-SUMIFS($I$4:I85,$C$4:C85,C86)))","v":0},null,{"$f":"IF(C86=\"\",0,IF(C86=$C$4,SUMIFS($I$4:I85,$C$4:C85,C85),SUMIFS($I$4:I85,$C$4:C85,C86)))","v":0},0]
[84,null,{"$f":"IFERROR(VLOOKUP(D87,Nomenclature!$B$2:$C$196,2,0),\"\")","v":""},null,null,null,null,{"$f":"IF(C87=\"\",0,IF(SUMIFS($G$5:G87,$C$5:C87,C87)-SUMIFS($I$4:I86,$C$4:C86,C87)<0,0,SUMIFS($G$5:G87,$C$5:C87,C87)-SUMIFS($I$4:I86,$C$4:C86,C87)))","v":0},null,{"$f":"IF(C87=\"\",0,IF(C87=$C$4,SUMIFS($I$4:I86,$C$4:C86,C86),SUMIFS($I$4:I86,$C$4:C86,C87)))","v":0},0]
[85,null,{"$f":"IFERROR(VLOOKUP(D88,Nomenclature!$B$2:$C$196,2,0),\"\")","v":""},null,null,null,null,{"$f":"IF(C88=\"\",0,IF(SUMIFS($G$5:G88,$C$5:C88,C88)-SUMIFS($I$4:I87,$C$4:C87,C88)<0,0,SUMIFS($G$5:G88,$C$5:C88,C88)-SUMIFS($I$4:I87,$C$4:C87,C88)))","v":0},null,{"$f":"IF(C88=\"\",0,IF(C88=$C$4,SUMIFS($I$4:I87,$C$4:C87,C87),SUMIFS($I$4:I87,$C$4:C87,C88)))","v":0},0]
[86,null,{"$f":"IFERROR(VLOOKUP(D89,Nomenclature!$B$2:$C$196,2,0),\"\")","v":""},null,null,null,null,{"$f":"IF(C89=\"\",0,IF(SUMIFS($G$5:G89,$C$5:C89,C89)-SUMIFS($I$4:I88,$C$4:C88,C89)<0,0,SUMIFS($G$5:G89,$C$5:C89,C89)-SUMIFS($I$4:I88,$C$4:C88,C89)))","v":0},null,{"$f":"IF(C89=\"\",0,IF(C89=$C$4,SUMIFS($I$4:I88,$C$4:C88,C88),SUMIFS($I$4:I88,$C$4:C88,C89)))","v":0},0]
[87,null,{"$f":"IFERROR(VLOOKUP(D90,Nomenclature!$B$2:$C$196,2,0),\"\")","v":""},null,null,null,null,{"$f":"IF(C90=\"\",0,IF(SUMIFS($G$5:G90,$C$5:C90,C90)-SUMIFS($I$4:I89,$C$4:C89,C90)<0,0,SUMIFS($G$5:G90,$C$5:C90,C90)-SUMIFS($I$4:I89,$C$4:C89,C90)))","v":0},null,{"$f":"IF(C90=\"\",0,IF(C90=$C$4,SUMIFS($I$4:I89,$C$4:C89,C89),SUMIFS($I$4:I89,$C$4:C89,C90)))","v":0},0]
[88,null,{"$f":"IFERROR(VLOOKUP(D91,Nomenclature!$B$2:$C$196,2,0),\"\")","v":""},null,null,null,null,{"$f":"IF(C91=\"\",0,IF(SUMIFS($G$5:G91,$C$5:C91,C91)-SUMIFS($I$4:I90,$C$4:C90,C91)<0,0,SUMIFS($G$5:G91,$C$5:C91,C91)-SUMIFS($I$4:I90,$C$4:C90,C91)))","v":0},null,{"$f":"IF(C91=\"\",0,IF(C91=$C$4,SUMIFS($I$4:I90,$C$4:C90,C90),SUMIFS($I$4:I90,$C$4:C90,C91)))","v":0},0]
[89,null,{"$f":"IFERROR(VLOOKUP(D92,Nomenclature!$B$2:$C$196,2,0),\"\")","v":""},null,null,null,null,{"$f":"IF(C92=\"\",0,IF(SUMIFS($G$5:G92,$C$5:C92,C92)-SUMIFS($I$4:I91,$C$4:C91,C92)<0,0,SUMIFS($G$5:G92,$C$5:C92,C92)-SUMIFS($I$4:I91,$C$4:C91,C92)))","v":0},null,{"$f":"IF(C92=\"\",0,IF(C92=$C$4,SUMIFS($I$4:I91,$C$4:C91,C91),SUMIFS($I$4:I91,$C$4:C91,C92)))","v":0},0]
[90,null,{"$f":"IFERROR(VLOOKUP(D93,Nomenclature!$B$2:$C$196,2,0),\"\")","v":""},null,null,null,null,{"$f":"IF(C93=\"\",0,IF(SUMIFS($G$5:G93,$C$5:C93,C93)-SUMIFS($I$4:I92,$C$4:C92,C93)<0,0,SUMIFS($G$5:G93,$C$5:C93,C93)-SUMIFS($I$4:I92,$C$4:C92,C93)))","v":0},null,{"$f":"IF(C93=\"\",0,IF(C93=$C$4,SUMIFS($I$4:I92,$C$4:C92,C92),SUMIFS($I$4:I92,$C$4:C92,C93)))","v":0},0]
[91,null,{"$f":"IFERROR(VLOOKUP(D94,Nomenclature!$B$2:$C$196,2,0),\"\")","v":""},null,null,null,null,{"$f":"IF(C94=\"\",0,IF(SUMIFS($G$5:G94,$C$5:C94,C94)-SUMIFS($I$4:I93,$C$4:C93,C94)<0,0,SUMIFS($G$5:G94,$C$5:C94,C94)-SUMIFS($I$4:I93,$C$4:C93,C94)))","v":0},null,{"$f":"IF(C94=\"\",0,IF(C94=$C$4,SUMIFS($I$4:I93,$C$4:C93,C93),SUMIFS($I$4:I93,$C$4:C93,C94)))","v":0},0]
[92,null,{"$f":"IFERROR(VLOOKUP(D95,Nomenclature!$B$2:$C$196,2,0),\"\")","v":""},null,null,null,null,{"$f":"IF(C95=\"\",0,IF(SUMIFS($G$5:G95,$C$5:C95,C95)-SUMIFS($I$4:I94,$C$4:C94,C95)<0,0,SUMIFS($G$5:G95,$C$5:C95,C95)-SUMIFS($I$4:I94,$C$4:C94,C95)))","v":0},null,{"$f":"IF(C95=\"\",0,IF(C95=$C$4,SUMIFS($I$4:I94,$C$4:C94,C94),SUMIFS($I$4:I94,$C$4:C94,C95)))","v":0},0]
[93,null,{"$f":"IFERROR(VLOOKUP(D96,Nomenclature!$B$2:$C$196,2,0),\"\")","v":""},null,null,null,null,{"$f":"IF(C96=\"\",0,IF(SUMIFS($G$5:G96,$C$5:C96,C96)-SUMIFS($I$4:I95,$C$4:C95,C96)<0,0,SUMIFS($G$5:G96,$C$5:C96,C96)-SUMIFS($I$4:I95,$C$4:C95,C96)))","v":0},null,{"$f":"IF(C96=\"\",0,IF(C96=$C$4,SUMIFS($I$4:I95,$C$4:C95,C95),SUMIFS($I$4:I95,$C$4:C95,C96)))","v":0},0]
[94,null,{"$f":"IFERROR(VLOOKUP(D97,Nomenclature!$B$2:$C$196,2,0),\"\")","v":""},null,null,null,null,{"$f":"IF(C97=\"\",0,IF(SUMIFS($G$5:G97,$C$5:C97,C97)-SUMIFS($I$4:I96,$C$4:C96,C97)<0,0,SUMIFS($G$5:G97,$C$5:C97,C97)-SUMIFS($I$4:I96,$C$4:C96,C97)))","v":0},null,{"$f":"IF(C97=\"\",0,IF(C97=$C$4,SUMIFS($I$4:I96,$C$4:C96,C96),SUMIFS($I$4:I96,$C$4:C96,C97)))","v":0},0]
[95,null,{"$f":"IFERROR(VLOOKUP(D98,Nomenclature!$B$2:$C$196,2,0),\"\")","v":""},null,null,null,null,{"$f":"IF(C98=\"\",0,IF(SUMIFS($G$5:G98,$C$5:C98,C98)-SUMIFS($I$4:I97,$C$4:C97,C98)<0,0,SUMIFS($G$5:G98,$C$5:C98,C98)-SUMIFS($I$4:I97,$C$4:C97,C98)))","v":0},null,{"$f":"IF(C98=\"\",0,IF(C98=$C$4,SUMIFS($I$4:I97,$C$4:C97,C97),SUMIFS($I$4:I97,$C$4:C97,C98)))","v":0},0]
[96,null,{"$f":"IFERROR(VLOOKUP(D99,Nomenclature!$B$2:$C$196,2,0),\"\")","v":""},null,null,null,null,{"$f":"IF(C99=\"\",0,IF(SUMIFS($G$5:G99,$C$5:C99,C99)-SUMIFS($I$4:I98,$C$4:C98,C99)<0,0,SUMIFS($G$5:G99,$C$5:C99,C99)-SUMIFS($I$4:I98,$C$4:C98,C99)))","v":0},null,{"$f":"IF(C99=\"\",0,IF(C99=$C$4,SUMIFS($I$4:I98,$C$4:C98,C98),SUMIFS($I$4:I98,$C$4:C98,C99)))","v":0},0]
[97,null,{"$f":"IFERROR(VLOOKUP(D100,Nomenclature!$B$2:$C$196,2,0),\"\")","v":""},null,null,null,null,{"$f":"IF(C100=\"\",0,IF(SUMIFS($G$5:G100,$C$5:C100,C100)-SUMIFS($I$4:I99,$C$4:C99,C100)<0,0,SUMIFS($G$5:G100,$C$5:C100,C100)-SUMIFS($I$4:I99,$C$4:C99,C100)))","v":0},null,{"$f":"IF(C100=\"\",0,IF(C100=$C$4,SUMIFS($I$4:I99,$C$4:C99,C99),SUMIFS($I$4:I99,$C$4:C99,C100)))","v":0},0]
[98,null,{"$f":"IFERROR(VLOOKUP(D101,Nomenclature!$B$2:$C$196,2,0),\"\")","v":""},null,null,null,null,{"$f":"IF(C101=\"\",0,IF(SUMIFS($G$5:G101,$C$5:C101,C101)-SUMIFS($I$4:I100,$C$4:C100,C101)<0,0,SUMIFS($G$5:G101,$C$5:C101,C101)-SUMIFS($I$4:I100,$C$4:C100,C101)))","v":0},null,{"$f":"IF(C101=\"\",0,IF(C101=$C$4,SUMIFS($I$4:I100,$C$4:C100,C100),SUMIFS($I$4:I100,$C$4:C100,C101)))","v":0},0]
[99,null,{"$f":"IFERROR(VLOOKUP(D102,Nomenclature!$B$2:$C$196,2,0),\"\")","v":""},null,null,null,null,{"$f":"IF(C102=\"\",0,IF(SUMIFS($G$5:G102,$C$5:C102,C102)-SUMIFS($I$4:I101,$C$4:C101,C102)<0,0,SUMIFS($G$5:G102,$C$5:C102,C102)-SUMIFS($I$4:I101,$C$4:C101,C102)))","v":0},null,{"$f":"IF(C102=\"\",0,IF(C102=$C$4,SUMIFS($I$4:I101,$C$4:C101,C101),SUMIFS($I$4:I101,$C$4:C101,C102)))","v":0},0]
[100,null,{"$f":"IFERROR(VLOOKUP(D103,Nomenclature!$B$2:$C$196,2,0),\"\")","v":""},null,null,null,null,{"$f":"IF(C103=\"\",0,IF(SUMIFS($G$5:G103,$C$5:C103,C103)-SUMIFS($I$4:I102,$C$4:C102,C103)<0,0,SUMIFS($G$5:G103,$C$5:C103,C103)-SUMIFS($I$4:I102,$C$4:C102,C103)))","v":0},null,{"$f":"IF(C103=\"\",0,IF(C103=$C$4,SUMIFS($I$4:I102,$C$4:C102,C102),SUMIFS($I$4:I102,$C$4:C102,C103)))","v":0},0]
[101,null,{"$f":"IFERROR(VLOOKUP(D104,Nomenclature!$B$2:$C$196,2,0),\"\")","v":""},null,null,null,null,{"$f":"IF(C104=\"\",0,IF(SUMIFS($G$5:G104,$C$5:C104,C104)-SUMIFS($I$4:I103,$C$4:C103,C104)<0,0,SUMIFS($G$5:G104,$C$5:C104,C104)-SUMIFS($I$4:I103,$C$4:C103,C104)))","v":0},null,{"$f":"IF(C104=\"\",0,IF(C104=$C$4,SUMIFS($I$4:I103,$C$4:C103,C103),SUMIFS($I$4:I103,$C$4:C103,C104)))","v":0},0]
[102,null,{"$f":"IFERROR(VLOOKUP(D105,Nomenclature!$B$2:$C$196,2,0),\"\")","v":""},null,null,null,null,{"$f":"IF(C105=\"\",0,IF(SUMIFS($G$5:G105,$C$5:C105,C105)-SUMIFS($I$4:I104,$C$4:C104,C105)<0,0,SUMIFS($G$5:G105,$C$5:C105,C105)-SUMIFS($I$4:I104,$C$4:C104,C105)))","v":0},null,{"$f":"IF(C105=\"\",0,IF(C105=$C$4,SUMIFS($I$4:I104,$C$4:C104,C104),SUMIFS($I$4:I104,$C$4:C104,C105)))","v":0},0]
[103,null,{"$f":"IFERROR(VLOOKUP(D106,Nomenclature!$B$2:$C$196,2,0),\"\")","v":""},null,null,null,null,{"$f":"IF(C106=\"\",0,IF(SUMIFS($G$5:G106,$C$5:C106,C106)-SUMIFS($I$4:I105,$C$4:C105,C106)<0,0,SUMIFS($G$5:G106,$C$5:C106,C106)-SUMIFS($I$4:I105,$C$4:C105,C106)))","v":0},null,{"$f":"IF(C106=\"\",0,IF(C106=$C$4,SUMIFS($I$4:I105,$C$4:C105,C105),SUMIFS($I$4:I105,$C$4:C105,C106)))","v":0},0]
[104,null,{"$f":"IFERROR(VLOOKUP(D107,Nomenclature!$B$2:$C$196,2,0),\"\")","v":""},null,null,null,null,{"$f":"IF(C107=\"\",0,IF(SUMIFS($G$5:G107,$C$5:C107,C107)-SUMIFS($I$4:I106,$C$4:C106,C107)<0,0,SUMIFS($G$5:G107,$C$5:C107,C107)-SUMIFS($I$4:I106,$C$4:C106,C107)))","v":0},null,{"$f":"IF(C107=\"\",0,IF(C107=$C$4,SUMIFS($I$4:I106,$C$4:C106,C106),SUMIFS($I$4:I106,$C$4:C106,C107)))","v":0},0]
[105,null,{"$f":"IFERROR(VLOOKUP(D108,Nomenclature!$B$2:$C$196,2,0),\"\")","v":""},null,null,null,null,{"$f":"IF(C108=\"\",0,IF(SUMIFS($G$5:G108,$C$5:C108,C108)-SUMIFS($I$4:I107,$C$4:C107,C108)<0,0,SUMIFS($G$5:G108,$C$5:C108,C108)-SUMIFS($I$4:I107,$C$4:C107,C108)))","v":0},null,{"$f":"IF(C108=\"\",0,IF(C108=$C$4,SUMIFS($I$4:I107,$C$4:C107,C107),SUMIFS($I$4:I107,$C$4:C107,C108)))","v":0},0]
[106,null,{"$f":"IFERROR(VLOOKUP(D109,Nomenclature!$B$2:$C$196,2,0),\"\")","v":""},null,null,null,null,{"$f":"IF(C109=\"\",0,IF(SUMIFS($G$5:G109,$C$5:C109,C109)-SUMIFS($I$4:I108,$C$4:C108,C109)<0,0,SUMIFS($G$5:G109,$C$5:C109,C109)-SUMIFS($I$4:I108,$C$4:C108,C109)))","v":0},null,{"$f":"IF(C109=\"\",0,IF(C109=$C$4,SUMIFS($I$4:I108,$C$4:C108,C108),SUMIFS($I$4:I108,$C$4:C108,C109)))","v":0},0]
[107,null,{"$f":"IFERROR(VLOOKUP(D110,Nomenclature!$B$2:$C$196,2,0),\"\")","v":""},null,null,null,null,{"$f":"IF(C110=\"\",0,IF(SUMIFS($G$5:G110,$C$5:C110,C110)-SUMIFS($I$4:I109,$C$4:C109,C110)<0,0,SUMIFS($G$5:G110,$C$5:C110,C110)-SUMIFS($I$4:I109,$C$4:C109,C110)))","v":0},null,{"$f":"IF(C110=\"\",0,IF(C110=$C$4,SUMIFS($I$4:I109,$C$4:C109,C109),SUMIFS($I$4:I109,$C$4:C109,C110)))","v":0},0]
[108,null,{"$f":"IFERROR(VLOOKUP(D111,Nomenclature!$B$2:$C$196,2,0),\"\")","v":""},null,null,null,null,{"$f":"IF(C111=\"\",0,IF(SUMIFS($G$5:G111,$C$5:C111,C111)-SUMIFS($I$4:I110,$C$4:C110,C111)<0,0,SUMIFS($G$5:G111,$C$5:C111,C111)-SUMIFS($I$4:I110,$C$4:C110,C111)))","v":0},null,{"$f":"IF(C111=\"\",0,IF(C111=$C$4,SUMIFS($I$4:I110,$C$4:C110,C110),SUMIFS($I$4:I110,$C$4:C110,C111)))","v":0},0]
[109,null,{"$f":"IFERROR(VLOOKUP(D112,Nomenclature!$B$2:$C$196,2,0),\"\")","v":""},null,null,null,null,{"$f":"IF(C112=\"\",0,IF(SUMIFS($G$5:G112,$C$5:C112,C112)-SUMIFS($I$4:I111,$C$4:C111,C112)<0,0,SUMIFS($G$5:G112,$C$5:C112,C112)-SUMIFS($I$4:I111,$C$4:C111,C112)))","v":0},null,{"$f":"IF(C112=\"\",0,IF(C112=$C$4,SUMIFS($I$4:I111,$C$4:C111,C111),SUMIFS($I$4:I111,$C$4:C111,C112)))","v":0},0]
[110,null,{"$f":"IFERROR(VLOOKUP(D113,Nomenclature!$B$2:$C$196,2,0),\"\")","v":""},null,null,null,null,{"$f":"IF(C113=\"\",0,IF(SUMIFS($G$5:G113,$C$5:C113,C113)-SUMIFS($I$4:I112,$C$4:C112,C113)<0,0,SUMIFS($G$5:G113,$C$5:C113,C113)-SUMIFS($I$4:I112,$C$4:C112,C113)))","v":0},null,{"$f":"IF(C113=\"\",0,IF(C113=$C$4,SUMIFS($I$4:I112,$C$4:C112,C112),SUMIFS($I$4:I112,$C$4:C112,C113)))","v":0},0]
[111,null,{"$f":"IFERROR(VLOOKUP(D114,Nomenclature!$B$2:$C$196,2,0),\"\")","v":""},null,null,null,null,{"$f":"IF(C114=\"\",0,IF(SUMIFS($G$5:G114,$C$5:C114,C114)-SUMIFS($I$4:I113,$C$4:C113,C114)<0,0,SUMIFS($G$5:G114,$C$5:C114,C114)-SUMIFS($I$4:I113,$C$4:C113,C114)))","v":0},null,{"$f":"IF(C114=\"\",0,IF(C114=$C$4,SUMIFS($I$4:I113,$C$4:C113,C113),SUMIFS($I$4:I113,$C$4:C113,C114)))","v":0},0]
[112,null,{"$f":"IFERROR(VLOOKUP(D115,Nomenclature!$B$2:$C$196,2,0),\"\")","v":""},null,null,null,null,{"$f":"IF(C115=\"\",0,IF(SUMIFS($G$5:G115,$C$5:C115,C115)-SUMIFS($I$4:I114,$C$4:C114,C115)<0,0,SUMIFS($G$5:G115,$C$5:C115,C115)-SUMIFS($I$4:I114,$C$4:C114,C115)))","v":0},null,{"$f":"IF(C115=\"\",0,IF(C115=$C$4,SUMIFS($I$4:I114,$C$4:C114,C114),SUMIFS($I$4:I114,$C$4:C114,C115)))","v":0},0]
[113,null,{"$f":"IFERROR(VLOOKUP(D116,Nomenclature!$B$2:$C$196,2,0),\"\")","v":""},null,null,null,null,{"$f":"IF(C116=\"\",0,IF(SUMIFS($G$5:G116,$C$5:C116,C116)-SUMIFS($I$4:I115,$C$4:C115,C116)<0,0,SUMIFS($G$5:G116,$C$5:C116,C116)-SUMIFS($I$4:I115,$C$4:C115,C116)))","v":0},null,{"$f":"IF(C116=\"\",0,IF(C116=$C$4,SUMIFS($I$4:I115,$C$4:C115,C115),SUMIFS($I$4:I115,$C$4:C115,C116)))","v":0},0]
[114,null,{"$f":"IFERROR(VLOOKUP(D117,Nomenclature!$B$2:$C$196,2,0),\"\")","v":""},null,null,null,null,{"$f":"IF(C117=\"\",0,IF(SUMIFS($G$5:G117,$C$5:C117,C117)-SUMIFS($I$4:I116,$C$4:C116,C117)<0,0,SUMIFS($G$5:G117,$C$5:C117,C117)-SUMIFS($I$4:I116,$C$4:C116,C117)))","v":0},null,{"$f":"IF(C117=\"\",0,IF(C117=$C$4,SUMIFS($I$4:I116,$C$4:C116,C116),SUMIFS($I$4:I116,$C$4:C116,C117)))","v":0},0]
[115,null,{"$f":"IFERROR(VLOOKUP(D118,Nomenclature!$B$2:$C$196,2,0),\"\")","v":""},null,null,null,null,{"$f":"IF(C118=\"\",0,IF(SUMIFS($G$5:G118,$C$5:C118,C118)-SUMIFS($I$4:I117,$C$4:C117,C118)<0,0,SUMIFS($G$5:G118,$C$5:C118,C118)-SUMIFS($I$4:I117,$C$4:C117,C118)))","v":0},null,{"$f":"IF(C118=\"\",0,IF(C118=$C$4,SUMIFS($I$4:I117,$C$4:C117,C117),SUMIFS($I$4:I117,$C$4:C117,C118)))","v":0},0]
[116,null,{"$f":"IFERROR(VLOOKUP(D119,Nomenclature!$B$2:$C$196,2,0),\"\")","v":""},null,null,null,null,{"$f":"IF(C119=\"\",0,IF(SUMIFS($G$5:G119,$C$5:C119,C119)-SUMIFS($I$4:I118,$C$4:C118,C119)<0,0,SUMIFS($G$5:G119,$C$5:C119,C119)-SUMIFS($I$4:I118,$C$4:C118,C119)))","v":0},null,{"$f":"IF(C119=\"\",0,IF(C119=$C$4,SUMIFS($I$4:I118,$C$4:C118,C118),SUMIFS($I$4:I118,$C$4:C118,C119)))","v":0},0]
[117,null,{"$f":"IFERROR(VLOOKUP(D120,Nomenclature!$B$2:$C$196,2,0),\"\")","v":""},null,null,null,null,{"$f":"IF(C120=\"\",0,IF(SUMIFS($G$5:G120,$C$5:C120,C120)-SUMIFS($I$4:I119,$C$4:C119,C120)<0,0,SUMIFS($G$5:G120,$C$5:C120,C120)-SUMIFS($I$4:I119,$C$4:C119,C120)))","v":0},null,{"$f":"IF(C120=\"\",0,IF(C120=$C$4,SUMIFS($I$4:I119,$C$4:C119,C119),SUMIFS($I$4:I119,$C$4:C119,C120)))","v":0},0]
[118,null,{"$f":"IFERROR(VLOOKUP(D121,Nomenclature!$B$2:$C$196,2,0),\"\")","v":""},null,null,null,null,{"$f":"IF(C121=\"\",0,IF(SUMIFS($G$5:G121,$C$5:C121,C121)-SUMIFS($I$4:I120,$C$4:C120,C121)<0,0,SUMIFS($G$5:G121,$C$5:C121,C121)-SUMIFS($I$4:I120,$C$4:C120,C121)))","v":0},null,{"$f":"IF(C121=\"\",0,IF(C121=$C$4,SUMIFS($I$4:I120,$C$4:C120,C120),SUMIFS($I$4:I120,$C$4:C120,C121)))","v":0},0]
[119,null,{"$f":"IFERROR(VLOOKUP(D122,Nomenclature!$B$2:$C$196,2,0),\"\")","v":""},null,null,null,null,{"$f":"IF(C122=\"\",0,IF(SUMIFS($G$5:G122,$C$5:C122,C122)-SUMIFS($I$4:I121,$C$4:C121,C122)<0,0,SUMIFS($G$5:G122,$C$5:C122,C122)-SUMIFS($I$4:I121,$C$4:C121,C122)))","v":0},null,{"$f":"IF(C122=\"\",0,IF(C122=$C$4,SUMIFS($I$4:I121,$C$4:C121,C121),SUMIFS($I$4:I121,$C$4:C121,C122)))","v":0},0]
[120,null,{"$f":"IFERROR(VLOOKUP(D123,Nomenclature!$B$2:$C$196,2,0),\"\")","v":""},null,null,null,null,{"$f":"IF(C123=\"\",0,IF(SUMIFS($G$5:G123,$C$5:C123,C123)-SUMIFS($I$4:I122,$C$4:C122,C123)<0,0,SUMIFS($G$5:G123,$C$5:C123,C123)-SUMIFS($I$4:I122,$C$4:C122,C123)))","v":0},null,{"$f":"IF(C123=\"\",0,IF(C123=$C$4,SUMIFS($I$4:I122,$C$4:C122,C122),SUMIFS($I$4:I122,$C$4:C122,C123)))","v":0},0]
[121,null,{"$f":"IFERROR(VLOOKUP(D124,Nomenclature!$B$2:$C$196,2,0),\"\")","v":""},null,null,null,null,{"$f":"IF(C124=\"\",0,IF(SUMIFS($G$5:G124,$C$5:C124,C124)-SUMIFS($I$4:I123,$C$4:C123,C124)<0,0,SUMIFS($G$5:G124,$C$5:C124,C124)-SUMIFS($I$4:I123,$C$4:C123,C124)))","v":0},null,{"$f":"IF(C124=\"\",0,IF(C124=$C$4,SUMIFS($I$4:I123,$C$4:C123,C123),SUMIFS($I$4:I123,$C$4:C123,C124)))","v":0},0]
[122,null,{"$f":"IFERROR(VLOOKUP(D125,Nomenclature!$B$2:$C$196,2,0),\"\")","v":""},null,null,null,null,{"$f":"IF(C125=\"\",0,IF(SUMIFS($G$5:G125,$C$5:C125,C125)-SUMIFS($I$4:I124,$C$4:C124,C125)<0,0,SUMIFS($G$5:G125,$C$5:C125,C125)-SUMIFS($I$4:I124,$C$4:C124,C125)))","v":0},null,{"$f":"IF(C125=\"\",0,IF(C125=$C$4,SUMIFS($I$4:I124,$C$4:C124,C124),SUMIFS($I$4:I124,$C$4:C124,C125)))","v":0},0]
[123,null,{"$f":"IFERROR(VLOOKUP(D126,Nomenclature!$B$2:$C$196,2,0),\"\")","v":""},null,null,null,null,{"$f":"IF(C126=\"\",0,IF(SUMIFS($G$5:G126,$C$5:C126,C126)-SUMIFS($I$4:I125,$C$4:C125,C126)<0,0,SUMIFS($G$5:G126,$C$5:C126,C126)-SUMIFS($I$4:I125,$C$4:C125,C126)))","v":0},null,{"$f":"IF(C126=\"\",0,IF(C126=$C$4,SUMIFS($I$4:I125,$C$4:C125,C125),SUMIFS($I$4:I125,$C$4:C125,C126)))","v":0},0]
[124,null,{"$f":"IFERROR(VLOOKUP(D127,Nomenclature!$B$2:$C$196,2,0),\"\")","v":""},null,null,null,null,{"$f":"IF(C127=\"\",0,IF(SUMIFS($G$5:G127,$C$5:C127,C127)-SUMIFS($I$4:I126,$C$4:C126,C127)<0,0,SUMIFS($G$5:G127,$C$5:C127,C127)-SUMIFS($I$4:I126,$C$4:C126,C127)))","v":0},null,{"$f":"IF(C127=\"\",0,IF(C127=$C$4,SUMIFS($I$4:I126,$C$4:C126,C126),SUMIFS($I$4:I126,$C$4:C126,C127)))","v":0},0]
[125,null,{"$f":"IFERROR(VLOOKUP(D128,Nomenclature!$B$2:$C$196,2,0),\"\")","v":""},null,null,null,null,{"$f":"IF(C128=\"\",0,IF(SUMIFS($G$5:G128,$C$5:C128,C128)-SUMIFS($I$4:I127,$C$4:C127,C128)<0,0,SUMIFS($G$5:G128,$C$5:C128,C128)-SUMIFS($I$4:I127,$C$4:C127,C128)))","v":0},null,{"$f":"IF(C128=\"\",0,IF(C128=$C$4,SUMIFS($I$4:I127,$C$4:C127,C127),SUMIFS($I$4:I127,$C$4:C127,C128)))","v":0},0]
[126,null,{"$f":"IFERROR(VLOOKUP(D129,Nomenclature!$B$2:$C$196,2,0),\"\")","v":""},null,null,null,null,{"$f":"IF(C129=\"\",0,IF(SUMIFS($G$5:G129,$C$5:C129,C129)-SUMIFS($I$4:I128,$C$4:C128,C129)<0,0,SUMIFS($G$5:G129,$C$5:C129,C129)-SUMIFS($I$4:I128,$C$4:C128,C129)))","v":0},null,{"$f":"IF(C129=\"\",0,IF(C129=$C$4,SUMIFS($I$4:I128,$C$4:C128,C128),SUMIFS($I$4:I128,$C$4:C128,C129)))","v":0},0]
[127,null,{"$f":"IFERROR(VLOOKUP(D130,Nomenclature!$B$2:$C$196,2,0),\"\")","v":""},null,null,null,null,{"$f":"IF(C130=\"\",0,IF(SUMIFS($G$5:G130,$C$5:C130,C130)-SUMIFS($I$4:I129,$C$4:C129,C130)<0,0,SUMIFS($G$5:G130,$C$5:C130,C130)-SUMIFS($I$4:I129,$C$4:C129,C130)))","v":0},null,{"$f":"IF(C130=\"\",0,IF(C130=$C$4,SUMIFS($I$4:I129,$C$4:C129,C129),SUMIFS($I$4:I129,$C$4:C129,C130)))","v":0},0]
[128,null,{"$f":"IFERROR(VLOOKUP(D131,Nomenclature!$B$2:$C$196,2,0),\"\")","v":""},null,null,null,null,{"$f":"IF(C131=\"\",0,IF(SUMIFS($G$5:G131,$C$5:C131,C131)-SUMIFS($I$4:I130,$C$4:C130,C131)<0,0,SUMIFS($G$5:G131,$C$5:C131,C131)-SUMIFS($I$4:I130,$C$4:C130,C131)))","v":0},null,{"$f":"IF(C131=\"\",0,IF(C131=$C$4,SUMIFS($I$4:I130,$C$4:C130,C130),SUMIFS($I$4:I130,$C$4:C130,C131)))","v":0},0]
[129,null,{"$f":"IFERROR(VLOOKUP(D132,Nomenclature!$B$2:$C$196,2,0),\"\")","v":""},null,null,null,null,{"$f":"IF(C132=\"\",0,IF(SUMIFS($G$5:G132,$C$5:C132,C132)-SUMIFS($I$4:I131,$C$4:C131,C132)<0,0,SUMIFS($G$5:G132,$C$5:C132,C132)-SUMIFS($I$4:I131,$C$4:C131,C132)))","v":0},null,{"$f":"IF(C132=\"\",0,IF(C132=$C$4,SUMIFS($I$4:I131,$C$4:C131,C131),SUMIFS($I$4:I131,$C$4:C131,C132)))","v":0},{"$f":"IF(C132=\"\",0,H132-I132)","v":0}]
[130,null,{"$f":"IFERROR(VLOOKUP(D133,Nomenclature!$B$2:$C$196,2,0),\"\")","v":""},null,null,null,null,{"$f":"IF(C133=\"\",0,IF(SUMIFS($G$5:G133,$C$5:C133,C133)-SUMIFS($I$4:I132,$C$4:C132,C133)<0,0,SUMIFS($G$5:G133,$C$5:C133,C133)-SUMIFS($I$4:I132,$C$4:C132,C133)))","v":0},null,{"$f":"IF(C133=\"\",0,IF(C133=$C$4,SUMIFS($I$4:I132,$C$4:C132,C132),SUMIFS($I$4:I132,$C$4:C132,C133)))","v":0},0]
[131,null,{"$f":"IFERROR(VLOOKUP(D134,Nomenclature!$B$2:$C$196,2,0),\"\")","v":""},null,null,null,null,{"$f":"IF(C134=\"\",0,IF(SUMIFS($G$5:G134,$C$5:C134,C134)-SUMIFS($I$4:I133,$C$4:C133,C134)<0,0,SUMIFS($G$5:G134,$C$5:C134,C134)-SUMIFS($I$4:I133,$C$4:C133,C134)))","v":0},null,{"$f":"IF(C134=\"\",0,IF(C134=$C$4,SUMIFS($I$4:I133,$C$4:C133,C133),SUMIFS($I$4:I133,$C$4:C133,C134)))","v":0},0]
[132,null,{"$f":"IFERROR(VLOOKUP(D135,Nomenclature!$B$2:$C$196,2,0),\"\")","v":""},null,null,null,null,{"$f":"IF(C135=\"\",0,IF(SUMIFS($G$5:G135,$C$5:C135,C135)-SUMIFS($I$4:I134,$C$4:C134,C135)<0,0,SUMIFS($G$5:G135,$C$5:C135,C135)-SUMIFS($I$4:I134,$C$4:C134,C135)))","v":0},null,{"$f":"IF(C135=\"\",0,IF(C135=$C$4,SUMIFS($I$4:I134,$C$4:C134,C134),SUMIFS($I$4:I134,$C$4:C134,C135)))","v":0},0]
[133,null,{"$f":"IFERROR(VLOOKUP(D136,Nomenclature!$B$2:$C$196,2,0),\"\")","v":""},null,null,null,null,{"$f":"IF(C136=\"\",0,IF(SUMIFS($G$5:G136,$C$5:C136,C136)-SUMIFS($I$4:I135,$C$4:C135,C136)<0,0,SUMIFS($G$5:G136,$C$5:C136,C136)-SUMIFS($I$4:I135,$C$4:C135,C136)))","v":0},null,{"$f":"IF(C136=\"\",0,IF(C136=$C$4,SUMIFS($I$4:I135,$C$4:C135,C135),SUMIFS($I$4:I135,$C$4:C135,C136)))","v":0},0]
[134,null,{"$f":"IFERROR(VLOOKUP(D137,Nomenclature!$B$2:$C$196,2,0),\"\")","v":""},null,null,null,null,{"$f":"IF(C137=\"\",0,IF(SUMIFS($G$5:G137,$C$5:C137,C137)-SUMIFS($I$4:I136,$C$4:C136,C137)<0,0,SUMIFS($G$5:G137,$C$5:C137,C137)-SUMIFS($I$4:I136,$C$4:C136,C137)))","v":0},null,{"$f":"IF(C137=\"\",0,IF(C137=$C$4,SUMIFS($I$4:I136,$C$4:C136,C136),SUMIFS($I$4:I136,$C$4:C136,C137)))","v":0},0]
[135,null,{"$f":"IFERROR(VLOOKUP(D138,Nomenclature!$B$2:$C$196,2,0),\"\")","v":""},null,null,null,null,{"$f":"IF(C138=\"\",0,IF(SUMIFS($G$5:G138,$C$5:C138,C138)-SUMIFS($I$4:I137,$C$4:C137,C138)<0,0,SUMIFS($G$5:G138,$C$5:C138,C138)-SUMIFS($I$4:I137,$C$4:C137,C138)))","v":0},null,{"$f":"IF(C138=\"\",0,IF(C138=$C$4,SUMIFS($I$4:I137,$C$4:C137,C137),SUMIFS($I$4:I137,$C$4:C137,C138)))","v":0},0]
[136,null,{"$f":"IFERROR(VLOOKUP(D139,Nomenclature!$B$2:$C$196,2,0),\"\")","v":""},null,null,null,null,{"$f":"IF(C139=\"\",0,IF(SUMIFS($G$5:G139,$C$5:C139,C139)-SUMIFS($I$4:I138,$C$4:C138,C139)<0,0,SUMIFS($G$5:G139,$C$5:C139,C139)-SUMIFS($I$4:I138,$C$4:C138,C139)))","v":0},null,{"$f":"IF(C139=\"\",0,IF(C139=$C$4,SUMIFS($I$4:I138,$C$4:C138,C138),SUMIFS($I$4:I138,$C$4:C138,C139)))","v":0},0]
[137,null,{"$f":"IFERROR(VLOOKUP(D140,Nomenclature!$B$2:$C$196,2,0),\"\")","v":""},null,null,null,null,{"$f":"IF(C140=\"\",0,IF(SUMIFS($G$5:G140,$C$5:C140,C140)-SUMIFS($I$4:I139,$C$4:C139,C140)<0,0,SUMIFS($G$5:G140,$C$5:C140,C140)-SUMIFS($I$4:I139,$C$4:C139,C140)))","v":0},null,{"$f":"IF(C140=\"\",0,IF(C140=$C$4,SUMIFS($I$4:I139,$C$4:C139,C139),SUMIFS($I$4:I139,$C$4:C139,C140)))","v":0},0]
[138,null,{"$f":"IFERROR(VLOOKUP(D141,Nomenclature!$B$2:$C$196,2,0),\"\")","v":""},null,null,null,null,{"$f":"IF(C141=\"\",0,IF(SUMIFS($G$5:G141,$C$5:C141,C141)-SUMIFS($I$4:I140,$C$4:C140,C141)<0,0,SUMIFS($G$5:G141,$C$5:C141,C141)-SUMIFS($I$4:I140,$C$4:C140,C141)))","v":0},null,{"$f":"IF(C141=\"\",0,IF(C141=$C$4,SUMIFS($I$4:I140,$C$4:C140,C140),SUMIFS($I$4:I140,$C$4:C140,C141)))","v":0},0]
[139,null,{"$f":"IFERROR(VLOOKUP(D142,Nomenclature!$B$2:$C$196,2,0),\"\")","v":""},null,null,null,null,{"$f":"IF(C142=\"\",0,IF(SUMIFS($G$5:G142,$C$5:C142,C142)-SUMIFS($I$4:I141,$C$4:C141,C142)<0,0,SUMIFS($G$5:G142,$C$5:C142,C142)-SUMIFS($I$4:I141,$C$4:C141,C142)))","v":0},null,{"$f":"IF(C142=\"\",0,IF(C142=$C$4,SUMIFS($I$4:I141,$C$4:C141,C141),SUMIFS($I$4:I141,$C$4:C141,C142)))","v":0},0]
[140,null,{"$f":"IFERROR(VLOOKUP(D143,Nomenclature!$B$2:$C$196,2,0),\"\")","v":""},null,null,null,null,{"$f":"IF(C143=\"\",0,IF(SUMIFS($G$5:G143,$C$5:C143,C143)-SUMIFS($I$4:I142,$C$4:C142,C143)<0,0,SUMIFS($G$5:G143,$C$5:C143,C143)-SUMIFS($I$4:I142,$C$4:C142,C143)))","v":0},null,{"$f":"IF(C143=\"\",0,IF(C143=$C$4,SUMIFS($I$4:I142,$C$4:C142,C142),SUMIFS($I$4:I142,$C$4:C142,C143)))","v":0},0]
[141,null,{"$f":"IFERROR(VLOOKUP(D144,Nomenclature!$B$2:$C$196,2,0),\"\")","v":""},null,null,null,null,{"$f":"IF(C144=\"\",0,IF(SUMIFS($G$5:G144,$C$5:C144,C144)-SUMIFS($I$4:I143,$C$4:C143,C144)<0,0,SUMIFS($G$5:G144,$C$5:C144,C144)-SUMIFS($I$4:I143,$C$4:C143,C144)))","v":0},null,{"$f":"IF(C144=\"\",0,IF(C144=$C$4,SUMIFS($I$4:I143,$C$4:C143,C143),SUMIFS($I$4:I143,$C$4:C143,C144)))","v":0},0]
[142,null,{"$f":"IFERROR(VLOOKUP(D145,Nomenclature!$B$2:$C$196,2,0),\"\")","v":""},null,null,null,null,{"$f":"IF(C145=\"\",0,IF(SUMIFS($G$5:G145,$C$5:C145,C145)-SUMIFS($I$4:I144,$C$4:C144,C145)<0,0,SUMIFS($G$5:G145,$C$5:C145,C145)-SUMIFS($I$4:I144,$C$4:C144,C145)))","v":0},null,{"$f":"IF(C145=\"\",0,IF(C145=$C$4,SUMIFS($I$4:I144,$C$4:C144,C144),SUMIFS($I$4:I144,$C$4:C144,C145)))","v":0},0]
[143,null,{"$f":"IFERROR(VLOOKUP(D146,Nomenclature!$B$2:$C$196,2,0),\"\")","v":""},null,null,null,null,{"$f":"IF(C146=\"\",0,IF(SUMIFS($G$5:G146,$C$5:C146,C146)-SUMIFS($I$4:I145,$C$4:C145,C146)<0,0,SUMIFS($G$5:G146,$C$5:C146,C146)-SUMIFS($I$4:I145,$C$4:C145,C146)))","v":0},null,{"$f":"IF(C146=\"\",0,IF(C146=$C$4,SUMIFS($I$4:I145,$C$4:C145,C145),SUMIFS($I$4:I145,$C$4:C145,C146)))","v":0},0]
[144,null,{"$f":"IFERROR(VLOOKUP(D147,Nomenclature!$B$2:$C$196,2,0),\"\")","v":""},null,null,null,null,{"$f":"IF(C147=\"\",0,IF(SUMIFS($G$5:G147,$C$5:C147,C147)-SUMIFS($I$4:I146,$C$4:C146,C147)<0,0,SUMIFS($G$5:G147,$C$5:C147,C147)-SUMIFS($I$4:I146,$C$4:C146,C147)))","v":0},null,{"$f":"IF(C147=\"\",0,IF(C147=$C$4,SUMIFS($I$4:I146,$C$4:C146,C146),SUMIFS($I$4:I146,$C$4:C146,C147)))","v":0},0]
[145,null,{"$f":"IFERROR(VLOOKUP(D148,Nomenclature!$B$2:$C$196,2,0),\"\")","v":""},null,null,null,null,{"$f":"IF(C148=\"\",0,IF(SUMIFS($G$5:G148,$C$5:C148,C148)-SUMIFS($I$4:I147,$C$4:C147,C148)<0,0,SUMIFS($G$5:G148,$C$5:C148,C148)-SUMIFS($I$4:I147,$C$4:C147,C148)))","v":0},null,{"$f":"IF(C148=\"\",0,IF(C148=$C$4,SUMIFS($I$4:I147,$C$4:C147,C147),SUMIFS($I$4:I147,$C$4:C147,C148)))","v":0},0]
[146,null,{"$f":"IFERROR(VLOOKUP(D149,Nomenclature!$B$2:$C$196,2,0),\"\")","v":""},null,null,null,null,{"$f":"IF(C149=\"\",0,IF(SUMIFS($G$5:G149,$C$5:C149,C149)-SUMIFS($I$4:I148,$C$4:C148,C149)<0,0,SUMIFS($G$5:G149,$C$5:C149,C149)-SUMIFS($I$4:I148,$C$4:C148,C149)))","v":0},null,{"$f":"IF(C149=\"\",0,IF(C149=$C$4,SUMIFS($I$4:I148,$C$4:C148,C148),SUMIFS($I$4:I148,$C$4:C148,C149)))","v":0},0]
[147,null,{"$f":"IFERROR(VLOOKUP(D150,Nomenclature!$B$2:$C$196,2,0),\"\")","v":""},null,null,null,null,{"$f":"IF(C150=\"\",0,IF(SUMIFS($G$5:G150,$C$5:C150,C150)-SUMIFS($I$4:I149,$C$4:C149,C150)<0,0,SUMIFS($G$5:G150,$C$5:C150,C150)-SUMIFS($I$4:I149,$C$4:C149,C150)))","v":0},null,{"$f":"IF(C150=\"\",0,IF(C150=$C$4,SUMIFS($I$4:I149,$C$4:C149,C149),SUMIFS($I$4:I149,$C$4:C149,C150)))","v":0},0]
[148,null,{"$f":"IFERROR(VLOOKUP(D151,Nomenclature!$B$2:$C$196,2,0),\"\")","v":""},null,null,null,null,{"$f":"IF(C151=\"\",0,IF(SUMIFS($G$5:G151,$C$5:C151,C151)-SUMIFS($I$4:I150,$C$4:C150,C151)<0,0,SUMIFS($G$5:G151,$C$5:C151,C151)-SUMIFS($I$4:I150,$C$4:C150,C151)))","v":0},null,{"$f":"IF(C151=\"\",0,IF(C151=$C$4,SUMIFS($I$4:I150,$C$4:C150,C150),SUMIFS($I$4:I150,$C$4:C150,C151)))","v":0},0]
[149,null,{"$f":"IFERROR(VLOOKUP(D152,Nomenclature!$B$2:$C$196,2,0),\"\")","v":""},null,null,null,null,{"$f":"IF(C152=\"\",0,IF(SUMIFS($G$5:G152,$C$5:C152,C152)-SUMIFS($I$4:I151,$C$4:C151,C152)<0,0,SUMIFS($G$5:G152,$C$5:C152,C152)-SUMIFS($I$4:I151,$C$4:C151,C152)))","v":0},null,{"$f":"IF(C152=\"\",0,IF(C152=$C$4,SUMIFS($I$4:I151,$C$4:C151,C151),SUMIFS($I$4:I151,$C$4:C151,C152)))","v":0},0]
[150,null,{"$f":"IFERROR(VLOOKUP(D153,Nomenclature!$B$2:$C$196,2,0),\"\")","v":""},null,null,null,null,{"$f":"IF(C153=\"\",0,IF(SUMIFS($G$5:G153,$C$5:C153,C153)-SUMIFS($I$4:I152,$C$4:C152,C153)<0,0,SUMIFS($G$5:G153,$C$5:C153,C153)-SUMIFS($I$4:I152,$C$4:C152,C153)))","v":0},null,{"$f":"IF(C153=\"\",0,IF(C153=$C$4,SUMIFS($I$4:I152,$C$4:C152,C152),SUMIFS($I$4:I152,$C$4:C152,C153)))","v":0},0]
[151,null,{"$f":"IFERROR(VLOOKUP(D154,Nomenclature!$B$2:$C$196,2,0),\"\")","v":""},null,null,null,null,{"$f":"IF(C154=\"\",0,IF(SUMIFS($G$5:G154,$C$5:C154,C154)-SUMIFS($I$4:I153,$C$4:C153,C154)<0,0,SUMIFS($G$5:G154,$C$5:C154,C154)-SUMIFS($I$4:I153,$C$4:C153,C154)))","v":0},null,{"$f":"IF(C154=\"\",0,IF(C154=$C$4,SUMIFS($I$4:I153,$C$4:C153,C153),SUMIFS($I$4:I153,$C$4:C153,C154)))","v":0},0]
[152,null,{"$f":"IFERROR(VLOOKUP(D155,Nomenclature!$B$2:$C$196,2,0),\"\")","v":""},null,null,null,null,{"$f":"IF(C155=\"\",0,IF(SUMIFS($G$5:G155,$C$5:C155,C155)-SUMIFS($I$4:I154,$C$4:C154,C155)<0,0,SUMIFS($G$5:G155,$C$5:C155,C155)-SUMIFS($I$4:I154,$C$4:C154,C155)))","v":0},null,{"$f":"IF(C155=\"\",0,IF(C155=$C$4,SUMIFS($I$4:I154,$C$4:C154,C154),SUMIFS($I$4:I154,$C$4:C154,C155)))","v":0},0]
[153,null,{"$f":"IFERROR(VLOOKUP(D156,Nomenclature!$B$2:$C$196,2,0),\"\")","v":""},null,null,null,null,{"$f":"IF(C156=\"\",0,IF(SUMIFS($G$5:G156,$C$5:C156,C156)-SUMIFS($I$4:I155,$C$4:C155,C156)<0,0,SUMIFS($G$5:G156,$C$5:C156,C156)-SUMIFS($I$4:I155,$C$4:C155,C156)))","v":0},null,{"$f":"IF(C156=\"\",0,IF(C156=$C$4,SUMIFS($I$4:I155,$C$4:C155,C155),SUMIFS($I$4:I155,$C$4:C155,C156)))","v":0},0]
[154,null,{"$f":"IFERROR(VLOOKUP(D157,Nomenclature!$B$2:$C$196,2,0),\"\")","v":""},null,null,null,null,{"$f":"IF(C157=\"\",0,IF(SUMIFS($G$5:G157,$C$5:C157,C157)-SUMIFS($I$4:I156,$C$4:C156,C157)<0,0,SUMIFS($G$5:G157,$C$5:C157,C157)-SUMIFS($I$4:I156,$C$4:C156,C157)))","v":0},null,{"$f":"IF(C157=\"\",0,IF(C157=$C$4,SUMIFS($I$4:I156,$C$4:C156,C156),SUMIFS($I$4:I156,$C$4:C156,C157)))","v":0},0]
[155,null,{"$f":"IFERROR(VLOOKUP(D158,Nomenclature!$B$2:$C$196,2,0),\"\")","v":""},null,null,null,null,{"$f":"IF(C158=\"\",0,IF(SUMIFS($G$5:G158,$C$5:C158,C158)-SUMIFS($I$4:I157,$C$4:C157,C158)<0,0,SUMIFS($G$5:G158,$C$5:C158,C158)-SUMIFS($I$4:I157,$C$4:C157,C158)))","v":0},null,{"$f":"IF(C158=\"\",0,IF(C158=$C$4,SUMIFS($I$4:I157,$C$4:C157,C157),SUMIFS($I$4:I157,$C$4:C157,C158)))","v":0},0]
[156,null,{"$f":"IFERROR(VLOOKUP(D159,Nomenclature!$B$2:$C$196,2,0),\"\")","v":""},null,null,null,null,{"$f":"IF(C159=\"\",0,IF(SUMIFS($G$5:G159,$C$5:C159,C159)-SUMIFS($I$4:I158,$C$4:C158,C159)<0,0,SUMIFS($G$5:G159,$C$5:C159,C159)-SUMIFS($I$4:I158,$C$4:C158,C159)))","v":0},null,{"$f":"IF(C159=\"\",0,IF(C159=$C$4,SUMIFS($I$4:I158,$C$4:C158,C158),SUMIFS($I$4:I158,$C$4:C158,C159)))","v":0},0]
[157,null,{"$f":"IFERROR(VLOOKUP(D160,Nomenclature!$B$2:$C$196,2,0),\"\")","v":""},null,null,null,null,{"$f":"IF(C160=\"\",0,IF(SUMIFS($G$5:G160,$C$5:C160,C160)-SUMIFS($I$4:I159,$C$4:C159,C160)<0,0,SUMIFS($G$5:G160,$C$5:C160,C160)-SUMIFS($I$4:I159,$C$4:C159,C160)))","v":0},null,{"$f":"IF(C160=\"\",0,IF(C160=$C$4,SUMIFS($I$4:I159,$C$4:C159,C159),SUMIFS($I$4:I159,$C$4:C159,C160)))","v":0},0]
[158,null,{"$f":"IFERROR(VLOOKUP(D161,Nomenclature!$B$2:$C$196,2,0),\"\")","v":""},null,null,null,null,{"$f":"IF(C161=\"\",0,IF(SUMIFS($G$5:G161,$C$5:C161,C161)-SUMIFS($I$4:I160,$C$4:C160,C161)<0,0,SUMIFS($G$5:G161,$C$5:C161,C161)-SUMIFS($I$4:I160,$C$4:C160,C161)))","v":0},null,{"$f":"IF(C161=\"\",0,IF(C161=$C$4,SUMIFS($I$4:I160,$C$4:C160,C160),SUMIFS($I$4:I160,$C$4:C160,C161)))","v":0},0]
[159,null,{"$f":"IFERROR(VLOOKUP(D162,Nomenclature!$B$2:$C$196,2,0),\"\")","v":""},null,null,null,null,{"$f":"IF(C162=\"\",0,IF(SUMIFS($G$5:G162,$C$5:C162,C162)-SUMIFS($I$4:I161,$C$4:C161,C162)<0,0,SUMIFS($G$5:G162,$C$5:C162,C162)-SUMIFS($I$4:I161,$C$4:C161,C162)))","v":0},null,{"$f":"IF(C162=\"\",0,IF(C162=$C$4,SUMIFS($I$4:I161,$C$4:C161,C161),SUMIFS($I$4:I161,$C$4:C161,C162)))","v":0},0]
[160,null,{"$f":"IFERROR(VLOOKUP(D163,Nomenclature!$B$2:$C$196,2,0),\"\")","v":""},null,null,null,null,{"$f":"IF(C163=\"\",0,IF(SUMIFS($G$5:G163,$C$5:C163,C163)-SUMIFS($I$4:I162,$C$4:C162,C163)<0,0,SUMIFS($G$5:G163,$C$5:C163,C163)-SUMIFS($I$4:I162,$C$4:C162,C163)))","v":0},null,{"$f":"IF(C163=\"\",0,IF(C163=$C$4,SUMIFS($I$4:I162,$C$4:C162,C162),SUMIFS($I$4:I162,$C$4:C162,C163)))","v":0},0]
[161,null,{"$f":"IFERROR(VLOOKUP(D164,Nomenclature!$B$2:$C$196,2,0),\"\")","v":""},null,null,null,null,{"$f":"IF(C164=\"\",0,IF(SUMIFS($G$5:G164,$C$5:C164,C164)-SUMIFS($I$4:I163,$C$4:C163,C164)<0,0,SUMIFS($G$5:G164,$C$5:C164,C164)-SUMIFS($I$4:I163,$C$4:C163,C164)))","v":0},null,{"$f":"IF(C164=\"\",0,IF(C164=$C$4,SUMIFS($I$4:I163,$C$4:C163,C163),SUMIFS($I$4:I163,$C$4:C163,C164)))","v":0},0]
[162,null,{"$f":"IFERROR(VLOOKUP(D165,Nomenclature!$B$2:$C$196,2,0),\"\")","v":""},null,null,null,null,{"$f":"IF(C165=\"\",0,IF(SUMIFS($G$5:G165,$C$5:C165,C165)-SUMIFS($I$4:I164,$C$4:C164,C165)<0,0,SUMIFS($G$5:G165,$C$5:C165,C165)-SUMIFS($I$4:I164,$C$4:C164,C165)))","v":0},null,{"$f":"IF(C165=\"\",0,IF(C165=$C$4,SUMIFS($I$4:I164,$C$4:C164,C164),SUMIFS($I$4:I164,$C$4:C164,C165)))","v":0},0]
[163,null,{"$f":"IFERROR(VLOOKUP(D166,Nomenclature!$B$2:$C$196,2,0),\"\")","v":""},null,null,null,null,{"$f":"IF(C166=\"\",0,IF(SUMIFS($G$5:G166,$C$5:C166,C166)-SUMIFS($I$4:I165,$C$4:C165,C166)<0,0,SUMIFS($G$5:G166,$C$5:C166,C166)-SUMIFS($I$4:I165,$C$4:C165,C166)))","v":0},null,{"$f":"IF(C166=\"\",0,IF(C166=$C$4,SUMIFS($I$4:I165,$C$4:C165,C165),SUMIFS($I$4:I165,$C$4:C165,C166)))","v":0},0]
[164,null,{"$f":"IFERROR(VLOOKUP(D167,Nomenclature!$B$2:$C$196,2,0),\"\")","v":""},null,null,null,null,{"$f":"IF(C167=\"\",0,IF(SUMIFS($G$5:G167,$C$5:C167,C167)-SUMIFS($I$4:I166,$C$4:C166,C167)<0,0,SUMIFS($G$5:G167,$C$5:C167,C167)-SUMIFS($I$4:I166,$C$4:C166,C167)))","v":0},null,{"$f":"IF(C167=\"\",0,IF(C167=$C$4,SUMIFS($I$4:I166,$C$4:C166,C166),SUMIFS($I$4:I166,$C$4:C166,C167)))","v":0},0]
[165,null,{"$f":"IFERROR(VLOOKUP(D168,Nomenclature!$B$2:$C$196,2,0),\"\")","v":""},null,null,null,null,{"$f":"IF(C168=\"\",0,IF(SUMIFS($G$5:G168,$C$5:C168,C168)-SUMIFS($I$4:I167,$C$4:C167,C168)<0,0,SUMIFS($G$5:G168,$C$5:C168,C168)-SUMIFS($I$4:I167,$C$4:C167,C168)))","v":0},null,{"$f":"IF(C168=\"\",0,IF(C168=$C$4,SUMIFS($I$4:I167,$C$4:C167,C167),SUMIFS($I$4:I167,$C$4:C167,C168)))","v":0},0]
[166,null,{"$f":"IFERROR(VLOOKUP(D169,Nomenclature!$B$2:$C$196,2,0),\"\")","v":""},null,null,null,null,{"$f":"IF(C169=\"\",0,IF(SUMIFS($G$5:G169,$C$5:C169,C169)-SUMIFS($I$4:I168,$C$4:C168,C169)<0,0,SUMIFS($G$5:G169,$C$5:C169,C169)-SUMIFS($I$4:I168,$C$4:C168,C169)))","v":0},null,{"$f":"IF(C169=\"\",0,IF(C169=$C$4,SUMIFS($I$4:I168,$C$4:C168,C168),SUMIFS($I$4:I168,$C$4:C168,C169)))","v":0},0]
[167,null,{"$f":"IFERROR(VLOOKUP(D170,Nomenclature!$B$2:$C$196,2,0),\"\")","v":""},null,null,null,null,{"$f":"IF(C170=\"\",0,IF(SUMIFS($G$5:G170,$C$5:C170,C170)-SUMIFS($I$4:I169,$C$4:C169,C170)<0,0,SUMIFS($G$5:G170,$C$5:C170,C170)-SUMIFS($I$4:I169,$C$4:C169,C170)))","v":0},null,{"$f":"IF(C170=\"\",0,IF(C170=$C$4,SUMIFS($I$4:I169,$C$4:C169,C169),SUMIFS($I$4:I169,$C$4:C169,C170)))","v":0},0]
[168,null,{"$f":"IFERROR(VLOOKUP(D171,Nomenclature!$B$2:$C$196,2,0),\"\")","v":""},null,null,null,null,{"$f":"IF(C171=\"\",0,IF(SUMIFS($G$5:G171,$C$5:C171,C171)-SUMIFS($I$4:I170,$C$4:C170,C171)<0,0,SUMIFS($G$5:G171,$C$5:C171,C171)-SUMIFS($I$4:I170,$C$4:C170,C171)))","v":0},null,{"$f":"IF(C171=\"\",0,IF(C171=$C$4,SUMIFS($I$4:I170,$C$4:C170,C170),SUMIFS($I$4:I170,$C$4:C170,C171)))","v":0},0]
[169,null,{"$f":"IFERROR(VLOOKUP(D172,Nomenclature!$B$2:$C$196,2,0),\"\")","v":""},null,null,null,null,{"$f":"IF(C172=\"\",0,IF(SUMIFS($G$5:G172,$C$5:C172,C172)-SUMIFS($I$4:I171,$C$4:C171,C172)<0,0,SUMIFS($G$5:G172,$C$5:C172,C172)-SUMIFS($I$4:I171,$C$4:C171,C172)))","v":0},null,{"$f":"IF(C172=\"\",0,IF(C172=$C$4,SUMIFS($I$4:I171,$C$4:C171,C171),SUMIFS($I$4:I171,$C$4:C171,C172)))","v":0},0]
[170,null,{"$f":"IFERROR(VLOOKUP(D173,Nomenclature!$B$2:$C$196,2,0),\"\")","v":""},null,null,null,null,{"$f":"IF(C173=\"\",0,IF(SUMIFS($G$5:G173,$C$5:C173,C173)-SUMIFS($I$4:I172,$C$4:C172,C173)<0,0,SUMIFS($G$5:G173,$C$5:C173,C173)-SUMIFS($I$4:I172,$C$4:C172,C173)))","v":0},null,{"$f":"IF(C173=\"\",0,IF(C173=$C$4,SUMIFS($I$4:I172,$C$4:C172,C172),SUMIFS($I$4:I172,$C$4:C172,C173)))","v":0},0]
[171,null,{"$f":"IFERROR(VLOOKUP(D174,Nomenclature!$B$2:$C$196,2,0),\"\")","v":""},null,null,null,null,{"$f":"IF(C174=\"\",0,IF(SUMIFS($G$5:G174,$C$5:C174,C174)-SUMIFS($I$4:I173,$C$4:C173,C174)<0,0,SUMIFS($G$5:G174,$C$5:C174,C174)-SUMIFS($I$4:I173,$C$4:C173,C174)))","v":0},null,{"$f":"IF(C174=\"\",0,IF(C174=$C$4,SUMIFS($I$4:I173,$C$4:C173,C173),SUMIFS($I$4:I173,$C$4:C173,C174)))","v":0},0]
[172,null,{"$f":"IFERROR(VLOOKUP(D175,Nomenclature!$B$2:$C$196,2,0),\"\")","v":""},null,null,null,null,{"$f":"IF(C175=\"\",0,IF(SUMIFS($G$5:G175,$C$5:C175,C175)-SUMIFS($I$4:I174,$C$4:C174,C175)<0,0,SUMIFS($G$5:G175,$C$5:C175,C175)-SUMIFS($I$4:I174,$C$4:C174,C175)))","v":0},null,{"$f":"IF(C175=\"\",0,IF(C175=$C$4,SUMIFS($I$4:I174,$C$4:C174,C174),SUMIFS($I$4:I174,$C$4:C174,C175)))","v":0},0]
[173,null,{"$f":"IFERROR(VLOOKUP(D176,Nomenclature!$B$2:$C$196,2,0),\"\")","v":""},null,null,null,null,{"$f":"IF(C176=\"\",0,IF(SUMIFS($G$5:G176,$C$5:C176,C176)-SUMIFS($I$4:I175,$C$4:C175,C176)<0,0,SUMIFS($G$5:G176,$C$5:C176,C176)-SUMIFS($I$4:I175,$C$4:C175,C176)))","v":0},null,{"$f":"IF(C176=\"\",0,IF(C176=$C$4,SUMIFS($I$4:I175,$C$4:C175,C175),SUMIFS($I$4:I175,$C$4:C175,C176)))","v":0},0]
[174,null,{"$f":"IFERROR(VLOOKUP(D177,Nomenclature!$B$2:$C$196,2,0),\"\")","v":""},null,null,null,null,{"$f":"IF(C177=\"\",0,IF(SUMIFS($G$5:G177,$C$5:C177,C177)-SUMIFS($I$4:I176,$C$4:C176,C177)<0,0,SUMIFS($G$5:G177,$C$5:C177,C177)-SUMIFS($I$4:I176,$C$4:C176,C177)))","v":0},null,{"$f":"IF(C177=\"\",0,IF(C177=$C$4,SUMIFS($I$4:I176,$C$4:C176,C176),SUMIFS($I$4:I176,$C$4:C176,C177)))","v":0},0]
[175,null,{"$f":"IFERROR(VLOOKUP(D178,Nomenclature!$B$2:$C$196,2,0),\"\")","v":""},null,null,null,null,{"$f":"IF(C178=\"\",0,IF(SUMIFS($G$5:G178,$C$5:C178,C178)-SUMIFS($I$4:I177,$C$4:C177,C178)<0,0,SUMIFS($G$5:G178,$C$5:C178,C178)-SUMIFS($I$4:I177,$C$4:C177,C178)))","v":0},null,{"$f":"IF(C178=\"\",0,IF(C178=$C$4,SUMIFS($I$4:I177,$C$4:C177,C177),SUMIFS($I$4:I177,$C$4:C177,C178)))","v":0},0]
[176,null,{"$f":"IFERROR(VLOOKUP(D179,Nomenclature!$B$2:$C$196,2,0),\"\")","v":""},null,null,null,null,{"$f":"IF(C179=\"\",0,IF(SUMIFS($G$5:G179,$C$5:C179,C179)-SUMIFS($I$4:I178,$C$4:C178,C179)<0,0,SUMIFS($G$5:G179,$C$5:C179,C179)-SUMIFS($I$4:I178,$C$4:C178,C179)))","v":0},null,{"$f":"IF(C179=\"\",0,IF(C179=$C$4,SUMIFS($I$4:I178,$C$4:C178,C178),SUMIFS($I$4:I178,$C$4:C178,C179)))","v":0},0]
[177,null,{"$f":"IFERROR(VLOOKUP(D180,Nomenclature!$B$2:$C$196,2,0),\"\")","v":""},null,null,null,null,{"$f":"IF(C180=\"\",0,IF(SUMIFS($G$5:G180,$C$5:C180,C180)-SUMIFS($I$4:I179,$C$4:C179,C180)<0,0,SUMIFS($G$5:G180,$C$5:C180,C180)-SUMIFS($I$4:I179,$C$4:C179,C180)))","v":0},null,{"$f":"IF(C180=\"\",0,IF(C180=$C$4,SUMIFS($I$4:I179,$C$4:C179,C179),SUMIFS($I$4:I179,$C$4:C179,C180)))","v":0},0]
[178,null,{"$f":"IFERROR(VLOOKUP(D181,Nomenclature!$B$2:$C$196,2,0),\"\")","v":""},null,null,null,null,{"$f":"IF(C181=\"\",0,IF(SUMIFS($G$5:G181,$C$5:C181,C181)-SUMIFS($I$4:I180,$C$4:C180,C181)<0,0,SUMIFS($G$5:G181,$C$5:C181,C181)-SUMIFS($I$4:I180,$C$4:C180,C181)))","v":0},null,{"$f":"IF(C181=\"\",0,IF(C181=$C$4,SUMIFS($I$4:I180,$C$4:C180,C180),SUMIFS($I$4:I180,$C$4:C180,C181)))","v":0},0]
[179,null,{"$f":"IFERROR(VLOOKUP(D182,Nomenclature!$B$2:$C$196,2,0),\"\")","v":""},null,null,null,null,{"$f":"IF(C182=\"\",0,IF(SUMIFS($G$5:G182,$C$5:C182,C182)-SUMIFS($I$4:I181,$C$4:C181,C182)<0,0,SUMIFS($G$5:G182,$C$5:C182,C182)-SUMIFS($I$4:I181,$C$4:C181,C182)))","v":0},null,{"$f":"IF(C182=\"\",0,IF(C182=$C$4,SUMIFS($I$4:I181,$C$4:C181,C181),SUMIFS($I$4:I181,$C$4:C181,C182)))","v":0},0]
[180,null,{"$f":"IFERROR(VLOOKUP(D183,Nomenclature!$B$2:$C$196,2,0),\"\")","v":""},null,null,null,null,{"$f":"IF(C183=\"\",0,IF(SUMIFS($G$5:G183,$C$5:C183,C183)-SUMIFS($I$4:I182,$C$4:C182,C183)<0,0,SUMIFS($G$5:G183,$C$5:C183,C183)-SUMIFS($I$4:I182,$C$4:C182,C183)))","v":0},null,{"$f":"IF(C183=\"\",0,IF(C183=$C$4,SUMIFS($I$4:I182,$C$4:C182,C182),SUMIFS($I$4:I182,$C$4:C182,C183)))","v":0},0]
[181,null,{"$f":"IFERROR(VLOOKUP(D184,Nomenclature!$B$2:$C$196,2,0),\"\")","v":""},null,null,null,null,{"$f":"IF(C184=\"\",0,IF(SUMIFS($G$5:G184,$C$5:C184,C184)-SUMIFS($I$4:I183,$C$4:C183,C184)<0,0,SUMIFS($G$5:G184,$C$5:C184,C184)-SUMIFS($I$4:I183,$C$4:C183,C184)))","v":0},null,{"$f":"IF(C184=\"\",0,IF(C184=$C$4,SUMIFS($I$4:I183,$C$4:C183,C183),SUMIFS($I$4:I183,$C$4:C183,C184)))","v":0},0]
[182,null,{"$f":"IFERROR(VLOOKUP(D185,Nomenclature!$B$2:$C$196,2,0),\"\")","v":""},null,null,null,null,{"$f":"IF(C185=\"\",0,IF(SUMIFS($G$5:G185,$C$5:C185,C185)-SUMIFS($I$4:I184,$C$4:C184,C185)<0,0,SUMIFS($G$5:G185,$C$5:C185,C185)-SUMIFS($I$4:I184,$C$4:C184,C185)))","v":0},null,{"$f":"IF(C185=\"\",0,IF(C185=$C$4,SUMIFS($I$4:I184,$C$4:C184,C184),SUMIFS($I$4:I184,$C$4:C184,C185)))","v":0},0]
[183,null,{"$f":"IFERROR(VLOOKUP(D186,Nomenclature!$B$2:$C$196,2,0),\"\")","v":""},null,null,null,null,{"$f":"IF(C186=\"\",0,IF(SUMIFS($G$5:G186,$C$5:C186,C186)-SUMIFS($I$4:I185,$C$4:C185,C186)<0,0,SUMIFS($G$5:G186,$C$5:C186,C186)-SUMIFS($I$4:I185,$C$4:C185,C186)))","v":0},null,{"$f":"IF(C186=\"\",0,IF(C186=$C$4,SUMIFS($I$4:I185,$C$4:C185,C185),SUMIFS($I$4:I185,$C$4:C185,C186)))","v":0},0]
[184,null,{"$f":"IFERROR(VLOOKUP(D187,Nomenclature!$B$2:$C$196,2,0),\"\")","v":""},null,null,null,null,{"$f":"IF(C187=\"\",0,IF(SUMIFS($G$5:G187,$C$5:C187,C187)-SUMIFS($I$4:I186,$C$4:C186,C187)<0,0,SUMIFS($G$5:G187,$C$5:C187,C187)-SUMIFS($I$4:I186,$C$4:C186,C187)))","v":0},null,{"$f":"IF(C187=\"\",0,IF(C187=$C$4,SUMIFS($I$4:I186,$C$4:C186,C186),SUMIFS($I$4:I186,$C$4:C186,C187)))","v":0},0]
[185,null,{"$f":"IFERROR(VLOOKUP(D188,Nomenclature!$B$2:$C$196,2,0),\"\")","v":""},null,null,null,null,{"$f":"IF(C188=\"\",0,IF(SUMIFS($G$5:G188,$C$5:C188,C188)-SUMIFS($I$4:I187,$C$4:C187,C188)<0,0,SUMIFS($G$5:G188,$C$5:C188,C188)-SUMIFS($I$4:I187,$C$4:C187,C188)))","v":0},null,{"$f":"IF(C188=\"\",0,IF(C188=$C$4,SUMIFS($I$4:I187,$C$4:C187,C187),SUMIFS($I$4:I187,$C$4:C187,C188)))","v":0},0]
[186,null,{"$f":"IFERROR(VLOOKUP(D189,Nomenclature!$B$2:$C$196,2,0),\"\")","v":""},null,null,null,null,{"$f":"IF(C189=\"\",0,IF(SUMIFS($G$5:G189,$C$5:C189,C189)-SUMIFS($I$4:I188,$C$4:C188,C189)<0,0,SUMIFS($G$5:G189,$C$5:C189,C189)-SUMIFS($I$4:I188,$C$4:C188,C189)))","v":0},null,{"$f":"IF(C189=\"\",0,IF(C189=$C$4,SUMIFS($I$4:I188,$C$4:C188,C188),SUMIFS($I$4:I188,$C$4:C188,C189)))","v":0},0]
[187,null,{"$f":"IFERROR(VLOOKUP(D190,Nomenclature!$B$2:$C$196,2,0),\"\")","v":""},null,null,null,null,{"$f":"IF(C190=\"\",0,IF(SUMIFS($G$5:G190,$C$5:C190,C190)-SUMIFS($I$4:I189,$C$4:C189,C190)<0,0,SUMIFS($G$5:G190,$C$5:C190,C190)-SUMIFS($I$4:I189,$C$4:C189,C190)))","v":0},null,{"$f":"IF(C190=\"\",0,IF(C190=$C$4,SUMIFS($I$4:I189,$C$4:C189,C189),SUMIFS($I$4:I189,$C$4:C189,C190)))","v":0},0]
[188,null,{"$f":"IFERROR(VLOOKUP(D191,Nomenclature!$B$2:$C$196,2,0),\"\")","v":""},null,null,null,null,{"$f":"IF(C191=\"\",0,IF(SUMIFS($G$5:G191,$C$5:C191,C191)-SUMIFS($I$4:I190,$C$4:C190,C191)<0,0,SUMIFS($G$5:G191,$C$5:C191,C191)-SUMIFS($I$4:I190,$C$4:C190,C191)))","v":0},null,{"$f":"IF(C191=\"\",0,IF(C191=$C$4,SUMIFS($I$4:I190,$C$4:C190,C190),SUMIFS($I$4:I190,$C$4:C190,C191)))","v":0},0]
[189,null,{"$f":"IFERROR(VLOOKUP(D192,Nomenclature!$B$2:$C$196,2,0),\"\")","v":""},null,null,null,null,{"$f":"IF(C192=\"\",0,IF(SUMIFS($G$5:G192,$C$5:C192,C192)-SUMIFS($I$4:I191,$C$4:C191,C192)<0,0,SUMIFS($G$5:G192,$C$5:C192,C192)-SUMIFS($I$4:I191,$C$4:C191,C192)))","v":0},null,{"$f":"IF(C192=\"\",0,IF(C192=$C$4,SUMIFS($I$4:I191,$C$4:C191,C191),SUMIFS($I$4:I191,$C$4:C191,C192)))","v":0},0]
[190,null,{"$f":"IFERROR(VLOOKUP(D193,Nomenclature!$B$2:$C$196,2,0),\"\")","v":""},null,null,null,null,{"$f":"IF(C193=\"\",0,IF(SUMIFS($G$5:G193,$C$5:C193,C193)-SUMIFS($I$4:I192,$C$4:C192,C193)<0,0,SUMIFS($G$5:G193,$C$5:C193,C193)-SUMIFS($I$4:I192,$C$4:C192,C193)))","v":0},null,{"$f":"IF(C193=\"\",0,IF(C193=$C$4,SUMIFS($I$4:I192,$C$4:C192,C192),SUMIFS($I$4:I192,$C$4:C192,C193)))","v":0},0]
[191,null,{"$f":"IFERROR(VLOOKUP(D194,Nomenclature!$B$2:$C$196,2,0),\"\")","v":""},null,null,null,null,{"$f":"IF(C194=\"\",0,IF(SUMIFS($G$5:G194,$C$5:C194,C194)-SUMIFS($I$4:I193,$C$4:C193,C194)<0,0,SUMIFS($G$5:G194,$C$5:C194,C194)-SUMIFS($I$4:I193,$C$4:C193,C194)))","v":0},null,{"$f":"IF(C194=\"\",0,IF(C194=$C$4,SUMIFS($I$4:I193,$C$4:C193,C193),SUMIFS($I$4:I193,$C$4:C193,C194)))","v":0},0]
[192,null,{"$f":"IFERROR(VLOOKUP(D195,Nomenclature!$B$2:$C$196,2,0),\"\")","v":""},null,null,null,null,{"$f":"IF(C195=\"\",0,IF(SUMIFS($G$5:G195,$C$5:C195,C195)-SUMIFS($I$4:I194,$C$4:C194,C195)<0,0,SUMIFS($G$5:G195,$C$5:C195,C195)-SUMIFS($I$4:I194,$C$4:C194,C195)))","v":0},null,{"$f":"IF(C195=\"\",0,IF(C195=$C$4,SUMIFS($I$4:I194,$C$4:C194,C194),SUMIFS($I$4:I194,$C$4:C194,C195)))","v":0},0]
[193,null,{"$f":"IFERROR(VLOOKUP(D196,Nomenclature!$B$2:$C$196,2,0),\"\")","v":""},null,null,null,null,{"$f":"IF(C196=\"\",0,IF(SUMIFS($G$5:G196,$C$5:C196,C196)-SUMIFS($I$4:I195,$C$4:C195,C196)<0,0,SUMIFS($G$5:G196,$C$5:C196,C196)-SUMIFS($I$4:I195,$C$4:C195,C196)))","v":0},null,{"$f":"IF(C196=\"\",0,IF(C196=$C$4,SUMIFS($I$4:I195,$C$4:C195,C195),SUMIFS($I$4:I195,$C$4:C195,C196)))","v":0},{"$f":"IF(C196=\"\",0,H196-I196)","v":0}]
[194,null,{"$f":"IFERROR(VLOOKUP(D197,Nomenclature!$B$2:$C$196,2,0),\"\")","v":""},null,null,null,null,{"$f":"IF(C197=\"\",0,IF(SUMIFS($G$5:G197,$C$5:C197,C197)-SUMIFS($I$4:I196,$C$4:C196,C197)<0,0,SUMIFS($G$5:G197,$C$5:C197,C197)-SUMIFS($I$4:I196,$C$4:C196,C197)))","v":0},null,{"$f":"IF(C197=\"\",0,IF(C197=$C$4,SUMIFS($I$4:I196,$C$4:C196,C196),SUMIFS($I$4:I196,$C$4:C196,C197)))","v":0},0]
[195,null,{"$f":"IFERROR(VLOOKUP(D198,Nomenclature!$B$2:$C$196,2,0),\"\")","v":""},null,null,null,null,{"$f":"IF(C198=\"\",0,IF(SUMIFS($G$5:G198,$C$5:C198,C198)-SUMIFS($I$4:I197,$C$4:C197,C198)<0,0,SUMIFS($G$5:G198,$C$5:C198,C198)-SUMIFS($I$4:I197,$C$4:C197,C198)))","v":0},null,{"$f":"IF(C198=\"\",0,IF(C198=$C$4,SUMIFS($I$4:I197,$C$4:C197,C197),SUMIFS($I$4:I197,$C$4:C197,C198)))","v":0},0]
[196,null,{"$f":"IFERROR(VLOOKUP(D199,Nomenclature!$B$2:$C$196,2,0),\"\")","v":""},null,null,null,null,{"$f":"IF(C199=\"\",0,IF(SUMIFS($G$5:G199,$C$5:C199,C199)-SUMIFS($I$4:I198,$C$4:C198,C199)<0,0,SUMIFS($G$5:G199,$C$5:C199,C199)-SUMIFS($I$4:I198,$C$4:C198,C199)))","v":0},null,{"$f":"IF(C199=\"\",0,IF(C199=$C$4,SUMIFS($I$4:I198,$C$4:C198,C198),SUMIFS($I$4:I198,$C$4:C198,C199)))","v":0},0]
[197,null,{"$f":"IFERROR(VLOOKUP(D200,Nomenclature!$B$2:$C$196,2,0),\"\")","v":""},null,null,null,null,{"$f":"IF(C200=\"\",0,IF(SUMIFS($G$5:G200,$C$5:C200,C200)-SUMIFS($I$4:I199,$C$4:C199,C200)<0,0,SUMIFS($G$5:G200,$C$5:C200,C200)-SUMIFS($I$4:I199,$C$4:C199,C200)))","v":0},null,{"$f":"IF(C200=\"\",0,IF(C200=$C$4,SUMIFS($I$4:I199,$C$4:C199,C199),SUMIFS($I$4:I199,$C$4:C199,C200)))","v":0},0]
[198,null,{"$f":"IFERROR(VLOOKUP(D201,Nomenclature!$B$2:$C$196,2,0),\"\")","v":""},null,null,null,null,{"$f":"IF(C201=\"\",0,IF(SUMIFS($G$5:G201,$C$5:C201,C201)-SUMIFS($I$4:I200,$C$4:C200,C201)<0,0,SUMIFS($G$5:G201,$C$5:C201,C201)-SUMIFS($I$4:I200,$C$4:C200,C201)))","v":0},null,{"$f":"IF(C201=\"\",0,IF(C201=$C$4,SUMIFS($I$4:I200,$C$4:C200,C200),SUMIFS($I$4:I200,$C$4:C200,C201)))","v":0},0]
[199,null,{"$f":"IFERROR(VLOOKUP(D202,Nomenclature!$B$2:$C$196,2,0),\"\")","v":""},null,null,null,null,{"$f":"IF(C202=\"\",0,IF(SUMIFS($G$5:G202,$C$5:C202,C202)-SUMIFS($I$4:I201,$C$4:C201,C202)<0,0,SUMIFS($G$5:G202,$C$5:C202,C202)-SUMIFS($I$4:I201,$C$4:C201,C202)))","v":0},null,{"$f":"IF(C202=\"\",0,IF(C202=$C$4,SUMIFS($I$4:I201,$C$4:C201,C201),SUMIFS($I$4:I201,$C$4:C201,C202)))","v":0},0]
[200,null,{"$f":"IFERROR(VLOOKUP(D203,Nomenclature!$B$2:$C$196,2,0),\"\")","v":""},null,null,null,null,{"$f":"IF(C203=\"\",0,IF(SUMIFS($G$5:G203,$C$5:C203,C203)-SUMIFS($I$4:I202,$C$4:C202,C203)<0,0,SUMIFS($G$5:G203,$C$5:C203,C203)-SUMIFS($I$4:I202,$C$4:C202,C203)))","v":0},null,{"$f":"IF(C203=\"\",0,IF(C203=$C$4,SUMIFS($I$4:I202,$C$4:C202,C202),SUMIFS($I$4:I202,$C$4:C202,C203)))","v":0},0]

{"sheet":"24000","index":10,"n_rows":203,"n_cols":44,"rows_kept":203,"cut":false,"hidden":false,"merged":[[50,23,50,24],[44,14,45,18],[44,22,45,26],[44,29,44,30],[46,14,47,18],[46,22,47,26],[47,29,47,30],[50,15,50,16],[33,14,33,17],[34,14,37,41],[39,14,39,17],[39,18,40,41],[42,14,42,27],[42,28,42,41],[28,38,29,41],[30,14,31,17],[30,18,31,21],[30,22,31,25],[30,26,31,29],[30,30,31,33],[30,34,31,37],[30,38,31,41],[28,14,29,17],[28,18,29,21],[28,22,29,25],[28,26,29,29],[28,30,29,33],[28,34,29,37],[19,14,19,15],[26,38,27,41],[20,22,20,32],[21,18,21,21],[21,22,21,32],[22,18,22,21],[22,22,22,32],[23,17,25,41],[20,18,20,21],[26,14,27,21],[26,22,27,25],[26,26,27,29],[26,30,27,33],[26,34,27,37],[15,19,15,20],[16,14,16,18],[16,19,16,20],[14,14,14,18],[14,19,14,27],[0,13,2,15],[3,14,3,41],[3,42,58,42],[4,14,4,18],[4,19,4,27],[5,14,5,18],[5,19,5,27],[6,14,6,18],[6,19,6,27],[10,15,11,19],[10,20,11,23],[10,31,11,32],[10,33,11,38],[13,14,13,18],[13,19,13,20],[15,14,15,18],[0,11,2,11],[0,0,2,0],[0,1,2,1],[0,2,2,2],[0,3,2,3],[0,4,2,4],[0,5,1,5],[0,6,1,6],[0,7,2,7],[0,8,1,8],[0,9,2,9],[0,10,1,10]]}
["رقم\nالاستمارة","التاريخ","الترميز","الصنف / الصنف الفرعي","ملاحظات المصلحة","AP Cat",{"$f":"IF(SUM(G4:G203)-SUM(F4:F203)<0,\"نقص في توزيع الاعتمادات على الاصناف الفرعية\",\nIF(SUM(G4:G203)-SUM(F4:F203)>0,\"تجاوز في الاعتمادات الموزعة على الاصناف الفرعية\",\"AP S.Cat\"))","v":"AP S.Cat"},"AP Sous_Cat",{"$f":"IF(I3>G3,\"تجاوز في الالتزامات\",\"∑ Engagements\")","v":"∑ Engagements"},"∑ Eng Sous_Cat","Reste","السند القانوني للعنوان الرابع",null,2]
[]
[null,null,null,null,null,{"$f":"SUM(F4:F203)","v":0},{"$f":"SUM(G4:G203)","v":0},null,{"$f":"SUM(I5:I203)","v":0},null,{"$f":"SUM(K4:K104)","v":0}]
[1,"2023-03-13",{"$f":"IFERROR(VLOOKUP(D4,Nomenclature!$B$2:$C$196,2,0),\"\")","v":24000},"الإيجار","تكفل برخصة الالتزام المفتوحة لسنة 2023.",null,null,{"$f":"IF(C4=\"\",0,IF(SUMIFS($G4:G$5,$C4:C$5,C4)-SUMIFS($I3:I$4,$C3:C$4,C4)<0,0,SUMIFS($G4:G$5,$C4:C$5,C4)-SUMIFS($I3:I$4,$C3:C$4,C4)))","v":0},null,{"$f":"IF(I4=0,0,IF(C4=\"\",0,SUMIFS($I4:I$4,$C4:C$4,C4)))","v":0},{"$f":"IF(C4=\"\",0,H4-I4)","v":0},null,null,null,"الجمهورية الجزائرية الديمقراطية الشعبية"]
[2,"2023-04-01",{"$f":"IFERROR(VLOOKUP(D5,Nomenclature!$B$2:$C$196,2,0),\"\")","v":""},null,null,null,null,{"$f":"IF(C5=\"\",0,IF(SUMIFS($G$5:G5,$C$5:C5,C5)-SUMIFS($I$4:I4,$C$4:C4,C5)<0,0,SUMIFS($G$5:G5,$C$5:C5,C5)-SUMIFS($I$4:I4,$C$4:C4,C5)))","v":0},null,{"$f":"IF(C5=\"\",0,IF(C5=$C$4,SUMIFS($I$4:I4,$C$4:C4,C4),SUMIFS($I$4:I4,$C$4:C4,C5)))","v":0},0,null,null,null,"الـوزارة:",null,null,null,null,{"$f":"الواجهة!C2","v":"وزارة البيئة و الطاقات المتجددة"}]
[3,null,{"$f":"IFERROR(VLOOKUP(D6,Nomenclature!$B$2:$C$196,2,0),\"\")","v":""},null,null,null,null,{"$f":"IF(C6=\"\",0,IF(SUMIFS($G$5:G6,$C$5:C6,C6)-SUMIFS($I$4:I5,$C$4:C5,C6)<0,0,SUMIFS($G$5:G6,$C$5:C6,C6)-SUMIFS($I$4:I5,$C$4:C5,C6)))","v":0},null,{"$f":"IF(C6=\"\",0,IF(C6=$C$4,SUMIFS($I$4:I5,$C$4:C5,C5),SUMIFS($I$4:I5,$C$4:C5,C6)))","v":0},0,null,null,null,"الهيئة الإدارية:",null,null,null,null,{"$f":"الواجهة!C3","v":"مديرية البيئة لولاية المسيلة"}]
[4,null,{"$f":"IFERROR(VLOOKUP(D7,Nomenclature!$B$2:$C$196,2,0),\"\")","v":""},null,null,null,null,{"$f":"IF(C7=\"\",0,IF(SUMIFS($G$5:G7,$C$5:C7,C7)-SUMIFS($I$4:I6,$C$4:C6,C7)<0,0,SUMIFS($G$5:G7,$C$5:C7,C7)-SUMIFS($I$4:I6,$C$4:C6,C7)))","v":0},null,{"$f":"IF(C7=\"\",0,IF(C7=$C$4,SUMIFS($I$4:I6,$C$4:C6,C6),SUMIFS($I$4:I6,$C$4:C6,C7)))","v":0},0,null,null,null,"رمز الآمر بالصرف:",null,null,null,null,{"$f":"الواجهة!C4","v":"144 0 28 01"}]
[5,null,{"$f":"IFERROR(VLOOKUP(D8,Nomenclature!$B$2:$C$196,2,0),\"\")","v":""},null,null,null,null,{"$f":"IF(C8=\"\",0,IF(SUMIFS($G$5:G8,$C$5:C8,C8)-SUMIFS($I$4:I7,$C$4:C7,C8)<0,0,SUMIFS($G$5:G8,$C$5:C8,C8)-SUMIFS($I$4:I7,$C$4:C7,C8)))","v":0},null,{"$f":"IF(C8=\"\",0,IF(C8=$C$4,SUMIFS($I$4:I7,$C$4:C7,C7),SUMIFS($I$4:I7,$C$4:C7,C8)))","v":0},0,null,null,null,null,null,null,null,null,null,null,null,null,null,null,null,null,null,null,null,null,null,null,"."]
[6,null,{"$f":"IFERROR(VLOOKUP(D9,Nomenclature!$B$2:$C$196,2,0),\"\")","v":""},null,null,null,null,{"$f":"IF(C9=\"\",0,IF(SUMIFS($G$5:G9,$C$5:C9,C9)-SUMIFS($I$4:I8,$C$4:C8,C9)<0,0,SUMIFS($G$5:G9,$C$5:C9,C9)-SUMIFS($I$4:I8,$C$4:C8,C9)))","v":0},null,{"$f":"IF(C9=\"\",0,IF(C9=$C$4,SUMIFS($I$4:I8,$C$4:C8,C8),SUMIFS($I$4:I8,$C$4:C8,C9)))","v":0},0]
[7,null,{"$f":"IFERROR(VLOOKUP(D10,Nomenclature!$B$2:$C$196,2,0),\"\")","v":""},null,null,null,null,{"$f":"IF(C10=\"\",0,IF(SUMIFS($G$5:G10,$C$5:C10,C10)-SUMIFS($I$4:I9,$C$4:C9,C10)<0,0,SUMIFS($G$5:G10,$C$5:C10,C10)-SUMIFS($I$4:I9,$C$4:C9,C10)))","v":0},null,{"$f":"IF(C10=\"\",0,IF(C10=$C$4,SUMIFS($I$4:I9,$C$4:C9,C9),SUMIFS($I$4:I9,$C$4:C9,C10)))","v":0},0]
[8,null,{"$f":"IFERROR(VLOOKUP(D11,Nomenclature!$B$2:$C$196,2,0),\"\")","v":""},null,null,null,null,{"$f":"IF(C11=\"\",0,IF(SUMIFS($G$5:G11,$C$5:C11,C11)-SUMIFS($I$4:I10,$C$4:C10,C11)<0,0,SUMIFS($G$5:G11,$C$5:C11,C11)-SUMIFS($I$4:I10,$C$4:C10,C11)))","v":0},null,{"$f":"IF(C11=\"\",0,IF(C11=$C$4,SUMIFS($I$4:I10,$C$4:C10,C10),SUMIFS($I$4:I10,$C$4:C10,C11)))","v":0},0,null,null,null,null,"رقم بطاقة الالتزام:",null,null,null,null,{"$f":"IFERROR(VLOOKUP(N1,A4:L203,1,0),0)","v":2},null,null,null,null,null,null,null,null,null,null,"التاريخ:",null,{"$f":"IF(IFERROR(VLOOKUP(N1,A4:L203,2,0),0)=0,\"\",IFERROR(VLOOKUP(N1,A4:L203,2,0),0))","v":"2023-04-01"}]
[9,null,{"$f":"IFERROR(VLOOKUP(D12,Nomenclature!$B$2:$C$196,2,0),\"\")","v":""},null,null,null,null,{"$f":"IF(C12=\"\",0,IF(SUMIFS($G$5:G12,$C$5:C12,C12)-SUMIFS($I$4:I11,$C$4:C11,C12)<0,0,SUMIFS($G$5:G12,$C$5:C12,C12)-SUMIFS($I$4:I11,$C$4:C11,C12)))","v":0},null,{"$f":"IF(C12=\"\",0,IF(C12=$C$4,SUMIFS($I$4:I11,$C$4:C11,C11),SUMIFS($I$4:I11,$C$4:C11,C12)))","v":0},0]
[10,null,{"$f":"IFERROR(VLOOKUP(D13,Nomenclature!$B$2:$C$196,2,0),\"\")","v":""},null,null,null,null,{"$f":"IF(C13=\"\",0,IF(SUMIFS($G$5:G13,$C$5:C13,C13)-SUMIFS($I$4:I12,$C$4:C12,C13)<0,0,SUMIFS($G$5:G13,$C$5:C13,C13)-SUMIFS($I$4:I12,$C$4:C12,C13)))","v":0},null,{"$f":"IF(C13=\"\",0,IF(C13=$C$4,SUMIFS($I$4:I12,$C$4:C12,C12),SUMIFS($I$4:I12,$C$4:C12,C13)))","v":0},0]
[11,null,{"$f":"IFERROR(VLOOKUP(D14,Nomenclature!$B$2:$C$196,2,0),\"\")","v":""},null,null,null,null,{"$f":"IF(C14=\"\",0,IF(SUMIFS($G$5:G14,$C$5:C14,C14)-SUMIFS($I$4:I13,$C$4:C13,C14)<0,0,SUMIFS($G$5:G14,$C$5:C14,C14)-SUMIFS($I$4:I13,$C$4:C13,C14)))","v":0},null,{"$f":"IF(C14=\"\",0,IF(C14=$C$4,SUMIFS($I$4:I13,$C$4:C13,C13),SUMIFS($I$4:I13,$C$4:C13,C14)))","v":0},0,null,null,null,"رمز البرنــامج:",null,null,null,null,{"$f":"الواجهة!C7","v":"116"}]
[12,null,{"$f":"IFERROR(VLOOKUP(D15,Nomenclature!$B$2:$C$196,2,0),\"\")","v":""},null,null,null,null,{"$f":"IF(C15=\"\",0,IF(SUMIFS($G$5:G15,$C$5:C15,C15)-SUMIFS($I$4:I14,$C$4:C14,C15)<0,0,SUMIFS($G$5:G15,$C$5:C15,C15)-SUMIFS($I$4:I14,$C$4:C14,C15)))","v":0},null,{"$f":"IF(C15=\"\",0,IF(C15=$C$4,SUMIFS($I$4:I14,$C$4:C14,C14),SUMIFS($I$4:I14,$C$4:C14,C15)))","v":0},0,null,null,null,"رمز النشــاط:",null,null,null,null,{"$f":"الواجهة!C6&\" \"&الواجهة!C7&\" \"&الواجهة!C10&\" \"&الواجهة!C8&\" \"&الواجهة!C9&\" \"&الواجهة!C11","v":"030 116 02 2001 000 028"}]
[13,null,{"$f":"IFERROR(VLOOKUP(D16,Nomenclature!$B$2:$C$196,2,0),\"\")","v":""},null,null,null,null,{"$f":"IF(C16=\"\",0,IF(SUMIFS($G$5:G16,$C$5:C16,C16)-SUMIFS($I$4:I15,$C$4:C15,C16)<0,0,SUMIFS($G$5:G16,$C$5:C16,C16)-SUMIFS($I$4:I15,$C$4:C15,C16)))","v":0},null,{"$f":"IF(C16=\"\",0,IF(C16=$C$4,SUMIFS($I$4:I15,$C$4:C15,C15),SUMIFS($I$4:I15,$C$4:C15,C16)))","v":0},0,null,null,null,"رمز النشــاط الفرعي:",null,null,null,null,{"$f":"الواجهة!C9","v":"000"}]
[14,null,{"$f":"IFERROR(VLOOKUP(D17,Nomenclature!$B$2:$C$196,2,0),\"\")","v":""},null,null,null,null,{"$f":"IF(C17=\"\",0,IF(SUMIFS($G$5:G17,$C$5:C17,C17)-SUMIFS($I$4:I16,$C$4:C16,C17)<0,0,SUMIFS($G$5:G17,$C$5:C17,C17)-SUMIFS($I$4:I16,$C$4:C16,C17)))","v":0},null,{"$f":"IF(C17=\"\",0,IF(C17=$C$4,SUMIFS($I$4:I16,$C$4:C16,C16),SUMIFS($I$4:I16,$C$4:C16,C17)))","v":0},0,null,null,null,"رمز البرنـامج الفرعي:",null,null,null,null,{"$f":"الواجهة!C10","v":"02"}]
[15,null,{"$f":"IFERROR(VLOOKUP(D18,Nomenclature!$B$2:$C$196,2,0),\"\")","v":""},null,null,null,null,{"$f":"IF(C18=\"\",0,IF(SUMIFS($G$5:G18,$C$5:C18,C18)-SUMIFS($I$4:I17,$C$4:C17,C18)<0,0,SUMIFS($G$5:G18,$C$5:C18,C18)-SUMIFS($I$4:I17,$C$4:C17,C18)))","v":0},null,{"$f":"IF(C18=\"\",0,IF(C18=$C$4,SUMIFS($I$4:I17,$C$4:C17,C17),SUMIFS($I$4:I17,$C$4:C17,C18)))","v":0},0,null,null,null,null,null,null,null,null,null,null,null,null,null,null,null,null,null,null,null,null,null,null,null,null,null,null,null,null,null,null,null,null,"\n\n\n"]
[16,null,{"$f":"IFERROR(VLOOKUP(D19,Nomenclature!$B$2:$C$196,2,0),\"\")","v":""},null,null,null,null,{"$f":"IF(C19=\"\",0,IF(SUMIFS($G$5:G19,$C$5:C19,C19)-SUMIFS($I$4:I18,$C$4:C18,C19)<0,0,SUMIFS($G$5:G19,$C$5:C19,C19)-SUMIFS($I$4:I18,$C$4:C18,C19)))","v":0},null,{"$f":"IF(C19=\"\",0,IF(C19=$C$4,SUMIFS($I$4:I18,$C$4:C18,C18),SUMIFS($I$4:I18,$C$4:C18,C19)))","v":0},0]
[17,null,{"$f":"IFERROR(VLOOKUP(D20,Nomenclature!$B$2:$C$196,2,0),\"\")","v":""},null,null,null,null,{"$f":"IF(C20=\"\",0,IF(SUMIFS($G$5:G20,$C$5:C20,C20)-SUMIFS($I$4:I19,$C$4:C19,C20)<0,0,SUMIFS($G$5:G20,$C$5:C20,C20)-SUMIFS($I$4:I19,$C$4:C19,C20)))","v":0},null,{"$f":"IF(C20=\"\",0,IF(C20=$C$4,SUMIFS($I$4:I19,$C$4:C19,C19),SUMIFS($I$4:I19,$C$4:C19,C20)))","v":0},0,null,null,null,"العنوان:"]
[18,null,{"$f":"IFERROR(VLOOKUP(D21,Nomenclature!$B$2:$C$196,2,0),\"\")","v":""},null,null,null,null,{"$f":"IF(C21=\"\",0,IF(SUMIFS($G$5:G21,$C$5:C21,C21)-SUMIFS($I$4:I20,$C$4:C20,C21)<0,0,SUMIFS($G$5:G21,$C$5:C21,C21)-SUMIFS($I$4:I20,$C$4:C20,C21)))","v":0},null,{"$f":"IF(C21=\"\",0,IF(C21=$C$4,SUMIFS($I$4:I20,$C$4:C20,C20),SUMIFS($I$4:I20,$C$4:C20,C21)))","v":0},0,null,null,null,null,null,{"$f":"IF(C4<20000,\"X\",\"\")","v":""},null,"العنوان الأول:",null,null,null,"نفقات المستخدمين"]
[19,null,{"$f":"IFERROR(VLOOKUP(D22,Nomenclature!$B$2:$C$196,2,0),\"\")","v":""},null,null,null,null,{"$f":"IF(C22=\"\",0,IF(SUMIFS($G$5:G22,$C$5:C22,C22)-SUMIFS($I$4:I21,$C$4:C21,C22)<0,0,SUMIFS($G$5:G22,$C$5:C22,C22)-SUMIFS($I$4:I21,$C$4:C21,C22)))","v":0},null,{"$f":"IF(C22=\"\",0,IF(C22=$C$4,SUMIFS($I$4:I21,$C$4:C21,C21),SUMIFS($I$4:I21,$C$4:C21,C22)))","v":0},0,null,null,null,null,null,{"$f":"IF(AND(C4>19999,C4<40000),\"X\",\"\")","v":"X"},null,"العنوان الثاني:",null,null,null,"نفقات تسيير المصالح"]
[20,null,{"$f":"IFERROR(VLOOKUP(D23,Nomenclature!$B$2:$C$196,2,0),\"\")","v":""},null,null,null,null,{"$f":"IF(C23=\"\",0,IF(SUMIFS($G$5:G23,$C$5:C23,C23)-SUMIFS($I$4:I22,$C$4:C22,C23)<0,0,SUMIFS($G$5:G23,$C$5:C23,C23)-SUMIFS($I$4:I22,$C$4:C22,C23)))","v":0},null,{"$f":"IF(C23=\"\",0,IF(C23=$C$4,SUMIFS($I$4:I22,$C$4:C22,C22),SUMIFS($I$4:I22,$C$4:C22,C23)))","v":0},0,null,null,null,null,null,{"$f":"IF(AND(Q21=\"\",Q22=\"\"),\"X\",\"\")","v":""},null,"العنوان الرابع:",null,null,null,"نفقات التحويل"]
[21,null,{"$f":"IFERROR(VLOOKUP(D24,Nomenclature!$B$2:$C$196,2,0),\"\")","v":""},null,null,null,null,{"$f":"IF(C24=\"\",0,IF(SUMIFS($G$5:G24,$C$5:C24,C24)-SUMIFS($I$4:I23,$C$4:C23,C24)<0,0,SUMIFS($G$5:G24,$C$5:C24,C24)-SUMIFS($I$4:I23,$C$4:C23,C24)))","v":0},null,{"$f":"IF(C24=\"\",0,IF(C24=$C$4,SUMIFS($I$4:I23,$C$4:C23,C23),SUMIFS($I$4:I23,$C$4:C23,C24)))","v":0},0,null,null,null,null,null,null,{"$f":"IF(VLOOKUP(N1,A4:L203,12,0)=\"\",\"- - - - - - - - - - - - - - - - - - - - - - - - - - - - - - - - - - - - - - - - - - - - - - - / / / - - - - - - - - - - - - - - - - - - - - - - - - - - - - - - - - - - - - - - - - - - - - - - -\"& CHAR(10)&\"- - - - - - - - - - - - - - - - - - - - - - - - - - - - - - - - - - - - - - - - - - - - - - - / / / - - - - - - - - - - - - - - - - - - - - - - - - - - - - - - - - - - - - - - - - - - - - - - -\",VLOOKUP(N1,A4:L203,12,0))","v":"- - - - - - - - - - - - - - - - - - - - - - - - - - - - - - - - - - - - - - - - - - - - - - - / / / - - - - - - - - - - - - - - - - - - - - - - - - - - - - - - - - - - - - - - - - - - - - - - -\n- - - - - - - - - - - - - - - - - - - - - - - - - - - - - - - - - - - - - - - - - - - - - - - / / / - - - - - - - - - - - - - - - - - - - - - - - - - - - - - - - - - - - - - - - - - - - - - - -"}]
[22,null,{"$f":"IFERROR(VLOOKUP(D25,Nomenclature!$B$2:$C$196,2,0),\"\")","v":""},null,null,null,null,{"$f":"IF(C25=\"\",0,IF(SUMIFS($G$5:G25,$C$5:C25,C25)-SUMIFS($I$4:I24,$C$4:C24,C25)<0,0,SUMIFS($G$5:G25,$C$5:C25,C25)-SUMIFS($I$4:I24,$C$4:C24,C25)))","v":0},null,{"$f":"IF(C25=\"\",0,IF(C25=$C$4,SUMIFS($I$4:I24,$C$4:C24,C24),SUMIFS($I$4:I24,$C$4:C24,C25)))","v":0},0]
[23,null,{"$f":"IFERROR(VLOOKUP(D26,Nomenclature!$B$2:$C$196,2,0),\"\")","v":""},null,null,null,null,{"$f":"IF(C26=\"\",0,IF(SUMIFS($G$5:G26,$C$5:C26,C26)-SUMIFS($I$4:I25,$C$4:C25,C26)<0,0,SUMIFS($G$5:G26,$C$5:C26,C26)-SUMIFS($I$4:I25,$C$4:C25,C26)))","v":0},null,{"$f":"IF(C26=\"\",0,IF(C26=$C$4,SUMIFS($I$4:I25,$C$4:C25,C25),SUMIFS($I$4:I25,$C$4:C25,C26)))","v":0},0]
[24,null,{"$f":"IFERROR(VLOOKUP(D27,Nomenclature!$B$2:$C$196,2,0),\"\")","v":""},null,null,null,null,{"$f":"IF(C27=\"\",0,IF(SUMIFS($G$5:G27,$C$5:C27,C27)-SUMIFS($I$4:I26,$C$4:C26,C27)<0,0,SUMIFS($G$5:G27,$C$5:C27,C27)-SUMIFS($I$4:I26,$C$4:C26,C27)))","v":0},null,{"$f":"IF(C27=\"\",0,IF(C27=$C$4,SUMIFS($I$4:I26,$C$4:C26,C26),SUMIFS($I$4:I26,$C$4:C26,C27)))","v":0},0,null,null,null,"الصنف / الصنف الفرعي",null,null,null,null,null,null,null,"رخصة الالتزام\nالمفتوحة/المعدلة",null,null,null,"مجموع الالتزامات السابقة",null,null,null,"الرصيد\nالأولي",null,null,null,"الالتزام\nالمقترح",null,null,null,"الرصيد المتبقى"]
[25,null,{"$f":"IFERROR(VLOOKUP(D28,Nomenclature!$B$2:$C$196,2,0),\"\")","v":""},null,null,null,null,{"$f":"IF(C28=\"\",0,IF(SUMIFS($G$5:G28,$C$5:C28,C28)-SUMIFS($I$4:I27,$C$4:C27,C28)<0,0,SUMIFS($G$5:G28,$C$5:C28,C28)-SUMIFS($I$4:I27,$C$4:C27,C28)))","v":0},null,{"$f":"IF(C28=\"\",0,IF(C28=$C$4,SUMIFS($I$4:I27,$C$4:C27,C27),SUMIFS($I$4:I27,$C$4:C27,C28)))","v":0},0]
[26,null,{"$f":"IFERROR(VLOOKUP(D29,Nomenclature!$B$2:$C$196,2,0),\"\")","v":""},null,null,null,null,{"$f":"IF(C29=\"\",0,IF(SUMIFS($G$5:G29,$C$5:C29,C29)-SUMIFS($I$4:I28,$C$4:C28,C29)<0,0,SUMIFS($G$5:G29,$C$5:C29,C29)-SUMIFS($I$4:I28,$C$4:C28,C29)))","v":0},null,{"$f":"IF(C29=\"\",0,IF(C29=$C$4,SUMIFS($I$4:I28,$C$4:C28,C28),SUMIFS($I$4:I28,$C$4:C28,C29)))","v":0},0,null,null,null,"الصنف",null,null,null,{"$f":"C4","v":24000},null,null,null,{"$f":"SUM($F$4:INDIRECT(\"f\"&N1+3))","v":0},null,null,null,{"$f":"SUM($I$4:INDIRECT(\"i\"&N1+2))","v":0},null,null,null,{"$f":"W29-AA29","v":0},null,null,null,{"$f":"IF(S31=\"\",0,VLOOKUP(N1,A4:L103,9,0))","v":0},null,null,null,{"$f":"IF((AE29-AI29)<0,\"رصيد غير كاف\",AE29-AI29)","v":0}]
[27,null,{"$f":"IFERROR(VLOOKUP(D30,Nomenclature!$B$2:$C$196,2,0),\"\")","v":""},null,null,null,null,{"$f":"IF(C30=\"\",0,IF(SUMIFS($G$5:G30,$C$5:C30,C30)-SUMIFS($I$4:I29,$C$4:C29,C30)<0,0,SUMIFS($G$5:G30,$C$5:C30,C30)-SUMIFS($I$4:I29,$C$4:C29,C30)))","v":0},null,{"$f":"IF(C30=\"\",0,IF(C30=$C$4,SUMIFS($I$4:I29,$C$4:C29,C29),SUMIFS($I$4:I29,$C$4:C29,C30)))","v":0},0]
[28,null,{"$f":"IFERROR(VLOOKUP(D31,Nomenclature!$B$2:$C$196,2,0),\"\")","v":""},null,null,null,null,{"$f":"IF(C31=\"\",0,IF(SUMIFS($G$5:G31,$C$5:C31,C31)-SUMIFS($I$4:I30,$C$4:C30,C31)<0,0,SUMIFS($G$5:G31,$C$5:C31,C31)-SUMIFS($I$4:I30,$C$4:C30,C31)))","v":0},null,{"$f":"IF(C31=\"\",0,IF(C31=$C$4,SUMIFS($I$4:I30,$C$4:C30,C30),SUMIFS($I$4:I30,$C$4:C30,C31)))","v":0},0,null,null,null,"الصنف الفرعي",null,null,null,{"$f":"IF(IFERROR(VLOOKUP(N1,A4:L103,3,0),\"انتبه خطأ\")=S29,\"\",IFERROR(VLOOKUP(N1,A4:L103,3,0),\"انتبه خطأ\"))","v":""},null,null,null,{"$f":"IF(S31=\"\",\"\",VLOOKUP(N1,A4:L103,8,0))","v":""},null,null,null,{"$f":"IF(S31=\"\",\"\",VLOOKUP(N1,A4:L103,10,0))","v":""},null,null,null,{"$f":"IF(S31=\"\",\"\",W31-AA31)","v":""},null,null,null,{"$f":"IF(S31=\"\",\"\",VLOOKUP(N1,A4:L103,9,0))","v":""},null,null,null,{"$f":"IF(S31=\"\",\"\",IF((AE31-AI31)<0,\"رصيد غير كاف\",AE31-AI31))","v":""}]
[29,null,{"$f":"IFERROR(VLOOKUP(D32,Nomenclature!$B$2:$C$196,2,0),\"\")","v":""},null,null,null,null,{"$f":"IF(C32=\"\",0,IF(SUMIFS($G$5:G32,$C$5:C32,C32)-SUMIFS($I$4:I31,$C$4:C31,C32)<0,0,SUMIFS($G$5:G32,$C$5:C32,C32)-SUMIFS($I$4:I31,$C$4:C31,C32)))","v":0},null,{"$f":"IF(C32=\"\",0,IF(C32=$C$4,SUMIFS($I$4:I31,$C$4:C31,C31),SUMIFS($I$4:I31,$C$4:C31,C32)))","v":0},0]
[30,null,{"$f":"IFERROR(VLOOKUP(D33,Nomenclature!$B$2:$C$196,2,0),\"\")","v":""},null,null,null,null,{"$f":"IF(C33=\"\",0,IF(SUMIFS($G$5:G33,$C$5:C33,C33)-SUMIFS($I$4:I32,$C$4:C32,C33)<0,0,SUMIFS($G$5:G33,$C$5:C33,C33)-SUMIFS($I$4:I32,$C$4:C32,C33)))","v":0},null,{"$f":"IF(C33=\"\",0,IF(C33=$C$4,SUMIFS($I$4:I32,$C$4:C32,C32),SUMIFS($I$4:I32,$C$4:C32,C33)))","v":0},0]
[31,null,{"$f":"IFERROR(VLOOKUP(D34,Nomenclature!$B$2:$C$196,2,0),\"\")","v":""},null,null,null,null,{"$f":"IF(C34=\"\",0,IF(SUMIFS($G$5:G34,$C$5:C34,C34)-SUMIFS($I$4:I33,$C$4:C33,C34)<0,0,SUMIFS($G$5:G34,$C$5:C34,C34)-SUMIFS($I$4:I33,$C$4:C33,C34)))","v":0},null,{"$f":"IF(C34=\"\",0,IF(C34=$C$4,SUMIFS($I$4:I33,$C$4:C33,C33),SUMIFS($I$4:I33,$C$4:C33,C34)))","v":0},0,null,null,null,"موضوع الالتزام:"]
[32,null,{"$f":"IFERROR(VLOOKUP(D35,Nomenclature!$B$2:$C$196,2,0),\"\")","v":""},null,null,null,null,{"$f":"IF(C35=\"\",0,IF(SUMIFS($G$5:G35,$C$5:C35,C35)-SUMIFS($I$4:I34,$C$4:C34,C35)<0,0,SUMIFS($G$5:G35,$C$5:C35,C35)-SUMIFS($I$4:I34,$C$4:C34,C35)))","v":0},null,{"$f":"IF(C35=\"\",0,IF(C35=$C$4,SUMIFS($I$4:I34,$C$4:C34,C34),SUMIFS($I$4:I34,$C$4:C34,C35)))","v":0},0,null,null,null,{"$f":"IF(VLOOKUP(N1,A4:L203,5,0)=0,\"\",IFERROR(VLOOKUP(N1,A4:L203,5,0),\"انتبه خطأ\"))","v":""}]
[33,null,{"$f":"IFERROR(VLOOKUP(D36,Nomenclature!$B$2:$C$196,2,0),\"\")","v":""},null,null,null,null,{"$f":"IF(C36=\"\",0,IF(SUMIFS($G$5:G36,$C$5:C36,C36)-SUMIFS($I$4:I35,$C$4:C35,C36)<0,0,SUMIFS($G$5:G36,$C$5:C36,C36)-SUMIFS($I$4:I35,$C$4:C35,C36)))","v":0},null,{"$f":"IF(C36=\"\",0,IF(C36=$C$4,SUMIFS($I$4:I35,$C$4:C35,C35),SUMIFS($I$4:I35,$C$4:C35,C36)))","v":0},0]
[34,null,{"$f":"IFERROR(VLOOKUP(D37,Nomenclature!$B$2:$C$196,2,0),\"\")","v":""},null,null,null,null,{"$f":"IF(C37=\"\",0,IF(SUMIFS($G$5:G37,$C$5:C37,C37)-SUMIFS($I$4:I36,$C$4:C36,C37)<0,0,SUMIFS($G$5:G37,$C$5:C37,C37)-SUMIFS($I$4:I36,$C$4:C36,C37)))","v":0},null,{"$f":"IF(C37=\"\",0,IF(C37=$C$4,SUMIFS($I$4:I36,$C$4:C36,C36),SUMIFS($I$4:I36,$C$4:C36,C37)))","v":0},0]
[35,null,{"$f":"IFERROR(VLOOKUP(D38,Nomenclature!$B$2:$C$196,2,0),\"\")","v":""},null,null,null,null,{"$f":"IF(C38=\"\",0,IF(SUMIFS($G$5:G38,$C$5:C38,C38)-SUMIFS($I$4:I37,$C$4:C37,C38)<0,0,SUMIFS($G$5:G38,$C$5:C38,C38)-SUMIFS($I$4:I37,$C$4:C37,C38)))","v":0},null,{"$f":"IF(C38=\"\",0,IF(C38=$C$4,SUMIFS($I$4:I37,$C$4:C37,C37),SUMIFS($I$4:I37,$C$4:C37,C38)))","v":0},0]
[36,null,{"$f":"IFERROR(VLOOKUP(D39,Nomenclature!$B$2:$C$196,2,0),\"\")","v":""},null,null,null,null,{"$f":"IF(C39=\"\",0,IF(SUMIFS($G$5:G39,$C$5:C39,C39)-SUMIFS($I$4:I38,$C$4:C38,C39)<0,0,SUMIFS($G$5:G39,$C$5:C39,C39)-SUMIFS($I$4:I38,$C$4:C38,C39)))","v":0},null,{"$f":"IF(C39=\"\",0,IF(C39=$C$4,SUMIFS($I$4:I38,$C$4:C38,C38),SUMIFS($I$4:I38,$C$4:C38,C39)))","v":0},0]
[37,null,{"$f":"IFERROR(VLOOKUP(D40,Nomenclature!$B$2:$C$196,2,0),\"\")","v":""},null,null,null,null,{"$f":"IF(C40=\"\",0,IF(SUMIFS($G$5:G40,$C$5:C40,C40)-SUMIFS($I$4:I39,$C$4:C39,C40)<0,0,SUMIFS($G$5:G40,$C$5:C40,C40)-SUMIFS($I$4:I39,$C$4:C39,C40)))","v":0},null,{"$f":"IF(C40=\"\",0,IF(C40=$C$4,SUMIFS($I$4:I39,$C$4:C39,C39),SUMIFS($I$4:I39,$C$4:C39,C40)))","v":0},0,null,null,null,"المبلغ بالحروف:",null,null,null,{"$f":"IFERROR(arretera(AI31),\"\")","v":""}]
[38,null,{"$f":"IFERROR(VLOOKUP(D41,Nomenclature!$B$2:$C$196,2,0),\"\")","v":""},null,null,null,null,{"$f":"IF(C41=\"\",0,IF(SUMIFS($G$5:G41,$C$5:C41,C41)-SUMIFS($I$4:I40,$C$4:C40,C41)<0,0,SUMIFS($G$5:G41,$C$5:C41,C41)-SUMIFS($I$4:I40,$C$4:C40,C41)))","v":0},null,{"$f":"IF(C41=\"\",0,IF(C41=$C$4,SUMIFS($I$4:I40,$C$4:C40,C40),SUMIFS($I$4:I40,$C$4:C40,C41)))","v":0},0]
[39,null,{"$f":"IFERROR(VLOOKUP(D42,Nomenclature!$B$2:$C$196,2,0),\"\")","v":""},null,null,null,null,{"$f":"IF(C42=\"\",0,IF(SUMIFS($G$5:G42,$C$5:C42,C42)-SUMIFS($I$4:I41,$C$4:C41,C42)<0,0,SUMIFS($G$5:G42,$C$5:C42,C42)-SUMIFS($I$4:I41,$C$4:C41,C42)))","v":0},null,{"$f":"IF(C42=\"\",0,IF(C42=$C$4,SUMIFS($I$4:I41,$C$4:C41,C41),SUMIFS($I$4:I41,$C$4:C41,C42)))","v":0},0]
[40,null,{"$f":"IFERROR(VLOOKUP(D43,Nomenclature!$B$2:$C$196,2,0),\"\")","v":""},null,null,null,null,{"$f":"IF(C43=\"\",0,IF(SUMIFS($G$5:G43,$C$5:C43,C43)-SUMIFS($I$4:I42,$C$4:C42,C43)<0,0,SUMIFS($G$5:G43,$C$5:C43,C43)-SUMIFS($I$4:I42,$C$4:C42,C43)))","v":0},null,{"$f":"IF(C43=\"\",0,IF(C43=$C$4,SUMIFS($I$4:I42,$C$4:C42,C42),SUMIFS($I$4:I42,$C$4:C42,C43)))","v":0},0,null,null,null,"إطار مخصص للمراقب الميزانياتي",null,null,null,null,null,null,null,null,null,null,null,null,null,"إطار مخصص للآمر بالصرف"]
[41,null,{"$f":"IFERROR(VLOOKUP(D44,Nomenclature!$B$2:$C$196,2,0),\"\")","v":""},null,null,null,null,{"$f":"IF(C44=\"\",0,IF(SUMIFS($G$5:G44,$C$5:C44,C44)-SUMIFS($I$4:I43,$C$4:C43,C44)<0,0,SUMIFS($G$5:G44,$C$5:C44,C44)-SUMIFS($I$4:I43,$C$4:C43,C44)))","v":0},null,{"$f":"IF(C44=\"\",0,IF(C44=$C$4,SUMIFS($I$4:I43,$C$4:C43,C43),SUMIFS($I$4:I43,$C$4:C43,C44)))","v":0},0]
[42,null,{"$f":"IFERROR(VLOOKUP(D45,Nomenclature!$B$2:$C$196,2,0),\"\")","v":""},null,null,null,null,{"$f":"IF(C45=\"\",0,IF(SUMIFS($G$5:G45,$C$5:C45,C45)-SUMIFS($I$4:I44,$C$4:C44,C45)<0,0,SUMIFS($G$5:G45,$C$5:C45,C45)-SUMIFS($I$4:I44,$C$4:C44,C45)))","v":0},null,{"$f":"IF(C45=\"\",0,IF(C45=$C$4,SUMIFS($I$4:I44,$C$4:C44,C44),SUMIFS($I$4:I44,$C$4:C44,C45)))","v":0},0,null,null,null,"رقم التأشيرة:",null,null,null,null,null,null,null,null,null,null,null,null,null,null,"ختم"]
[43,null,{"$f":"IFERROR(VLOOKUP(D46,Nomenclature!$B$2:$C$196,2,0),\"\")","v":""},null,null,null,null,{"$f":"IF(C46=\"\",0,IF(SUMIFS($G$5:G46,$C$5:C46,C46)-SUMIFS($I$4:I45,$C$4:C45,C46)<0,0,SUMIFS($G$5:G46,$C$5:C46,C46)-SUMIFS($I$4:I45,$C$4:C45,C46)))","v":0},null,{"$f":"IF(C46=\"\",0,IF(C46=$C$4,SUMIFS($I$4:I45,$C$4:C45,C45),SUMIFS($I$4:I45,$C$4:C45,C46)))","v":0},0]
[44,null,{"$f":"IFERROR(VLOOKUP(D47,Nomenclature!$B$2:$C$196,2,0),\"\")","v":""},null,null,null,null,{"$f":"IF(C47=\"\",0,IF(SUMIFS($G$5:G47,$C$5:C47,C47)-SUMIFS($I$4:I46,$C$4:C46,C47)<0,0,SUMIFS($G$5:G47,$C$5:C47,C47)-SUMIFS($I$4:I46,$C$4:C46,C47)))","v":0},null,{"$f":"IF(C47=\"\",0,IF(C47=$C$4,SUMIFS($I$4:I46,$C$4:C46,C46),SUMIFS($I$4:I46,$C$4:C46,C47)))","v":0},0,null,null,null,"تاريخ التأشيرة:"]
[45,null,{"$f":"IFERROR(VLOOKUP(D48,Nomenclature!$B$2:$C$196,2,0),\"\")","v":""},null,null,null,null,{"$f":"IF(C48=\"\",0,IF(SUMIFS($G$5:G48,$C$5:C48,C48)-SUMIFS($I$4:I47,$C$4:C47,C48)<0,0,SUMIFS($G$5:G48,$C$5:C48,C48)-SUMIFS($I$4:I47,$C$4:C47,C48)))","v":0},null,{"$f":"IF(C48=\"\",0,IF(C48=$C$4,SUMIFS($I$4:I47,$C$4:C47,C47),SUMIFS($I$4:I47,$C$4:C47,C48)))","v":0},0,null,null,null,null,null,null,null,null,null,null,null,null,null,null,null,null,null,null,"امضاء"]
[46,null,{"$f":"IFERROR(VLOOKUP(D49,Nomenclature!$B$2:$C$196,2,0),\"\")","v":""},null,null,null,null,{"$f":"IF(C49=\"\",0,IF(SUMIFS($G$5:G49,$C$5:C49,C49)-SUMIFS($I$4:I48,$C$4:C48,C49)<0,0,SUMIFS($G$5:G49,$C$5:C49,C49)-SUMIFS($I$4:I48,$C$4:C48,C49)))","v":0},null,{"$f":"IF(C49=\"\",0,IF(C49=$C$4,SUMIFS($I$4:I48,$C$4:C48,C48),SUMIFS($I$4:I48,$C$4:C48,C49)))","v":0},0]
[47,null,{"$f":"IFERROR(VLOOKUP(D50,Nomenclature!$B$2:$C$196,2,0),\"\")","v":""},null,null,null,null,{"$f":"IF(C50=\"\",0,IF(SUMIFS($G$5:G50,$C$5:C50,C50)-SUMIFS($I$4:I49,$C$4:C49,C50)<0,0,SUMIFS($G$5:G50,$C$5:C50,C50)-SUMIFS($I$4:I49,$C$4:C49,C50)))","v":0},null,{"$f":"IF(C50=\"\",0,IF(C50=$C$4,SUMIFS($I$4:I49,$C$4:C49,C49),SUMIFS($I$4:I49,$C$4:C49,C50)))","v":0},0]
[48,null,{"$f":"IFERROR(VLOOKUP(D51,Nomenclature!$B$2:$C$196,2,0),\"\")","v":""},null,null,null,null,{"$f":"IF(C51=\"\",0,IF(SUMIFS($G$5:G51,$C$5:C51,C51)-SUMIFS($I$4:I50,$C$4:C50,C51)<0,0,SUMIFS($G$5:G51,$C$5:C51,C51)-SUMIFS($I$4:I50,$C$4:C50,C51)))","v":0},null,{"$f":"IF(C51=\"\",0,IF(C51=$C$4,SUMIFS($I$4:I50,$C$4:C50,C50),SUMIFS($I$4:I50,$C$4:C50,C51)))","v":0},0,null,null,null,null,{"$f":"AD48","v":"امضاء"},null,null,null,null,null,null,null,{"$f":"AD45","v":"ختم"}]
[49,null,{"$f":"IFERROR(VLOOKUP(D52,Nomenclature!$B$2:$C$196,2,0),\"\")","v":""},null,null,null,null,{"$f":"IF(C52=\"\",0,IF(SUMIFS($G$5:G52,$C$5:C52,C52)-SUMIFS($I$4:I51,$C$4:C51,C52)<0,0,SUMIFS($G$5:G52,$C$5:C52,C52)-SUMIFS($I$4:I51,$C$4:C51,C52)))","v":0},null,{"$f":"IF(C52=\"\",0,IF(C52=$C$4,SUMIFS($I$4:I51,$C$4:C51,C51),SUMIFS($I$4:I51,$C$4:C51,C52)))","v":0},0]
[50,null,{"$f":"IFERROR(VLOOKUP(D53,Nomenclature!$B$2:$C$196,2,0),\"\")","v":""},null,null,null,null,{"$f":"IF(C53=\"\",0,IF(SUMIFS($G$5:G53,$C$5:C53,C53)-SUMIFS($I$4:I52,$C$4:C52,C53)<0,0,SUMIFS($G$5:G53,$C$5:C53,C53)-SUMIFS($I$4:I52,$C$4:C52,C53)))","v":0},null,{"$f":"IF(C53=\"\",0,IF(C53=$C$4,SUMIFS($I$4:I52,$C$4:C52,C52),SUMIFS($I$4:I52,$C$4:C52,C53)))","v":0},0]
[51,null,{"$f":"IFERROR(VLOOKUP(D54,Nomenclature!$B$2:$C$196,2,0),\"\")","v":""},null,null,null,null,{"$f":"IF(C54=\"\",0,IF(SUMIFS($G$5:G54,$C$5:C54,C54)-SUMIFS($I$4:I53,$C$4:C53,C54)<0,0,SUMIFS($G$5:G54,$C$5:C54,C54)-SUMIFS($I$4:I53,$C$4:C53,C54)))","v":0},null,{"$f":"IF(C54=\"\",0,IF(C54=$C$4,SUMIFS($I$4:I53,$C$4:C53,C53),SUMIFS($I$4:I53,$C$4:C53,C54)))","v":0},0]
[52,null,{"$f":"IFERROR(VLOOKUP(D55,Nomenclature!$B$2:$C$196,2,0),\"\")","v":""},null,null,null,null,{"$f":"IF(C55=\"\",0,IF(SUMIFS($G$5:G55,$C$5:C55,C55)-SUMIFS($I$4:I54,$C$4:C54,C55)<0,0,SUMIFS($G$5:G55,$C$5:C55,C55)-SUMIFS($I$4:I54,$C$4:C54,C55)))","v":0},null,{"$f":"IF(C55=\"\",0,IF(C55=$C$4,SUMIFS($I$4:I54,$C$4:C54,C54),SUMIFS($I$4:I54,$C$4:C54,C55)))","v":0},0]
[53,null,{"$f":"IFERROR(VLOOKUP(D56,Nomenclature!$B$2:$C$196,2,0),\"\")","v":""},null,null,null,null,{"$f":"IF(C56=\"\",0,IF(SUMIFS($G$5:G56,$C$5:C56,C56)-SUMIFS($I$4:I55,$C$4:C55,C56)<0,0,SUMIFS($G$5:G56,$C$5:C56,C56)-SUMIFS($I$4:I55,$C$4:C55,C56)))","v":0},null,{"$f":"IF(C56=\"\",0,IF(C56=$C$4,SUMIFS($I$4:I55,$C$4:C55,C55),SUMIFS($I$4:I55,$C$4:C55,C56)))","v":0},0]
[54,null,{"$f":"IFERROR(VLOOKUP(D57,Nomenclature!$B$2:$C$196,2,0),\"\")","v":""},null,null,null,null,{"$f":"IF(C57=\"\",0,IF(SUMIFS($G$5:G57,$C$5:C57,C57)-SUMIFS($I$4:I56,$C$4:C56,C57)<0,0,SUMIFS($G$5:G57,$C$5:C57,C57)-SUMIFS($I$4:I56,$C$4:C56,C57)))","v":0},null,{"$f":"IF(C57=\"\",0,IF(C57=$C$4,SUMIFS($I$4:I56,$C$4:C56,C56),SUMIFS($I$4:I56,$C$4:C56,C57)))","v":0},0]
[55,null,{"$f":"IFERROR(VLOOKUP(D58,Nomenclature!$B$2:$C$196,2,0),\"\")","v":""},null,null,null,null,{"$f":"IF(C58=\"\",0,IF(SUMIFS($G$5:G58,$C$5:C58,C58)-SUMIFS($I$4:I57,$C$4:C57,C58)<0,0,SUMIFS($G$5:G58,$C$5:C58,C58)-SUMIFS($I$4:I57,$C$4:C57,C58)))","v":0},null,{"$f":"IF(C58=\"\",0,IF(C58=$C$4,SUMIFS($I$4:I57,$C$4:C57,C57),SUMIFS($I$4:I57,$C$4:C57,C58)))","v":0},0]
[56,null,{"$f":"IFERROR(VLOOKUP(D59,Nomenclature!$B$2:$C$196,2,0),\"\")","v":""},null,null,null,null,{"$f":"IF(C59=\"\",0,IF(SUMIFS($G$5:G59,$C$5:C59,C59)-SUMIFS($I$4:I58,$C$4:C58,C59)<0,0,SUMIFS($G$5:G59,$C$5:C59,C59)-SUMIFS($I$4:I58,$C$4:C58,C59)))","v":0},null,{"$f":"IF(C59=\"\",0,IF(C59=$C$4,SUMIFS($I$4:I58,$C$4:C58,C58),SUMIFS($I$4:I58,$C$4:C58,C59)))","v":0},0]
[57,null,{"$f":"IFERROR(VLOOKUP(D60,Nomenclature!$B$2:$C$196,2,0),\"\")","v":""},null,null,null,null,{"$f":"IF(C60=\"\",0,IF(SUMIFS($G$5:G60,$C$5:C60,C60)-SUMIFS($I$4:I59,$C$4:C59,C60)<0,0,SUMIFS($G$5:G60,$C$5:C60,C60)-SUMIFS($I$4:I59,$C$4:C59,C60)))","v":0},null,{"$f":"IF(C60=\"\",0,IF(C60=$C$4,SUMIFS($I$4:I59,$C$4:C59,C59),SUMIFS($I$4:I59,$C$4:C59,C60)))","v":0},0]
[58,null,{"$f":"IFERROR(VLOOKUP(D61,Nomenclature!$B$2:$C$196,2,0),\"\")","v":""},null,null,null,null,{"$f":"IF(C61=\"\",0,IF(SUMIFS($G$5:G61,$C$5:C61,C61)-SUMIFS($I$4:I60,$C$4:C60,C61)<0,0,SUMIFS($G$5:G61,$C$5:C61,C61)-SUMIFS($I$4:I60,$C$4:C60,C61)))","v":0},null,{"$f":"IF(C61=\"\",0,IF(C61=$C$4,SUMIFS($I$4:I60,$C$4:C60,C60),SUMIFS($I$4:I60,$C$4:C60,C61)))","v":0},0]
[59,null,{"$f":"IFERROR(VLOOKUP(D62,Nomenclature!$B$2:$C$196,2,0),\"\")","v":""},null,null,null,null,{"$f":"IF(C62=\"\",0,IF(SUMIFS($G$5:G62,$C$5:C62,C62)-SUMIFS($I$4:I61,$C$4:C61,C62)<0,0,SUMIFS($G$5:G62,$C$5:C62,C62)-SUMIFS($I$4:I61,$C$4:C61,C62)))","v":0},null,{"$f":"IF(C62=\"\",0,IF(C62=$C$4,SUMIFS($I$4:I61,$C$4:C61,C61),SUMIFS($I$4:I61,$C$4:C61,C62)))","v":0},0]
[60,null,{"$f":"IFERROR(VLOOKUP(D63,Nomenclature!$B$2:$C$196,2,0),\"\")","v":""},null,null,null,null,{"$f":"IF(C63=\"\",0,IF(SUMIFS($G$5:G63,$C$5:C63,C63)-SUMIFS($I$4:I62,$C$4:C62,C63)<0,0,SUMIFS($G$5:G63,$C$5:C63,C63)-SUMIFS($I$4:I62,$C$4:C62,C63)))","v":0},null,{"$f":"IF(C63=\"\",0,IF(C63=$C$4,SUMIFS($I$4:I62,$C$4:C62,C62),SUMIFS($I$4:I62,$C$4:C62,C63)))","v":0},0]
[61,null,{"$f":"IFERROR(VLOOKUP(D64,Nomenclature!$B$2:$C$196,2,0),\"\")","v":""},null,null,null,null,{"$f":"IF(C64=\"\",0,IF(SUMIFS($G$5:G64,$C$5:C64,C64)-SUMIFS($I$4:I63,$C$4:C63,C64)<0,0,SUMIFS($G$5:G64,$C$5:C64,C64)-SUMIFS($I$4:I63,$C$4:C63,C64)))","v":0},null,{"$f":"IF(C64=\"\",0,IF(C64=$C$4,SUMIFS($I$4:I63,$C$4:C63,C63),SUMIFS($I$4:I63,$C$4:C63,C64)))","v":0},0]
[62,null,{"$f":"IFERROR(VLOOKUP(D65,Nomenclature!$B$2:$C$196,2,0),\"\")","v":""},null,null,null,null,{"$f":"IF(C65=\"\",0,IF(SUMIFS($G$5:G65,$C$5:C65,C65)-SUMIFS($I$4:I64,$C$4:C64,C65)<0,0,SUMIFS($G$5:G65,$C$5:C65,C65)-SUMIFS($I$4:I64,$C$4:C64,C65)))","v":0},null,{"$f":"IF(C65=\"\",0,IF(C65=$C$4,SUMIFS($I$4:I64,$C$4:C64,C64),SUMIFS($I$4:I64,$C$4:C64,C65)))","v":0},0]
[63,null,{"$f":"IFERROR(VLOOKUP(D66,Nomenclature!$B$2:$C$196,2,0),\"\")","v":""},null,null,null,null,{"$f":"IF(C66=\"\",0,IF(SUMIFS($G$5:G66,$C$5:C66,C66)-SUMIFS($I$4:I65,$C$4:C65,C66)<0,0,SUMIFS($G$5:G66,$C$5:C66,C66)-SUMIFS($I$4:I65,$C$4:C65,C66)))","v":0},null,{"$f":"IF(C66=\"\",0,IF(C66=$C$4,SUMIFS($I$4:I65,$C$4:C65,C65),SUMIFS($I$4:I65,$C$4:C65,C66)))","v":0},0]
[64,null,{"$f":"IFERROR(VLOOKUP(D67,Nomenclature!$B$2:$C$196,2,0),\"\")","v":""},null,null,null,null,{"$f":"IF(C67=\"\",0,IF(SUMIFS($G$5:G67,$C$5:C67,C67)-SUMIFS($I$4:I66,$C$4:C66,C67)<0,0,SUMIFS($G$5:G67,$C$5:C67,C67)-SUMIFS($I$4:I66,$C$4:C66,C67)))","v":0},null,{"$f":"IF(C67=\"\",0,IF(C67=$C$4,SUMIFS($I$4:I66,$C$4:C66,C66),SUMIFS($I$4:I66,$C$4:C66,C67)))","v":0},0]
[65,null,{"$f":"IFERROR(VLOOKUP(D68,Nomenclature!$B$2:$C$196,2,0),\"\")","v":""},null,null,null,null,{"$f":"IF(C68=\"\",0,IF(SUMIFS($G$5:G68,$C$5:C68,C68)-SUMIFS($I$4:I67,$C$4:C67,C68)<0,0,SUMIFS($G$5:G68,$C$5:C68,C68)-SUMIFS($I$4:I67,$C$4:C67,C68)))","v":0},null,{"$f":"IF(C68=\"\",0,IF(C68=$C$4,SUMIFS($I$4:I67,$C$4:C67,C67),SUMIFS($I$4:I67,$C$4:C67,C68)))","v":0},{"$f":"IF(C68=\"\",0,H68-I68)","v":0}]
[66,null,{"$f":"IFERROR(VLOOKUP(D69,Nomenclature!$B$2:$C$196,2,0),\"\")","v":""},null,null,null,null,{"$f":"IF(C69=\"\",0,IF(SUMIFS($G$5:G69,$C$5:C69,C69)-SUMIFS($I$4:I68,$C$4:C68,C69)<0,0,SUMIFS($G$5:G69,$C$5:C69,C69)-SUMIFS($I$4:I68,$C$4:C68,C69)))","v":0},null,{"$f":"IF(C69=\"\",0,IF(C69=$C$4,SUMIFS($I$4:I68,$C$4:C68,C68),SUMIFS($I$4:I68,$C$4:C68,C69)))","v":0},0]
[67,null,{"$f":"IFERROR(VLOOKUP(D70,Nomenclature!$B$2:$C$196,2,0),\"\")","v":""},null,null,null,null,{"$f":"IF(C70=\"\",0,IF(SUMIFS($G$5:G70,$C$5:C70,C70)-SUMIFS($I$4:I69,$C$4:C69,C70)<0,0,SUMIFS($G$5:G70,$C$5:C70,C70)-SUMIFS($I$4:I69,$C$4:C69,C70)))","v":0},null,{"$f":"IF(C70=\"\",0,IF(C70=$C$4,SUMIFS($I$4:I69,$C$4:C69,C69),SUMIFS($I$4:I69,$C$4:C69,C70)))","v":0},0]
[68,null,{"$f":"IFERROR(VLOOKUP(D71,Nomenclature!$B$2:$C$196,2,0),\"\")","v":""},null,null,null,null,{"$f":"IF(C71=\"\",0,IF(SUMIFS($G$5:G71,$C$5:C71,C71)-SUMIFS($I$4:I70,$C$4:C70,C71)<0,0,SUMIFS($G$5:G71,$C$5:C71,C71)-SUMIFS($I$4:I70,$C$4:C70,C71)))","v":0},null,{"$f":"IF(C71=\"\",0,IF(C71=$C$4,SUMIFS($I$4:I70,$C$4:C70,C70),SUMIFS($I$4:I70,$C$4:C70,C71)))","v":0},0]
[69,null,{"$f":"IFERROR(VLOOKUP(D72,Nomenclature!$B$2:$C$196,2,0),\"\")","v":""},null,null,null,null,{"$f":"IF(C72=\"\",0,IF(SUMIFS($G$5:G72,$C$5:C72,C72)-SUMIFS($I$4:I71,$C$4:C71,C72)<0,0,SUMIFS($G$5:G72,$C$5:C72,C72)-SUMIFS($I$4:I71,$C$4:C71,C72)))","v":0},null,{"$f":"IF(C72=\"\",0,IF(C72=$C$4,SUMIFS($I$4:I71,$C$4:C71,C71),SUMIFS($I$4:I71,$C$4:C71,C72)))","v":0},0]
[70,null,{"$f":"IFERROR(VLOOKUP(D73,Nomenclature!$B$2:$C$196,2,0),\"\")","v":""},null,null,null,null,{"$f":"IF(C73=\"\",0,IF(SUMIFS($G$5:G73,$C$5:C73,C73)-SUMIFS($I$4:I72,$C$4:C72,C73)<0,0,SUMIFS($G$5:G73,$C$5:C73,C73)-SUMIFS($I$4:I72,$C$4:C72,C73)))","v":0},null,{"$f":"IF(C73=\"\",0,IF(C73=$C$4,SUMIFS($I$4:I72,$C$4:C72,C72),SUMIFS($I$4:I72,$C$4:C72,C73)))","v":0},0]
[71,null,{"$f":"IFERROR(VLOOKUP(D74,Nomenclature!$B$2:$C$196,2,0),\"\")","v":""},null,null,null,null,{"$f":"IF(C74=\"\",0,IF(SUMIFS($G$5:G74,$C$5:C74,C74)-SUMIFS($I$4:I73,$C$4:C73,C74)<0,0,SUMIFS($G$5:G74,$C$5:C74,C74)-SUMIFS($I$4:I73,$C$4:C73,C74)))","v":0},null,{"$f":"IF(C74=\"\",0,IF(C74=$C$4,SUMIFS($I$4:I73,$C$4:C73,C73),SUMIFS($I$4:I73,$C$4:C73,C74)))","v":0},0]
[72,null,{"$f":"IFERROR(VLOOKUP(D75,Nomenclature!$B$2:$C$196,2,0),\"\")","v":""},null,null,null,null,{"$f":"IF(C75=\"\",0,IF(SUMIFS($G$5:G75,$C$5:C75,C75)-SUMIFS($I$4:I74,$C$4:C74,C75)<0,0,SUMIFS($G$5:G75,$C$5:C75,C75)-SUMIFS($I$4:I74,$C$4:C74,C75)))","v":0},null,{"$f":"IF(C75=\"\",0,IF(C75=$C$4,SUMIFS($I$4:I74,$C$4:C74,C74),SUMIFS($I$4:I74,$C$4:C74,C75)))","v":0},0]
[73,null,{"$f":"IFERROR(VLOOKUP(D76,Nomenclature!$B$2:$C$196,2,0),\"\")","v":""},null,null,null,null,{"$f":"IF(C76=\"\",0,IF(SUMIFS($G$5:G76,$C$5:C76,C76)-SUMIFS($I$4:I75,$C$4:C75,C76)<0,0,SUMIFS($G$5:G76,$C$5:C76,C76)-SUMIFS($I$4:I75,$C$4:C75,C76)))","v":0},null,{"$f":"IF(C76=\"\",0,IF(C76=$C$4,SUMIFS($I$4:I75,$C$4:C75,C75),SUMIFS($I$4:I75,$C$4:C75,C76)))","v":0},0]
[74,null,{"$f":"IFERROR(VLOOKUP(D77,Nomenclature!$B$2:$C$196,2,0),\"\")","v":""},null,null,null,null,{"$f":"IF(C77=\"\",0,IF(SUMIFS($G$5:G77,$C$5:C77,C77)-SUMIFS($I$4:I76,$C$4:C76,C77)<0,0,SUMIFS($G$5:G77,$C$5:C77,C77)-SUMIFS($I$4:I76,$C$4:C76,C77)))","v":0},null,{"$f":"IF(C77=\"\",0,IF(C77=$C$4,SUMIFS($I$4:I76,$C$4:C76,C76),SUMIFS($I$4:I76,$C$4:C76,C77)))","v":0},0]
[75,null,{"$f":"IFERROR(VLOOKUP(D78,Nomenclature!$B$2:$C$196,2,0),\"\")","v":""},null,null,null,null,{"$f":"IF(C78=\"\",0,IF(SUMIFS($G$5:G78,$C$5:C78,C78)-SUMIFS($I$4:I77,$C$4:C77,C78)<0,0,SUMIFS($G$5:G78,$C$5:C78,C78)-SUMIFS($I$4:I77,$C$4:C77,C78)))","v":0},null,{"$f":"IF(C78=\"\",0,IF(C78=$C$4,SUMIFS($I$4:I77,$C$4:C77,C77),SUMIFS($I$4:I77,$C$4:C77,C78)))","v":0},0]
[76,null,{"$f":"IFERROR(VLOOKUP(D79,Nomenclature!$B$2:$C$196,2,0),\"\")","v":""},null,null,null,null,{"$f":"IF(C79=\"\",0,IF(SUMIFS($G$5:G79,$C$5:C79,C79)-SUMIFS($I$4:I78,$C$4:C78,C79)<0,0,SUMIFS($G$5:G79,$C$5:C79,C79)-SUMIFS($I$4:I78,$C$4:C78,C79)))","v":0},null,{"$f":"IF(C79=\"\",0,IF(C79=$C$4,SUMIFS($I$4:I78,$C$4:C78,C78),SUMIFS($I$4:I78,$C$4:C78,C79)))","v":0},0]
[77,null,{"$f":"IFERROR(VLOOKUP(D80,Nomenclature!$B$2:$C$196,2,0),\"\")","v":""},null,null,null,null,{"$f":"IF(C80=\"\",0,IF(SUMIFS($G$5:G80,$C$5:C80,C80)-SUMIFS($I$4:I79,$C$4:C79,C80)<0,0,SUMIFS($G$5:G80,$C$5:C80,C80)-SUMIFS($I$4:I79,$C$4:C79,C80)))","v":0},null,{"$f":"IF(C80=\"\",0,IF(C80=$C$4,SUMIFS($I$4:I79,$C$4:C79,C79),SUMIFS($I$4:I79,$C$4:C79,C80)))","v":0},0]
[78,null,{"$f":"IFERROR(VLOOKUP(D81,Nomenclature!$B$2:$C$196,2,0),\"\")","v":""},null,null,null,null,{"$f":"IF(C81=\"\",0,IF(SUMIFS($G$5:G81,$C$5:C81,C81)-SUMIFS($I$4:I80,$C$4:C80,C81)<0,0,SUMIFS($G$5:G81,$C$5:C81,C81)-SUMIFS($I$4:I80,$C$4:C80,C81)))","v":0},null,{"$f":"IF(C81=\"\",0,IF(C81=$C$4,SUMIFS($I$4:I80,$C$4:C80,C80),SUMIFS($I$4:I80,$C$4:C80,C81)))","v":0},0]
[79,null,{"$f":"IFERROR(VLOOKUP(D82,Nomenclature!$B$2:$C$196,2,0),\"\")","v":""},null,null,null,null,{"$f":"IF(C82=\"\",0,IF(SUMIFS($G$5:G82,$C$5:C82,C82)-SUMIFS($I$4:I81,$C$4:C81,C82)<0,0,SUMIFS($G$5:G82,$C$5:C82,C82)-SUMIFS($I$4:I81,$C$4:C81,C82)))","v":0},null,{"$f":"IF(C82=\"\",0,IF(C82=$C$4,SUMIFS($I$4:I81,$C$4:C81,C81),SUMIFS($I$4:I81,$C$4:C81,C82)))","v":0},0]
[80,null,{"$f":"IFERROR(VLOOKUP(D83,Nomenclature!$B$2:$C$196,2,0),\"\")","v":""},null,null,null,null,{"$f":"IF(C83=\"\",0,IF(SUMIFS($G$5:G83,$C$5:C83,C83)-SUMIFS($I$4:I82,$C$4:C82,C83)<0,0,SUMIFS($G$5:G83,$C$5:C83,C83)-SUMIFS($I$4:I82,$C$4:C82,C83)))","v":0},null,{"$f":"IF(C83=\"\",0,IF(C83=$C$4,SUMIFS($I$4:I82,$C$4:C82,C82),SUMIFS($I$4:I82,$C$4:C82,C83)))","v":0},0]
[81,null,{"$f":"IFERROR(VLOOKUP(D84,Nomenclature!$B$2:$C$196,2,0),\"\")","v":""},null,null,null,null,{"$f":"IF(C84=\"\",0,IF(SUMIFS($G$5:G84,$C$5:C84,C84)-SUMIFS($I$4:I83,$C$4:C83,C84)<0,0,SUMIFS($G$5:G84,$C$5:C84,C84)-SUMIFS($I$4:I83,$C$4:C83,C84)))","v":0},null,{"$f":"IF(C84=\"\",0,IF(C84=$C$4,SUMIFS($I$4:I83,$C$4:C83,C83),SUMIFS($I$4:I83,$C$4:C83,C84)))","v":0},0]
[82,null,{"$f":"IFERROR(VLOOKUP(D85,Nomenclature!$B$2:$C$196,2,0),\"\")","v":""},null,null,null,null,{"$f":"IF(C85=\"\",0,IF(SUMIFS($G$5:G85,$C$5:C85,C85)-SUMIFS($I$4:I84,$C$4:C84,C85)<0,0,SUMIFS($G$5:G85,$C$5:C85,C85)-SUMIFS($I$4:I84,$C$4:C84,C85)))","v":0},null,{"$f":"IF(C85=\"\",0,IF(C85=$C$4,SUMIFS($I$4:I84,$C$4:C84,C84),SUMIFS($I$4:I84,$C$4:C84,C85)))","v":0},0]
[83,null,{"$f":"IFERROR(VLOOKUP(D86,Nomenclature!$B$2:$C$196,2,0),\"\")","v":""},null,null,null,null,{"$f":"IF(C86=\"\",0,IF(SUMIFS($G$5:G86,$C$5:C86,C86)-SUMIFS($I$4:I85,$C$4:C85,C86)<0,0,SUMIFS($G$5:G86,$C$5:C86,C86)-SUMIFS($I$4:I85,$C$4:C85,C86)))","v":0},null,{"$f":"IF(C86=\"\",0,IF(C86=$C$4,SUMIFS($I$4:I85,$C$4:C85,C85),SUMIFS($I$4:I85,$C$4:C85,C86)))","v":0},0]
[84,null,{"$f":"IFERROR(VLOOKUP(D87,Nomenclature!$B$2:$C$196,2,0),\"\")","v":""},null,null,null,null,{"$f":"IF(C87=\"\",0,IF(SUMIFS($G$5:G87,$C$5:C87,C87)-SUMIFS($I$4:I86,$C$4:C86,C87)<0,0,SUMIFS($G$5:G87,$C$5:C87,C87)-SUMIFS($I$4:I86,$C$4:C86,C87)))","v":0},null,{"$f":"IF(C87=\"\",0,IF(C87=$C$4,SUMIFS($I$4:I86,$C$4:C86,C86),SUMIFS($I$4:I86,$C$4:C86,C87)))","v":0},0]
[85,null,{"$f":"IFERROR(VLOOKUP(D88,Nomenclature!$B$2:$C$196,2,0),\"\")","v":""},null,null,null,null,{"$f":"IF(C88=\"\",0,IF(SUMIFS($G$5:G88,$C$5:C88,C88)-SUMIFS($I$4:I87,$C$4:C87,C88)<0,0,SUMIFS($G$5:G88,$C$5:C88,C88)-SUMIFS($I$4:I87,$C$4:C87,C88)))","v":0},null,{"$f":"IF(C88=\"\",0,IF(C88=$C$4,SUMIFS($I$4:I87,$C$4:C87,C87),SUMIFS($I$4:I87,$C$4:C87,C88)))","v":0},0]
[86,null,{"$f":"IFERROR(VLOOKUP(D89,Nomenclature!$B$2:$C$196,2,0),\"\")","v":""},null,null,null,null,{"$f":"IF(C89=\"\",0,IF(SUMIFS($G$5:G89,$C$5:C89,C89)-SUMIFS($I$4:I88,$C$4:C88,C89)<0,0,SUMIFS($G$5:G89,$C$5:C89,C89)-SUMIFS($I$4:I88,$C$4:C88,C89)))","v":0},null,{"$f":"IF(C89=\"\",0,IF(C89=$C$4,SUMIFS($I$4:I88,$C$4:C88,C88),SUMIFS($I$4:I88,$C$4:C88,C89)))","v":0},0]
[87,null,{"$f":"IFERROR(VLOOKUP(D90,Nomenclature!$B$2:$C$196,2,0),\"\")","v":""},null,null,null,null,{"$f":"IF(C90=\"\",0,IF(SUMIFS($G$5:G90,$C$5:C90,C90)-SUMIFS($I$4:I89,$C$4:C89,C90)<0,0,SUMIFS($G$5:G90,$C$5:C90,C90)-SUMIFS($I$4:I89,$C$4:C89,C90)))","v":0},null,{"$f":"IF(C90=\"\",0,IF(C90=$C$4,SUMIFS($I$4:I89,$C$4:C89,C89),SUMIFS($I$4:I89,$C$4:C89,C90)))","v":0},0]
[88,null,{"$f":"IFERROR(VLOOKUP(D91,Nomenclature!$B$2:$C$196,2,0),\"\")","v":""},null,null,null,null,{"$f":"IF(C91=\"\",0,IF(SUMIFS($G$5:G91,$C$5:C91,C91)-SUMIFS($I$4:I90,$C$4:C90,C91)<0,0,SUMIFS($G$5:G91,$C$5:C91,C91)-SUMIFS($I$4:I90,$C$4:C90,C91)))","v":0},null,{"$f":"IF(C91=\"\",0,IF(C91=$C$4,SUMIFS($I$4:I90,$C$4:C90,C90),SUMIFS($I$4:I90,$C$4:C90,C91)))","v":0},0]
[89,null,{"$f":"IFERROR(VLOOKUP(D92,Nomenclature!$B$2:$C$196,2,0),\"\")","v":""},null,null,null,null,{"$f":"IF(C92=\"\",0,IF(SUMIFS($G$5:G92,$C$5:C92,C92)-SUMIFS($I$4:I91,$C$4:C91,C92)<0,0,SUMIFS($G$5:G92,$C$5:C92,C92)-SUMIFS($I$4:I91,$C$4:C91,C92)))","v":0},null,{"$f":"IF(C92=\"\",0,IF(C92=$C$4,SUMIFS($I$4:I91,$C$4:C91,C91),SUMIFS($I$4:I91,$C$4:C91,C92)))","v":0},0]
[90,null,{"$f":"IFERROR(VLOOKUP(D93,Nomenclature!$B$2:$C$196,2,0),\"\")","v":""},null,null,null,null,{"$f":"IF(C93=\"\",0,IF(SUMIFS($G$5:G93,$C$5:C93,C93)-SUMIFS($I$4:I92,$C$4:C92,C93)<0,0,SUMIFS($G$5:G93,$C$5:C93,C93)-SUMIFS($I$4:I92,$C$4:C92,C93)))","v":0},null,{"$f":"IF(C93=\"\",0,IF(C93=$C$4,SUMIFS($I$4:I92,$C$4:C92,C92),SUMIFS($I$4:I92,$C$4:C92,C93)))","v":0},0]
[91,null,{"$f":"IFERROR(VLOOKUP(D94,Nomenclature!$B$2:$C$196,2,0),\"\")","v":""},null,null,null,null,{"$f":"IF(C94=\"\",0,IF(SUMIFS($G$5:G94,$C$5:C94,C94)-SUMIFS($I$4:I93,$C$4:C93,C94)<0,0,SUMIFS($G$5:G94,$C$5:C94,C94)-SUMIFS($I$4:I93,$C$4:C93,C94)))","v":0},null,{"$f":"IF(C94=\"\",0,IF(C94=$C$4,SUMIFS($I$4:I93,$C$4:C93,C93),SUMIFS($I$4:I93,$C$4:C93,C94)))","v":0},0]
[92,null,{"$f":"IFERROR(VLOOKUP(D95,Nomenclature!$B$2:$C$196,2,0),\"\")","v":""},null,null,null,null,{"$f":"IF(C95=\"\",0,IF(SUMIFS($G$5:G95,$C$5:C95,C95)-SUMIFS($I$4:I94,$C$4:C94,C95)<0,0,SUMIFS($G$5:G95,$C$5:C95,C95)-SUMIFS($I$4:I94,$C$4:C94,C95)))","v":0},null,{"$f":"IF(C95=\"\",0,IF(C95=$C$4,SUMIFS($I$4:I94,$C$4:C94,C94),SUMIFS($I$4:I94,$C$4:C94,C95)))","v":0},0]
[93,null,{"$f":"IFERROR(VLOOKUP(D96,Nomenclature!$B$2:$C$196,2,0),\"\")","v":""},null,null,null,null,{"$f":"IF(C96=\"\",0,IF(SUMIFS($G$5:G96,$C$5:C96,C96)-SUMIFS($I$4:I95,$C$4:C95,C96)<0,0,SUMIFS($G$5:G96,$C$5:C96,C96)-SUMIFS($I$4:I95,$C$4:C95,C96)))","v":0},null,{"$f":"IF(C96=\"\",0,IF(C96=$C$4,SUMIFS($I$4:I95,$C$4:C95,C95),SUMIFS($I$4:I95,$C$4:C95,C96)))","v":0},0]
[94,null,{"$f":"IFERROR(VLOOKUP(D97,Nomenclature!$B$2:$C$196,2,0),\"\")","v":""},null,null,null,null,{"$f":"IF(C97=\"\",0,IF(SUMIFS($G$5:G97,$C$5:C97,C97)-SUMIFS($I$4:I96,$C$4:C96,C97)<0,0,SUMIFS($G$5:G97,$C$5:C97,C97)-SUMIFS($I$4:I96,$C$4:C96,C97)))","v":0},null,{"$f":"IF(C97=\"\",0,IF(C97=$C$4,SUMIFS($I$4:I96,$C$4:C96,C96),SUMIFS($I$4:I96,$C$4:C96,C97)))","v":0},0]
[95,null,{"$f":"IFERROR(VLOOKUP(D98,Nomenclature!$B$2:$C$196,2,0),\"\")","v":""},null,null,null,null,{"$f":"IF(C98=\"\",0,IF(SUMIFS($G$5:G98,$C$5:C98,C98)-SUMIFS($I$4:I97,$C$4:C97,C98)<0,0,SUMIFS($G$5:G98,$C$5:C98,C98)-SUMIFS($I$4:I97,$C$4:C97,C98)))","v":0},null,{"$f":"IF(C98=\"\",0,IF(C98=$C$4,SUMIFS($I$4:I97,$C$4:C97,C97),SUMIFS($I$4:I97,$C$4:C97,C98)))","v":0},0]
[96,null,{"$f":"IFERROR(VLOOKUP(D99,Nomenclature!$B$2:$C$196,2,0),\"\")","v":""},null,null,null,null,{"$f":"IF(C99=\"\",0,IF(SUMIFS($G$5:G99,$C$5:C99,C99)-SUMIFS($I$4:I98,$C$4:C98,C99)<0,0,SUMIFS($G$5:G99,$C$5:C99,C99)-SUMIFS($I$4:I98,$C$4:C98,C99)))","v":0},null,{"$f":"IF(C99=\"\",0,IF(C99=$C$4,SUMIFS($I$4:I98,$C$4:C98,C98),SUMIFS($I$4:I98,$C$4:C98,C99)))","v":0},0]
[97,null,{"$f":"IFERROR(VLOOKUP(D100,Nomenclature!$B$2:$C$196,2,0),\"\")","v":""},null,null,null,null,{"$f":"IF(C100=\"\",0,IF(SUMIFS($G$5:G100,$C$5:C100,C100)-SUMIFS($I$4:I99,$C$4:C99,C100)<0,0,SUMIFS($G$5:G100,$C$5:C100,C100)-SUMIFS($I$4:I99,$C$4:C99,C100)))","v":0},null,{"$f":"IF(C100=\"\",0,IF(C100=$C$4,SUMIFS($I$4:I99,$C$4:C99,C99),SUMIFS($I$4:I99,$C$4:C99,C100)))","v":0},0]
[98,null,{"$f":"IFERROR(VLOOKUP(D101,Nomenclature!$B$2:$C$196,2,0),\"\")","v":""},null,null,null,null,{"$f":"IF(C101=\"\",0,IF(SUMIFS($G$5:G101,$C$5:C101,C101)-SUMIFS($I$4:I100,$C$4:C100,C101)<0,0,SUMIFS($G$5:G101,$C$5:C101,C101)-SUMIFS($I$4:I100,$C$4:C100,C101)))","v":0},null,{"$f":"IF(C101=\"\",0,IF(C101=$C$4,SUMIFS($I$4:I100,$C$4:C100,C100),SUMIFS($I$4:I100,$C$4:C100,C101)))","v":0},0]
[99,null,{"$f":"IFERROR(VLOOKUP(D102,Nomenclature!$B$2:$C$196,2,0),\"\")","v":""},null,null,null,null,{"$f":"IF(C102=\"\",0,IF(SUMIFS($G$5:G102,$C$5:C102,C102)-SUMIFS($I$4:I101,$C$4:C101,C102)<0,0,SUMIFS($G$5:G102,$C$5:C102,C102)-SUMIFS($I$4:I101,$C$4:C101,C102)))","v":0},null,{"$f":"IF(C102=\"\",0,IF(C102=$C$4,SUMIFS($I$4:I101,$C$4:C101,C101),SUMIFS($I$4:I101,$C$4:C101,C102)))","v":0},0]
[100,null,{"$f":"IFERROR(VLOOKUP(D103,Nomenclature!$B$2:$C$196,2,0),\"\")","v":""},null,null,null,null,{"$f":"IF(C103=\"\",0,IF(SUMIFS($G$5:G103,$C$5:C103,C103)-SUMIFS($I$4:I102,$C$4:C102,C103)<0,0,SUMIFS($G$5:G103,$C$5:C103,C103)-SUMIFS($I$4:I102,$C$4:C102,C103)))","v":0},null,{"$f":"IF(C103=\"\",0,IF(C103=$C$4,SUMIFS($I$4:I102,$C$4:C102,C102),SUMIFS($I$4:I102,$C$4:C102,C103)))","v":0},0]
[101,null,{"$f":"IFERROR(VLOOKUP(D104,Nomenclature!$B$2:$C$196,2,0),\"\")","v":""},null,null,null,null,{"$f":"IF(C104=\"\",0,IF(SUMIFS($G$5:G104,$C$5:C104,C104)-SUMIFS($I$4:I103,$C$4:C103,C104)<0,0,SUMIFS($G$5:G104,$C$5:C104,C104)-SUMIFS($I$4:I103,$C$4:C103,C104)))","v":0},null,{"$f":"IF(C104=\"\",0,IF(C104=$C$4,SUMIFS($I$4:I103,$C$4:C103,C103),SUMIFS($I$4:I103,$C$4:C103,C104)))","v":0},0]
[102,null,{"$f":"IFERROR(VLOOKUP(D105,Nomenclature!$B$2:$C$196,2,0),\"\")","v":""},null,null,null,null,{"$f":"IF(C105=\"\",0,IF(SUMIFS($G$5:G105,$C$5:C105,C105)-SUMIFS($I$4:I104,$C$4:C104,C105)<0,0,SUMIFS($G$5:G105,$C$5:C105,C105)-SUMIFS($I$4:I104,$C$4:C104,C105)))","v":0},null,{"$f":"IF(C105=\"\",0,IF(C105=$C$4,SUMIFS($I$4:I104,$C$4:C104,C104),SUMIFS($I$4:I104,$C$4:C104,C105)))","v":0},0]
[103,null,{"$f":"IFERROR(VLOOKUP(D106,Nomenclature!$B$2:$C$196,2,0),\"\")","v":""},null,null,null,null,{"$f":"IF(C106=\"\",0,IF(SUMIFS($G$5:G106,$C$5:C106,C106)-SUMIFS($I$4:I105,$C$4:C105,C106)<0,0,SUMIFS($G$5:G106,$C$5:C106,C106)-SUMIFS($I$4:I105,$C$4:C105,C106)))","v":0},null,{"$f":"IF(C106=\"\",0,IF(C106=$C$4,SUMIFS($I$4:I105,$C$4:C105,C105),SUMIFS($I$4:I105,$C$4:C105,C106)))","v":0},0]
[104,null,{"$f":"IFERROR(VLOOKUP(D107,Nomenclature!$B$2:$C$196,2,0),\"\")","v":""},null,null,null,null,{"$f":"IF(C107=\"\",0,IF(SUMIFS($G$5:G107,$C$5:C107,C107)-SUMIFS($I$4:I106,$C$4:C106,C107)<0,0,SUMIFS($G$5:G107,$C$5:C107,C107)-SUMIFS($I$4:I106,$C$4:C106,C107)))","v":0},null,{"$f":"IF(C107=\"\",0,IF(C107=$C$4,SUMIFS($I$4:I106,$C$4:C106,C106),SUMIFS($I$4:I106,$C$4:C106,C107)))","v":0},0]
[105,null,{"$f":"IFERROR(VLOOKUP(D108,Nomenclature!$B$2:$C$196,2,0),\"\")","v":""},null,null,null,null,{"$f":"IF(C108=\"\",0,IF(SUMIFS($G$5:G108,$C$5:C108,C108)-SUMIFS($I$4:I107,$C$4:C107,C108)<0,0,SUMIFS($G$5:G108,$C$5:C108,C108)-SUMIFS($I$4:I107,$C$4:C107,C108)))","v":0},null,{"$f":"IF(C108=\"\",0,IF(C108=$C$4,SUMIFS($I$4:I107,$C$4:C107,C107),SUMIFS($I$4:I107,$C$4:C107,C108)))","v":0},0]
[106,null,{"$f":"IFERROR(VLOOKUP(D109,Nomenclature!$B$2:$C$196,2,0),\"\")","v":""},null,null,null,null,{"$f":"IF(C109=\"\",0,IF(SUMIFS($G$5:G109,$C$5:C109,C109)-SUMIFS($I$4:I108,$C$4:C108,C109)<0,0,SUMIFS($G$5:G109,$C$5:C109,C109)-SUMIFS($I$4:I108,$C$4:C108,C109)))","v":0},null,{"$f":"IF(C109=\"\",0,IF(C109=$C$4,SUMIFS($I$4:I108,$C$4:C108,C108),SUMIFS($I$4:I108,$C$4:C108,C109)))","v":0},0]
[107,null,{"$f":"IFERROR(VLOOKUP(D110,Nomenclature!$B$2:$C$196,2,0),\"\")","v":""},null,null,null,null,{"$f":"IF(C110=\"\",0,IF(SUMIFS($G$5:G110,$C$5:C110,C110)-SUMIFS($I$4:I109,$C$4:C109,C110)<0,0,SUMIFS($G$5:G110,$C$5:C110,C110)-SUMIFS($I$4:I109,$C$4:C109,C110)))","v":0},null,{"$f":"IF(C110=\"\",0,IF(C110=$C$4,SUMIFS($I$4:I109,$C$4:C109,C109),SUMIFS($I$4:I109,$C$4:C109,C110)))","v":0},0]
[108,null,{"$f":"IFERROR(VLOOKUP(D111,Nomenclature!$B$2:$C$196,2,0),\"\")","v":""},null,null,null,null,{"$f":"IF(C111=\"\",0,IF(SUMIFS($G$5:G111,$C$5:C111,C111)-SUMIFS($I$4:I110,$C$4:C110,C111)<0,0,SUMIFS($G$5:G111,$C$5:C111,C111)-SUMIFS($I$4:I110,$C$4:C110,C111)))","v":0},null,{"$f":"IF(C111=\"\",0,IF(C111=$C$4,SUMIFS($I$4:I110,$C$4:C110,C110),SUMIFS($I$4:I110,$C$4:C110,C111)))","v":0},0]
[109,null,{"$f":"IFERROR(VLOOKUP(D112,Nomenclature!$B$2:$C$196,2,0),\"\")","v":""},null,null,null,null,{"$f":"IF(C112=\"\",0,IF(SUMIFS($G$5:G112,$C$5:C112,C112)-SUMIFS($I$4:I111,$C$4:C111,C112)<0,0,SUMIFS($G$5:G112,$C$5:C112,C112)-SUMIFS($I$4:I111,$C$4:C111,C112)))","v":0},null,{"$f":"IF(C112=\"\",0,IF(C112=$C$4,SUMIFS($I$4:I111,$C$4:C111,C111),SUMIFS($I$4:I111,$C$4:C111,C112)))","v":0},0]
[110,null,{"$f":"IFERROR(VLOOKUP(D113,Nomenclature!$B$2:$C$196,2,0),\"\")","v":""},null,null,null,null,{"$f":"IF(C113=\"\",0,IF(SUMIFS($G$5:G113,$C$5:C113,C113)-SUMIFS($I$4:I112,$C$4:C112,C113)<0,0,SUMIFS($G$5:G113,$C$5:C113,C113)-SUMIFS($I$4:I112,$C$4:C112,C113)))","v":0},null,{"$f":"IF(C113=\"\",0,IF(C113=$C$4,SUMIFS($I$4:I112,$C$4:C112,C112),SUMIFS($I$4:I112,$C$4:C112,C113)))","v":0},0]
[111,null,{"$f":"IFERROR(VLOOKUP(D114,Nomenclature!$B$2:$C$196,2,0),\"\")","v":""},null,null,null,null,{"$f":"IF(C114=\"\",0,IF(SUMIFS($G$5:G114,$C$5:C114,C114)-SUMIFS($I$4:I113,$C$4:C113,C114)<0,0,SUMIFS($G$5:G114,$C$5:C114,C114)-SUMIFS($I$4:I113,$C$4:C113,C114)))","v":0},null,{"$f":"IF(C114=\"\",0,IF(C114=$C$4,SUMIFS($I$4:I113,$C$4:C113,C113),SUMIFS($I$4:I113,$C$4:C113,C114)))","v":0},0]
[112,null,{"$f":"IFERROR(VLOOKUP(D115,Nomenclature!$B$2:$C$196,2,0),\"\")","v":""},null,null,null,null,{"$f":"IF(C115=\"\",0,IF(SUMIFS($G$5:G115,$C$5:C115,C115)-SUMIFS($I$4:I114,$C$4:C114,C115)<0,0,SUMIFS($G$5:G115,$C$5:C115,C115)-SUMIFS($I$4:I114,$C$4:C114,C115)))","v":0},null,{"$f":"IF(C115=\"\",0,IF(C115=$C$4,SUMIFS($I$4:I114,$C$4:C114,C114),SUMIFS($I$4:I114,$C$4:C114,C115)))","v":0},0]
[113,null,{"$f":"IFERROR(VLOOKUP(D116,Nomenclature!$B$2:$C$196,2,0),\"\")","v":""},null,null,null,null,{"$f":"IF(C116=\"\",0,IF(SUMIFS($G$5:G116,$C$5:C116,C116)-SUMIFS($I$4:I115,$C$4:C115,C116)<0,0,SUMIFS($G$5:G116,$C$5:C116,C116)-SUMIFS($I$4:I115,$C$4:C115,C116)))","v":0},null,{"$f":"IF(C116=\"\",0,IF(C116=$C$4,SUMIFS($I$4:I115,$C$4:C115,C115),SUMIFS($I$4:I115,$C$4:C115,C116)))","v":0},0]
[114,null,{"$f":"IFERROR(VLOOKUP(D117,Nomenclature!$B$2:$C$196,2,0),\"\")","v":""},null,null,null,null,{"$f":"IF(C117=\"\",0,IF(SUMIFS($G$5:G117,$C$5:C117,C117)-SUMIFS($I$4:I116,$C$4:C116,C117)<0,0,SUMIFS($G$5:G117,$C$5:C117,C117)-SUMIFS($I$4:I116,$C$4:C116,C117)))","v":0},null,{"$f":"IF(C117=\"\",0,IF(C117=$C$4,SUMIFS($I$4:I116,$C$4:C116,C116),SUMIFS($I$4:I116,$C$4:C116,C117)))","v":0},0]
[115,null,{"$f":"IFERROR(VLOOKUP(D118,Nomenclature!$B$2:$C$196,2,0),\"\")","v":""},null,null,null,null,{"$f":"IF(C118=\"\",0,IF(SUMIFS($G$5:G118,$C$5:C118,C118)-SUMIFS($I$4:I117,$C$4:C117,C118)<0,0,SUMIFS($G$5:G118,$C$5:C118,C118)-SUMIFS($I$4:I117,$C$4:C117,C118)))","v":0},null,{"$f":"IF(C118=\"\",0,IF(C118=$C$4,SUMIFS($I$4:I117,$C$4:C117,C117),SUMIFS($I$4:I117,$C$4:C117,C118)))","v":0},0]
[116,null,{"$f":"IFERROR(VLOOKUP(D119,Nomenclature!$B$2:$C$196,2,0),\"\")","v":""},null,null,null,null,{"$f":"IF(C119=\"\",0,IF(SUMIFS($G$5:G119,$C$5:C119,C119)-SUMIFS($I$4:I118,$C$4:C118,C119)<0,0,SUMIFS($G$5:G119,$C$5:C119,C119)-SUMIFS($I$4:I118,$C$4:C118,C119)))","v":0},null,{"$f":"IF(C119=\"\",0,IF(C119=$C$4,SUMIFS($I$4:I118,$C$4:C118,C118),SUMIFS($I$4:I118,$C$4:C118,C119)))","v":0},0]
[117,null,{"$f":"IFERROR(VLOOKUP(D120,Nomenclature!$B$2:$C$196,2,0),\"\")","v":""},null,null,null,null,{"$f":"IF(C120=\"\",0,IF(SUMIFS($G$5:G120,$C$5:C120,C120)-SUMIFS($I$4:I119,$C$4:C119,C120)<0,0,SUMIFS($G$5:G120,$C$5:C120,C120)-SUMIFS($I$4:I119,$C$4:C119,C120)))","v":0},null,{"$f":"IF(C120=\"\",0,IF(C120=$C$4,SUMIFS($I$4:I119,$C$4:C119,C119),SUMIFS($I$4:I119,$C$4:C119,C120)))","v":0},0]
[118,null,{"$f":"IFERROR(VLOOKUP(D121,Nomenclature!$B$2:$C$196,2,0),\"\")","v":""},null,null,null,null,{"$f":"IF(C121=\"\",0,IF(SUMIFS($G$5:G121,$C$5:C121,C121)-SUMIFS($I$4:I120,$C$4:C120,C121)<0,0,SUMIFS($G$5:G121,$C$5:C121,C121)-SUMIFS($I$4:I120,$C$4:C120,C121)))","v":0},null,{"$f":"IF(C121=\"\",0,IF(C121=$C$4,SUMIFS($I$4:I120,$C$4:C120,C120),SUMIFS($I$4:I120,$C$4:C120,C121)))","v":0},0]
[119,null,{"$f":"IFERROR(VLOOKUP(D122,Nomenclature!$B$2:$C$196,2,0),\"\")","v":""},null,null,null,null,{"$f":"IF(C122=\"\",0,IF(SUMIFS($G$5:G122,$C$5:C122,C122)-SUMIFS($I$4:I121,$C$4:C121,C122)<0,0,SUMIFS($G$5:G122,$C$5:C122,C122)-SUMIFS($I$4:I121,$C$4:C121,C122)))","v":0},null,{"$f":"IF(C122=\"\",0,IF(C122=$C$4,SUMIFS($I$4:I121,$C$4:C121,C121),SUMIFS($I$4:I121,$C$4:C121,C122)))","v":0},0]
[120,null,{"$f":"IFERROR(VLOOKUP(D123,Nomenclature!$B$2:$C$196,2,0),\"\")","v":""},null,null,null,null,{"$f":"IF(C123=\"\",0,IF(SUMIFS($G$5:G123,$C$5:C123,C123)-SUMIFS($I$4:I122,$C$4:C122,C123)<0,0,SUMIFS($G$5:G123,$C$5:C123,C123)-SUMIFS($I$4:I122,$C$4:C122,C123)))","v":0},null,{"$f":"IF(C123=\"\",0,IF(C123=$C$4,SUMIFS($I$4:I122,$C$4:C122,C122),SUMIFS($I$4:I122,$C$4:C122,C123)))","v":0},0]
[121,null,{"$f":"IFERROR(VLOOKUP(D124,Nomenclature!$B$2:$C$196,2,0),\"\")","v":""},null,null,null,null,{"$f":"IF(C124=\"\",0,IF(SUMIFS($G$5:G124,$C$5:C124,C124)-SUMIFS($I$4:I123,$C$4:C123,C124)<0,0,SUMIFS($G$5:G124,$C$5:C124,C124)-SUMIFS($I$4:I123,$C$4:C123,C124)))","v":0},null,{"$f":"IF(C124=\"\",0,IF(C124=$C$4,SUMIFS($I$4:I123,$C$4:C123,C123),SUMIFS($I$4:I123,$C$4:C123,C124)))","v":0},0]
[122,null,{"$f":"IFERROR(VLOOKUP(D125,Nomenclature!$B$2:$C$196,2,0),\"\")","v":""},null,null,null,null,{"$f":"IF(C125=\"\",0,IF(SUMIFS($G$5:G125,$C$5:C125,C125)-SUMIFS($I$4:I124,$C$4:C124,C125)<0,0,SUMIFS($G$5:G125,$C$5:C125,C125)-SUMIFS($I$4:I124,$C$4:C124,C125)))","v":0},null,{"$f":"IF(C125=\"\",0,IF(C125=$C$4,SUMIFS($I$4:I124,$C$4:C124,C124),SUMIFS($I$4:I124,$C$4:C124,C125)))","v":0},0]
[123,null,{"$f":"IFERROR(VLOOKUP(D126,Nomenclature!$B$2:$C$196,2,0),\"\")","v":""},null,null,null,null,{"$f":"IF(C126=\"\",0,IF(SUMIFS($G$5:G126,$C$5:C126,C126)-SUMIFS($I$4:I125,$C$4:C125,C126)<0,0,SUMIFS($G$5:G126,$C$5:C126,C126)-SUMIFS($I$4:I125,$C$4:C125,C126)))","v":0},null,{"$f":"IF(C126=\"\",0,IF(C126=$C$4,SUMIFS($I$4:I125,$C$4:C125,C125),SUMIFS($I$4:I125,$C$4:C125,C126)))","v":0},0]
[124,null,{"$f":"IFERROR(VLOOKUP(D127,Nomenclature!$B$2:$C$196,2,0),\"\")","v":""},null,null,null,null,{"$f":"IF(C127=\"\",0,IF(SUMIFS($G$5:G127,$C$5:C127,C127)-SUMIFS($I$4:I126,$C$4:C126,C127)<0,0,SUMIFS($G$5:G127,$C$5:C127,C127)-SUMIFS($I$4:I126,$C$4:C126,C127)))","v":0},null,{"$f":"IF(C127=\"\",0,IF(C127=$C$4,SUMIFS($I$4:I126,$C$4:C126,C126),SUMIFS($I$4:I126,$C$4:C126,C127)))","v":0},0]
[125,null,{"$f":"IFERROR(VLOOKUP(D128,Nomenclature!$B$2:$C$196,2,0),\"\")","v":""},null,null,null,null,{"$f":"IF(C128=\"\",0,IF(SUMIFS($G$5:G128,$C$5:C128,C128)-SUMIFS($I$4:I127,$C$4:C127,C128)<0,0,SUMIFS($G$5:G128,$C$5:C128,C128)-SUMIFS($I$4:I127,$C$4:C127,C128)))","v":0},null,{"$f":"IF(C128=\"\",0,IF(C128=$C$4,SUMIFS($I$4:I127,$C$4:C127,C127),SUMIFS($I$4:I127,$C$4:C127,C128)))","v":0},0]
[126,null,{"$f":"IFERROR(VLOOKUP(D129,Nomenclature!$B$2:$C$196,2,0),\"\")","v":""},null,null,null,null,{"$f":"IF(C129=\"\",0,IF(SUMIFS($G$5:G129,$C$5:C129,C129)-SUMIFS($I$4:I128,$C$4:C128,C129)<0,0,SUMIFS($G$5:G129,$C$5:C129,C129)-SUMIFS($I$4:I128,$C$4:C128,C129)))","v":0},null,{"$f":"IF(C129=\"\",0,IF(C129=$C$4,SUMIFS($I$4:I128,$C$4:C128,C128),SUMIFS($I$4:I128,$C$4:C128,C129)))","v":0},0]
[127,null,{"$f":"IFERROR(VLOOKUP(D130,Nomenclature!$B$2:$C$196,2,0),\"\")","v":""},null,null,null,null,{"$f":"IF(C130=\"\",0,IF(SUMIFS($G$5:G130,$C$5:C130,C130)-SUMIFS($I$4:I129,$C$4:C129,C130)<0,0,SUMIFS($G$5:G130,$C$5:C130,C130)-SUMIFS($I$4:I129,$C$4:C129,C130)))","v":0},null,{"$f":"IF(C130=\"\",0,IF(C130=$C$4,SUMIFS($I$4:I129,$C$4:C129,C129),SUMIFS($I$4:I129,$C$4:C129,C130)))","v":0},0]
[128,null,{"$f":"IFERROR(VLOOKUP(D131,Nomenclature!$B$2:$C$196,2,0),\"\")","v":""},null,null,null,null,{"$f":"IF(C131=\"\",0,IF(SUMIFS($G$5:G131,$C$5:C131,C131)-SUMIFS($I$4:I130,$C$4:C130,C131)<0,0,SUMIFS($G$5:G131,$C$5:C131,C131)-SUMIFS($I$4:I130,$C$4:C130,C131)))","v":0},null,{"$f":"IF(C131=\"\",0,IF(C131=$C$4,SUMIFS($I$4:I130,$C$4:C130,C130),SUMIFS($I$4:I130,$C$4:C130,C131)))","v":0},0]
[129,null,{"$f":"IFERROR(VLOOKUP(D132,Nomenclature!$B$2:$C$196,2,0),\"\")","v":""},null,null,null,null,{"$f":"IF(C132=\"\",0,IF(SUMIFS($G$5:G132,$C$5:C132,C132)-SUMIFS($I$4:I131,$C$4:C131,C132)<0,0,SUMIFS($G$5:G132,$C$5:C132,C132)-SUMIFS($I$4:I131,$C$4:C131,C132)))","v":0},null,{"$f":"IF(C132=\"\",0,IF(C132=$C$4,SUMIFS($I$4:I131,$C$4:C131,C131),SUMIFS($I$4:I131,$C$4:C131,C132)))","v":0},{"$f":"IF(C132=\"\",0,H132-I132)","v":0}]
[130,null,{"$f":"IFERROR(VLOOKUP(D133,Nomenclature!$B$2:$C$196,2,0),\"\")","v":""},null,null,null,null,{"$f":"IF(C133=\"\",0,IF(SUMIFS($G$5:G133,$C$5:C133,C133)-SUMIFS($I$4:I132,$C$4:C132,C133)<0,0,SUMIFS($G$5:G133,$C$5:C133,C133)-SUMIFS($I$4:I132,$C$4:C132,C133)))","v":0},null,{"$f":"IF(C133=\"\",0,IF(C133=$C$4,SUMIFS($I$4:I132,$C$4:C132,C132),SUMIFS($I$4:I132,$C$4:C132,C133)))","v":0},0]
[131,null,{"$f":"IFERROR(VLOOKUP(D134,Nomenclature!$B$2:$C$196,2,0),\"\")","v":""},null,null,null,null,{"$f":"IF(C134=\"\",0,IF(SUMIFS($G$5:G134,$C$5:C134,C134)-SUMIFS($I$4:I133,$C$4:C133,C134)<0,0,SUMIFS($G$5:G134,$C$5:C134,C134)-SUMIFS($I$4:I133,$C$4:C133,C134)))","v":0},null,{"$f":"IF(C134=\"\",0,IF(C134=$C$4,SUMIFS($I$4:I133,$C$4:C133,C133),SUMIFS($I$4:I133,$C$4:C133,C134)))","v":0},0]
[132,null,{"$f":"IFERROR(VLOOKUP(D135,Nomenclature!$B$2:$C$196,2,0),\"\")","v":""},null,null,null,null,{"$f":"IF(C135=\"\",0,IF(SUMIFS($G$5:G135,$C$5:C135,C135)-SUMIFS($I$4:I134,$C$4:C134,C135)<0,0,SUMIFS($G$5:G135,$C$5:C135,C135)-SUMIFS($I$4:I134,$C$4:C134,C135)))","v":0},null,{"$f":"IF(C135=\"\",0,IF(C135=$C$4,SUMIFS($I$4:I134,$C$4:C134,C134),SUMIFS($I$4:I134,$C$4:C134,C135)))","v":0},0]
[133,null,{"$f":"IFERROR(VLOOKUP(D136,Nomenclature!$B$2:$C$196,2,0),\"\")","v":""},null,null,null,null,{"$f":"IF(C136=\"\",0,IF(SUMIFS($G$5:G136,$C$5:C136,C136)-SUMIFS($I$4:I135,$C$4:C135,C136)<0,0,SUMIFS($G$5:G136,$C$5:C136,C136)-SUMIFS($I$4:I135,$C$4:C135,C136)))","v":0},null,{"$f":"IF(C136=\"\",0,IF(C136=$C$4,SUMIFS($I$4:I135,$C$4:C135,C135),SUMIFS($I$4:I135,$C$4:C135,C136)))","v":0},0]
[134,null,{"$f":"IFERROR(VLOOKUP(D137,Nomenclature!$B$2:$C$196,2,0),\"\")","v":""},null,null,null,null,{"$f":"IF(C137=\"\",0,IF(SUMIFS($G$5:G137,$C$5:C137,C137)-SUMIFS($I$4:I136,$C$4:C136,C137)<0,0,SUMIFS($G$5:G137,$C$5:C137,C137)-SUMIFS($I$4:I136,$C$4:C136,C137)))","v":0},null,{"$f":"IF(C137=\"\",0,IF(C137=$C$4,SUMIFS($I$4:I136,$C$4:C136,C136),SUMIFS($I$4:I136,$C$4:C136,C137)))","v":0},0]
[135,null,{"$f":"IFERROR(VLOOKUP(D138,Nomenclature!$B$2:$C$196,2,0),\"\")","v":""},null,null,null,null,{"$f":"IF(C138=\"\",0,IF(SUMIFS($G$5:G138,$C$5:C138,C138)-SUMIFS($I$4:I137,$C$4:C137,C138)<0,0,SUMIFS($G$5:G138,$C$5:C138,C138)-SUMIFS($I$4:I137,$C$4:C137,C138)))","v":0},null,{"$f":"IF(C138=\"\",0,IF(C138=$C$4,SUMIFS($I$4:I137,$C$4:C137,C137),SUMIFS($I$4:I137,$C$4:C137,C138)))","v":0},0]
[136,null,{"$f":"IFERROR(VLOOKUP(D139,Nomenclature!$B$2:$C$196,2,0),\"\")","v":""},null,null,null,null,{"$f":"IF(C139=\"\",0,IF(SUMIFS($G$5:G139,$C$5:C139,C139)-SUMIFS($I$4:I138,$C$4:C138,C139)<0,0,SUMIFS($G$5:G139,$C$5:C139,C139)-SUMIFS($I$4:I138,$C$4:C138,C139)))","v":0},null,{"$f":"IF(C139=\"\",0,IF(C139=$C$4,SUMIFS($I$4:I138,$C$4:C138,C138),SUMIFS($I$4:I138,$C$4:C138,C139)))","v":0},0]
[137,null,{"$f":"IFERROR(VLOOKUP(D140,Nomenclature!$B$2:$C$196,2,0),\"\")","v":""},null,null,null,null,{"$f":"IF(C140=\"\",0,IF(SUMIFS($G$5:G140,$C$5:C140,C140)-SUMIFS($I$4:I139,$C$4:C139,C140)<0,0,SUMIFS($G$5:G140,$C$5:C140,C140)-SUMIFS($I$4:I139,$C$4:C139,C140)))","v":0},null,{"$f":"IF(C140=\"\",0,IF(C140=$C$4,SUMIFS($I$4:I139,$C$4:C139,C139),SUMIFS($I$4:I139,$C$4:C139,C140)))","v":0},0]
[138,null,{"$f":"IFERROR(VLOOKUP(D141,Nomenclature!$B$2:$C$196,2,0),\"\")","v":""},null,null,null,null,{"$f":"IF(C141=\"\",0,IF(SUMIFS($G$5:G141,$C$5:C141,C141)-SUMIFS($I$4:I140,$C$4:C140,C141)<0,0,SUMIFS($G$5:G141,$C$5:C141,C141)-SUMIFS($I$4:I140,$C$4:C140,C141)))","v":0},null,{"$f":"IF(C141=\"\",0,IF(C141=$C$4,SUMIFS($I$4:I140,$C$4:C140,C140),SUMIFS($I$4:I140,$C$4:C140,C141)))","v":0},0]
[139,null,{"$f":"IFERROR(VLOOKUP(D142,Nomenclature!$B$2:$C$196,2,0),\"\")","v":""},null,null,null,null,{"$f":"IF(C142=\"\",0,IF(SUMIFS($G$5:G142,$C$5:C142,C142)-SUMIFS($I$4:I141,$C$4:C141,C142)<0,0,SUMIFS($G$5:G142,$C$5:C142,C142)-SUMIFS($I$4:I141,$C$4:C141,C142)))","v":0},null,{"$f":"IF(C142=\"\",0,IF(C142=$C$4,SUMIFS($I$4:I141,$C$4:C141,C141),SUMIFS($I$4:I141,$C$4:C141,C142)))","v":0},0]
[140,null,{"$f":"IFERROR(VLOOKUP(D143,Nomenclature!$B$2:$C$196,2,0),\"\")","v":""},null,null,null,null,{"$f":"IF(C143=\"\",0,IF(SUMIFS($G$5:G143,$C$5:C143,C143)-SUMIFS($I$4:I142,$C$4:C142,C143)<0,0,SUMIFS($G$5:G143,$C$5:C143,C143)-SUMIFS($I$4:I142,$C$4:C142,C143)))","v":0},null,{"$f":"IF(C143=\"\",0,IF(C143=$C$4,SUMIFS($I$4:I142,$C$4:C142,C142),SUMIFS($I$4:I142,$C$4:C142,C143)))","v":0},0]
[141,null,{"$f":"IFERROR(VLOOKUP(D144,Nomenclature!$B$2:$C$196,2,0),\"\")","v":""},null,null,null,null,{"$f":"IF(C144=\"\",0,IF(SUMIFS($G$5:G144,$C$5:C144,C144)-SUMIFS($I$4:I143,$C$4:C143,C144)<0,0,SUMIFS($G$5:G144,$C$5:C144,C144)-SUMIFS($I$4:I143,$C$4:C143,C144)))","v":0},null,{"$f":"IF(C144=\"\",0,IF(C144=$C$4,SUMIFS($I$4:I143,$C$4:C143,C143),SUMIFS($I$4:I143,$C$4:C143,C144)))","v":0},0]
[142,null,{"$f":"IFERROR(VLOOKUP(D145,Nomenclature!$B$2:$C$196,2,0),\"\")","v":""},null,null,null,null,{"$f":"IF(C145=\"\",0,IF(SUMIFS($G$5:G145,$C$5:C145,C145)-SUMIFS($I$4:I144,$C$4:C144,C145)<0,0,SUMIFS($G$5:G145,$C$5:C145,C145)-SUMIFS($I$4:I144,$C$4:C144,C145)))","v":0},null,{"$f":"IF(C145=\"\",0,IF(C145=$C$4,SUMIFS($I$4:I144,$C$4:C144,C144),SUMIFS($I$4:I144,$C$4:C144,C145)))","v":0},0]
[143,null,{"$f":"IFERROR(VLOOKUP(D146,Nomenclature!$B$2:$C$196,2,0),\"\")","v":""},null,null,null,null,{"$f":"IF(C146=\"\",0,IF(SUMIFS($G$5:G146,$C$5:C146,C146)-SUMIFS($I$4:I145,$C$4:C145,C146)<0,0,SUMIFS($G$5:G146,$C$5:C146,C146)-SUMIFS($I$4:I145,$C$4:C145,C146)))","v":0},null,{"$f":"IF(C146=\"\",0,IF(C146=$C$4,SUMIFS($I$4:I145,$C$4:C145,C145),SUMIFS($I$4:I145,$C$4:C145,C146)))","v":0},0]
[144,null,{"$f":"IFERROR(VLOOKUP(D147,Nomenclature!$B$2:$C$196,2,0),\"\")","v":""},null,null,null,null,{"$f":"IF(C147=\"\",0,IF(SUMIFS($G$5:G147,$C$5:C147,C147)-SUMIFS($I$4:I146,$C$4:C146,C147)<0,0,SUMIFS($G$5:G147,$C$5:C147,C147)-SUMIFS($I$4:I146,$C$4:C146,C147)))","v":0},null,{"$f":"IF(C147=\"\",0,IF(C147=$C$4,SUMIFS($I$4:I146,$C$4:C146,C146),SUMIFS($I$4:I146,$C$4:C146,C147)))","v":0},0]
[145,null,{"$f":"IFERROR(VLOOKUP(D148,Nomenclature!$B$2:$C$196,2,0),\"\")","v":""},null,null,null,null,{"$f":"IF(C148=\"\",0,IF(SUMIFS($G$5:G148,$C$5:C148,C148)-SUMIFS($I$4:I147,$C$4:C147,C148)<0,0,SUMIFS($G$5:G148,$C$5:C148,C148)-SUMIFS($I$4:I147,$C$4:C147,C148)))","v":0},null,{"$f":"IF(C148=\"\",0,IF(C148=$C$4,SUMIFS($I$4:I147,$C$4:C147,C147),SUMIFS($I$4:I147,$C$4:C147,C148)))","v":0},0]
[146,null,{"$f":"IFERROR(VLOOKUP(D149,Nomenclature!$B$2:$C$196,2,0),\"\")","v":""},null,null,null,null,{"$f":"IF(C149=\"\",0,IF(SUMIFS($G$5:G149,$C$5:C149,C149)-SUMIFS($I$4:I148,$C$4:C148,C149)<0,0,SUMIFS($G$5:G149,$C$5:C149,C149)-SUMIFS($I$4:I148,$C$4:C148,C149)))","v":0},null,{"$f":"IF(C149=\"\",0,IF(C149=$C$4,SUMIFS($I$4:I148,$C$4:C148,C148),SUMIFS($I$4:I148,$C$4:C148,C149)))","v":0},0]
[147,null,{"$f":"IFERROR(VLOOKUP(D150,Nomenclature!$B$2:$C$196,2,0),\"\")","v":""},null,null,null,null,{"$f":"IF(C150=\"\",0,IF(SUMIFS($G$5:G150,$C$5:C150,C150)-SUMIFS($I$4:I149,$C$4:C149,C150)<0,0,SUMIFS($G$5:G150,$C$5:C150,C150)-SUMIFS($I$4:I149,$C$4:C149,C150)))","v":0},null,{"$f":"IF(C150=\"\",0,IF(C150=$C$4,SUMIFS($I$4:I149,$C$4:C149,C149),SUMIFS($I$4:I149,$C$4:C149,C150)))","v":0},0]
[148,null,{"$f":"IFERROR(VLOOKUP(D151,Nomenclature!$B$2:$C$196,2,0),\"\")","v":""},null,null,null,null,{"$f":"IF(C151=\"\",0,IF(SUMIFS($G$5:G151,$C$5:C151,C151)-SUMIFS($I$4:I150,$C$4:C150,C151)<0,0,SUMIFS($G$5:G151,$C$5:C151,C151)-SUMIFS($I$4:I150,$C$4:C150,C151)))","v":0},null,{"$f":"IF(C151=\"\",0,IF(C151=$C$4,SUMIFS($I$4:I150,$C$4:C150,C150),SUMIFS($I$4:I150,$C$4:C150,C151)))","v":0},0]
[149,null,{"$f":"IFERROR(VLOOKUP(D152,Nomenclature!$B$2:$C$196,2,0),\"\")","v":""},null,null,null,null,{"$f":"IF(C152=\"\",0,IF(SUMIFS($G$5:G152,$C$5:C152,C152)-SUMIFS($I$4:I151,$C$4:C151,C152)<0,0,SUMIFS($G$5:G152,$C$5:C152,C152)-SUMIFS($I$4:I151,$C$4:C151,C152)))","v":0},null,{"$f":"IF(C152=\"\",0,IF(C152=$C$4,SUMIFS($I$4:I151,$C$4:C151,C151),SUMIFS($I$4:I151,$C$4:C151,C152)))","v":0},0]
[150,null,{"$f":"IFERROR(VLOOKUP(D153,Nomenclature!$B$2:$C$196,2,0),\"\")","v":""},null,null,null,null,{"$f":"IF(C153=\"\",0,IF(SUMIFS($G$5:G153,$C$5:C153,C153)-SUMIFS($I$4:I152,$C$4:C152,C153)<0,0,SUMIFS($G$5:G153,$C$5:C153,C153)-SUMIFS($I$4:I152,$C$4:C152,C153)))","v":0},null,{"$f":"IF(C153=\"\",0,IF(C153=$C$4,SUMIFS($I$4:I152,$C$4:C152,C152),SUMIFS($I$4:I152,$C$4:C152,C153)))","v":0},0]
[151,null,{"$f":"IFERROR(VLOOKUP(D154,Nomenclature!$B$2:$C$196,2,0),\"\")","v":""},null,null,null,null,{"$f":"IF(C154=\"\",0,IF(SUMIFS($G$5:G154,$C$5:C154,C154)-SUMIFS($I$4:I153,$C$4:C153,C154)<0,0,SUMIFS($G$5:G154,$C$5:C154,C154)-SUMIFS($I$4:I153,$C$4:C153,C154)))","v":0},null,{"$f":"IF(C154=\"\",0,IF(C154=$C$4,SUMIFS($I$4:I153,$C$4:C153,C153),SUMIFS($I$4:I153,$C$4:C153,C154)))","v":0},0]
[152,null,{"$f":"IFERROR(VLOOKUP(D155,Nomenclature!$B$2:$C$196,2,0),\"\")","v":""},null,null,null,null,{"$f":"IF(C155=\"\",0,IF(SUMIFS($G$5:G155,$C$5:C155,C155)-SUMIFS($I$4:I154,$C$4:C154,C155)<0,0,SUMIFS($G$5:G155,$C$5:C155,C155)-SUMIFS($I$4:I154,$C$4:C154,C155)))","v":0},null,{"$f":"IF(C155=\"\",0,IF(C155=$C$4,SUMIFS($I$4:I154,$C$4:C154,C154),SUMIFS($I$4:I154,$C$4:C154,C155)))","v":0},0]
[153,null,{"$f":"IFERROR(VLOOKUP(D156,Nomenclature!$B$2:$C$196,2,0),\"\")","v":""},null,null,null,null,{"$f":"IF(C156=\"\",0,IF(SUMIFS($G$5:G156,$C$5:C156,C156)-SUMIFS($I$4:I155,$C$4:C155,C156)<0,0,SUMIFS($G$5:G156,$C$5:C156,C156)-SUMIFS($I$4:I155,$C$4:C155,C156)))","v":0},null,{"$f":"IF(C156=\"\",0,IF(C156=$C$4,SUMIFS($I$4:I155,$C$4:C155,C155),SUMIFS($I$4:I155,$C$4:C155,C156)))","v":0},0]
[154,null,{"$f":"IFERROR(VLOOKUP(D157,Nomenclature!$B$2:$C$196,2,0),\"\")","v":""},null,null,null,null,{"$f":"IF(C157=\"\",0,IF(SUMIFS($G$5:G157,$C$5:C157,C157)-SUMIFS($I$4:I156,$C$4:C156,C157)<0,0,SUMIFS($G$5:G157,$C$5:C157,C157)-SUMIFS($I$4:I156,$C$4:C156,C157)))","v":0},null,{"$f":"IF(C157=\"\",0,IF(C157=$C$4,SUMIFS($I$4:I156,$C$4:C156,C156),SUMIFS($I$4:I156,$C$4:C156,C157)))","v":0},0]
[155,null,{"$f":"IFERROR(VLOOKUP(D158,Nomenclature!$B$2:$C$196,2,0),\"\")","v":""},null,null,null,null,{"$f":"IF(C158=\"\",0,IF(SUMIFS($G$5:G158,$C$5:C158,C158)-SUMIFS($I$4:I157,$C$4:C157,C158)<0,0,SUMIFS($G$5:G158,$C$5:C158,C158)-SUMIFS($I$4:I157,$C$4:C157,C158)))","v":0},null,{"$f":"IF(C158=\"\",0,IF(C158=$C$4,SUMIFS($I$4:I157,$C$4:C157,C157),SUMIFS($I$4:I157,$C$4:C157,C158)))","v":0},0]
[156,null,{"$f":"IFERROR(VLOOKUP(D159,Nomenclature!$B$2:$C$196,2,0),\"\")","v":""},null,null,null,null,{"$f":"IF(C159=\"\",0,IF(SUMIFS($G$5:G159,$C$5:C159,C159)-SUMIFS($I$4:I158,$C$4:C158,C159)<0,0,SUMIFS($G$5:G159,$C$5:C159,C159)-SUMIFS($I$4:I158,$C$4:C158,C159)))","v":0},null,{"$f":"IF(C159=\"\",0,IF(C159=$C$4,SUMIFS($I$4:I158,$C$4:C158,C158),SUMIFS($I$4:I158,$C$4:C158,C159)))","v":0},0]
[157,null,{"$f":"IFERROR(VLOOKUP(D160,Nomenclature!$B$2:$C$196,2,0),\"\")","v":""},null,null,null,null,{"$f":"IF(C160=\"\",0,IF(SUMIFS($G$5:G160,$C$5:C160,C160)-SUMIFS($I$4:I159,$C$4:C159,C160)<0,0,SUMIFS($G$5:G160,$C$5:C160,C160)-SUMIFS($I$4:I159,$C$4:C159,C160)))","v":0},null,{"$f":"IF(C160=\"\",0,IF(C160=$C$4,SUMIFS($I$4:I159,$C$4:C159,C159),SUMIFS($I$4:I159,$C$4:C159,C160)))","v":0},0]
[158,null,{"$f":"IFERROR(VLOOKUP(D161,Nomenclature!$B$2:$C$196,2,0),\"\")","v":""},null,null,null,null,{"$f":"IF(C161=\"\",0,IF(SUMIFS($G$5:G161,$C$5:C161,C161)-SUMIFS($I$4:I160,$C$4:C160,C161)<0,0,SUMIFS($G$5:G161,$C$5:C161,C161)-SUMIFS($I$4:I160,$C$4:C160,C161)))","v":0},null,{"$f":"IF(C161=\"\",0,IF(C161=$C$4,SUMIFS($I$4:I160,$C$4:C160,C160),SUMIFS($I$4:I160,$C$4:C160,C161)))","v":0},0]
[159,null,{"$f":"IFERROR(VLOOKUP(D162,Nomenclature!$B$2:$C$196,2,0),\"\")","v":""},null,null,null,null,{"$f":"IF(C162=\"\",0,IF(SUMIFS($G$5:G162,$C$5:C162,C162)-SUMIFS($I$4:I161,$C$4:C161,C162)<0,0,SUMIFS($G$5:G162,$C$5:C162,C162)-SUMIFS($I$4:I161,$C$4:C161,C162)))","v":0},null,{"$f":"IF(C162=\"\",0,IF(C162=$C$4,SUMIFS($I$4:I161,$C$4:C161,C161),SUMIFS($I$4:I161,$C$4:C161,C162)))","v":0},0]
[160,null,{"$f":"IFERROR(VLOOKUP(D163,Nomenclature!$B$2:$C$196,2,0),\"\")","v":""},null,null,null,null,{"$f":"IF(C163=\"\",0,IF(SUMIFS($G$5:G163,$C$5:C163,C163)-SUMIFS($I$4:I162,$C$4:C162,C163)<0,0,SUMIFS($G$5:G163,$C$5:C163,C163)-SUMIFS($I$4:I162,$C$4:C162,C163)))","v":0},null,{"$f":"IF(C163=\"\",0,IF(C163=$C$4,SUMIFS($I$4:I162,$C$4:C162,C162),SUMIFS($I$4:I162,$C$4:C162,C163)))","v":0},0]
[161,null,{"$f":"IFERROR(VLOOKUP(D164,Nomenclature!$B$2:$C$196,2,0),\"\")","v":""},null,null,null,null,{"$f":"IF(C164=\"\",0,IF(SUMIFS($G$5:G164,$C$5:C164,C164)-SUMIFS($I$4:I163,$C$4:C163,C164)<0,0,SUMIFS($G$5:G164,$C$5:C164,C164)-SUMIFS($I$4:I163,$C$4:C163,C164)))","v":0},null,{"$f":"IF(C164=\"\",0,IF(C164=$C$4,SUMIFS($I$4:I163,$C$4:C163,C163),SUMIFS($I$4:I163,$C$4:C163,C164)))","v":0},0]
[162,null,{"$f":"IFERROR(VLOOKUP(D165,Nomenclature!$B$2:$C$196,2,0),\"\")","v":""},null,null,null,null,{"$f":"IF(C165=\"\",0,IF(SUMIFS($G$5:G165,$C$5:C165,C165)-SUMIFS($I$4:I164,$C$4:C164,C165)<0,0,SUMIFS($G$5:G165,$C$5:C165,C165)-SUMIFS($I$4:I164,$C$4:C164,C165)))","v":0},null,{"$f":"IF(C165=\"\",0,IF(C165=$C$4,SUMIFS($I$4:I164,$C$4:C164,C164),SUMIFS($I$4:I164,$C$4:C164,C165)))","v":0},0]
[163,null,{"$f":"IFERROR(VLOOKUP(D166,Nomenclature!$B$2:$C$196,2,0),\"\")","v":""},null,null,null,null,{"$f":"IF(C166=\"\",0,IF(SUMIFS($G$5:G166,$C$5:C166,C166)-SUMIFS($I$4:I165,$C$4:C165,C166)<0,0,SUMIFS($G$5:G166,$C$5:C166,C166)-SUMIFS($I$4:I165,$C$4:C165,C166)))","v":0},null,{"$f":"IF(C166=\"\",0,IF(C166=$C$4,SUMIFS($I$4:I165,$C$4:C165,C165),SUMIFS($I$4:I165,$C$4:C165,C166)))","v":0},0]
[164,null,{"$f":"IFERROR(VLOOKUP(D167,Nomenclature!$B$2:$C$196,2,0),\"\")","v":""},null,null,null,null,{"$f":"IF(C167=\"\",0,IF(SUMIFS($G$5:G167,$C$5:C167,C167)-SUMIFS($I$4:I166,$C$4:C166,C167)<0,0,SUMIFS($G$5:G167,$C$5:C167,C167)-SUMIFS($I$4:I166,$C$4:C166,C167)))","v":0},null,{"$f":"IF(C167=\"\",0,IF(C167=$C$4,SUMIFS($I$4:I166,$C$4:C166,C166),SUMIFS($I$4:I166,$C$4:C166,C167)))","v":0},0]
[165,null,{"$f":"IFERROR(VLOOKUP(D168,Nomenclature!$B$2:$C$196,2,0),\"\")","v":""},null,null,null,null,{"$f":"IF(C168=\"\",0,IF(SUMIFS($G$5:G168,$C$5:C168,C168)-SUMIFS($I$4:I167,$C$4:C167,C168)<0,0,SUMIFS($G$5:G168,$C$5:C168,C168)-SUMIFS($I$4:I167,$C$4:C167,C168)))","v":0},null,{"$f":"IF(C168=\"\",0,IF(C168=$C$4,SUMIFS($I$4:I167,$C$4:C167,C167),SUMIFS($I$4:I167,$C$4:C167,C168)))","v":0},0]
[166,null,{"$f":"IFERROR(VLOOKUP(D169,Nomenclature!$B$2:$C$196,2,0),\"\")","v":""},null,null,null,null,{"$f":"IF(C169=\"\",0,IF(SUMIFS($G$5:G169,$C$5:C169,C169)-SUMIFS($I$4:I168,$C$4:C168,C169)<0,0,SUMIFS($G$5:G169,$C$5:C169,C169)-SUMIFS($I$4:I168,$C$4:C168,C169)))","v":0},null,{"$f":"IF(C169=\"\",0,IF(C169=$C$4,SUMIFS($I$4:I168,$C$4:C168,C168),SUMIFS($I$4:I168,$C$4:C168,C169)))","v":0},0]
[167,null,{"$f":"IFERROR(VLOOKUP(D170,Nomenclature!$B$2:$C$196,2,0),\"\")","v":""},null,null,null,null,{"$f":"IF(C170=\"\",0,IF(SUMIFS($G$5:G170,$C$5:C170,C170)-SUMIFS($I$4:I169,$C$4:C169,C170)<0,0,SUMIFS($G$5:G170,$C$5:C170,C170)-SUMIFS($I$4:I169,$C$4:C169,C170)))","v":0},null,{"$f":"IF(C170=\"\",0,IF(C170=$C$4,SUMIFS($I$4:I169,$C$4:C169,C169),SUMIFS($I$4:I169,$C$4:C169,C170)))","v":0},0]
[168,null,{"$f":"IFERROR(VLOOKUP(D171,Nomenclature!$B$2:$C$196,2,0),\"\")","v":""},null,null,null,null,{"$f":"IF(C171=\"\",0,IF(SUMIFS($G$5:G171,$C$5:C171,C171)-SUMIFS($I$4:I170,$C$4:C170,C171)<0,0,SUMIFS($G$5:G171,$C$5:C171,C171)-SUMIFS($I$4:I170,$C$4:C170,C171)))","v":0},null,{"$f":"IF(C171=\"\",0,IF(C171=$C$4,SUMIFS($I$4:I170,$C$4:C170,C170),SUMIFS($I$4:I170,$C$4:C170,C171)))","v":0},0]
[169,null,{"$f":"IFERROR(VLOOKUP(D172,Nomenclature!$B$2:$C$196,2,0),\"\")","v":""},null,null,null,null,{"$f":"IF(C172=\"\",0,IF(SUMIFS($G$5:G172,$C$5:C172,C172)-SUMIFS($I$4:I171,$C$4:C171,C172)<0,0,SUMIFS($G$5:G172,$C$5:C172,C172)-SUMIFS($I$4:I171,$C$4:C171,C172)))","v":0},null,{"$f":"IF(C172=\"\",0,IF(C172=$C$4,SUMIFS($I$4:I171,$C$4:C171,C171),SUMIFS($I$4:I171,$C$4:C171,C172)))","v":0},0]
[170,null,{"$f":"IFERROR(VLOOKUP(D173,Nomenclature!$B$2:$C$196,2,0),\"\")","v":""},null,null,null,null,{"$f":"IF(C173=\"\",0,IF(SUMIFS($G$5:G173,$C$5:C173,C173)-SUMIFS($I$4:I172,$C$4:C172,C173)<0,0,SUMIFS($G$5:G173,$C$5:C173,C173)-SUMIFS($I$4:I172,$C$4:C172,C173)))","v":0},null,{"$f":"IF(C173=\"\",0,IF(C173=$C$4,SUMIFS($I$4:I172,$C$4:C172,C172),SUMIFS($I$4:I172,$C$4:C172,C173)))","v":0},0]
[171,null,{"$f":"IFERROR(VLOOKUP(D174,Nomenclature!$B$2:$C$196,2,0),\"\")","v":""},null,null,null,null,{"$f":"IF(C174=\"\",0,IF(SUMIFS($G$5:G174,$C$5:C174,C174)-SUMIFS($I$4:I173,$C$4:C173,C174)<0,0,SUMIFS($G$5:G174,$C$5:C174,C174)-SUMIFS($I$4:I173,$C$4:C173,C174)))","v":0},null,{"$f":"IF(C174=\"\",0,IF(C174=$C$4,SUMIFS($I$4:I173,$C$4:C173,C173),SUMIFS($I$4:I173,$C$4:C173,C174)))","v":0},0]
[172,null,{"$f":"IFERROR(VLOOKUP(D175,Nomenclature!$B$2:$C$196,2,0),\"\")","v":""},null,null,null,null,{"$f":"IF(C175=\"\",0,IF(SUMIFS($G$5:G175,$C$5:C175,C175)-SUMIFS($I$4:I174,$C$4:C174,C175)<0,0,SUMIFS($G$5:G175,$C$5:C175,C175)-SUMIFS($I$4:I174,$C$4:C174,C175)))","v":0},null,{"$f":"IF(C175=\"\",0,IF(C175=$C$4,SUMIFS($I$4:I174,$C$4:C174,C174),SUMIFS($I$4:I174,$C$4:C174,C175)))","v":0},0]
[173,null,{"$f":"IFERROR(VLOOKUP(D176,Nomenclature!$B$2:$C$196,2,0),\"\")","v":""},null,null,null,null,{"$f":"IF(C176=\"\",0,IF(SUMIFS($G$5:G176,$C$5:C176,C176)-SUMIFS($I$4:I175,$C$4:C175,C176)<0,0,SUMIFS($G$5:G176,$C$5:C176,C176)-SUMIFS($I$4:I175,$C$4:C175,C176)))","v":0},null,{"$f":"IF(C176=\"\",0,IF(C176=$C$4,SUMIFS($I$4:I175,$C$4:C175,C175),SUMIFS($I$4:I175,$C$4:C175,C176)))","v":0},0]
[174,null,{"$f":"IFERROR(VLOOKUP(D177,Nomenclature!$B$2:$C$196,2,0),\"\")","v":""},null,null,null,null,{"$f":"IF(C177=\"\",0,IF(SUMIFS($G$5:G177,$C$5:C177,C177)-SUMIFS($I$4:I176,$C$4:C176,C177)<0,0,SUMIFS($G$5:G177,$C$5:C177,C177)-SUMIFS($I$4:I176,$C$4:C176,C177)))","v":0},null,{"$f":"IF(C177=\"\",0,IF(C177=$C$4,SUMIFS($I$4:I176,$C$4:C176,C176),SUMIFS($I$4:I176,$C$4:C176,C177)))","v":0},0]
[175,null,{"$f":"IFERROR(VLOOKUP(D178,Nomenclature!$B$2:$C$196,2,0),\"\")","v":""},null,null,null,null,{"$f":"IF(C178=\"\",0,IF(SUMIFS($G$5:G178,$C$5:C178,C178)-SUMIFS($I$4:I177,$C$4:C177,C178)<0,0,SUMIFS($G$5:G178,$C$5:C178,C178)-SUMIFS($I$4:I177,$C$4:C177,C178)))","v":0},null,{"$f":"IF(C178=\"\",0,IF(C178=$C$4,SUMIFS($I$4:I177,$C$4:C177,C177),SUMIFS($I$4:I177,$C$4:C177,C178)))","v":0},0]
[176,null,{"$f":"IFERROR(VLOOKUP(D179,Nomenclature!$B$2:$C$196,2,0),\"\")","v":""},null,null,null,null,{"$f":"IF(C179=\"\",0,IF(SUMIFS($G$5:G179,$C$5:C179,C179)-SUMIFS($I$4:I178,$C$4:C178,C179)<0,0,SUMIFS($G$5:G179,$C$5:C179,C179)-SUMIFS($I$4:I178,$C$4:C178,C179)))","v":0},null,{"$f":"IF(C179=\"\",0,IF(C179=$C$4,SUMIFS($I$4:I178,$C$4:C178,C178),SUMIFS($I$4:I178,$C$4:C178,C179)))","v":0},0]
[177,null,{"$f":"IFERROR(VLOOKUP(D180,Nomenclature!$B$2:$C$196,2,0),\"\")","v":""},null,null,null,null,{"$f":"IF(C180=\"\",0,IF(SUMIFS($G$5:G180,$C$5:C180,C180)-SUMIFS($I$4:I179,$C$4:C179,C180)<0,0,SUMIFS($G$5:G180,$C$5:C180,C180)-SUMIFS($I$4:I179,$C$4:C179,C180)))","v":0},null,{"$f":"IF(C180=\"\",0,IF(C180=$C$4,SUMIFS($I$4:I179,$C$4:C179,C179),SUMIFS($I$4:I179,$C$4:C179,C180)))","v":0},0]
[178,null,{"$f":"IFERROR(VLOOKUP(D181,Nomenclature!$B$2:$C$196,2,0),\"\")","v":""},null,null,null,null,{"$f":"IF(C181=\"\",0,IF(SUMIFS($G$5:G181,$C$5:C181,C181)-SUMIFS($I$4:I180,$C$4:C180,C181)<0,0,SUMIFS($G$5:G181,$C$5:C181,C181)-SUMIFS($I$4:I180,$C$4:C180,C181)))","v":0},null,{"$f":"IF(C181=\"\",0,IF(C181=$C$4,SUMIFS($I$4:I180,$C$4:C180,C180),SUMIFS($I$4:I180,$C$4:C180,C181)))","v":0},0]
[179,null,{"$f":"IFERROR(VLOOKUP(D182,Nomenclature!$B$2:$C$196,2,0),\"\")","v":""},null,null,null,null,{"$f":"IF(C182=\"\",0,IF(SUMIFS($G$5:G182,$C$5:C182,C182)-SUMIFS($I$4:I181,$C$4:C181,C182)<0,0,SUMIFS($G$5:G182,$C$5:C182,C182)-SUMIFS($I$4:I181,$C$4:C181,C182)))","v":0},null,{"$f":"IF(C182=\"\",0,IF(C182=$C$4,SUMIFS($I$4:I181,$C$4:C181,C181),SUMIFS($I$4:I181,$C$4:C181,C182)))","v":0},0]
[180,null,{"$f":"IFERROR(VLOOKUP(D183,Nomenclature!$B$2:$C$196,2,0),\"\")","v":""},null,null,null,null,{"$f":"IF(C183=\"\",0,IF(SUMIFS($G$5:G183,$C$5:C183,C183)-SUMIFS($I$4:I182,$C$4:C182,C183)<0,0,SUMIFS($G$5:G183,$C$5:C183,C183)-SUMIFS($I$4:I182,$C$4:C182,C183)))","v":0},null,{"$f":"IF(C183=\"\",0,IF(C183=$C$4,SUMIFS($I$4:I182,$C$4:C182,C182),SUMIFS($I$4:I182,$C$4:C182,C183)))","v":0},0]
[181,null,{"$f":"IFERROR(VLOOKUP(D184,Nomenclature!$B$2:$C$196,2,0),\"\")","v":""},null,null,null,null,{"$f":"IF(C184=\"\",0,IF(SUMIFS($G$5:G184,$C$5:C184,C184)-SUMIFS($I$4:I183,$C$4:C183,C184)<0,0,SUMIFS($G$5:G184,$C$5:C184,C184)-SUMIFS($I$4:I183,$C$4:C183,C184)))","v":0},null,{"$f":"IF(C184=\"\",0,IF(C184=$C$4,SUMIFS($I$4:I183,$C$4:C183,C183),SUMIFS($I$4:I183,$C$4:C183,C184)))","v":0},0]
[182,null,{"$f":"IFERROR(VLOOKUP(D185,Nomenclature!$B$2:$C$196,2,0),\"\")","v":""},null,null,null,null,{"$f":"IF(C185=\"\",0,IF(SUMIFS($G$5:G185,$C$5:C185,C185)-SUMIFS($I$4:I184,$C$4:C184,C185)<0,0,SUMIFS($G$5:G185,$C$5:C185,C185)-SUMIFS($I$4:I184,$C$4:C184,C185)))","v":0},null,{"$f":"IF(C185=\"\",0,IF(C185=$C$4,SUMIFS($I$4:I184,$C$4:C184,C184),SUMIFS($I$4:I184,$C$4:C184,C185)))","v":0},0]
[183,null,{"$f":"IFERROR(VLOOKUP(D186,Nomenclature!$B$2:$C$196,2,0),\"\")","v":""},null,null,null,null,{"$f":"IF(C186=\"\",0,IF(SUMIFS($G$5:G186,$C$5:C186,C186)-SUMIFS($I$4:I185,$C$4:C185,C186)<0,0,SUMIFS($G$5:G186,$C$5:C186,C186)-SUMIFS($I$4:I185,$C$4:C185,C186)))","v":0},null,{"$f":"IF(C186=\"\",0,IF(C186=$C$4,SUMIFS($I$4:I185,$C$4:C185,C185),SUMIFS($I$4:I185,$C$4:C185,C186)))","v":0},0]
[184,null,{"$f":"IFERROR(VLOOKUP(D187,Nomenclature!$B$2:$C$196,2,0),\"\")","v":""},null,null,null,null,{"$f":"IF(C187=\"\",0,IF(SUMIFS($G$5:G187,$C$5:C187,C187)-SUMIFS($I$4:I186,$C$4:C186,C187)<0,0,SUMIFS($G$5:G187,$C$5:C187,C187)-SUMIFS($I$4:I186,$C$4:C186,C187)))","v":0},null,{"$f":"IF(C187=\"\",0,IF(C187=$C$4,SUMIFS($I$4:I186,$C$4:C186,C186),SUMIFS($I$4:I186,$C$4:C186,C187)))","v":0},0]
[185,null,{"$f":"IFERROR(VLOOKUP(D188,Nomenclature!$B$2:$C$196,2,0),\"\")","v":""},null,null,null,null,{"$f":"IF(C188=\"\",0,IF(SUMIFS($G$5:G188,$C$5:C188,C188)-SUMIFS($I$4:I187,$C$4:C187,C188)<0,0,SUMIFS($G$5:G188,$C$5:C188,C188)-SUMIFS($I$4:I187,$C$4:C187,C188)))","v":0},null,{"$f":"IF(C188=\"\",0,IF(C188=$C$4,SUMIFS($I$4:I187,$C$4:C187,C187),SUMIFS($I$4:I187,$C$4:C187,C188)))","v":0},0]
[186,null,{"$f":"IFERROR(VLOOKUP(D189,Nomenclature!$B$2:$C$196,2,0),\"\")","v":""},null,null,null,null,{"$f":"IF(C189=\"\",0,IF(SUMIFS($G$5:G189,$C$5:C189,C189)-SUMIFS($I$4:I188,$C$4:C188,C189)<0,0,SUMIFS($G$5:G189,$C$5:C189,C189)-SUMIFS($I$4:I188,$C$4:C188,C189)))","v":0},null,{"$f":"IF(C189=\"\",0,IF(C189=$C$4,SUMIFS($I$4:I188,$C$4:C188,C188),SUMIFS($I$4:I188,$C$4:C188,C189)))","v":0},0]
[187,null,{"$f":"IFERROR(VLOOKUP(D190,Nomenclature!$B$2:$C$196,2,0),\"\")","v":""},null,null,null,null,{"$f":"IF(C190=\"\",0,IF(SUMIFS($G$5:G190,$C$5:C190,C190)-SUMIFS($I$4:I189,$C$4:C189,C190)<0,0,SUMIFS($G$5:G190,$C$5:C190,C190)-SUMIFS($I$4:I189,$C$4:C189,C190)))","v":0},null,{"$f":"IF(C190=\"\",0,IF(C190=$C$4,SUMIFS($I$4:I189,$C$4:C189,C189),SUMIFS($I$4:I189,$C$4:C189,C190)))","v":0},0]
[188,null,{"$f":"IFERROR(VLOOKUP(D191,Nomenclature!$B$2:$C$196,2,0),\"\")","v":""},null,null,null,null,{"$f":"IF(C191=\"\",0,IF(SUMIFS($G$5:G191,$C$5:C191,C191)-SUMIFS($I$4:I190,$C$4:C190,C191)<0,0,SUMIFS($G$5:G191,$C$5:C191,C191)-SUMIFS($I$4:I190,$C$4:C190,C191)))","v":0},null,{"$f":"IF(C191=\"\",0,IF(C191=$C$4,SUMIFS($I$4:I190,$C$4:C190,C190),SUMIFS($I$4:I190,$C$4:C190,C191)))","v":0},0]
[189,null,{"$f":"IFERROR(VLOOKUP(D192,Nomenclature!$B$2:$C$196,2,0),\"\")","v":""},null,null,null,null,{"$f":"IF(C192=\"\",0,IF(SUMIFS($G$5:G192,$C$5:C192,C192)-SUMIFS($I$4:I191,$C$4:C191,C192)<0,0,SUMIFS($G$5:G192,$C$5:C192,C192)-SUMIFS($I$4:I191,$C$4:C191,C192)))","v":0},null,{"$f":"IF(C192=\"\",0,IF(C192=$C$4,SUMIFS($I$4:I191,$C$4:C191,C191),SUMIFS($I$4:I191,$C$4:C191,C192)))","v":0},0]
[190,null,{"$f":"IFERROR(VLOOKUP(D193,Nomenclature!$B$2:$C$196,2,0),\"\")","v":""},null,null,null,null,{"$f":"IF(C193=\"\",0,IF(SUMIFS($G$5:G193,$C$5:C193,C193)-SUMIFS($I$4:I192,$C$4:C192,C193)<0,0,SUMIFS($G$5:G193,$C$5:C193,C193)-SUMIFS($I$4:I192,$C$4:C192,C193)))","v":0},null,{"$f":"IF(C193=\"\",0,IF(C193=$C$4,SUMIFS($I$4:I192,$C$4:C192,C192),SUMIFS($I$4:I192,$C$4:C192,C193)))","v":0},0]
[191,null,{"$f":"IFERROR(VLOOKUP(D194,Nomenclature!$B$2:$C$196,2,0),\"\")","v":""},null,null,null,null,{"$f":"IF(C194=\"\",0,IF(SUMIFS($G$5:G194,$C$5:C194,C194)-SUMIFS($I$4:I193,$C$4:C193,C194)<0,0,SUMIFS($G$5:G194,$C$5:C194,C194)-SUMIFS($I$4:I193,$C$4:C193,C194)))","v":0},null,{"$f":"IF(C194=\"\",0,IF(C194=$C$4,SUMIFS($I$4:I193,$C$4:C193,C193),SUMIFS($I$4:I193,$C$4:C193,C194)))","v":0},0]
[192,null,{"$f":"IFERROR(VLOOKUP(D195,Nomenclature!$B$2:$C$196,2,0),\"\")","v":""},null,null,null,null,{"$f":"IF(C195=\"\",0,IF(SUMIFS($G$5:G195,$C$5:C195,C195)-SUMIFS($I$4:I194,$C$4:C194,C195)<0,0,SUMIFS($G$5:G195,$C$5:C195,C195)-SUMIFS($I$4:I194,$C$4:C194,C195)))","v":0},null,{"$f":"IF(C195=\"\",0,IF(C195=$C$4,SUMIFS($I$4:I194,$C$4:C194,C194),SUMIFS($I$4:I194,$C$4:C194,C195)))","v":0},0]
[193,null,{"$f":"IFERROR(VLOOKUP(D196,Nomenclature!$B$2:$C$196,2,0),\"\")","v":""},null,null,null,null,{"$f":"IF(C196=\"\",0,IF(SUMIFS($G$5:G196,$C$5:C196,C196)-SUMIFS($I$4:I195,$C$4:C195,C196)<0,0,SUMIFS($G$5:G196,$C$5:C196,C196)-SUMIFS($I$4:I195,$C$4:C195,C196)))","v":0},null,{"$f":"IF(C196=\"\",0,IF(C196=$C$4,SUMIFS($I$4:I195,$C$4:C195,C195),SUMIFS($I$4:I195,$C$4:C195,C196)))","v":0},{"$f":"IF(C196=\"\",0,H196-I196)","v":0}]
[194,null,{"$f":"IFERROR(VLOOKUP(D197,Nomenclature!$B$2:$C$196,2,0),\"\")","v":""},null,null,null,null,{"$f":"IF(C197=\"\",0,IF(SUMIFS($G$5:G197,$C$5:C197,C197)-SUMIFS($I$4:I196,$C$4:C196,C197)<0,0,SUMIFS($G$5:G197,$C$5:C197,C197)-SUMIFS($I$4:I196,$C$4:C196,C197)))","v":0},null,{"$f":"IF(C197=\"\",0,IF(C197=$C$4,SUMIFS($I$4:I196,$C$4:C196,C196),SUMIFS($I$4:I196,$C$4:C196,C197)))","v":0},0]
[195,null,{"$f":"IFERROR(VLOOKUP(D198,Nomenclature!$B$2:$C$196,2,0),\"\")","v":""},null,null,null,null,{"$f":"IF(C198=\"\",0,IF(SUMIFS($G$5:G198,$C$5:C198,C198)-SUMIFS($I$4:I197,$C$4:C197,C198)<0,0,SUMIFS($G$5:G198,$C$5:C198,C198)-SUMIFS($I$4:I197,$C$4:C197,C198)))","v":0},null,{"$f":"IF(C198=\"\",0,IF(C198=$C$4,SUMIFS($I$4:I197,$C$4:C197,C197),SUMIFS($I$4:I197,$C$4:C197,C198)))","v":0},0]
[196,null,{"$f":"IFERROR(VLOOKUP(D199,Nomenclature!$B$2:$C$196,2,0),\"\")","v":""},null,null,null,null,{"$f":"IF(C199=\"\",0,IF(SUMIFS($G$5:G199,$C$5:C199,C199)-SUMIFS($I$4:I198,$C$4:C198,C199)<0,0,SUMIFS($G$5:G199,$C$5:C199,C199)-SUMIFS($I$4:I198,$C$4:C198,C199)))","v":0},null,{"$f":"IF(C199=\"\",0,IF(C199=$C$4,SUMIFS($I$4:I198,$C$4:C198,C198),SUMIFS($I$4:I198,$C$4:C198,C199)))","v":0},0]
[197,null,{"$f":"IFERROR(VLOOKUP(D200,Nomenclature!$B$2:$C$196,2,0),\"\")","v":""},null,null,null,null,{"$f":"IF(C200=\"\",0,IF(SUMIFS($G$5:G200,$C$5:C200,C200)-SUMIFS($I$4:I199,$C$4:C199,C200)<0,0,SUMIFS($G$5:G200,$C$5:C200,C200)-SUMIFS($I$4:I199,$C$4:C199,C200)))","v":0},null,{"$f":"IF(C200=\"\",0,IF(C200=$C$4,SUMIFS($I$4:I199,$C$4:C199,C199),SUMIFS($I$4:I199,$C$4:C199,C200)))","v":0},0]
[198,null,{"$f":"IFERROR(VLOOKUP(D201,Nomenclature!$B$2:$C$196,2,0),\"\")","v":""},null,null,null,null,{"$f":"IF(C201=\"\",0,IF(SUMIFS($G$5:G201,$C$5:C201,C201)-SUMIFS($I$4:I200,$C$4:C200,C201)<0,0,SUMIFS($G$5:G201,$C$5:C201,C201)-SUMIFS($I$4:I200,$C$4:C200,C201)))","v":0},null,{"$f":"IF(C201=\"\",0,IF(C201=$C$4,SUMIFS($I$4:I200,$C$4:C200,C200),SUMIFS($I$4:I200,$C$4:C200,C201)))","v":0},0]
[199,null,{"$f":"IFERROR(VLOOKUP(D202,Nomenclature!$B$2:$C$196,2,0),\"\")","v":""},null,null,null,null,{"$f":"IF(C202=\"\",0,IF(SUMIFS($G$5:G202,$C$5:C202,C202)-SUMIFS($I$4:I201,$C$4:C201,C202)<0,0,SUMIFS($G$5:G202,$C$5:C202,C202)-SUMIFS($I$4:I201,$C$4:C201,C202)))","v":0},null,{"$f":"IF(C202=\"\",0,IF(C202=$C$4,SUMIFS($I$4:I201,$C$4:C201,C201),SUMIFS($I$4:I201,$C$4:C201,C202)))","v":0},0]
[200,null,{"$f":"IFERROR(VLOOKUP(D203,Nomenclature!$B$2:$C$196,2,0),\"\")","v":""},null,null,null,null,{"$f":"IF(C203=\"\",0,IF(SUMIFS($G$5:G203,$C$5:C203,C203)-SUMIFS($I$4:I202,$C$4:C202,C203)<0,0,SUMIFS($G$5:G203,$C$5:C203,C203)-SUMIFS($I$4:I202,$C$4:C202,C203)))","v":0},null,{"$f":"IF(C203=\"\",0,IF(C203=$C$4,SUMIFS($I$4:I202,$C$4:C202,C202),SUMIFS($I$4:I202,$C$4:C202,C203)))","v":0},0]

{"sheet":"25000","index":11,"n_rows":203,"n_cols":44,"rows_kept":203,"cut":false,"hidden":false,"merged":[[50,23,50,24],[44,14,45,18],[44,22,45,26],[44,29,44,30],[46,14,47,18],[46,22,47,26],[47,29,47,30],[50,15,50,16],[33,14,33,17],[34,14,37,41],[39,14,39,17],[39,18,40,41],[42,14,42,27],[42,28,42,41],[28,38,29,41],[30,14,31,17],[30,18,31,21],[30,22,31,25],[30,26,31,29],[30,30,31,33],[30,34,31,37],[30,38,31,41],[28,14,29,17],[28,18,29,21],[28,22,29,25],[28,26,29,29],[28,30,29,33],[28,34,29,37],[19,14,19,15],[26,38,27,41],[20,22,20,32],[21,18,21,21],[21,22,21,32],[22,18,22,21],[22,22,22,32],[23,17,25,41],[20,18,20,21],[26,14,27,21],[26,22,27,25],[26,26,27,29],[26,30,27,33],[26,34,27,37],[15,19,15,20],[16,14,16,18],[16,19,16,20],[14,14,14,18],[14,19,14,27],[0,13,2,15],[3,14,3,41],[3,42,58,42],[4,14,4,18],[4,19,4,27],[5,14,5,18],[5,19,5,27],[6,14,6,18],[6,19,6,27],[10,15,11,19],[10,20,11,23],[10,31,11,32],[10,33,11,38],[13,14,13,18],[13,19,13,20],[15,14,15,18],[0,11,2,11],[0,0,2,0],[0,1,2,1],[0,2,2,2],[0,3,2,3],[0,4,2,4],[0,5,1,5],[0,6,1,6],[0,7,2,7],[0,8,1,8],[0,9,2,9],[0,10,1,10]]}
["رقم\nالاستمارة","التاريخ","الترميز","الصنف / الصنف الفرعي","ملاحظات المصلحة","AP Cat",{"$f":"IF(SUM(G4:G203)-SUM(F4:F203)<0,\"نقص في توزيع الاعتمادات على الاصناف الفرعية\",\nIF(SUM(G4:G203)-SUM(F4:F203)>0,\"تجاوز في الاعتمادات الموزعة على الاصناف الفرعية\",\"AP S.Cat\"))","v":"AP S.Cat"},"AP Sous_Cat",{"$f":"IF(I3>G3,\"تجاوز في الالتزامات\",\"∑ Engagements\")","v":"∑ Engagements"},"∑ Eng Sous_Cat","Reste","السند القانوني للعنوان الرابع",null,1]
[]
[null,null,null,null,null,{"$f":"SUM(F4:F203)","v":0},{"$f":"SUM(G4:G203)","v":0},null,{"$f":"SUM(I5:I203)","v":0},null,{"$f":"SUM(K4:K104)","v":0}]
[1,"2023-03-13",{"$f":"IFERROR(VLOOKUP(D4,Nomenclature!$B$2:$C$196,2,0),\"\")","v":25000},"الصيانة و الإصلاح","تكفل برخصة الالتزام المفتوحة لسنة 2023.",null,null,{"$f":"IF(C4=\"\",0,IF(SUMIFS($G4:G$5,$C4:C$5,C4)-SUMIFS($I3:I$4,$C3:C$4,C4)<0,0,SUMIFS($G4:G$5,$C4:C$5,C4)-SUMIFS($I3:I$4,$C3:C$4,C4)))","v":0},null,{"$f":"IF(I4=0,0,IF(C4=\"\",0,SUMIFS($I4:I$4,$C4:C$4,C4)))","v":0},{"$f":"IF(C4=\"\",0,H4-I4)","v":0},null,null,null,"الجمهورية الجزائرية الديمقراطية الشعبية"]
[2,"2023-04-01",{"$f":"IFERROR(VLOOKUP(D5,Nomenclature!$B$2:$C$196,2,0),\"\")","v":""},null,null,null,null,{"$f":"IF(C5=\"\",0,IF(SUMIFS($G$5:G5,$C$5:C5,C5)-SUMIFS($I$4:I4,$C$4:C4,C5)<0,0,SUMIFS($G$5:G5,$C$5:C5,C5)-SUMIFS($I$4:I4,$C$4:C4,C5)))","v":0},null,{"$f":"IF(C5=\"\",0,IF(C5=$C$4,SUMIFS($I$4:I4,$C$4:C4,C4),SUMIFS($I$4:I4,$C$4:C4,C5)))","v":0},0,null,null,null,"الـوزارة:",null,null,null,null,{"$f":"الواجهة!C2","v":"وزارة البيئة و الطاقات المتجددة"}]
[3,null,{"$f":"IFERROR(VLOOKUP(D6,Nomenclature!$B$2:$C$196,2,0),\"\")","v":""},null,null,null,null,{"$f":"IF(C6=\"\",0,IF(SUMIFS($G$5:G6,$C$5:C6,C6)-SUMIFS($I$4:I5,$C$4:C5,C6)<0,0,SUMIFS($G$5:G6,$C$5:C6,C6)-SUMIFS($I$4:I5,$C$4:C5,C6)))","v":0},null,{"$f":"IF(C6=\"\",0,IF(C6=$C$4,SUMIFS($I$4:I5,$C$4:C5,C5),SUMIFS($I$4:I5,$C$4:C5,C6)))","v":0},0,null,null,null,"الهيئة الإدارية:",null,null,null,null,{"$f":"الواجهة!C3","v":"مديرية البيئة لولاية المسيلة"}]
[4,null,{"$f":"IFERROR(VLOOKUP(D7,Nomenclature!$B$2:$C$196,2,0),\"\")","v":""},null,null,null,null,{"$f":"IF(C7=\"\",0,IF(SUMIFS($G$5:G7,$C$5:C7,C7)-SUMIFS($I$4:I6,$C$4:C6,C7)<0,0,SUMIFS($G$5:G7,$C$5:C7,C7)-SUMIFS($I$4:I6,$C$4:C6,C7)))","v":0},null,{"$f":"IF(C7=\"\",0,IF(C7=$C$4,SUMIFS($I$4:I6,$C$4:C6,C6),SUMIFS($I$4:I6,$C$4:C6,C7)))","v":0},0,null,null,null,"رمز الآمر بالصرف:",null,null,null,null,{"$f":"الواجهة!C4","v":"144 0 28 01"}]
[5,null,{"$f":"IFERROR(VLOOKUP(D8,Nomenclature!$B$2:$C$196,2,0),\"\")","v":""},null,null,null,null,{"$f":"IF(C8=\"\",0,IF(SUMIFS($G$5:G8,$C$5:C8,C8)-SUMIFS($I$4:I7,$C$4:C7,C8)<0,0,SUMIFS($G$5:G8,$C$5:C8,C8)-SUMIFS($I$4:I7,$C$4:C7,C8)))","v":0},null,{"$f":"IF(C8=\"\",0,IF(C8=$C$4,SUMIFS($I$4:I7,$C$4:C7,C7),SUMIFS($I$4:I7,$C$4:C7,C8)))","v":0},0,null,null,null,null,null,null,null,null,null,null,null,null,null,null,null,null,null,null,null,null,null,null,"."]
[6,null,{"$f":"IFERROR(VLOOKUP(D9,Nomenclature!$B$2:$C$196,2,0),\"\")","v":""},null,null,null,null,{"$f":"IF(C9=\"\",0,IF(SUMIFS($G$5:G9,$C$5:C9,C9)-SUMIFS($I$4:I8,$C$4:C8,C9)<0,0,SUMIFS($G$5:G9,$C$5:C9,C9)-SUMIFS($I$4:I8,$C$4:C8,C9)))","v":0},null,{"$f":"IF(C9=\"\",0,IF(C9=$C$4,SUMIFS($I$4:I8,$C$4:C8,C8),SUMIFS($I$4:I8,$C$4:C8,C9)))","v":0},0]
[7,null,{"$f":"IFERROR(VLOOKUP(D10,Nomenclature!$B$2:$C$196,2,0),\"\")","v":""},null,null,null,null,{"$f":"IF(C10=\"\",0,IF(SUMIFS($G$5:G10,$C$5:C10,C10)-SUMIFS($I$4:I9,$C$4:C9,C10)<0,0,SUMIFS($G$5:G10,$C$5:C10,C10)-SUMIFS($I$4:I9,$C$4:C9,C10)))","v":0},null,{"$f":"IF(C10=\"\",0,IF(C10=$C$4,SUMIFS($I$4:I9,$C$4:C9,C9),SUMIFS($I$4:I9,$C$4:C9,C10)))","v":0},0]
[8,null,{"$f":"IFERROR(VLOOKUP(D11,Nomenclature!$B$2:$C$196,2,0),\"\")","v":""},null,null,null,null,{"$f":"IF(C11=\"\",0,IF(SUMIFS($G$5:G11,$C$5:C11,C11)-SUMIFS($I$4:I10,$C$4:C10,C11)<0,0,SUMIFS($G$5:G11,$C$5:C11,C11)-SUMIFS($I$4:I10,$C$4:C10,C11)))","v":0},null,{"$f":"IF(C11=\"\",0,IF(C11=$C$4,SUMIFS($I$4:I10,$C$4:C10,C10),SUMIFS($I$4:I10,$C$4:C10,C11)))","v":0},0,null,null,null,null,"رقم بطاقة الالتزام:",null,null,null,null,{"$f":"IFERROR(VLOOKUP(N1,A4:L203,1,0),0)","v":1},null,null,null,null,null,null,null,null,null,null,"التاريخ:",null,{"$f":"IF(IFERROR(VLOOKUP(N1,A4:L203,2,0),0)=0,\"\",IFERROR(VLOOKUP(N1,A4:L203,2,0),0))","v":"2023-03-13"}]
[9,null,{"$f":"IFERROR(VLOOKUP(D12,Nomenclature!$B$2:$C$196,2,0),\"\")","v":""},null,null,null,null,{"$f":"IF(C12=\"\",0,IF(SUMIFS($G$5:G12,$C$5:C12,C12)-SUMIFS($I$4:I11,$C$4:C11,C12)<0,0,SUMIFS($G$5:G12,$C$5:C12,C12)-SUMIFS($I$4:I11,$C$4:C11,C12)))","v":0},null,{"$f":"IF(C12=\"\",0,IF(C12=$C$4,SUMIFS($I$4:I11,$C$4:C11,C11),SUMIFS($I$4:I11,$C$4:C11,C12)))","v":0},0]
[10,null,{"$f":"IFERROR(VLOOKUP(D13,Nomenclature!$B$2:$C$196,2,0),\"\")","v":""},null,null,null,null,{"$f":"IF(C13=\"\",0,IF(SUMIFS($G$5:G13,$C$5:C13,C13)-SUMIFS($I$4:I12,$C$4:C12,C13)<0,0,SUMIFS($G$5:G13,$C$5:C13,C13)-SUMIFS($I$4:I12,$C$4:C12,C13)))","v":0},null,{"$f":"IF(C13=\"\",0,IF(C13=$C$4,SUMIFS($I$4:I12,$C$4:C12,C12),SUMIFS($I$4:I12,$C$4:C12,C13)))","v":0},0]
[11,null,{"$f":"IFERROR(VLOOKUP(D14,Nomenclature!$B$2:$C$196,2,0),\"\")","v":""},null,null,null,null,{"$f":"IF(C14=\"\",0,IF(SUMIFS($G$5:G14,$C$5:C14,C14)-SUMIFS($I$4:I13,$C$4:C13,C14)<0,0,SUMIFS($G$5:G14,$C$5:C14,C14)-SUMIFS($I$4:I13,$C$4:C13,C14)))","v":0},null,{"$f":"IF(C14=\"\",0,IF(C14=$C$4,SUMIFS($I$4:I13,$C$4:C13,C13),SUMIFS($I$4:I13,$C$4:C13,C14)))","v":0},0,null,null,null,"رمز البرنــامج:",null,null,null,null,{"$f":"الواجهة!C7","v":"116"}]
[12,null,{"$f":"IFERROR(VLOOKUP(D15,Nomenclature!$B$2:$C$196,2,0),\"\")","v":""},null,null,null,null,{"$f":"IF(C15=\"\",0,IF(SUMIFS($G$5:G15,$C$5:C15,C15)-SUMIFS($I$4:I14,$C$4:C14,C15)<0,0,SUMIFS($G$5:G15,$C$5:C15,C15)-SUMIFS($I$4:I14,$C$4:C14,C15)))","v":0},null,{"$f":"IF(C15=\"\",0,IF(C15=$C$4,SUMIFS($I$4:I14,$C$4:C14,C14),SUMIFS($I$4:I14,$C$4:C14,C15)))","v":0},0,null,null,null,"رمز النشــاط:",null,null,null,null,{"$f":"الواجهة!C6&\" \"&الواجهة!C7&\" \"&الواجهة!C10&\" \"&الواجهة!C8&\" \"&الواجهة!C9&\" \"&الواجهة!C11","v":"030 116 02 2001 000 028"}]
[13,null,{"$f":"IFERROR(VLOOKUP(D16,Nomenclature!$B$2:$C$196,2,0),\"\")","v":""},null,null,null,null,{"$f":"IF(C16=\"\",0,IF(SUMIFS($G$5:G16,$C$5:C16,C16)-SUMIFS($I$4:I15,$C$4:C15,C16)<0,0,SUMIFS($G$5:G16,$C$5:C16,C16)-SUMIFS($I$4:I15,$C$4:C15,C16)))","v":0},null,{"$f":"IF(C16=\"\",0,IF(C16=$C$4,SUMIFS($I$4:I15,$C$4:C15,C15),SUMIFS($I$4:I15,$C$4:C15,C16)))","v":0},0,null,null,null,"رمز النشــاط الفرعي:",null,null,null,null,{"$f":"الواجهة!C9","v":"000"}]
[14,null,{"$f":"IFERROR(VLOOKUP(D17,Nomenclature!$B$2:$C$196,2,0),\"\")","v":""},null,null,null,null,{"$f":"IF(C17=\"\",0,IF(SUMIFS($G$5:G17,$C$5:C17,C17)-SUMIFS($I$4:I16,$C$4:C16,C17)<0,0,SUMIFS($G$5:G17,$C$5:C17,C17)-SUMIFS($I$4:I16,$C$4:C16,C17)))","v":0},null,{"$f":"IF(C17=\"\",0,IF(C17=$C$4,SUMIFS($I$4:I16,$C$4:C16,C16),SUMIFS($I$4:I16,$C$4:C16,C17)))","v":0},0,null,null,null,"رمز البرنـامج الفرعي:",null,null,null,null,{"$f":"الواجهة!C10","v":"02"}]
[15,null,{"$f":"IFERROR(VLOOKUP(D18,Nomenclature!$B$2:$C$196,2,0),\"\")","v":""},null,null,null,null,{"$f":"IF(C18=\"\",0,IF(SUMIFS($G$5:G18,$C$5:C18,C18)-SUMIFS($I$4:I17,$C$4:C17,C18)<0,0,SUMIFS($G$5:G18,$C$5:C18,C18)-SUMIFS($I$4:I17,$C$4:C17,C18)))","v":0},null,{"$f":"IF(C18=\"\",0,IF(C18=$C$4,SUMIFS($I$4:I17,$C$4:C17,C17),SUMIFS($I$4:I17,$C$4:C17,C18)))","v":0},0,null,null,null,null,null,null,null,null,null,null,null,null,null,null,null,null,null,null,null,null,null,null,null,null,null,null,null,null,null,null,null,null,"\n\n\n"]
[16,null,{"$f":"IFERROR(VLOOKUP(D19,Nomenclature!$B$2:$C$196,2,0),\"\")","v":""},null,null,null,null,{"$f":"IF(C19=\"\",0,IF(SUMIFS($G$5:G19,$C$5:C19,C19)-SUMIFS($I$4:I18,$C$4:C18,C19)<0,0,SUMIFS($G$5:G19,$C$5:C19,C19)-SUMIFS($I$4:I18,$C$4:C18,C19)))","v":0},null,{"$f":"IF(C19=\"\",0,IF(C19=$C$4,SUMIFS($I$4:I18,$C$4:C18,C18),SUMIFS($I$4:I18,$C$4:C18,C19)))","v":0},0]
[17,null,{"$f":"IFERROR(VLOOKUP(D20,Nomenclature!$B$2:$C$196,2,0),\"\")","v":""},null,null,null,null,{"$f":"IF(C20=\"\",0,IF(SUMIFS($G$5:G20,$C$5:C20,C20)-SUMIFS($I$4:I19,$C$4:C19,C20)<0,0,SUMIFS($G$5:G20,$C$5:C20,C20)-SUMIFS($I$4:I19,$C$4:C19,C20)))","v":0},null,{"$f":"IF(C20=\"\",0,IF(C20=$C$4,SUMIFS($I$4:I19,$C$4:C19,C19),SUMIFS($I$4:I19,$C$4:C19,C20)))","v":0},0,null,null,null,"العنوان:"]
[18,null,{"$f":"IFERROR(VLOOKUP(D21,Nomenclature!$B$2:$C$196,2,0),\"\")","v":""},null,null,null,null,{"$f":"IF(C21=\"\",0,IF(SUMIFS($G$5:G21,$C$5:C21,C21)-SUMIFS($I$4:I20,$C$4:C20,C21)<0,0,SUMIFS($G$5:G21,$C$5:C21,C21)-SUMIFS($I$4:I20,$C$4:C20,C21)))","v":0},null,{"$f":"IF(C21=\"\",0,IF(C21=$C$4,SUMIFS($I$4:I20,$C$4:C20,C20),SUMIFS($I$4:I20,$C$4:C20,C21)))","v":0},0,null,null,null,null,null,{"$f":"IF(C4<20000,\"X\",\"\")","v":""},null,"العنوان الأول:",null,null,null,"نفقات المستخدمين"]
[19,null,{"$f":"IFERROR(VLOOKUP(D22,Nomenclature!$B$2:$C$196,2,0),\"\")","v":""},null,null,null,null,{"$f":"IF(C22=\"\",0,IF(SUMIFS($G$5:G22,$C$5:C22,C22)-SUMIFS($I$4:I21,$C$4:C21,C22)<0,0,SUMIFS($G$5:G22,$C$5:C22,C22)-SUMIFS($I$4:I21,$C$4:C21,C22)))","v":0},null,{"$f":"IF(C22=\"\",0,IF(C22=$C$4,SUMIFS($I$4:I21,$C$4:C21,C21),SUMIFS($I$4:I21,$C$4:C21,C22)))","v":0},0,null,null,null,null,null,{"$f":"IF(AND(C4>19999,C4<40000),\"X\",\"\")","v":"X"},null,"العنوان الثاني:",null,null,null,"نفقات تسيير المصالح"]
[20,null,{"$f":"IFERROR(VLOOKUP(D23,Nomenclature!$B$2:$C$196,2,0),\"\")","v":""},null,null,null,null,{"$f":"IF(C23=\"\",0,IF(SUMIFS($G$5:G23,$C$5:C23,C23)-SUMIFS($I$4:I22,$C$4:C22,C23)<0,0,SUMIFS($G$5:G23,$C$5:C23,C23)-SUMIFS($I$4:I22,$C$4:C22,C23)))","v":0},null,{"$f":"IF(C23=\"\",0,IF(C23=$C$4,SUMIFS($I$4:I22,$C$4:C22,C22),SUMIFS($I$4:I22,$C$4:C22,C23)))","v":0},0,null,null,null,null,null,{"$f":"IF(AND(Q21=\"\",Q22=\"\"),\"X\",\"\")","v":""},null,"العنوان الرابع:",null,null,null,"نفقات التحويل"]
[21,null,{"$f":"IFERROR(VLOOKUP(D24,Nomenclature!$B$2:$C$196,2,0),\"\")","v":""},null,null,null,null,{"$f":"IF(C24=\"\",0,IF(SUMIFS($G$5:G24,$C$5:C24,C24)-SUMIFS($I$4:I23,$C$4:C23,C24)<0,0,SUMIFS($G$5:G24,$C$5:C24,C24)-SUMIFS($I$4:I23,$C$4:C23,C24)))","v":0},null,{"$f":"IF(C24=\"\",0,IF(C24=$C$4,SUMIFS($I$4:I23,$C$4:C23,C23),SUMIFS($I$4:I23,$C$4:C23,C24)))","v":0},0,null,null,null,null,null,null,{"$f":"IF(VLOOKUP(N1,A4:L203,12,0)=\"\",\"- - - - - - - - - - - - - - - - - - - - - - - - - - - - - - - - - - - - - - - - - - - - - - - / / / - - - - - - - - - - - - - - - - - - - - - - - - - - - - - - - - - - - - - - - - - - - - - - -\"& CHAR(10)&\"- - - - - - - - - - - - - - - - - - - - - - - - - - - - - - - - - - - - - - - - - - - - - - - / / / - - - - - - - - - - - - - - - - - - - - - - - - - - - - - - - - - - - - - - - - - - - - - - -\",VLOOKUP(N1,A4:L203,12,0))","v":"- - - - - - - - - - - - - - - - - - - - - - - - - - - - - - - - - - - - - - - - - - - - - - - / / / - - - - - - - - - - - - - - - - - - - - - - - - - - - - - - - - - - - - - - - - - - - - - - -\n- - - - - - - - - - - - - - - - - - - - - - - - - - - - - - - - - - - - - - - - - - - - - - - / / / - - - - - - - - - - - - - - - - - - - - - - - - - - - - - - - - - - - - - - - - - - - - - - -"}]
[22,null,{"$f":"IFERROR(VLOOKUP(D25,Nomenclature!$B$2:$C$196,2,0),\"\")","v":""},null,null,null,null,{"$f":"IF(C25=\"\",0,IF(SUMIFS($G$5:G25,$C$5:C25,C25)-SUMIFS($I$4:I24,$C$4:C24,C25)<0,0,SUMIFS($G$5:G25,$C$5:C25,C25)-SUMIFS($I$4:I24,$C$4:C24,C25)))","v":0},null,{"$f":"IF(C25=\"\",0,IF(C25=$C$4,SUMIFS($I$4:I24,$C$4:C24,C24),SUMIFS($I$4:I24,$C$4:C24,C25)))","v":0},0]
[23,null,{"$f":"IFERROR(VLOOKUP(D26,Nomenclature!$B$2:$C$196,2,0),\"\")","v":""},null,null,null,null,{"$f":"IF(C26=\"\",0,IF(SUMIFS($G$5:G26,$C$5:C26,C26)-SUMIFS($I$4:I25,$C$4:C25,C26)<0,0,SUMIFS($G$5:G26,$C$5:C26,C26)-SUMIFS($I$4:I25,$C$4:C25,C26)))","v":0},null,{"$f":"IF(C26=\"\",0,IF(C26=$C$4,SUMIFS($I$4:I25,$C$4:C25,C25),SUMIFS($I$4:I25,$C$4:C25,C26)))","v":0},0]
[24,null,{"$f":"IFERROR(VLOOKUP(D27,Nomenclature!$B$2:$C$196,2,0),\"\")","v":""},null,null,null,null,{"$f":"IF(C27=\"\",0,IF(SUMIFS($G$5:G27,$C$5:C27,C27)-SUMIFS($I$4:I26,$C$4:C26,C27)<0,0,SUMIFS($G$5:G27,$C$5:C27,C27)-SUMIFS($I$4:I26,$C$4:C26,C27)))","v":0},null,{"$f":"IF(C27=\"\",0,IF(C27=$C$4,SUMIFS($I$4:I26,$C$4:C26,C26),SUMIFS($I$4:I26,$C$4:C26,C27)))","v":0},0,null,null,null,"الصنف / الصنف الفرعي",null,null,null,null,null,null,null,"رخصة الالتزام\nالمفتوحة/المعدلة",null,null,null,"مجموع الالتزامات السابقة",null,null,null,"الرصيد\nالأولي",null,null,null,"الالتزام\nالمقترح",null,null,null,"الرصيد المتبقى"]
[25,null,{"$f":"IFERROR(VLOOKUP(D28,Nomenclature!$B$2:$C$196,2,0),\"\")","v":""},null,null,null,null,{"$f":"IF(C28=\"\",0,IF(SUMIFS($G$5:G28,$C$5:C28,C28)-SUMIFS($I$4:I27,$C$4:C27,C28)<0,0,SUMIFS($G$5:G28,$C$5:C28,C28)-SUMIFS($I$4:I27,$C$4:C27,C28)))","v":0},null,{"$f":"IF(C28=\"\",0,IF(C28=$C$4,SUMIFS($I$4:I27,$C$4:C27,C27),SUMIFS($I$4:I27,$C$4:C27,C28)))","v":0},0]
[26,null,{"$f":"IFERROR(VLOOKUP(D29,Nomenclature!$B$2:$C$196,2,0),\"\")","v":""},null,null,null,null,{"$f":"IF(C29=\"\",0,IF(SUMIFS($G$5:G29,$C$5:C29,C29)-SUMIFS($I$4:I28,$C$4:C28,C29)<0,0,SUMIFS($G$5:G29,$C$5:C29,C29)-SUMIFS($I$4:I28,$C$4:C28,C29)))","v":0},null,{"$f":"IF(C29=\"\",0,IF(C29=$C$4,SUMIFS($I$4:I28,$C$4:C28,C28),SUMIFS($I$4:I28,$C$4:C28,C29)))","v":0},0,null,null,null,"الصنف",null,null,null,{"$f":"C4","v":25000},null,null,null,{"$f":"SUM($F$4:INDIRECT(\"f\"&N1+3))","v":0},null,null,null,{"$f":"SUM($I$4:INDIRECT(\"i\"&N1+2))","v":0},null,null,null,{"$f":"W29-AA29","v":0},null,null,null,{"$f":"IF(S31=\"\",0,VLOOKUP(N1,A4:L103,9,0))","v":0},null,null,null,{"$f":"IF((AE29-AI29)<0,\"رصيد غير كاف\",AE29-AI29)","v":0}]
[27,null,{"$f":"IFERROR(VLOOKUP(D30,Nomenclature!$B$2:$C$196,2,0),\"\")","v":""},null,null,null,null,{"$f":"IF(C30=\"\",0,IF(SUMIFS($G$5:G30,$C$5:C30,C30)-SUMIFS($I$4:I29,$C$4:C29,C30)<0,0,SUMIFS($G$5:G30,$C$5:C30,C30)-SUMIFS($I$4:I29,$C$4:C29,C30)))","v":0},null,{"$f":"IF(C30=\"\",0,IF(C30=$C$4,SUMIFS($I$4:I29,$C$4:C29,C29),SUMIFS($I$4:I29,$C$4:C29,C30)))","v":0},0]
[28,null,{"$f":"IFERROR(VLOOKUP(D31,Nomenclature!$B$2:$C$196,2,0),\"\")","v":""},null,null,null,null,{"$f":"IF(C31=\"\",0,IF(SUMIFS($G$5:G31,$C$5:C31,C31)-SUMIFS($I$4:I30,$C$4:C30,C31)<0,0,SUMIFS($G$5:G31,$C$5:C31,C31)-SUMIFS($I$4:I30,$C$4:C30,C31)))","v":0},null,{"$f":"IF(C31=\"\",0,IF(C31=$C$4,SUMIFS($I$4:I30,$C$4:C30,C30),SUMIFS($I$4:I30,$C$4:C30,C31)))","v":0},0,null,null,null,"الصنف الفرعي",null,null,null,{"$f":"IF(IFERROR(VLOOKUP(N1,A4:L103,3,0),\"انتبه خطأ\")=S29,\"\",IFERROR(VLOOKUP(N1,A4:L103,3,0),\"انتبه خطأ\"))","v":""},null,null,null,{"$f":"IF(S31=\"\",\"\",VLOOKUP(N1,A4:L103,8,0))","v":""},null,null,null,{"$f":"IF(S31=\"\",\"\",VLOOKUP(N1,A4:L103,10,0))","v":""},null,null,null,{"$f":"IF(S31=\"\",\"\",W31-AA31)","v":""},null,null,null,{"$f":"IF(S31=\"\",\"\",VLOOKUP(N1,A4:L103,9,0))","v":""},null,null,null,{"$f":"IF(S31=\"\",\"\",IF((AE31-AI31)<0,\"رصيد غير كاف\",AE31-AI31))","v":""}]
[29,null,{"$f":"IFERROR(VLOOKUP(D32,Nomenclature!$B$2:$C$196,2,0),\"\")","v":""},null,null,null,null,{"$f":"IF(C32=\"\",0,IF(SUMIFS($G$5:G32,$C$5:C32,C32)-SUMIFS($I$4:I31,$C$4:C31,C32)<0,0,SUMIFS($G$5:G32,$C$5:C32,C32)-SUMIFS($I$4:I31,$C$4:C31,C32)))","v":0},null,{"$f":"IF(C32=\"\",0,IF(C32=$C$4,SUMIFS($I$4:I31,$C$4:C31,C31),SUMIFS($I$4:I31,$C$4:C31,C32)))","v":0},0]
[30,null,{"$f":"IFERROR(VLOOKUP(D33,Nomenclature!$B$2:$C$196,2,0),\"\")","v":""},null,null,null,null,{"$f":"IF(C33=\"\",0,IF(SUMIFS($G$5:G33,$C$5:C33,C33)-SUMIFS($I$4:I32,$C$4:C32,C33)<0,0,SUMIFS($G$5:G33,$C$5:C33,C33)-SUMIFS($I$4:I32,$C$4:C32,C33)))","v":0},null,{"$f":"IF(C33=\"\",0,IF(C33=$C$4,SUMIFS($I$4:I32,$C$4:C32,C32),SUMIFS($I$4:I32,$C$4:C32,C33)))","v":0},0]
[31,null,{"$f":"IFERROR(VLOOKUP(D34,Nomenclature!$B$2:$C$196,2,0),\"\")","v":""},null,null,null,null,{"$f":"IF(C34=\"\",0,IF(SUMIFS($G$5:G34,$C$5:C34,C34)-SUMIFS($I$4:I33,$C$4:C33,C34)<0,0,SUMIFS($G$5:G34,$C$5:C34,C34)-SUMIFS($I$4:I33,$C$4:C33,C34)))","v":0},null,{"$f":"IF(C34=\"\",0,IF(C34=$C$4,SUMIFS($I$4:I33,$C$4:C33,C33),SUMIFS($I$4:I33,$C$4:C33,C34)))","v":0},0,null,null,null,"موضوع الالتزام:"]
[32,null,{"$f":"IFERROR(VLOOKUP(D35,Nomenclature!$B$2:$C$196,2,0),\"\")","v":""},null,null,null,null,{"$f":"IF(C35=\"\",0,IF(SUMIFS($G$5:G35,$C$5:C35,C35)-SUMIFS($I$4:I34,$C$4:C34,C35)<0,0,SUMIFS($G$5:G35,$C$5:C35,C35)-SUMIFS($I$4:I34,$C$4:C34,C35)))","v":0},null,{"$f":"IF(C35=\"\",0,IF(C35=$C$4,SUMIFS($I$4:I34,$C$4:C34,C34),SUMIFS($I$4:I34,$C$4:C34,C35)))","v":0},0,null,null,null,{"$f":"IF(VLOOKUP(N1,A4:L203,5,0)=0,\"\",IFERROR(VLOOKUP(N1,A4:L203,5,0),\"انتبه خطأ\"))","v":"تكفل برخصة الالتزام المفتوحة لسنة 2023."}]
[33,null,{"$f":"IFERROR(VLOOKUP(D36,Nomenclature!$B$2:$C$196,2,0),\"\")","v":""},null,null,null,null,{"$f":"IF(C36=\"\",0,IF(SUMIFS($G$5:G36,$C$5:C36,C36)-SUMIFS($I$4:I35,$C$4:C35,C36)<0,0,SUMIFS($G$5:G36,$C$5:C36,C36)-SUMIFS($I$4:I35,$C$4:C35,C36)))","v":0},null,{"$f":"IF(C36=\"\",0,IF(C36=$C$4,SUMIFS($I$4:I35,$C$4:C35,C35),SUMIFS($I$4:I35,$C$4:C35,C36)))","v":0},0]
[34,null,{"$f":"IFERROR(VLOOKUP(D37,Nomenclature!$B$2:$C$196,2,0),\"\")","v":""},null,null,null,null,{"$f":"IF(C37=\"\",0,IF(SUMIFS($G$5:G37,$C$5:C37,C37)-SUMIFS($I$4:I36,$C$4:C36,C37)<0,0,SUMIFS($G$5:G37,$C$5:C37,C37)-SUMIFS($I$4:I36,$C$4:C36,C37)))","v":0},null,{"$f":"IF(C37=\"\",0,IF(C37=$C$4,SUMIFS($I$4:I36,$C$4:C36,C36),SUMIFS($I$4:I36,$C$4:C36,C37)))","v":0},0]
[35,null,{"$f":"IFERROR(VLOOKUP(D38,Nomenclature!$B$2:$C$196,2,0),\"\")","v":""},null,null,null,null,{"$f":"IF(C38=\"\",0,IF(SUMIFS($G$5:G38,$C$5:C38,C38)-SUMIFS($I$4:I37,$C$4:C37,C38)<0,0,SUMIFS($G$5:G38,$C$5:C38,C38)-SUMIFS($I$4:I37,$C$4:C37,C38)))","v":0},null,{"$f":"IF(C38=\"\",0,IF(C38=$C$4,SUMIFS($I$4:I37,$C$4:C37,C37),SUMIFS($I$4:I37,$C$4:C37,C38)))","v":0},0]
[36,null,{"$f":"IFERROR(VLOOKUP(D39,Nomenclature!$B$2:$C$196,2,0),\"\")","v":""},null,null,null,null,{"$f":"IF(C39=\"\",0,IF(SUMIFS($G$5:G39,$C$5:C39,C39)-SUMIFS($I$4:I38,$C$4:C38,C39)<0,0,SUMIFS($G$5:G39,$C$5:C39,C39)-SUMIFS($I$4:I38,$C$4:C38,C39)))","v":0},null,{"$f":"IF(C39=\"\",0,IF(C39=$C$4,SUMIFS($I$4:I38,$C$4:C38,C38),SUMIFS($I$4:I38,$C$4:C38,C39)))","v":0},0]
[37,null,{"$f":"IFERROR(VLOOKUP(D40,Nomenclature!$B$2:$C$196,2,0),\"\")","v":""},null,null,null,null,{"$f":"IF(C40=\"\",0,IF(SUMIFS($G$5:G40,$C$5:C40,C40)-SUMIFS($I$4:I39,$C$4:C39,C40)<0,0,SUMIFS($G$5:G40,$C$5:C40,C40)-SUMIFS($I$4:I39,$C$4:C39,C40)))","v":0},null,{"$f":"IF(C40=\"\",0,IF(C40=$C$4,SUMIFS($I$4:I39,$C$4:C39,C39),SUMIFS($I$4:I39,$C$4:C39,C40)))","v":0},0,null,null,null,"المبلغ بالحروف:",null,null,null,{"$f":"IFERROR(arretera(AI31),\"\")","v":""}]
[38,null,{"$f":"IFERROR(VLOOKUP(D41,Nomenclature!$B$2:$C$196,2,0),\"\")","v":""},null,null,null,null,{"$f":"IF(C41=\"\",0,IF(SUMIFS($G$5:G41,$C$5:C41,C41)-SUMIFS($I$4:I40,$C$4:C40,C41)<0,0,SUMIFS($G$5:G41,$C$5:C41,C41)-SUMIFS($I$4:I40,$C$4:C40,C41)))","v":0},null,{"$f":"IF(C41=\"\",0,IF(C41=$C$4,SUMIFS($I$4:I40,$C$4:C40,C40),SUMIFS($I$4:I40,$C$4:C40,C41)))","v":0},0]
[39,null,{"$f":"IFERROR(VLOOKUP(D42,Nomenclature!$B$2:$C$196,2,0),\"\")","v":""},null,null,null,null,{"$f":"IF(C42=\"\",0,IF(SUMIFS($G$5:G42,$C$5:C42,C42)-SUMIFS($I$4:I41,$C$4:C41,C42)<0,0,SUMIFS($G$5:G42,$C$5:C42,C42)-SUMIFS($I$4:I41,$C$4:C41,C42)))","v":0},null,{"$f":"IF(C42=\"\",0,IF(C42=$C$4,SUMIFS($I$4:I41,$C$4:C41,C41),SUMIFS($I$4:I41,$C$4:C41,C42)))","v":0},0]
[40,null,{"$f":"IFERROR(VLOOKUP(D43,Nomenclature!$B$2:$C$196,2,0),\"\")","v":""},null,null,null,null,{"$f":"IF(C43=\"\",0,IF(SUMIFS($G$5:G43,$C$5:C43,C43)-SUMIFS($I$4:I42,$C$4:C42,C43)<0,0,SUMIFS($G$5:G43,$C$5:C43,C43)-SUMIFS($I$4:I42,$C$4:C42,C43)))","v":0},null,{"$f":"IF(C43=\"\",0,IF(C43=$C$4,SUMIFS($I$4:I42,$C$4:C42,C42),SUMIFS($I$4:I42,$C$4:C42,C43)))","v":0},0,null,null,null,"إطار مخصص للمراقب الميزانياتي",null,null,null,null,null,null,null,null,null,null,null,null,null,"إطار مخصص للآمر بالصرف"]
[41,null,{"$f":"IFERROR(VLOOKUP(D44,Nomenclature!$B$2:$C$196,2,0),\"\")","v":""},null,null,null,null,{"$f":"IF(C44=\"\",0,IF(SUMIFS($G$5:G44,$C$5:C44,C44)-SUMIFS($I$4:I43,$C$4:C43,C44)<0,0,SUMIFS($G$5:G44,$C$5:C44,C44)-SUMIFS($I$4:I43,$C$4:C43,C44)))","v":0},null,{"$f":"IF(C44=\"\",0,IF(C44=$C$4,SUMIFS($I$4:I43,$C$4:C43,C43),SUMIFS($I$4:I43,$C$4:C43,C44)))","v":0},0]
[42,null,{"$f":"IFERROR(VLOOKUP(D45,Nomenclature!$B$2:$C$196,2,0),\"\")","v":""},null,null,null,null,{"$f":"IF(C45=\"\",0,IF(SUMIFS($G$5:G45,$C$5:C45,C45)-SUMIFS($I$4:I44,$C$4:C44,C45)<0,0,SUMIFS($G$5:G45,$C$5:C45,C45)-SUMIFS($I$4:I44,$C$4:C44,C45)))","v":0},null,{"$f":"IF(C45=\"\",0,IF(C45=$C$4,SUMIFS($I$4:I44,$C$4:C44,C44),SUMIFS($I$4:I44,$C$4:C44,C45)))","v":0},0,null,null,null,"رقم التأشيرة:",null,null,null,null,null,null,null,null,null,null,null,null,null,null,"ختم"]
[43,null,{"$f":"IFERROR(VLOOKUP(D46,Nomenclature!$B$2:$C$196,2,0),\"\")","v":""},null,null,null,null,{"$f":"IF(C46=\"\",0,IF(SUMIFS($G$5:G46,$C$5:C46,C46)-SUMIFS($I$4:I45,$C$4:C45,C46)<0,0,SUMIFS($G$5:G46,$C$5:C46,C46)-SUMIFS($I$4:I45,$C$4:C45,C46)))","v":0},null,{"$f":"IF(C46=\"\",0,IF(C46=$C$4,SUMIFS($I$4:I45,$C$4:C45,C45),SUMIFS($I$4:I45,$C$4:C45,C46)))","v":0},0]
[44,null,{"$f":"IFERROR(VLOOKUP(D47,Nomenclature!$B$2:$C$196,2,0),\"\")","v":""},null,null,null,null,{"$f":"IF(C47=\"\",0,IF(SUMIFS($G$5:G47,$C$5:C47,C47)-SUMIFS($I$4:I46,$C$4:C46,C47)<0,0,SUMIFS($G$5:G47,$C$5:C47,C47)-SUMIFS($I$4:I46,$C$4:C46,C47)))","v":0},null,{"$f":"IF(C47=\"\",0,IF(C47=$C$4,SUMIFS($I$4:I46,$C$4:C46,C46),SUMIFS($I$4:I46,$C$4:C46,C47)))","v":0},0,null,null,null,"تاريخ التأشيرة:"]
[45,null,{"$f":"IFERROR(VLOOKUP(D48,Nomenclature!$B$2:$C$196,2,0),\"\")","v":""},null,null,null,null,{"$f":"IF(C48=\"\",0,IF(SUMIFS($G$5:G48,$C$5:C48,C48)-SUMIFS($I$4:I47,$C$4:C47,C48)<0,0,SUMIFS($G$5:G48,$C$5:C48,C48)-SUMIFS($I$4:I47,$C$4:C47,C48)))","v":0},null,{"$f":"IF(C48=\"\",0,IF(C48=$C$4,SUMIFS($I$4:I47,$C$4:C47,C47),SUMIFS($I$4:I47,$C$4:C47,C48)))","v":0},0,null,null,null,null,null,null,null,null,null,null,null,null,null,null,null,null,null,null,"امضاء"]
[46,null,{"$f":"IFERROR(VLOOKUP(D49,Nomenclature!$B$2:$C$196,2,0),\"\")","v":""},null,null,null,null,{"$f":"IF(C49=\"\",0,IF(SUMIFS($G$5:G49,$C$5:C49,C49)-SUMIFS($I$4:I48,$C$4:C48,C49)<0,0,SUMIFS($G$5:G49,$C$5:C49,C49)-SUMIFS($I$4:I48,$C$4:C48,C49)))","v":0},null,{"$f":"IF(C49=\"\",0,IF(C49=$C$4,SUMIFS($I$4:I48,$C$4:C48,C48),SUMIFS($I$4:I48,$C$4:C48,C49)))","v":0},0]
[47,null,{"$f":"IFERROR(VLOOKUP(D50,Nomenclature!$B$2:$C$196,2,0),\"\")","v":""},null,null,null,null,{"$f":"IF(C50=\"\",0,IF(SUMIFS($G$5:G50,$C$5:C50,C50)-SUMIFS($I$4:I49,$C$4:C49,C50)<0,0,SUMIFS($G$5:G50,$C$5:C50,C50)-SUMIFS($I$4:I49,$C$4:C49,C50)))","v":0},null,{"$f":"IF(C50=\"\",0,IF(C50=$C$4,SUMIFS($I$4:I49,$C$4:C49,C49),SUMIFS($I$4:I49,$C$4:C49,C50)))","v":0},0]
[48,null,{"$f":"IFERROR(VLOOKUP(D51,Nomenclature!$B$2:$C$196,2,0),\"\")","v":""},null,null,null,null,{"$f":"IF(C51=\"\",0,IF(SUMIFS($G$5:G51,$C$5:C51,C51)-SUMIFS($I$4:I50,$C$4:C50,C51)<0,0,SUMIFS($G$5:G51,$C$5:C51,C51)-SUMIFS($I$4:I50,$C$4:C50,C51)))","v":0},null,{"$f":"IF(C51=\"\",0,IF(C51=$C$4,SUMIFS($I$4:I50,$C$4:C50,C50),SUMIFS($I$4:I50,$C$4:C50,C51)))","v":0},0,null,null,null,null,{"$f":"AD48","v":"امضاء"},null,null,null,null,null,null,null,{"$f":"AD45","v":"ختم"}]
[49,null,{"$f":"IFERROR(VLOOKUP(D52,Nomenclature!$B$2:$C$196,2,0),\"\")","v":""},null,null,null,null,{"$f":"IF(C52=\"\",0,IF(SUMIFS($G$5:G52,$C$5:C52,C52)-SUMIFS($I$4:I51,$C$4:C51,C52)<0,0,SUMIFS($G$5:G52,$C$5:C52,C52)-SUMIFS($I$4:I51,$C$4:C51,C52)))","v":0},null,{"$f":"IF(C52=\"\",0,IF(C52=$C$4,SUMIFS($I$4:I51,$C$4:C51,C51),SUMIFS($I$4:I51,$C$4:C51,C52)))","v":0},0]
[50,null,{"$f":"IFERROR(VLOOKUP(D53,Nomenclature!$B$2:$C$196,2,0),\"\")","v":""},null,null,null,null,{"$f":"IF(C53=\"\",0,IF(SUMIFS($G$5:G53,$C$5:C53,C53)-SUMIFS($I$4:I52,$C$4:C52,C53)<0,0,SUMIFS($G$5:G53,$C$5:C53,C53)-SUMIFS($I$4:I52,$C$4:C52,C53)))","v":0},null,{"$f":"IF(C53=\"\",0,IF(C53=$C$4,SUMIFS($I$4:I52,$C$4:C52,C52),SUMIFS($I$4:I52,$C$4:C52,C53)))","v":0},0]
[51,null,{"$f":"IFERROR(VLOOKUP(D54,Nomenclature!$B$2:$C$196,2,0),\"\")","v":""},null,null,null,null,{"$f":"IF(C54=\"\",0,IF(SUMIFS($G$5:G54,$C$5:C54,C54)-SUMIFS($I$4:I53,$C$4:C53,C54)<0,0,SUMIFS($G$5:G54,$C$5:C54,C54)-SUMIFS($I$4:I53,$C$4:C53,C54)))","v":0},null,{"$f":"IF(C54=\"\",0,IF(C54=$C$4,SUMIFS($I$4:I53,$C$4:C53,C53),SUMIFS($I$4:I53,$C$4:C53,C54)))","v":0},0]
[52,null,{"$f":"IFERROR(VLOOKUP(D55,Nomenclature!$B$2:$C$196,2,0),\"\")","v":""},null,null,null,null,{"$f":"IF(C55=\"\",0,IF(SUMIFS($G$5:G55,$C$5:C55,C55)-SUMIFS($I$4:I54,$C$4:C54,C55)<0,0,SUMIFS($G$5:G55,$C$5:C55,C55)-SUMIFS($I$4:I54,$C$4:C54,C55)))","v":0},null,{"$f":"IF(C55=\"\",0,IF(C55=$C$4,SUMIFS($I$4:I54,$C$4:C54,C54),SUMIFS($I$4:I54,$C$4:C54,C55)))","v":0},0]
[53,null,{"$f":"IFERROR(VLOOKUP(D56,Nomenclature!$B$2:$C$196,2,0),\"\")","v":""},null,null,null,null,{"$f":"IF(C56=\"\",0,IF(SUMIFS($G$5:G56,$C$5:C56,C56)-SUMIFS($I$4:I55,$C$4:C55,C56)<0,0,SUMIFS($G$5:G56,$C$5:C56,C56)-SUMIFS($I$4:I55,$C$4:C55,C56)))","v":0},null,{"$f":"IF(C56=\"\",0,IF(C56=$C$4,SUMIFS($I$4:I55,$C$4:C55,C55),SUMIFS($I$4:I55,$C$4:C55,C56)))","v":0},0]
[54,null,{"$f":"IFERROR(VLOOKUP(D57,Nomenclature!$B$2:$C$196,2,0),\"\")","v":""},null,null,null,null,{"$f":"IF(C57=\"\",0,IF(SUMIFS($G$5:G57,$C$5:C57,C57)-SUMIFS($I$4:I56,$C$4:C56,C57)<0,0,SUMIFS($G$5:G57,$C$5:C57,C57)-SUMIFS($I$4:I56,$C$4:C56,C57)))","v":0},null,{"$f":"IF(C57=\"\",0,IF(C57=$C$4,SUMIFS($I$4:I56,$C$4:C56,C56),SUMIFS($I$4:I56,$C$4:C56,C57)))","v":0},0]
[55,null,{"$f":"IFERROR(VLOOKUP(D58,Nomenclature!$B$2:$C$196,2,0),\"\")","v":""},null,null,null,null,{"$f":"IF(C58=\"\",0,IF(SUMIFS($G$5:G58,$C$5:C58,C58)-SUMIFS($I$4:I57,$C$4:C57,C58)<0,0,SUMIFS($G$5:G58,$C$5:C58,C58)-SUMIFS($I$4:I57,$C$4:C57,C58)))","v":0},null,{"$f":"IF(C58=\"\",0,IF(C58=$C$4,SUMIFS($I$4:I57,$C$4:C57,C57),SUMIFS($I$4:I57,$C$4:C57,C58)))","v":0},0]
[56,null,{"$f":"IFERROR(VLOOKUP(D59,Nomenclature!$B$2:$C$196,2,0),\"\")","v":""},null,null,null,null,{"$f":"IF(C59=\"\",0,IF(SUMIFS($G$5:G59,$C$5:C59,C59)-SUMIFS($I$4:I58,$C$4:C58,C59)<0,0,SUMIFS($G$5:G59,$C$5:C59,C59)-SUMIFS($I$4:I58,$C$4:C58,C59)))","v":0},null,{"$f":"IF(C59=\"\",0,IF(C59=$C$4,SUMIFS($I$4:I58,$C$4:C58,C58),SUMIFS($I$4:I58,$C$4:C58,C59)))","v":0},0]
[57,null,{"$f":"IFERROR(VLOOKUP(D60,Nomenclature!$B$2:$C$196,2,0),\"\")","v":""},null,null,null,null,{"$f":"IF(C60=\"\",0,IF(SUMIFS($G$5:G60,$C$5:C60,C60)-SUMIFS($I$4:I59,$C$4:C59,C60)<0,0,SUMIFS($G$5:G60,$C$5:C60,C60)-SUMIFS($I$4:I59,$C$4:C59,C60)))","v":0},null,{"$f":"IF(C60=\"\",0,IF(C60=$C$4,SUMIFS($I$4:I59,$C$4:C59,C59),SUMIFS($I$4:I59,$C$4:C59,C60)))","v":0},0]
[58,null,{"$f":"IFERROR(VLOOKUP(D61,Nomenclature!$B$2:$C$196,2,0),\"\")","v":""},null,null,null,null,{"$f":"IF(C61=\"\",0,IF(SUMIFS($G$5:G61,$C$5:C61,C61)-SUMIFS($I$4:I60,$C$4:C60,C61)<0,0,SUMIFS($G$5:G61,$C$5:C61,C61)-SUMIFS($I$4:I60,$C$4:C60,C61)))","v":0},null,{"$f":"IF(C61=\"\",0,IF(C61=$C$4,SUMIFS($I$4:I60,$C$4:C60,C60),SUMIFS($I$4:I60,$C$4:C60,C61)))","v":0},0]
[59,null,{"$f":"IFERROR(VLOOKUP(D62,Nomenclature!$B$2:$C$196,2,0),\"\")","v":""},null,null,null,null,{"$f":"IF(C62=\"\",0,IF(SUMIFS($G$5:G62,$C$5:C62,C62)-SUMIFS($I$4:I61,$C$4:C61,C62)<0,0,SUMIFS($G$5:G62,$C$5:C62,C62)-SUMIFS($I$4:I61,$C$4:C61,C62)))","v":0},null,{"$f":"IF(C62=\"\",0,IF(C62=$C$4,SUMIFS($I$4:I61,$C$4:C61,C61),SUMIFS($I$4:I61,$C$4:C61,C62)))","v":0},0]
[60,null,{"$f":"IFERROR(VLOOKUP(D63,Nomenclature!$B$2:$C$196,2,0),\"\")","v":""},null,null,null,null,{"$f":"IF(C63=\"\",0,IF(SUMIFS($G$5:G63,$C$5:C63,C63)-SUMIFS($I$4:I62,$C$4:C62,C63)<0,0,SUMIFS($G$5:G63,$C$5:C63,C63)-SUMIFS($I$4:I62,$C$4:C62,C63)))","v":0},null,{"$f":"IF(C63=\"\",0,IF(C63=$C$4,SUMIFS($I$4:I62,$C$4:C62,C62),SUMIFS($I$4:I62,$C$4:C62,C63)))","v":0},0]
[61,null,{"$f":"IFERROR(VLOOKUP(D64,Nomenclature!$B$2:$C$196,2,0),\"\")","v":""},null,null,null,null,{"$f":"IF(C64=\"\",0,IF(SUMIFS($G$5:G64,$C$5:C64,C64)-SUMIFS($I$4:I63,$C$4:C63,C64)<0,0,SUMIFS($G$5:G64,$C$5:C64,C64)-SUMIFS($I$4:I63,$C$4:C63,C64)))","v":0},null,{"$f":"IF(C64=\"\",0,IF(C64=$C$4,SUMIFS($I$4:I63,$C$4:C63,C63),SUMIFS($I$4:I63,$C$4:C63,C64)))","v":0},0]
[62,null,{"$f":"IFERROR(VLOOKUP(D65,Nomenclature!$B$2:$C$196,2,0),\"\")","v":""},null,null,null,null,{"$f":"IF(C65=\"\",0,IF(SUMIFS($G$5:G65,$C$5:C65,C65)-SUMIFS($I$4:I64,$C$4:C64,C65)<0,0,SUMIFS($G$5:G65,$C$5:C65,C65)-SUMIFS($I$4:I64,$C$4:C64,C65)))","v":0},null,{"$f":"IF(C65=\"\",0,IF(C65=$C$4,SUMIFS($I$4:I64,$C$4:C64,C64),SUMIFS($I$4:I64,$C$4:C64,C65)))","v":0},0]
[63,null,{"$f":"IFERROR(VLOOKUP(D66,Nomenclature!$B$2:$C$196,2,0),\"\")","v":""},null,null,null,null,{"$f":"IF(C66=\"\",0,IF(SUMIFS($G$5:G66,$C$5:C66,C66)-SUMIFS($I$4:I65,$C$4:C65,C66)<0,0,SUMIFS($G$5:G66,$C$5:C66,C66)-SUMIFS($I$4:I65,$C$4:C65,C66)))","v":0},null,{"$f":"IF(C66=\"\",0,IF(C66=$C$4,SUMIFS($I$4:I65,$C$4:C65,C65),SUMIFS($I$4:I65,$C$4:C65,C66)))","v":0},0]
[64,null,{"$f":"IFERROR(VLOOKUP(D67,Nomenclature!$B$2:$C$196,2,0),\"\")","v":""},null,null,null,null,{"$f":"IF(C67=\"\",0,IF(SUMIFS($G$5:G67,$C$5:C67,C67)-SUMIFS($I$4:I66,$C$4:C66,C67)<0,0,SUMIFS($G$5:G67,$C$5:C67,C67)-SUMIFS($I$4:I66,$C$4:C66,C67)))","v":0},null,{"$f":"IF(C67=\"\",0,IF(C67=$C$4,SUMIFS($I$4:I66,$C$4:C66,C66),SUMIFS($I$4:I66,$C$4:C66,C67)))","v":0},0]
[65,null,{"$f":"IFERROR(VLOOKUP(D68,Nomenclature!$B$2:$C$196,2,0),\"\")","v":""},null,null,null,null,{"$f":"IF(C68=\"\",0,IF(SUMIFS($G$5:G68,$C$5:C68,C68)-SUMIFS($I$4:I67,$C$4:C67,C68)<0,0,SUMIFS($G$5:G68,$C$5:C68,C68)-SUMIFS($I$4:I67,$C$4:C67,C68)))","v":0},null,{"$f":"IF(C68=\"\",0,IF(C68=$C$4,SUMIFS($I$4:I67,$C$4:C67,C67),SUMIFS($I$4:I67,$C$4:C67,C68)))","v":0},{"$f":"IF(C68=\"\",0,H68-I68)","v":0}]
[66,null,{"$f":"IFERROR(VLOOKUP(D69,Nomenclature!$B$2:$C$196,2,0),\"\")","v":""},null,null,null,null,{"$f":"IF(C69=\"\",0,IF(SUMIFS($G$5:G69,$C$5:C69,C69)-SUMIFS($I$4:I68,$C$4:C68,C69)<0,0,SUMIFS($G$5:G69,$C$5:C69,C69)-SUMIFS($I$4:I68,$C$4:C68,C69)))","v":0},null,{"$f":"IF(C69=\"\",0,IF(C69=$C$4,SUMIFS($I$4:I68,$C$4:C68,C68),SUMIFS($I$4:I68,$C$4:C68,C69)))","v":0},0]
[67,null,{"$f":"IFERROR(VLOOKUP(D70,Nomenclature!$B$2:$C$196,2,0),\"\")","v":""},null,null,null,null,{"$f":"IF(C70=\"\",0,IF(SUMIFS($G$5:G70,$C$5:C70,C70)-SUMIFS($I$4:I69,$C$4:C69,C70)<0,0,SUMIFS($G$5:G70,$C$5:C70,C70)-SUMIFS($I$4:I69,$C$4:C69,C70)))","v":0},null,{"$f":"IF(C70=\"\",0,IF(C70=$C$4,SUMIFS($I$4:I69,$C$4:C69,C69),SUMIFS($I$4:I69,$C$4:C69,C70)))","v":0},0]
[68,null,{"$f":"IFERROR(VLOOKUP(D71,Nomenclature!$B$2:$C$196,2,0),\"\")","v":""},null,null,null,null,{"$f":"IF(C71=\"\",0,IF(SUMIFS($G$5:G71,$C$5:C71,C71)-SUMIFS($I$4:I70,$C$4:C70,C71)<0,0,SUMIFS($G$5:G71,$C$5:C71,C71)-SUMIFS($I$4:I70,$C$4:C70,C71)))","v":0},null,{"$f":"IF(C71=\"\",0,IF(C71=$C$4,SUMIFS($I$4:I70,$C$4:C70,C70),SUMIFS($I$4:I70,$C$4:C70,C71)))","v":0},0]
[69,null,{"$f":"IFERROR(VLOOKUP(D72,Nomenclature!$B$2:$C$196,2,0),\"\")","v":""},null,null,null,null,{"$f":"IF(C72=\"\",0,IF(SUMIFS($G$5:G72,$C$5:C72,C72)-SUMIFS($I$4:I71,$C$4:C71,C72)<0,0,SUMIFS($G$5:G72,$C$5:C72,C72)-SUMIFS($I$4:I71,$C$4:C71,C72)))","v":0},null,{"$f":"IF(C72=\"\",0,IF(C72=$C$4,SUMIFS($I$4:I71,$C$4:C71,C71),SUMIFS($I$4:I71,$C$4:C71,C72)))","v":0},0]
[70,null,{"$f":"IFERROR(VLOOKUP(D73,Nomenclature!$B$2:$C$196,2,0),\"\")","v":""},null,null,null,null,{"$f":"IF(C73=\"\",0,IF(SUMIFS($G$5:G73,$C$5:C73,C73)-SUMIFS($I$4:I72,$C$4:C72,C73)<0,0,SUMIFS($G$5:G73,$C$5:C73,C73)-SUMIFS($I$4:I72,$C$4:C72,C73)))","v":0},null,{"$f":"IF(C73=\"\",0,IF(C73=$C$4,SUMIFS($I$4:I72,$C$4:C72,C72),SUMIFS($I$4:I72,$C$4:C72,C73)))","v":0},0]
[71,null,{"$f":"IFERROR(VLOOKUP(D74,Nomenclature!$B$2:$C$196,2,0),\"\")","v":""},null,null,null,null,{"$f":"IF(C74=\"\",0,IF(SUMIFS($G$5:G74,$C$5:C74,C74)-SUMIFS($I$4:I73,$C$4:C73,C74)<0,0,SUMIFS($G$5:G74,$C$5:C74,C74)-SUMIFS($I$4:I73,$C$4:C73,C74)))","v":0},null,{"$f":"IF(C74=\"\",0,IF(C74=$C$4,SUMIFS($I$4:I73,$C$4:C73,C73),SUMIFS($I$4:I73,$C$4:C73,C74)))","v":0},0]
[72,null,{"$f":"IFERROR(VLOOKUP(D75,Nomenclature!$B$2:$C$196,2,0),\"\")","v":""},null,null,null,null,{"$f":"IF(C75=\"\",0,IF(SUMIFS($G$5:G75,$C$5:C75,C75)-SUMIFS($I$4:I74,$C$4:C74,C75)<0,0,SUMIFS($G$5:G75,$C$5:C75,C75)-SUMIFS($I$4:I74,$C$4:C74,C75)))","v":0},null,{"$f":"IF(C75=\"\",0,IF(C75=$C$4,SUMIFS($I$4:I74,$C$4:C74,C74),SUMIFS($I$4:I74,$C$4:C74,C75)))","v":0},0]
[73,null,{"$f":"IFERROR(VLOOKUP(D76,Nomenclature!$B$2:$C$196,2,0),\"\")","v":""},null,null,null,null,{"$f":"IF(C76=\"\",0,IF(SUMIFS($G$5:G76,$C$5:C76,C76)-SUMIFS($I$4:I75,$C$4:C75,C76)<0,0,SUMIFS($G$5:G76,$C$5:C76,C76)-SUMIFS($I$4:I75,$C$4:C75,C76)))","v":0},null,{"$f":"IF(C76=\"\",0,IF(C76=$C$4,SUMIFS($I$4:I75,$C$4:C75,C75),SUMIFS($I$4:I75,$C$4:C75,C76)))","v":0},0]
[74,null,{"$f":"IFERROR(VLOOKUP(D77,Nomenclature!$B$2:$C$196,2,0),\"\")","v":""},null,null,null,null,{"$f":"IF(C77=\"\",0,IF(SUMIFS($G$5:G77,$C$5:C77,C77)-SUMIFS($I$4:I76,$C$4:C76,C77)<0,0,SUMIFS($G$5:G77,$C$5:C77,C77)-SUMIFS($I$4:I76,$C$4:C76,C77)))","v":0},null,{"$f":"IF(C77=\"\",0,IF(C77=$C$4,SUMIFS($I$4:I76,$C$4:C76,C76),SUMIFS($I$4:I76,$C$4:C76,C77)))","v":0},0]
[75,null,{"$f":"IFERROR(VLOOKUP(D78,Nomenclature!$B$2:$C$196,2,0),\"\")","v":""},null,null,null,null,{"$f":"IF(C78=\"\",0,IF(SUMIFS($G$5:G78,$C$5:C78,C78)-SUMIFS($I$4:I77,$C$4:C77,C78)<0,0,SUMIFS($G$5:G78,$C$5:C78,C78)-SUMIFS($I$4:I77,$C$4:C77,C78)))","v":0},null,{"$f":"IF(C78=\"\",0,IF(C78=$C$4,SUMIFS($I$4:I77,$C$4:C77,C77),SUMIFS($I$4:I77,$C$4:C77,C78)))","v":0},0]
[76,null,{"$f":"IFERROR(VLOOKUP(D79,Nomenclature!$B$2:$C$196,2,0),\"\")","v":""},null,null,null,null,{"$f":"IF(C79=\"\",0,IF(SUMIFS($G$5:G79,$C$5:C79,C79)-SUMIFS($I$4:I78,$C$4:C78,C79)<0,0,SUMIFS($G$5:G79,$C$5:C79,C79)-SUMIFS($I$4:I78,$C$4:C78,C79)))","v":0},null,{"$f":"IF(C79=\"\",0,IF(C79=$C$4,SUMIFS($I$4:I78,$C$4:C78,C78),SUMIFS($I$4:I78,$C$4:C78,C79)))","v":0},0]
[77,null,{"$f":"IFERROR(VLOOKUP(D80,Nomenclature!$B$2:$C$196,2,0),\"\")","v":""},null,null,null,null,{"$f":"IF(C80=\"\",0,IF(SUMIFS($G$5:G80,$C$5:C80,C80)-SUMIFS($I$4:I79,$C$4:C79,C80)<0,0,SUMIFS($G$5:G80,$C$5:C80,C80)-SUMIFS($I$4:I79,$C$4:C79,C80)))","v":0},null,{"$f":"IF(C80=\"\",0,IF(C80=$C$4,SUMIFS($I$4:I79,$C$4:C79,C79),SUMIFS($I$4:I79,$C$4:C79,C80)))","v":0},0]
[78,null,{"$f":"IFERROR(VLOOKUP(D81,Nomenclature!$B$2:$C$196,2,0),\"\")","v":""},null,null,null,null,{"$f":"IF(C81=\"\",0,IF(SUMIFS($G$5:G81,$C$5:C81,C81)-SUMIFS($I$4:I80,$C$4:C80,C81)<0,0,SUMIFS($G$5:G81,$C$5:C81,C81)-SUMIFS($I$4:I80,$C$4:C80,C81)))","v":0},null,{"$f":"IF(C81=\"\",0,IF(C81=$C$4,SUMIFS($I$4:I80,$C$4:C80,C80),SUMIFS($I$4:I80,$C$4:C80,C81)))","v":0},0]
[79,null,{"$f":"IFERROR(VLOOKUP(D82,Nomenclature!$B$2:$C$196,2,0),\"\")","v":""},null,null,null,null,{"$f":"IF(C82=\"\",0,IF(SUMIFS($G$5:G82,$C$5:C82,C82)-SUMIFS($I$4:I81,$C$4:C81,C82)<0,0,SUMIFS($G$5:G82,$C$5:C82,C82)-SUMIFS($I$4:I81,$C$4:C81,C82)))","v":0},null,{"$f":"IF(C82=\"\",0,IF(C82=$C$4,SUMIFS($I$4:I81,$C$4:C81,C81),SUMIFS($I$4:I81,$C$4:C81,C82)))","v":0},0]
[80,null,{"$f":"IFERROR(VLOOKUP(D83,Nomenclature!$B$2:$C$196,2,0),\"\")","v":""},null,null,null,null,{"$f":"IF(C83=\"\",0,IF(SUMIFS($G$5:G83,$C$5:C83,C83)-SUMIFS($I$4:I82,$C$4:C82,C83)<0,0,SUMIFS($G$5:G83,$C$5:C83,C83)-SUMIFS($I$4:I82,$C$4:C82,C83)))","v":0},null,{"$f":"IF(C83=\"\",0,IF(C83=$C$4,SUMIFS($I$4:I82,$C$4:C82,C82),SUMIFS($I$4:I82,$C$4:C82,C83)))","v":0},0]
[81,null,{"$f":"IFERROR(VLOOKUP(D84,Nomenclature!$B$2:$C$196,2,0),\"\")","v":""},null,null,null,null,{"$f":"IF(C84=\"\",0,IF(SUMIFS($G$5:G84,$C$5:C84,C84)-SUMIFS($I$4:I83,$C$4:C83,C84)<0,0,SUMIFS($G$5:G84,$C$5:C84,C84)-SUMIFS($I$4:I83,$C$4:C83,C84)))","v":0},null,{"$f":"IF(C84=\"\",0,IF(C84=$C$4,SUMIFS($I$4:I83,$C$4:C83,C83),SUMIFS($I$4:I83,$C$4:C83,C84)))","v":0},0]
[82,null,{"$f":"IFERROR(VLOOKUP(D85,Nomenclature!$B$2:$C$196,2,0),\"\")","v":""},null,null,null,null,{"$f":"IF(C85=\"\",0,IF(SUMIFS($G$5:G85,$C$5:C85,C85)-SUMIFS($I$4:I84,$C$4:C84,C85)<0,0,SUMIFS($G$5:G85,$C$5:C85,C85)-SUMIFS($I$4:I84,$C$4:C84,C85)))","v":0},null,{"$f":"IF(C85=\"\",0,IF(C85=$C$4,SUMIFS($I$4:I84,$C$4:C84,C84),SUMIFS($I$4:I84,$C$4:C84,C85)))","v":0},0]
[83,null,{"$f":"IFERROR(VLOOKUP(D86,Nomenclature!$B$2:$C$196,2,0),\"\")","v":""},null,null,null,null,{"$f":"IF(C86=\"\",0,IF(SUMIFS($G$5:G86,$C$5:C86,C86)-SUMIFS($I$4:I85,$C$4:C85,C86)<0,0,SUMIFS($G$5:G86,$C$5:C86,C86)-SUMIFS($I$4:I85,$C$4:C85,C86)))","v":0},null,{"$f":"IF(C86=\"\",0,IF(C86=$C$4,SUMIFS($I$4:I85,$C$4:C85,C85),SUMIFS($I$4:I85,$C$4:C85,C86)))","v":0},0]
[84,null,{"$f":"IFERROR(VLOOKUP(D87,Nomenclature!$B$2:$C$196,2,0),\"\")","v":""},null,null,null,null,{"$f":"IF(C87=\"\",0,IF(SUMIFS($G$5:G87,$C$5:C87,C87)-SUMIFS($I$4:I86,$C$4:C86,C87)<0,0,SUMIFS($G$5:G87,$C$5:C87,C87)-SUMIFS($I$4:I86,$C$4:C86,C87)))","v":0},null,{"$f":"IF(C87=\"\",0,IF(C87=$C$4,SUMIFS($I$4:I86,$C$4:C86,C86),SUMIFS($I$4:I86,$C$4:C86,C87)))","v":0},0]
[85,null,{"$f":"IFERROR(VLOOKUP(D88,Nomenclature!$B$2:$C$196,2,0),\"\")","v":""},null,null,null,null,{"$f":"IF(C88=\"\",0,IF(SUMIFS($G$5:G88,$C$5:C88,C88)-SUMIFS($I$4:I87,$C$4:C87,C88)<0,0,SUMIFS($G$5:G88,$C$5:C88,C88)-SUMIFS($I$4:I87,$C$4:C87,C88)))","v":0},null,{"$f":"IF(C88=\"\",0,IF(C88=$C$4,SUMIFS($I$4:I87,$C$4:C87,C87),SUMIFS($I$4:I87,$C$4:C87,C88)))","v":0},0]
[86,null,{"$f":"IFERROR(VLOOKUP(D89,Nomenclature!$B$2:$C$196,2,0),\"\")","v":""},null,null,null,null,{"$f":"IF(C89=\"\",0,IF(SUMIFS($G$5:G89,$C$5:C89,C89)-SUMIFS($I$4:I88,$C$4:C88,C89)<0,0,SUMIFS($G$5:G89,$C$5:C89,C89)-SUMIFS($I$4:I88,$C$4:C88,C89)))","v":0},null,{"$f":"IF(C89=\"\",0,IF(C89=$C$4,SUMIFS($I$4:I88,$C$4:C88,C88),SUMIFS($I$4:I88,$C$4:C88,C89)))","v":0},0]
[87,null,{"$f":"IFERROR(VLOOKUP(D90,Nomenclature!$B$2:$C$196,2,0),\"\")","v":""},null,null,null,null,{"$f":"IF(C90=\"\",0,IF(SUMIFS($G$5:G90,$C$5:C90,C90)-SUMIFS($I$4:I89,$C$4:C89,C90)<0,0,SUMIFS($G$5:G90,$C$5:C90,C90)-SUMIFS($I$4:I89,$C$4:C89,C90)))","v":0},null,{"$f":"IF(C90=\"\",0,IF(C90=$C$4,SUMIFS($I$4:I89,$C$4:C89,C89),SUMIFS($I$4:I89,$C$4:C89,C90)))","v":0},0]
[88,null,{"$f":"IFERROR(VLOOKUP(D91,Nomenclature!$B$2:$C$196,2,0),\"\")","v":""},null,null,null,null,{"$f":"IF(C91=\"\",0,IF(SUMIFS($G$5:G91,$C$5:C91,C91)-SUMIFS($I$4:I90,$C$4:C90,C91)<0,0,SUMIFS($G$5:G91,$C$5:C91,C91)-SUMIFS($I$4:I90,$C$4:C90,C91)))","v":0},null,{"$f":"IF(C91=\"\",0,IF(C91=$C$4,SUMIFS($I$4:I90,$C$4:C90,C90),SUMIFS($I$4:I90,$C$4:C90,C91)))","v":0},0]
[89,null,{"$f":"IFERROR(VLOOKUP(D92,Nomenclature!$B$2:$C$196,2,0),\"\")","v":""},null,null,null,null,{"$f":"IF(C92=\"\",0,IF(SUMIFS($G$5:G92,$C$5:C92,C92)-SUMIFS($I$4:I91,$C$4:C91,C92)<0,0,SUMIFS($G$5:G92,$C$5:C92,C92)-SUMIFS($I$4:I91,$C$4:C91,C92)))","v":0},null,{"$f":"IF(C92=\"\",0,IF(C92=$C$4,SUMIFS($I$4:I91,$C$4:C91,C91),SUMIFS($I$4:I91,$C$4:C91,C92)))","v":0},0]
[90,null,{"$f":"IFERROR(VLOOKUP(D93,Nomenclature!$B$2:$C$196,2,0),\"\")","v":""},null,null,null,null,{"$f":"IF(C93=\"\",0,IF(SUMIFS($G$5:G93,$C$5:C93,C93)-SUMIFS($I$4:I92,$C$4:C92,C93)<0,0,SUMIFS($G$5:G93,$C$5:C93,C93)-SUMIFS($I$4:I92,$C$4:C92,C93)))","v":0},null,{"$f":"IF(C93=\"\",0,IF(C93=$C$4,SUMIFS($I$4:I92,$C$4:C92,C92),SUMIFS($I$4:I92,$C$4:C92,C93)))","v":0},0]
[91,null,{"$f":"IFERROR(VLOOKUP(D94,Nomenclature!$B$2:$C$196,2,0),\"\")","v":""},null,null,null,null,{"$f":"IF(C94=\"\",0,IF(SUMIFS($G$5:G94,$C$5:C94,C94)-SUMIFS($I$4:I93,$C$4:C93,C94)<0,0,SUMIFS($G$5:G94,$C$5:C94,C94)-SUMIFS($I$4:I93,$C$4:C93,C94)))","v":0},null,{"$f":"IF(C94=\"\",0,IF(C94=$C$4,SUMIFS($I$4:I93,$C$4:C93,C93),SUMIFS($I$4:I93,$C$4:C93,C94)))","v":0},0]
[92,null,{"$f":"IFERROR(VLOOKUP(D95,Nomenclature!$B$2:$C$196,2,0),\"\")","v":""},null,null,null,null,{"$f":"IF(C95=\"\",0,IF(SUMIFS($G$5:G95,$C$5:C95,C95)-SUMIFS($I$4:I94,$C$4:C94,C95)<0,0,SUMIFS($G$5:G95,$C$5:C95,C95)-SUMIFS($I$4:I94,$C$4:C94,C95)))","v":0},null,{"$f":"IF(C95=\"\",0,IF(C95=$C$4,SUMIFS($I$4:I94,$C$4:C94,C94),SUMIFS($I$4:I94,$C$4:C94,C95)))","v":0},0]
[93,null,{"$f":"IFERROR(VLOOKUP(D96,Nomenclature!$B$2:$C$196,2,0),\"\")","v":""},null,null,null,null,{"$f":"IF(C96=\"\",0,IF(SUMIFS($G$5:G96,$C$5:C96,C96)-SUMIFS($I$4:I95,$C$4:C95,C96)<0,0,SUMIFS($G$5:G96,$C$5:C96,C96)-SUMIFS($I$4:I95,$C$4:C95,C96)))","v":0},null,{"$f":"IF(C96=\"\",0,IF(C96=$C$4,SUMIFS($I$4:I95,$C$4:C95,C95),SUMIFS($I$4:I95,$C$4:C95,C96)))","v":0},0]
[94,null,{"$f":"IFERROR(VLOOKUP(D97,Nomenclature!$B$2:$C$196,2,0),\"\")","v":""},null,null,null,null,{"$f":"IF(C97=\"\",0,IF(SUMIFS($G$5:G97,$C$5:C97,C97)-SUMIFS($I$4:I96,$C$4:C96,C97)<0,0,SUMIFS($G$5:G97,$C$5:C97,C97)-SUMIFS($I$4:I96,$C$4:C96,C97)))","v":0},null,{"$f":"IF(C97=\"\",0,IF(C97=$C$4,SUMIFS($I$4:I96,$C$4:C96,C96),SUMIFS($I$4:I96,$C$4:C96,C97)))","v":0},0]
[95,null,{"$f":"IFERROR(VLOOKUP(D98,Nomenclature!$B$2:$C$196,2,0),\"\")","v":""},null,null,null,null,{"$f":"IF(C98=\"\",0,IF(SUMIFS($G$5:G98,$C$5:C98,C98)-SUMIFS($I$4:I97,$C$4:C97,C98)<0,0,SUMIFS($G$5:G98,$C$5:C98,C98)-SUMIFS($I$4:I97,$C$4:C97,C98)))","v":0},null,{"$f":"IF(C98=\"\",0,IF(C98=$C$4,SUMIFS($I$4:I97,$C$4:C97,C97),SUMIFS($I$4:I97,$C$4:C97,C98)))","v":0},0]
[96,null,{"$f":"IFERROR(VLOOKUP(D99,Nomenclature!$B$2:$C$196,2,0),\"\")","v":""},null,null,null,null,{"$f":"IF(C99=\"\",0,IF(SUMIFS($G$5:G99,$C$5:C99,C99)-SUMIFS($I$4:I98,$C$4:C98,C99)<0,0,SUMIFS($G$5:G99,$C$5:C99,C99)-SUMIFS($I$4:I98,$C$4:C98,C99)))","v":0},null,{"$f":"IF(C99=\"\",0,IF(C99=$C$4,SUMIFS($I$4:I98,$C$4:C98,C98),SUMIFS($I$4:I98,$C$4:C98,C99)))","v":0},0]
[97,null,{"$f":"IFERROR(VLOOKUP(D100,Nomenclature!$B$2:$C$196,2,0),\"\")","v":""},null,null,null,null,{"$f":"IF(C100=\"\",0,IF(SUMIFS($G$5:G100,$C$5:C100,C100)-SUMIFS($I$4:I99,$C$4:C99,C100)<0,0,SUMIFS($G$5:G100,$C$5:C100,C100)-SUMIFS($I$4:I99,$C$4:C99,C100)))","v":0},null,{"$f":"IF(C100=\"\",0,IF(C100=$C$4,SUMIFS($I$4:I99,$C$4:C99,C99),SUMIFS($I$4:I99,$C$4:C99,C100)))","v":0},0]
[98,null,{"$f":"IFERROR(VLOOKUP(D101,Nomenclature!$B$2:$C$196,2,0),\"\")","v":""},null,null,null,null,{"$f":"IF(C101=\"\",0,IF(SUMIFS($G$5:G101,$C$5:C101,C101)-SUMIFS($I$4:I100,$C$4:C100,C101)<0,0,SUMIFS($G$5:G101,$C$5:C101,C101)-SUMIFS($I$4:I100,$C$4:C100,C101)))","v":0},null,{"$f":"IF(C101=\"\",0,IF(C101=$C$4,SUMIFS($I$4:I100,$C$4:C100,C100),SUMIFS($I$4:I100,$C$4:C100,C101)))","v":0},0]
[99,null,{"$f":"IFERROR(VLOOKUP(D102,Nomenclature!$B$2:$C$196,2,0),\"\")","v":""},null,null,null,null,{"$f":"IF(C102=\"\",0,IF(SUMIFS($G$5:G102,$C$5:C102,C102)-SUMIFS($I$4:I101,$C$4:C101,C102)<0,0,SUMIFS($G$5:G102,$C$5:C102,C102)-SUMIFS($I$4:I101,$C$4:C101,C102)))","v":0},null,{"$f":"IF(C102=\"\",0,IF(C102=$C$4,SUMIFS($I$4:I101,$C$4:C101,C101),SUMIFS($I$4:I101,$C$4:C101,C102)))","v":0},0]
[100,null,{"$f":"IFERROR(VLOOKUP(D103,Nomenclature!$B$2:$C$196,2,0),\"\")","v":""},null,null,null,null,{"$f":"IF(C103=\"\",0,IF(SUMIFS($G$5:G103,$C$5:C103,C103)-SUMIFS($I$4:I102,$C$4:C102,C103)<0,0,SUMIFS($G$5:G103,$C$5:C103,C103)-SUMIFS($I$4:I102,$C$4:C102,C103)))","v":0},null,{"$f":"IF(C103=\"\",0,IF(C103=$C$4,SUMIFS($I$4:I102,$C$4:C102,C102),SUMIFS($I$4:I102,$C$4:C102,C103)))","v":0},0]
[101,null,{"$f":"IFERROR(VLOOKUP(D104,Nomenclature!$B$2:$C$196,2,0),\"\")","v":""},null,null,null,null,{"$f":"IF(C104=\"\",0,IF(SUMIFS($G$5:G104,$C$5:C104,C104)-SUMIFS($I$4:I103,$C$4:C103,C104)<0,0,SUMIFS($G$5:G104,$C$5:C104,C104)-SUMIFS($I$4:I103,$C$4:C103,C104)))","v":0},null,{"$f":"IF(C104=\"\",0,IF(C104=$C$4,SUMIFS($I$4:I103,$C$4:C103,C103),SUMIFS($I$4:I103,$C$4:C103,C104)))","v":0},0]
[102,null,{"$f":"IFERROR(VLOOKUP(D105,Nomenclature!$B$2:$C$196,2,0),\"\")","v":""},null,null,null,null,{"$f":"IF(C105=\"\",0,IF(SUMIFS($G$5:G105,$C$5:C105,C105)-SUMIFS($I$4:I104,$C$4:C104,C105)<0,0,SUMIFS($G$5:G105,$C$5:C105,C105)-SUMIFS($I$4:I104,$C$4:C104,C105)))","v":0},null,{"$f":"IF(C105=\"\",0,IF(C105=$C$4,SUMIFS($I$4:I104,$C$4:C104,C104),SUMIFS($I$4:I104,$C$4:C104,C105)))","v":0},0]
[103,null,{"$f":"IFERROR(VLOOKUP(D106,Nomenclature!$B$2:$C$196,2,0),\"\")","v":""},null,null,null,null,{"$f":"IF(C106=\"\",0,IF(SUMIFS($G$5:G106,$C$5:C106,C106)-SUMIFS($I$4:I105,$C$4:C105,C106)<0,0,SUMIFS($G$5:G106,$C$5:C106,C106)-SUMIFS($I$4:I105,$C$4:C105,C106)))","v":0},null,{"$f":"IF(C106=\"\",0,IF(C106=$C$4,SUMIFS($I$4:I105,$C$4:C105,C105),SUMIFS($I$4:I105,$C$4:C105,C106)))","v":0},0]
[104,null,{"$f":"IFERROR(VLOOKUP(D107,Nomenclature!$B$2:$C$196,2,0),\"\")","v":""},null,null,null,null,{"$f":"IF(C107=\"\",0,IF(SUMIFS($G$5:G107,$C$5:C107,C107)-SUMIFS($I$4:I106,$C$4:C106,C107)<0,0,SUMIFS($G$5:G107,$C$5:C107,C107)-SUMIFS($I$4:I106,$C$4:C106,C107)))","v":0},null,{"$f":"IF(C107=\"\",0,IF(C107=$C$4,SUMIFS($I$4:I106,$C$4:C106,C106),SUMIFS($I$4:I106,$C$4:C106,C107)))","v":0},0]
[105,null,{"$f":"IFERROR(VLOOKUP(D108,Nomenclature!$B$2:$C$196,2,0),\"\")","v":""},null,null,null,null,{"$f":"IF(C108=\"\",0,IF(SUMIFS($G$5:G108,$C$5:C108,C108)-SUMIFS($I$4:I107,$C$4:C107,C108)<0,0,SUMIFS($G$5:G108,$C$5:C108,C108)-SUMIFS($I$4:I107,$C$4:C107,C108)))","v":0},null,{"$f":"IF(C108=\"\",0,IF(C108=$C$4,SUMIFS($I$4:I107,$C$4:C107,C107),SUMIFS($I$4:I107,$C$4:C107,C108)))","v":0},0]
[106,null,{"$f":"IFERROR(VLOOKUP(D109,Nomenclature!$B$2:$C$196,2,0),\"\")","v":""},null,null,null,null,{"$f":"IF(C109=\"\",0,IF(SUMIFS($G$5:G109,$C$5:C109,C109)-SUMIFS($I$4:I108,$C$4:C108,C109)<0,0,SUMIFS($G$5:G109,$C$5:C109,C109)-SUMIFS($I$4:I108,$C$4:C108,C109)))","v":0},null,{"$f":"IF(C109=\"\",0,IF(C109=$C$4,SUMIFS($I$4:I108,$C$4:C108,C108),SUMIFS($I$4:I108,$C$4:C108,C109)))","v":0},0]
[107,null,{"$f":"IFERROR(VLOOKUP(D110,Nomenclature!$B$2:$C$196,2,0),\"\")","v":""},null,null,null,null,{"$f":"IF(C110=\"\",0,IF(SUMIFS($G$5:G110,$C$5:C110,C110)-SUMIFS($I$4:I109,$C$4:C109,C110)<0,0,SUMIFS($G$5:G110,$C$5:C110,C110)-SUMIFS($I$4:I109,$C$4:C109,C110)))","v":0},null,{"$f":"IF(C110=\"\",0,IF(C110=$C$4,SUMIFS($I$4:I109,$C$4:C109,C109),SUMIFS($I$4:I109,$C$4:C109,C110)))","v":0},0]
[108,null,{"$f":"IFERROR(VLOOKUP(D111,Nomenclature!$B$2:$C$196,2,0),\"\")","v":""},null,null,null,null,{"$f":"IF(C111=\"\",0,IF(SUMIFS($G$5:G111,$C$5:C111,C111)-SUMIFS($I$4:I110,$C$4:C110,C111)<0,0,SUMIFS($G$5:G111,$C$5:C111,C111)-SUMIFS($I$4:I110,$C$4:C110,C111)))","v":0},null,{"$f":"IF(C111=\"\",0,IF(C111=$C$4,SUMIFS($I$4:I110,$C$4:C110,C110),SUMIFS($I$4:I110,$C$4:C110,C111)))","v":0},0]
[109,null,{"$f":"IFERROR(VLOOKUP(D112,Nomenclature!$B$2:$C$196,2,0),\"\")","v":""},null,null,null,null,{"$f":"IF(C112=\"\",0,IF(SUMIFS($G$5:G112,$C$5:C112,C112)-SUMIFS($I$4:I111,$C$4:C111,C112)<0,0,SUMIFS($G$5:G112,$C$5:C112,C112)-SUMIFS($I$4:I111,$C$4:C111,C112)))","v":0},null,{"$f":"IF(C112=\"\",0,IF(C112=$C$4,SUMIFS($I$4:I111,$C$4:C111,C111),SUMIFS($I$4:I111,$C$4:C111,C112)))","v":0},0]
[110,null,{"$f":"IFERROR(VLOOKUP(D113,Nomenclature!$B$2:$C$196,2,0),\"\")","v":""},null,null,null,null,{"$f":"IF(C113=\"\",0,IF(SUMIFS($G$5:G113,$C$5:C113,C113)-SUMIFS($I$4:I112,$C$4:C112,C113)<0,0,SUMIFS($G$5:G113,$C$5:C113,C113)-SUMIFS($I$4:I112,$C$4:C112,C113)))","v":0},null,{"$f":"IF(C113=\"\",0,IF(C113=$C$4,SUMIFS($I$4:I112,$C$4:C112,C112),SUMIFS($I$4:I112,$C$4:C112,C113)))","v":0},0]
[111,null,{"$f":"IFERROR(VLOOKUP(D114,Nomenclature!$B$2:$C$196,2,0),\"\")","v":""},null,null,null,null,{"$f":"IF(C114=\"\",0,IF(SUMIFS($G$5:G114,$C$5:C114,C114)-SUMIFS($I$4:I113,$C$4:C113,C114)<0,0,SUMIFS($G$5:G114,$C$5:C114,C114)-SUMIFS($I$4:I113,$C$4:C113,C114)))","v":0},null,{"$f":"IF(C114=\"\",0,IF(C114=$C$4,SUMIFS($I$4:I113,$C$4:C113,C113),SUMIFS($I$4:I113,$C$4:C113,C114)))","v":0},0]
[112,null,{"$f":"IFERROR(VLOOKUP(D115,Nomenclature!$B$2:$C$196,2,0),\"\")","v":""},null,null,null,null,{"$f":"IF(C115=\"\",0,IF(SUMIFS($G$5:G115,$C$5:C115,C115)-SUMIFS($I$4:I114,$C$4:C114,C115)<0,0,SUMIFS($G$5:G115,$C$5:C115,C115)-SUMIFS($I$4:I114,$C$4:C114,C115)))","v":0},null,{"$f":"IF(C115=\"\",0,IF(C115=$C$4,SUMIFS($I$4:I114,$C$4:C114,C114),SUMIFS($I$4:I114,$C$4:C114,C115)))","v":0},0]
[113,null,{"$f":"IFERROR(VLOOKUP(D116,Nomenclature!$B$2:$C$196,2,0),\"\")","v":""},null,null,null,null,{"$f":"IF(C116=\"\",0,IF(SUMIFS($G$5:G116,$C$5:C116,C116)-SUMIFS($I$4:I115,$C$4:C115,C116)<0,0,SUMIFS($G$5:G116,$C$5:C116,C116)-SUMIFS($I$4:I115,$C$4:C115,C116)))","v":0},null,{"$f":"IF(C116=\"\",0,IF(C116=$C$4,SUMIFS($I$4:I115,$C$4:C115,C115),SUMIFS($I$4:I115,$C$4:C115,C116)))","v":0},0]
[114,null,{"$f":"IFERROR(VLOOKUP(D117,Nomenclature!$B$2:$C$196,2,0),\"\")","v":""},null,null,null,null,{"$f":"IF(C117=\"\",0,IF(SUMIFS($G$5:G117,$C$5:C117,C117)-SUMIFS($I$4:I116,$C$4:C116,C117)<0,0,SUMIFS($G$5:G117,$C$5:C117,C117)-SUMIFS($I$4:I116,$C$4:C116,C117)))","v":0},null,{"$f":"IF(C117=\"\",0,IF(C117=$C$4,SUMIFS($I$4:I116,$C$4:C116,C116),SUMIFS($I$4:I116,$C$4:C116,C117)))","v":0},0]
[115,null,{"$f":"IFERROR(VLOOKUP(D118,Nomenclature!$B$2:$C$196,2,0),\"\")","v":""},null,null,null,null,{"$f":"IF(C118=\"\",0,IF(SUMIFS($G$5:G118,$C$5:C118,C118)-SUMIFS($I$4:I117,$C$4:C117,C118)<0,0,SUMIFS($G$5:G118,$C$5:C118,C118)-SUMIFS($I$4:I117,$C$4:C117,C118)))","v":0},null,{"$f":"IF(C118=\"\",0,IF(C118=$C$4,SUMIFS($I$4:I117,$C$4:C117,C117),SUMIFS($I$4:I117,$C$4:C117,C118)))","v":0},0]
[116,null,{"$f":"IFERROR(VLOOKUP(D119,Nomenclature!$B$2:$C$196,2,0),\"\")","v":""},null,null,null,null,{"$f":"IF(C119=\"\",0,IF(SUMIFS($G$5:G119,$C$5:C119,C119)-SUMIFS($I$4:I118,$C$4:C118,C119)<0,0,SUMIFS($G$5:G119,$C$5:C119,C119)-SUMIFS($I$4:I118,$C$4:C118,C119)))","v":0},null,{"$f":"IF(C119=\"\",0,IF(C119=$C$4,SUMIFS($I$4:I118,$C$4:C118,C118),SUMIFS($I$4:I118,$C$4:C118,C119)))","v":0},0]
[117,null,{"$f":"IFERROR(VLOOKUP(D120,Nomenclature!$B$2:$C$196,2,0),\"\")","v":""},null,null,null,null,{"$f":"IF(C120=\"\",0,IF(SUMIFS($G$5:G120,$C$5:C120,C120)-SUMIFS($I$4:I119,$C$4:C119,C120)<0,0,SUMIFS($G$5:G120,$C$5:C120,C120)-SUMIFS($I$4:I119,$C$4:C119,C120)))","v":0},null,{"$f":"IF(C120=\"\",0,IF(C120=$C$4,SUMIFS($I$4:I119,$C$4:C119,C119),SUMIFS($I$4:I119,$C$4:C119,C120)))","v":0},0]
[118,null,{"$f":"IFERROR(VLOOKUP(D121,Nomenclature!$B$2:$C$196,2,0),\"\")","v":""},null,null,null,null,{"$f":"IF(C121=\"\",0,IF(SUMIFS($G$5:G121,$C$5:C121,C121)-SUMIFS($I$4:I120,$C$4:C120,C121)<0,0,SUMIFS($G$5:G121,$C$5:C121,C121)-SUMIFS($I$4:I120,$C$4:C120,C121)))","v":0},null,{"$f":"IF(C121=\"\",0,IF(C121=$C$4,SUMIFS($I$4:I120,$C$4:C120,C120),SUMIFS($I$4:I120,$C$4:C120,C121)))","v":0},0]
[119,null,{"$f":"IFERROR(VLOOKUP(D122,Nomenclature!$B$2:$C$196,2,0),\"\")","v":""},null,null,null,null,{"$f":"IF(C122=\"\",0,IF(SUMIFS($G$5:G122,$C$5:C122,C122)-SUMIFS($I$4:I121,$C$4:C121,C122)<0,0,SUMIFS($G$5:G122,$C$5:C122,C122)-SUMIFS($I$4:I121,$C$4:C121,C122)))","v":0},null,{"$f":"IF(C122=\"\",0,IF(C122=$C$4,SUMIFS($I$4:I121,$C$4:C121,C121),SUMIFS($I$4:I121,$C$4:C121,C122)))","v":0},0]
[120,null,{"$f":"IFERROR(VLOOKUP(D123,Nomenclature!$B$2:$C$196,2,0),\"\")","v":""},null,null,null,null,{"$f":"IF(C123=\"\",0,IF(SUMIFS($G$5:G123,$C$5:C123,C123)-SUMIFS($I$4:I122,$C$4:C122,C123)<0,0,SUMIFS($G$5:G123,$C$5:C123,C123)-SUMIFS($I$4:I122,$C$4:C122,C123)))","v":0},null,{"$f":"IF(C123=\"\",0,IF(C123=$C$4,SUMIFS($I$4:I122,$C$4:C122,C122),SUMIFS($I$4:I122,$C$4:C122,C123)))","v":0},0]
[121,null,{"$f":"IFERROR(VLOOKUP(D124,Nomenclature!$B$2:$C$196,2,0),\"\")","v":""},null,null,null,null,{"$f":"IF(C124=\"\",0,IF(SUMIFS($G$5:G124,$C$5:C124,C124)-SUMIFS($I$4:I123,$C$4:C123,C124)<0,0,SUMIFS($G$5:G124,$C$5:C124,C124)-SUMIFS($I$4:I123,$C$4:C123,C124)))","v":0},null,{"$f":"IF(C124=\"\",0,IF(C124=$C$4,SUMIFS($I$4:I123,$C$4:C123,C123),SUMIFS($I$4:I123,$C$4:C123,C124)))","v":0},0]
[122,null,{"$f":"IFERROR(VLOOKUP(D125,Nomenclature!$B$2:$C$196,2,0),\"\")","v":""},null,null,null,null,{"$f":"IF(C125=\"\",0,IF(SUMIFS($G$5:G125,$C$5:C125,C125)-SUMIFS($I$4:I124,$C$4:C124,C125)<0,0,SUMIFS($G$5:G125,$C$5:C125,C125)-SUMIFS($I$4:I124,$C$4:C124,C125)))","v":0},null,{"$f":"IF(C125=\"\",0,IF(C125=$C$4,SUMIFS($I$4:I124,$C$4:C124,C124),SUMIFS($I$4:I124,$C$4:C124,C125)))","v":0},0]
[123,null,{"$f":"IFERROR(VLOOKUP(D126,Nomenclature!$B$2:$C$196,2,0),\"\")","v":""},null,null,null,null,{"$f":"IF(C126=\"\",0,IF(SUMIFS($G$5:G126,$C$5:C126,C126)-SUMIFS($I$4:I125,$C$4:C125,C126)<0,0,SUMIFS($G$5:G126,$C$5:C126,C126)-SUMIFS($I$4:I125,$C$4:C125,C126)))","v":0},null,{"$f":"IF(C126=\"\",0,IF(C126=$C$4,SUMIFS($I$4:I125,$C$4:C125,C125),SUMIFS($I$4:I125,$C$4:C125,C126)))","v":0},0]
[124,null,{"$f":"IFERROR(VLOOKUP(D127,Nomenclature!$B$2:$C$196,2,0),\"\")","v":""},null,null,null,null,{"$f":"IF(C127=\"\",0,IF(SUMIFS($G$5:G127,$C$5:C127,C127)-SUMIFS($I$4:I126,$C$4:C126,C127)<0,0,SUMIFS($G$5:G127,$C$5:C127,C127)-SUMIFS($I$4:I126,$C$4:C126,C127)))","v":0},null,{"$f":"IF(C127=\"\",0,IF(C127=$C$4,SUMIFS($I$4:I126,$C$4:C126,C126),SUMIFS($I$4:I126,$C$4:C126,C127)))","v":0},0]
[125,null,{"$f":"IFERROR(VLOOKUP(D128,Nomenclature!$B$2:$C$196,2,0),\"\")","v":""},null,null,null,null,{"$f":"IF(C128=\"\",0,IF(SUMIFS($G$5:G128,$C$5:C128,C128)-SUMIFS($I$4:I127,$C$4:C127,C128)<0,0,SUMIFS($G$5:G128,$C$5:C128,C128)-SUMIFS($I$4:I127,$C$4:C127,C128)))","v":0},null,{"$f":"IF(C128=\"\",0,IF(C128=$C$4,SUMIFS($I$4:I127,$C$4:C127,C127),SUMIFS($I$4:I127,$C$4:C127,C128)))","v":0},0]
[126,null,{"$f":"IFERROR(VLOOKUP(D129,Nomenclature!$B$2:$C$196,2,0),\"\")","v":""},null,null,null,null,{"$f":"IF(C129=\"\",0,IF(SUMIFS($G$5:G129,$C$5:C129,C129)-SUMIFS($I$4:I128,$C$4:C128,C129)<0,0,SUMIFS($G$5:G129,$C$5:C129,C129)-SUMIFS($I$4:I128,$C$4:C128,C129)))","v":0},null,{"$f":"IF(C129=\"\",0,IF(C129=$C$4,SUMIFS($I$4:I128,$C$4:C128,C128),SUMIFS($I$4:I128,$C$4:C128,C129)))","v":0},0]
[127,null,{"$f":"IFERROR(VLOOKUP(D130,Nomenclature!$B$2:$C$196,2,0),\"\")","v":""},null,null,null,null,{"$f":"IF(C130=\"\",0,IF(SUMIFS($G$5:G130,$C$5:C130,C130)-SUMIFS($I$4:I129,$C$4:C129,C130)<0,0,SUMIFS($G$5:G130,$C$5:C130,C130)-SUMIFS($I$4:I129,$C$4:C129,C130)))","v":0},null,{"$f":"IF(C130=\"\",0,IF(C130=$C$4,SUMIFS($I$4:I129,$C$4:C129,C129),SUMIFS($I$4:I129,$C$4:C129,C130)))","v":0},0]
[128,null,{"$f":"IFERROR(VLOOKUP(D131,Nomenclature!$B$2:$C$196,2,0),\"\")","v":""},null,null,null,null,{"$f":"IF(C131=\"\",0,IF(SUMIFS($G$5:G131,$C$5:C131,C131)-SUMIFS($I$4:I130,$C$4:C130,C131)<0,0,SUMIFS($G$5:G131,$C$5:C131,C131)-SUMIFS($I$4:I130,$C$4:C130,C131)))","v":0},null,{"$f":"IF(C131=\"\",0,IF(C131=$C$4,SUMIFS($I$4:I130,$C$4:C130,C130),SUMIFS($I$4:I130,$C$4:C130,C131)))","v":0},0]
[129,null,{"$f":"IFERROR(VLOOKUP(D132,Nomenclature!$B$2:$C$196,2,0),\"\")","v":""},null,null,null,null,{"$f":"IF(C132=\"\",0,IF(SUMIFS($G$5:G132,$C$5:C132,C132)-SUMIFS($I$4:I131,$C$4:C131,C132)<0,0,SUMIFS($G$5:G132,$C$5:C132,C132)-SUMIFS($I$4:I131,$C$4:C131,C132)))","v":0},null,{"$f":"IF(C132=\"\",0,IF(C132=$C$4,SUMIFS($I$4:I131,$C$4:C131,C131),SUMIFS($I$4:I131,$C$4:C131,C132)))","v":0},{"$f":"IF(C132=\"\",0,H132-I132)","v":0}]
[130,null,{"$f":"IFERROR(VLOOKUP(D133,Nomenclature!$B$2:$C$196,2,0),\"\")","v":""},null,null,null,null,{"$f":"IF(C133=\"\",0,IF(SUMIFS($G$5:G133,$C$5:C133,C133)-SUMIFS($I$4:I132,$C$4:C132,C133)<0,0,SUMIFS($G$5:G133,$C$5:C133,C133)-SUMIFS($I$4:I132,$C$4:C132,C133)))","v":0},null,{"$f":"IF(C133=\"\",0,IF(C133=$C$4,SUMIFS($I$4:I132,$C$4:C132,C132),SUMIFS($I$4:I132,$C$4:C132,C133)))","v":0},0]
[131,null,{"$f":"IFERROR(VLOOKUP(D134,Nomenclature!$B$2:$C$196,2,0),\"\")","v":""},null,null,null,null,{"$f":"IF(C134=\"\",0,IF(SUMIFS($G$5:G134,$C$5:C134,C134)-SUMIFS($I$4:I133,$C$4:C133,C134)<0,0,SUMIFS($G$5:G134,$C$5:C134,C134)-SUMIFS($I$4:I133,$C$4:C133,C134)))","v":0},null,{"$f":"IF(C134=\"\",0,IF(C134=$C$4,SUMIFS($I$4:I133,$C$4:C133,C133),SUMIFS($I$4:I133,$C$4:C133,C134)))","v":0},0]
[132,null,{"$f":"IFERROR(VLOOKUP(D135,Nomenclature!$B$2:$C$196,2,0),\"\")","v":""},null,null,null,null,{"$f":"IF(C135=\"\",0,IF(SUMIFS($G$5:G135,$C$5:C135,C135)-SUMIFS($I$4:I134,$C$4:C134,C135)<0,0,SUMIFS($G$5:G135,$C$5:C135,C135)-SUMIFS($I$4:I134,$C$4:C134,C135)))","v":0},null,{"$f":"IF(C135=\"\",0,IF(C135=$C$4,SUMIFS($I$4:I134,$C$4:C134,C134),SUMIFS($I$4:I134,$C$4:C134,C135)))","v":0},0]
[133,null,{"$f":"IFERROR(VLOOKUP(D136,Nomenclature!$B$2:$C$196,2,0),\"\")","v":""},null,null,null,null,{"$f":"IF(C136=\"\",0,IF(SUMIFS($G$5:G136,$C$5:C136,C136)-SUMIFS($I$4:I135,$C$4:C135,C136)<0,0,SUMIFS($G$5:G136,$C$5:C136,C136)-SUMIFS($I$4:I135,$C$4:C135,C136)))","v":0},null,{"$f":"IF(C136=\"\",0,IF(C136=$C$4,SUMIFS($I$4:I135,$C$4:C135,C135),SUMIFS($I$4:I135,$C$4:C135,C136)))","v":0},0]
[134,null,{"$f":"IFERROR(VLOOKUP(D137,Nomenclature!$B$2:$C$196,2,0),\"\")","v":""},null,null,null,null,{"$f":"IF(C137=\"\",0,IF(SUMIFS($G$5:G137,$C$5:C137,C137)-SUMIFS($I$4:I136,$C$4:C136,C137)<0,0,SUMIFS($G$5:G137,$C$5:C137,C137)-SUMIFS($I$4:I136,$C$4:C136,C137)))","v":0},null,{"$f":"IF(C137=\"\",0,IF(C137=$C$4,SUMIFS($I$4:I136,$C$4:C136,C136),SUMIFS($I$4:I136,$C$4:C136,C137)))","v":0},0]
[135,null,{"$f":"IFERROR(VLOOKUP(D138,Nomenclature!$B$2:$C$196,2,0),\"\")","v":""},null,null,null,null,{"$f":"IF(C138=\"\",0,IF(SUMIFS($G$5:G138,$C$5:C138,C138)-SUMIFS($I$4:I137,$C$4:C137,C138)<0,0,SUMIFS($G$5:G138,$C$5:C138,C138)-SUMIFS($I$4:I137,$C$4:C137,C138)))","v":0},null,{"$f":"IF(C138=\"\",0,IF(C138=$C$4,SUMIFS($I$4:I137,$C$4:C137,C137),SUMIFS($I$4:I137,$C$4:C137,C138)))","v":0},0]
[136,null,{"$f":"IFERROR(VLOOKUP(D139,Nomenclature!$B$2:$C$196,2,0),\"\")","v":""},null,null,null,null,{"$f":"IF(C139=\"\",0,IF(SUMIFS($G$5:G139,$C$5:C139,C139)-SUMIFS($I$4:I138,$C$4:C138,C139)<0,0,SUMIFS($G$5:G139,$C$5:C139,C139)-SUMIFS($I$4:I138,$C$4:C138,C139)))","v":0},null,{"$f":"IF(C139=\"\",0,IF(C139=$C$4,SUMIFS($I$4:I138,$C$4:C138,C138),SUMIFS($I$4:I138,$C$4:C138,C139)))","v":0},0]
[137,null,{"$f":"IFERROR(VLOOKUP(D140,Nomenclature!$B$2:$C$196,2,0),\"\")","v":""},null,null,null,null,{"$f":"IF(C140=\"\",0,IF(SUMIFS($G$5:G140,$C$5:C140,C140)-SUMIFS($I$4:I139,$C$4:C139,C140)<0,0,SUMIFS($G$5:G140,$C$5:C140,C140)-SUMIFS($I$4:I139,$C$4:C139,C140)))","v":0},null,{"$f":"IF(C140=\"\",0,IF(C140=$C$4,SUMIFS($I$4:I139,$C$4:C139,C139),SUMIFS($I$4:I139,$C$4:C139,C140)))","v":0},0]
[138,null,{"$f":"IFERROR(VLOOKUP(D141,Nomenclature!$B$2:$C$196,2,0),\"\")","v":""},null,null,null,null,{"$f":"IF(C141=\"\",0,IF(SUMIFS($G$5:G141,$C$5:C141,C141)-SUMIFS($I$4:I140,$C$4:C140,C141)<0,0,SUMIFS($G$5:G141,$C$5:C141,C141)-SUMIFS($I$4:I140,$C$4:C140,C141)))","v":0},null,{"$f":"IF(C141=\"\",0,IF(C141=$C$4,SUMIFS($I$4:I140,$C$4:C140,C140),SUMIFS($I$4:I140,$C$4:C140,C141)))","v":0},0]
[139,null,{"$f":"IFERROR(VLOOKUP(D142,Nomenclature!$B$2:$C$196,2,0),\"\")","v":""},null,null,null,null,{"$f":"IF(C142=\"\",0,IF(SUMIFS($G$5:G142,$C$5:C142,C142)-SUMIFS($I$4:I141,$C$4:C141,C142)<0,0,SUMIFS($G$5:G142,$C$5:C142,C142)-SUMIFS($I$4:I141,$C$4:C141,C142)))","v":0},null,{"$f":"IF(C142=\"\",0,IF(C142=$C$4,SUMIFS($I$4:I141,$C$4:C141,C141),SUMIFS($I$4:I141,$C$4:C141,C142)))","v":0},0]
[140,null,{"$f":"IFERROR(VLOOKUP(D143,Nomenclature!$B$2:$C$196,2,0),\"\")","v":""},null,null,null,null,{"$f":"IF(C143=\"\",0,IF(SUMIFS($G$5:G143,$C$5:C143,C143)-SUMIFS($I$4:I142,$C$4:C142,C143)<0,0,SUMIFS($G$5:G143,$C$5:C143,C143)-SUMIFS($I$4:I142,$C$4:C142,C143)))","v":0},null,{"$f":"IF(C143=\"\",0,IF(C143=$C$4,SUMIFS($I$4:I142,$C$4:C142,C142),SUMIFS($I$4:I142,$C$4:C142,C143)))","v":0},0]
[141,null,{"$f":"IFERROR(VLOOKUP(D144,Nomenclature!$B$2:$C$196,2,0),\"\")","v":""},null,null,null,null,{"$f":"IF(C144=\"\",0,IF(SUMIFS($G$5:G144,$C$5:C144,C144)-SUMIFS($I$4:I143,$C$4:C143,C144)<0,0,SUMIFS($G$5:G144,$C$5:C144,C144)-SUMIFS($I$4:I143,$C$4:C143,C144)))","v":0},null,{"$f":"IF(C144=\"\",0,IF(C144=$C$4,SUMIFS($I$4:I143,$C$4:C143,C143),SUMIFS($I$4:I143,$C$4:C143,C144)))","v":0},0]
[142,null,{"$f":"IFERROR(VLOOKUP(D145,Nomenclature!$B$2:$C$196,2,0),\"\")","v":""},null,null,null,null,{"$f":"IF(C145=\"\",0,IF(SUMIFS($G$5:G145,$C$5:C145,C145)-SUMIFS($I$4:I144,$C$4:C144,C145)<0,0,SUMIFS($G$5:G145,$C$5:C145,C145)-SUMIFS($I$4:I144,$C$4:C144,C145)))","v":0},null,{"$f":"IF(C145=\"\",0,IF(C145=$C$4,SUMIFS($I$4:I144,$C$4:C144,C144),SUMIFS($I$4:I144,$C$4:C144,C145)))","v":0},0]
[143,null,{"$f":"IFERROR(VLOOKUP(D146,Nomenclature!$B$2:$C$196,2,0),\"\")","v":""},null,null,null,null,{"$f":"IF(C146=\"\",0,IF(SUMIFS($G$5:G146,$C$5:C146,C146)-SUMIFS($I$4:I145,$C$4:C145,C146)<0,0,SUMIFS($G$5:G146,$C$5:C146,C146)-SUMIFS($I$4:I145,$C$4:C145,C146)))","v":0},null,{"$f":"IF(C146=\"\",0,IF(C146=$C$4,SUMIFS($I$4:I145,$C$4:C145,C145),SUMIFS($I$4:I145,$C$4:C145,C146)))","v":0},0]
[144,null,{"$f":"IFERROR(VLOOKUP(D147,Nomenclature!$B$2:$C$196,2,0),\"\")","v":""},null,null,null,null,{"$f":"IF(C147=\"\",0,IF(SUMIFS($G$5:G147,$C$5:C147,C147)-SUMIFS($I$4:I146,$C$4:C146,C147)<0,0,SUMIFS($G$5:G147,$C$5:C147,C147)-SUMIFS($I$4:I146,$C$4:C146,C147)))","v":0},null,{"$f":"IF(C147=\"\",0,IF(C147=$C$4,SUMIFS($I$4:I146,$C$4:C146,C146),SUMIFS($I$4:I146,$C$4:C146,C147)))","v":0},0]
[145,null,{"$f":"IFERROR(VLOOKUP(D148,Nomenclature!$B$2:$C$196,2,0),\"\")","v":""},null,null,null,null,{"$f":"IF(C148=\"\",0,IF(SUMIFS($G$5:G148,$C$5:C148,C148)-SUMIFS($I$4:I147,$C$4:C147,C148)<0,0,SUMIFS($G$5:G148,$C$5:C148,C148)-SUMIFS($I$4:I147,$C$4:C147,C148)))","v":0},null,{"$f":"IF(C148=\"\",0,IF(C148=$C$4,SUMIFS($I$4:I147,$C$4:C147,C147),SUMIFS($I$4:I147,$C$4:C147,C148)))","v":0},0]
[146,null,{"$f":"IFERROR(VLOOKUP(D149,Nomenclature!$B$2:$C$196,2,0),\"\")","v":""},null,null,null,null,{"$f":"IF(C149=\"\",0,IF(SUMIFS($G$5:G149,$C$5:C149,C149)-SUMIFS($I$4:I148,$C$4:C148,C149)<0,0,SUMIFS($G$5:G149,$C$5:C149,C149)-SUMIFS($I$4:I148,$C$4:C148,C149)))","v":0},null,{"$f":"IF(C149=\"\",0,IF(C149=$C$4,SUMIFS($I$4:I148,$C$4:C148,C148),SUMIFS($I$4:I148,$C$4:C148,C149)))","v":0},0]
[147,null,{"$f":"IFERROR(VLOOKUP(D150,Nomenclature!$B$2:$C$196,2,0),\"\")","v":""},null,null,null,null,{"$f":"IF(C150=\"\",0,IF(SUMIFS($G$5:G150,$C$5:C150,C150)-SUMIFS($I$4:I149,$C$4:C149,C150)<0,0,SUMIFS($G$5:G150,$C$5:C150,C150)-SUMIFS($I$4:I149,$C$4:C149,C150)))","v":0},null,{"$f":"IF(C150=\"\",0,IF(C150=$C$4,SUMIFS($I$4:I149,$C$4:C149,C149),SUMIFS($I$4:I149,$C$4:C149,C150)))","v":0},0]
[148,null,{"$f":"IFERROR(VLOOKUP(D151,Nomenclature!$B$2:$C$196,2,0),\"\")","v":""},null,null,null,null,{"$f":"IF(C151=\"\",0,IF(SUMIFS($G$5:G151,$C$5:C151,C151)-SUMIFS($I$4:I150,$C$4:C150,C151)<0,0,SUMIFS($G$5:G151,$C$5:C151,C151)-SUMIFS($I$4:I150,$C$4:C150,C151)))","v":0},null,{"$f":"IF(C151=\"\",0,IF(C151=$C$4,SUMIFS($I$4:I150,$C$4:C150,C150),SUMIFS($I$4:I150,$C$4:C150,C151)))","v":0},0]
[149,null,{"$f":"IFERROR(VLOOKUP(D152,Nomenclature!$B$2:$C$196,2,0),\"\")","v":""},null,null,null,null,{"$f":"IF(C152=\"\",0,IF(SUMIFS($G$5:G152,$C$5:C152,C152)-SUMIFS($I$4:I151,$C$4:C151,C152)<0,0,SUMIFS($G$5:G152,$C$5:C152,C152)-SUMIFS($I$4:I151,$C$4:C151,C152)))","v":0},null,{"$f":"IF(C152=\"\",0,IF(C152=$C$4,SUMIFS($I$4:I151,$C$4:C151,C151),SUMIFS($I$4:I151,$C$4:C151,C152)))","v":0},0]
[150,null,{"$f":"IFERROR(VLOOKUP(D153,Nomenclature!$B$2:$C$196,2,0),\"\")","v":""},null,null,null,null,{"$f":"IF(C153=\"\",0,IF(SUMIFS($G$5:G153,$C$5:C153,C153)-SUMIFS($I$4:I152,$C$4:C152,C153)<0,0,SUMIFS($G$5:G153,$C$5:C153,C153)-SUMIFS($I$4:I152,$C$4:C152,C153)))","v":0},null,{"$f":"IF(C153=\"\",0,IF(C153=$C$4,SUMIFS($I$4:I152,$C$4:C152,C152),SUMIFS($I$4:I152,$C$4:C152,C153)))","v":0},0]
[151,null,{"$f":"IFERROR(VLOOKUP(D154,Nomenclature!$B$2:$C$196,2,0),\"\")","v":""},null,null,null,null,{"$f":"IF(C154=\"\",0,IF(SUMIFS($G$5:G154,$C$5:C154,C154)-SUMIFS($I$4:I153,$C$4:C153,C154)<0,0,SUMIFS($G$5:G154,$C$5:C154,C154)-SUMIFS($I$4:I153,$C$4:C153,C154)))","v":0},null,{"$f":"IF(C154=\"\",0,IF(C154=$C$4,SUMIFS($I$4:I153,$C$4:C153,C153),SUMIFS($I$4:I153,$C$4:C153,C154)))","v":0},0]
[152,null,{"$f":"IFERROR(VLOOKUP(D155,Nomenclature!$B$2:$C$196,2,0),\"\")","v":""},null,null,null,null,{"$f":"IF(C155=\"\",0,IF(SUMIFS($G$5:G155,$C$5:C155,C155)-SUMIFS($I$4:I154,$C$4:C154,C155)<0,0,SUMIFS($G$5:G155,$C$5:C155,C155)-SUMIFS($I$4:I154,$C$4:C154,C155)))","v":0},null,{"$f":"IF(C155=\"\",0,IF(C155=$C$4,SUMIFS($I$4:I154,$C$4:C154,C154),SUMIFS($I$4:I154,$C$4:C154,C155)))","v":0},0]
[153,null,{"$f":"IFERROR(VLOOKUP(D156,Nomenclature!$B$2:$C$196,2,0),\"\")","v":""},null,null,null,null,{"$f":"IF(C156=\"\",0,IF(SUMIFS($G$5:G156,$C$5:C156,C156)-SUMIFS($I$4:I155,$C$4:C155,C156)<0,0,SUMIFS($G$5:G156,$C$5:C156,C156)-SUMIFS($I$4:I155,$C$4:C155,C156)))","v":0},null,{"$f":"IF(C156=\"\",0,IF(C156=$C$4,SUMIFS($I$4:I155,$C$4:C155,C155),SUMIFS($I$4:I155,$C$4:C155,C156)))","v":0},0]
[154,null,{"$f":"IFERROR(VLOOKUP(D157,Nomenclature!$B$2:$C$196,2,0),\"\")","v":""},null,null,null,null,{"$f":"IF(C157=\"\",0,IF(SUMIFS($G$5:G157,$C$5:C157,C157)-SUMIFS($I$4:I156,$C$4:C156,C157)<0,0,SUMIFS($G$5:G157,$C$5:C157,C157)-SUMIFS($I$4:I156,$C$4:C156,C157)))","v":0},null,{"$f":"IF(C157=\"\",0,IF(C157=$C$4,SUMIFS($I$4:I156,$C$4:C156,C156),SUMIFS($I$4:I156,$C$4:C156,C157)))","v":0},0]
[155,null,{"$f":"IFERROR(VLOOKUP(D158,Nomenclature!$B$2:$C$196,2,0),\"\")","v":""},null,null,null,null,{"$f":"IF(C158=\"\",0,IF(SUMIFS($G$5:G158,$C$5:C158,C158)-SUMIFS($I$4:I157,$C$4:C157,C158)<0,0,SUMIFS($G$5:G158,$C$5:C158,C158)-SUMIFS($I$4:I157,$C$4:C157,C158)))","v":0},null,{"$f":"IF(C158=\"\",0,IF(C158=$C$4,SUMIFS($I$4:I157,$C$4:C157,C157),SUMIFS($I$4:I157,$C$4:C157,C158)))","v":0},0]
[156,null,{"$f":"IFERROR(VLOOKUP(D159,Nomenclature!$B$2:$C$196,2,0),\"\")","v":""},null,null,null,null,{"$f":"IF(C159=\"\",0,IF(SUMIFS($G$5:G159,$C$5:C159,C159)-SUMIFS($I$4:I158,$C$4:C158,C159)<0,0,SUMIFS($G$5:G159,$C$5:C159,C159)-SUMIFS($I$4:I158,$C$4:C158,C159)))","v":0},null,{"$f":"IF(C159=\"\",0,IF(C159=$C$4,SUMIFS($I$4:I158,$C$4:C158,C158),SUMIFS($I$4:I158,$C$4:C158,C159)))","v":0},0]
[157,null,{"$f":"IFERROR(VLOOKUP(D160,Nomenclature!$B$2:$C$196,2,0),\"\")","v":""},null,null,null,null,{"$f":"IF(C160=\"\",0,IF(SUMIFS($G$5:G160,$C$5:C160,C160)-SUMIFS($I$4:I159,$C$4:C159,C160)<0,0,SUMIFS($G$5:G160,$C$5:C160,C160)-SUMIFS($I$4:I159,$C$4:C159,C160)))","v":0},null,{"$f":"IF(C160=\"\",0,IF(C160=$C$4,SUMIFS($I$4:I159,$C$4:C159,C159),SUMIFS($I$4:I159,$C$4:C159,C160)))","v":0},0]
[158,null,{"$f":"IFERROR(VLOOKUP(D161,Nomenclature!$B$2:$C$196,2,0),\"\")","v":""},null,null,null,null,{"$f":"IF(C161=\"\",0,IF(SUMIFS($G$5:G161,$C$5:C161,C161)-SUMIFS($I$4:I160,$C$4:C160,C161)<0,0,SUMIFS($G$5:G161,$C$5:C161,C161)-SUMIFS($I$4:I160,$C$4:C160,C161)))","v":0},null,{"$f":"IF(C161=\"\",0,IF(C161=$C$4,SUMIFS($I$4:I160,$C$4:C160,C160),SUMIFS($I$4:I160,$C$4:C160,C161)))","v":0},0]
[159,null,{"$f":"IFERROR(VLOOKUP(D162,Nomenclature!$B$2:$C$196,2,0),\"\")","v":""},null,null,null,null,{"$f":"IF(C162=\"\",0,IF(SUMIFS($G$5:G162,$C$5:C162,C162)-SUMIFS($I$4:I161,$C$4:C161,C162)<0,0,SUMIFS($G$5:G162,$C$5:C162,C162)-SUMIFS($I$4:I161,$C$4:C161,C162)))","v":0},null,{"$f":"IF(C162=\"\",0,IF(C162=$C$4,SUMIFS($I$4:I161,$C$4:C161,C161),SUMIFS($I$4:I161,$C$4:C161,C162)))","v":0},0]
[160,null,{"$f":"IFERROR(VLOOKUP(D163,Nomenclature!$B$2:$C$196,2,0),\"\")","v":""},null,null,null,null,{"$f":"IF(C163=\"\",0,IF(SUMIFS($G$5:G163,$C$5:C163,C163)-SUMIFS($I$4:I162,$C$4:C162,C163)<0,0,SUMIFS($G$5:G163,$C$5:C163,C163)-SUMIFS($I$4:I162,$C$4:C162,C163)))","v":0},null,{"$f":"IF(C163=\"\",0,IF(C163=$C$4,SUMIFS($I$4:I162,$C$4:C162,C162),SUMIFS($I$4:I162,$C$4:C162,C163)))","v":0},0]
[161,null,{"$f":"IFERROR(VLOOKUP(D164,Nomenclature!$B$2:$C$196,2,0),\"\")","v":""},null,null,null,null,{"$f":"IF(C164=\"\",0,IF(SUMIFS($G$5:G164,$C$5:C164,C164)-SUMIFS($I$4:I163,$C$4:C163,C164)<0,0,SUMIFS($G$5:G164,$C$5:C164,C164)-SUMIFS($I$4:I163,$C$4:C163,C164)))","v":0},null,{"$f":"IF(C164=\"\",0,IF(C164=$C$4,SUMIFS($I$4:I163,$C$4:C163,C163),SUMIFS($I$4:I163,$C$4:C163,C164)))","v":0},0]
[162,null,{"$f":"IFERROR(VLOOKUP(D165,Nomenclature!$B$2:$C$196,2,0),\"\")","v":""},null,null,null,null,{"$f":"IF(C165=\"\",0,IF(SUMIFS($G$5:G165,$C$5:C165,C165)-SUMIFS($I$4:I164,$C$4:C164,C165)<0,0,SUMIFS($G$5:G165,$C$5:C165,C165)-SUMIFS($I$4:I164,$C$4:C164,C165)))","v":0},null,{"$f":"IF(C165=\"\",0,IF(C165=$C$4,SUMIFS($I$4:I164,$C$4:C164,C164),SUMIFS($I$4:I164,$C$4:C164,C165)))","v":0},0]
[163,null,{"$f":"IFERROR(VLOOKUP(D166,Nomenclature!$B$2:$C$196,2,0),\"\")","v":""},null,null,null,null,{"$f":"IF(C166=\"\",0,IF(SUMIFS($G$5:G166,$C$5:C166,C166)-SUMIFS($I$4:I165,$C$4:C165,C166)<0,0,SUMIFS($G$5:G166,$C$5:C166,C166)-SUMIFS($I$4:I165,$C$4:C165,C166)))","v":0},null,{"$f":"IF(C166=\"\",0,IF(C166=$C$4,SUMIFS($I$4:I165,$C$4:C165,C165),SUMIFS($I$4:I165,$C$4:C165,C166)))","v":0},0]
[164,null,{"$f":"IFERROR(VLOOKUP(D167,Nomenclature!$B$2:$C$196,2,0),\"\")","v":""},null,null,null,null,{"$f":"IF(C167=\"\",0,IF(SUMIFS($G$5:G167,$C$5:C167,C167)-SUMIFS($I$4:I166,$C$4:C166,C167)<0,0,SUMIFS($G$5:G167,$C$5:C167,C167)-SUMIFS($I$4:I166,$C$4:C166,C167)))","v":0},null,{"$f":"IF(C167=\"\",0,IF(C167=$C$4,SUMIFS($I$4:I166,$C$4:C166,C166),SUMIFS($I$4:I166,$C$4:C166,C167)))","v":0},0]
[165,null,{"$f":"IFERROR(VLOOKUP(D168,Nomenclature!$B$2:$C$196,2,0),\"\")","v":""},null,null,null,null,{"$f":"IF(C168=\"\",0,IF(SUMIFS($G$5:G168,$C$5:C168,C168)-SUMIFS($I$4:I167,$C$4:C167,C168)<0,0,SUMIFS($G$5:G168,$C$5:C168,C168)-SUMIFS($I$4:I167,$C$4:C167,C168)))","v":0},null,{"$f":"IF(C168=\"\",0,IF(C168=$C$4,SUMIFS($I$4:I167,$C$4:C167,C167),SUMIFS($I$4:I167,$C$4:C167,C168)))","v":0},0]
[166,null,{"$f":"IFERROR(VLOOKUP(D169,Nomenclature!$B$2:$C$196,2,0),\"\")","v":""},null,null,null,null,{"$f":"IF(C169=\"\",0,IF(SUMIFS($G$5:G169,$C$5:C169,C169)-SUMIFS($I$4:I168,$C$4:C168,C169)<0,0,SUMIFS($G$5:G169,$C$5:C169,C169)-SUMIFS($I$4:I168,$C$4:C168,C169)))","v":0},null,{"$f":"IF(C169=\"\",0,IF(C169=$C$4,SUMIFS($I$4:I168,$C$4:C168,C168),SUMIFS($I$4:I168,$C$4:C168,C169)))","v":0},0]
[167,null,{"$f":"IFERROR(VLOOKUP(D170,Nomenclature!$B$2:$C$196,2,0),\"\")","v":""},null,null,null,null,{"$f":"IF(C170=\"\",0,IF(SUMIFS($G$5:G170,$C$5:C170,C170)-SUMIFS($I$4:I169,$C$4:C169,C170)<0,0,SUMIFS($G$5:G170,$C$5:C170,C170)-SUMIFS($I$4:I169,$C$4:C169,C170)))","v":0},null,{"$f":"IF(C170=\"\",0,IF(C170=$C$4,SUMIFS($I$4:I169,$C$4:C169,C169),SUMIFS($I$4:I169,$C$4:C169,C170)))","v":0},0]
[168,null,{"$f":"IFERROR(VLOOKUP(D171,Nomenclature!$B$2:$C$196,2,0),\"\")","v":""},null,null,null,null,{"$f":"IF(C171=\"\",0,IF(SUMIFS($G$5:G171,$C$5:C171,C171)-SUMIFS($I$4:I170,$C$4:C170,C171)<0,0,SUMIFS($G$5:G171,$C$5:C171,C171)-SUMIFS($I$4:I170,$C$4:C170,C171)))","v":0},null,{"$f":"IF(C171=\"\",0,IF(C171=$C$4,SUMIFS($I$4:I170,$C$4:C170,C170),SUMIFS($I$4:I170,$C$4:C170,C171)))","v":0},0]
[169,null,{"$f":"IFERROR(VLOOKUP(D172,Nomenclature!$B$2:$C$196,2,0),\"\")","v":""},null,null,null,null,{"$f":"IF(C172=\"\",0,IF(SUMIFS($G$5:G172,$C$5:C172,C172)-SUMIFS($I$4:I171,$C$4:C171,C172)<0,0,SUMIFS($G$5:G172,$C$5:C172,C172)-SUMIFS($I$4:I171,$C$4:C171,C172)))","v":0},null,{"$f":"IF(C172=\"\",0,IF(C172=$C$4,SUMIFS($I$4:I171,$C$4:C171,C171),SUMIFS($I$4:I171,$C$4:C171,C172)))","v":0},0]
[170,null,{"$f":"IFERROR(VLOOKUP(D173,Nomenclature!$B$2:$C$196,2,0),\"\")","v":""},null,null,null,null,{"$f":"IF(C173=\"\",0,IF(SUMIFS($G$5:G173,$C$5:C173,C173)-SUMIFS($I$4:I172,$C$4:C172,C173)<0,0,SUMIFS($G$5:G173,$C$5:C173,C173)-SUMIFS($I$4:I172,$C$4:C172,C173)))","v":0},null,{"$f":"IF(C173=\"\",0,IF(C173=$C$4,SUMIFS($I$4:I172,$C$4:C172,C172),SUMIFS($I$4:I172,$C$4:C172,C173)))","v":0},0]
[171,null,{"$f":"IFERROR(VLOOKUP(D174,Nomenclature!$B$2:$C$196,2,0),\"\")","v":""},null,null,null,null,{"$f":"IF(C174=\"\",0,IF(SUMIFS($G$5:G174,$C$5:C174,C174)-SUMIFS($I$4:I173,$C$4:C173,C174)<0,0,SUMIFS($G$5:G174,$C$5:C174,C174)-SUMIFS($I$4:I173,$C$4:C173,C174)))","v":0},null,{"$f":"IF(C174=\"\",0,IF(C174=$C$4,SUMIFS($I$4:I173,$C$4:C173,C173),SUMIFS($I$4:I173,$C$4:C173,C174)))","v":0},0]
[172,null,{"$f":"IFERROR(VLOOKUP(D175,Nomenclature!$B$2:$C$196,2,0),\"\")","v":""},null,null,null,null,{"$f":"IF(C175=\"\",0,IF(SUMIFS($G$5:G175,$C$5:C175,C175)-SUMIFS($I$4:I174,$C$4:C174,C175)<0,0,SUMIFS($G$5:G175,$C$5:C175,C175)-SUMIFS($I$4:I174,$C$4:C174,C175)))","v":0},null,{"$f":"IF(C175=\"\",0,IF(C175=$C$4,SUMIFS($I$4:I174,$C$4:C174,C174),SUMIFS($I$4:I174,$C$4:C174,C175)))","v":0},0]
[173,null,{"$f":"IFERROR(VLOOKUP(D176,Nomenclature!$B$2:$C$196,2,0),\"\")","v":""},null,null,null,null,{"$f":"IF(C176=\"\",0,IF(SUMIFS($G$5:G176,$C$5:C176,C176)-SUMIFS($I$4:I175,$C$4:C175,C176)<0,0,SUMIFS($G$5:G176,$C$5:C176,C176)-SUMIFS($I$4:I175,$C$4:C175,C176)))","v":0},null,{"$f":"IF(C176=\"\",0,IF(C176=$C$4,SUMIFS($I$4:I175,$C$4:C175,C175),SUMIFS($I$4:I175,$C$4:C175,C176)))","v":0},0]
[174,null,{"$f":"IFERROR(VLOOKUP(D177,Nomenclature!$B$2:$C$196,2,0),\"\")","v":""},null,null,null,null,{"$f":"IF(C177=\"\",0,IF(SUMIFS($G$5:G177,$C$5:C177,C177)-SUMIFS($I$4:I176,$C$4:C176,C177)<0,0,SUMIFS($G$5:G177,$C$5:C177,C177)-SUMIFS($I$4:I176,$C$4:C176,C177)))","v":0},null,{"$f":"IF(C177=\"\",0,IF(C177=$C$4,SUMIFS($I$4:I176,$C$4:C176,C176),SUMIFS($I$4:I176,$C$4:C176,C177)))","v":0},0]
[175,null,{"$f":"IFERROR(VLOOKUP(D178,Nomenclature!$B$2:$C$196,2,0),\"\")","v":""},null,null,null,null,{"$f":"IF(C178=\"\",0,IF(SUMIFS($G$5:G178,$C$5:C178,C178)-SUMIFS($I$4:I177,$C$4:C177,C178)<0,0,SUMIFS($G$5:G178,$C$5:C178,C178)-SUMIFS($I$4:I177,$C$4:C177,C178)))","v":0},null,{"$f":"IF(C178=\"\",0,IF(C178=$C$4,SUMIFS($I$4:I177,$C$4:C177,C177),SUMIFS($I$4:I177,$C$4:C177,C178)))","v":0},0]
[176,null,{"$f":"IFERROR(VLOOKUP(D179,Nomenclature!$B$2:$C$196,2,0),\"\")","v":""},null,null,null,null,{"$f":"IF(C179=\"\",0,IF(SUMIFS($G$5:G179,$C$5:C179,C179)-SUMIFS($I$4:I178,$C$4:C178,C179)<0,0,SUMIFS($G$5:G179,$C$5:C179,C179)-SUMIFS($I$4:I178,$C$4:C178,C179)))","v":0},null,{"$f":"IF(C179=\"\",0,IF(C179=$C$4,SUMIFS($I$4:I178,$C$4:C178,C178),SUMIFS($I$4:I178,$C$4:C178,C179)))","v":0},0]
[177,null,{"$f":"IFERROR(VLOOKUP(D180,Nomenclature!$B$2:$C$196,2,0),\"\")","v":""},null,null,null,null,{"$f":"IF(C180=\"\",0,IF(SUMIFS($G$5:G180,$C$5:C180,C180)-SUMIFS($I$4:I179,$C$4:C179,C180)<0,0,SUMIFS($G$5:G180,$C$5:C180,C180)-SUMIFS($I$4:I179,$C$4:C179,C180)))","v":0},null,{"$f":"IF(C180=\"\",0,IF(C180=$C$4,SUMIFS($I$4:I179,$C$4:C179,C179),SUMIFS($I$4:I179,$C$4:C179,C180)))","v":0},0]
[178,null,{"$f":"IFERROR(VLOOKUP(D181,Nomenclature!$B$2:$C$196,2,0),\"\")","v":""},null,null,null,null,{"$f":"IF(C181=\"\",0,IF(SUMIFS($G$5:G181,$C$5:C181,C181)-SUMIFS($I$4:I180,$C$4:C180,C181)<0,0,SUMIFS($G$5:G181,$C$5:C181,C181)-SUMIFS($I$4:I180,$C$4:C180,C181)))","v":0},null,{"$f":"IF(C181=\"\",0,IF(C181=$C$4,SUMIFS($I$4:I180,$C$4:C180,C180),SUMIFS($I$4:I180,$C$4:C180,C181)))","v":0},0]
[179,null,{"$f":"IFERROR(VLOOKUP(D182,Nomenclature!$B$2:$C$196,2,0),\"\")","v":""},null,null,null,null,{"$f":"IF(C182=\"\",0,IF(SUMIFS($G$5:G182,$C$5:C182,C182)-SUMIFS($I$4:I181,$C$4:C181,C182)<0,0,SUMIFS($G$5:G182,$C$5:C182,C182)-SUMIFS($I$4:I181,$C$4:C181,C182)))","v":0},null,{"$f":"IF(C182=\"\",0,IF(C182=$C$4,SUMIFS($I$4:I181,$C$4:C181,C181),SUMIFS($I$4:I181,$C$4:C181,C182)))","v":0},0]
[180,null,{"$f":"IFERROR(VLOOKUP(D183,Nomenclature!$B$2:$C$196,2,0),\"\")","v":""},null,null,null,null,{"$f":"IF(C183=\"\",0,IF(SUMIFS($G$5:G183,$C$5:C183,C183)-SUMIFS($I$4:I182,$C$4:C182,C183)<0,0,SUMIFS($G$5:G183,$C$5:C183,C183)-SUMIFS($I$4:I182,$C$4:C182,C183)))","v":0},null,{"$f":"IF(C183=\"\",0,IF(C183=$C$4,SUMIFS($I$4:I182,$C$4:C182,C182),SUMIFS($I$4:I182,$C$4:C182,C183)))","v":0},0]
[181,null,{"$f":"IFERROR(VLOOKUP(D184,Nomenclature!$B$2:$C$196,2,0),\"\")","v":""},null,null,null,null,{"$f":"IF(C184=\"\",0,IF(SUMIFS($G$5:G184,$C$5:C184,C184)-SUMIFS($I$4:I183,$C$4:C183,C184)<0,0,SUMIFS($G$5:G184,$C$5:C184,C184)-SUMIFS($I$4:I183,$C$4:C183,C184)))","v":0},null,{"$f":"IF(C184=\"\",0,IF(C184=$C$4,SUMIFS($I$4:I183,$C$4:C183,C183),SUMIFS($I$4:I183,$C$4:C183,C184)))","v":0},0]
[182,null,{"$f":"IFERROR(VLOOKUP(D185,Nomenclature!$B$2:$C$196,2,0),\"\")","v":""},null,null,null,null,{"$f":"IF(C185=\"\",0,IF(SUMIFS($G$5:G185,$C$5:C185,C185)-SUMIFS($I$4:I184,$C$4:C184,C185)<0,0,SUMIFS($G$5:G185,$C$5:C185,C185)-SUMIFS($I$4:I184,$C$4:C184,C185)))","v":0},null,{"$f":"IF(C185=\"\",0,IF(C185=$C$4,SUMIFS($I$4:I184,$C$4:C184,C184),SUMIFS($I$4:I184,$C$4:C184,C185)))","v":0},0]
[183,null,{"$f":"IFERROR(VLOOKUP(D186,Nomenclature!$B$2:$C$196,2,0),\"\")","v":""},null,null,null,null,{"$f":"IF(C186=\"\",0,IF(SUMIFS($G$5:G186,$C$5:C186,C186)-SUMIFS($I$4:I185,$C$4:C185,C186)<0,0,SUMIFS($G$5:G186,$C$5:C186,C186)-SUMIFS($I$4:I185,$C$4:C185,C186)))","v":0},null,{"$f":"IF(C186=\"\",0,IF(C186=$C$4,SUMIFS($I$4:I185,$C$4:C185,C185),SUMIFS($I$4:I185,$C$4:C185,C186)))","v":0},0]
[184,null,{"$f":"IFERROR(VLOOKUP(D187,Nomenclature!$B$2:$C$196,2,0),\"\")","v":""},null,null,null,null,{"$f":"IF(C187=\"\",0,IF(SUMIFS($G$5:G187,$C$5:C187,C187)-SUMIFS($I$4:I186,$C$4:C186,C187)<0,0,SUMIFS($G$5:G187,$C$5:C187,C187)-SUMIFS($I$4:I186,$C$4:C186,C187)))","v":0},null,{"$f":"IF(C187=\"\",0,IF(C187=$C$4,SUMIFS($I$4:I186,$C$4:C186,C186),SUMIFS($I$4:I186,$C$4:C186,C187)))","v":0},0]
[185,null,{"$f":"IFERROR(VLOOKUP(D188,Nomenclature!$B$2:$C$196,2,0),\"\")","v":""},null,null,null,null,{"$f":"IF(C188=\"\",0,IF(SUMIFS($G$5:G188,$C$5:C188,C188)-SUMIFS($I$4:I187,$C$4:C187,C188)<0,0,SUMIFS($G$5:G188,$C$5:C188,C188)-SUMIFS($I$4:I187,$C$4:C187,C188)))","v":0},null,{"$f":"IF(C188=\"\",0,IF(C188=$C$4,SUMIFS($I$4:I187,$C$4:C187,C187),SUMIFS($I$4:I187,$C$4:C187,C188)))","v":0},0]
[186,null,{"$f":"IFERROR(VLOOKUP(D189,Nomenclature!$B$2:$C$196,2,0),\"\")","v":""},null,null,null,null,{"$f":"IF(C189=\"\",0,IF(SUMIFS($G$5:G189,$C$5:C189,C189)-SUMIFS($I$4:I188,$C$4:C188,C189)<0,0,SUMIFS($G$5:G189,$C$5:C189,C189)-SUMIFS($I$4:I188,$C$4:C188,C189)))","v":0},null,{"$f":"IF(C189=\"\",0,IF(C189=$C$4,SUMIFS($I$4:I188,$C$4:C188,C188),SUMIFS($I$4:I188,$C$4:C188,C189)))","v":0},0]
[187,null,{"$f":"IFERROR(VLOOKUP(D190,Nomenclature!$B$2:$C$196,2,0),\"\")","v":""},null,null,null,null,{"$f":"IF(C190=\"\",0,IF(SUMIFS($G$5:G190,$C$5:C190,C190)-SUMIFS($I$4:I189,$C$4:C189,C190)<0,0,SUMIFS($G$5:G190,$C$5:C190,C190)-SUMIFS($I$4:I189,$C$4:C189,C190)))","v":0},null,{"$f":"IF(C190=\"\",0,IF(C190=$C$4,SUMIFS($I$4:I189,$C$4:C189,C189),SUMIFS($I$4:I189,$C$4:C189,C190)))","v":0},0]
[188,null,{"$f":"IFERROR(VLOOKUP(D191,Nomenclature!$B$2:$C$196,2,0),\"\")","v":""},null,null,null,null,{"$f":"IF(C191=\"\",0,IF(SUMIFS($G$5:G191,$C$5:C191,C191)-SUMIFS($I$4:I190,$C$4:C190,C191)<0,0,SUMIFS($G$5:G191,$C$5:C191,C191)-SUMIFS($I$4:I190,$C$4:C190,C191)))","v":0},null,{"$f":"IF(C191=\"\",0,IF(C191=$C$4,SUMIFS($I$4:I190,$C$4:C190,C190),SUMIFS($I$4:I190,$C$4:C190,C191)))","v":0},0]
[189,null,{"$f":"IFERROR(VLOOKUP(D192,Nomenclature!$B$2:$C$196,2,0),\"\")","v":""},null,null,null,null,{"$f":"IF(C192=\"\",0,IF(SUMIFS($G$5:G192,$C$5:C192,C192)-SUMIFS($I$4:I191,$C$4:C191,C192)<0,0,SUMIFS($G$5:G192,$C$5:C192,C192)-SUMIFS($I$4:I191,$C$4:C191,C192)))","v":0},null,{"$f":"IF(C192=\"\",0,IF(C192=$C$4,SUMIFS($I$4:I191,$C$4:C191,C191),SUMIFS($I$4:I191,$C$4:C191,C192)))","v":0},0]
[190,null,{"$f":"IFERROR(VLOOKUP(D193,Nomenclature!$B$2:$C$196,2,0),\"\")","v":""},null,null,null,null,{"$f":"IF(C193=\"\",0,IF(SUMIFS($G$5:G193,$C$5:C193,C193)-SUMIFS($I$4:I192,$C$4:C192,C193)<0,0,SUMIFS($G$5:G193,$C$5:C193,C193)-SUMIFS($I$4:I192,$C$4:C192,C193)))","v":0},null,{"$f":"IF(C193=\"\",0,IF(C193=$C$4,SUMIFS($I$4:I192,$C$4:C192,C192),SUMIFS($I$4:I192,$C$4:C192,C193)))","v":0},0]
[191,null,{"$f":"IFERROR(VLOOKUP(D194,Nomenclature!$B$2:$C$196,2,0),\"\")","v":""},null,null,null,null,{"$f":"IF(C194=\"\",0,IF(SUMIFS($G$5:G194,$C$5:C194,C194)-SUMIFS($I$4:I193,$C$4:C193,C194)<0,0,SUMIFS($G$5:G194,$C$5:C194,C194)-SUMIFS($I$4:I193,$C$4:C193,C194)))","v":0},null,{"$f":"IF(C194=\"\",0,IF(C194=$C$4,SUMIFS($I$4:I193,$C$4:C193,C193),SUMIFS($I$4:I193,$C$4:C193,C194)))","v":0},0]
[192,null,{"$f":"IFERROR(VLOOKUP(D195,Nomenclature!$B$2:$C$196,2,0),\"\")","v":""},null,null,null,null,{"$f":"IF(C195=\"\",0,IF(SUMIFS($G$5:G195,$C$5:C195,C195)-SUMIFS($I$4:I194,$C$4:C194,C195)<0,0,SUMIFS($G$5:G195,$C$5:C195,C195)-SUMIFS($I$4:I194,$C$4:C194,C195)))","v":0},null,{"$f":"IF(C195=\"\",0,IF(C195=$C$4,SUMIFS($I$4:I194,$C$4:C194,C194),SUMIFS($I$4:I194,$C$4:C194,C195)))","v":0},0]
[193,null,{"$f":"IFERROR(VLOOKUP(D196,Nomenclature!$B$2:$C$196,2,0),\"\")","v":""},null,null,null,null,{"$f":"IF(C196=\"\",0,IF(SUMIFS($G$5:G196,$C$5:C196,C196)-SUMIFS($I$4:I195,$C$4:C195,C196)<0,0,SUMIFS($G$5:G196,$C$5:C196,C196)-SUMIFS($I$4:I195,$C$4:C195,C196)))","v":0},null,{"$f":"IF(C196=\"\",0,IF(C196=$C$4,SUMIFS($I$4:I195,$C$4:C195,C195),SUMIFS($I$4:I195,$C$4:C195,C196)))","v":0},{"$f":"IF(C196=\"\",0,H196-I196)","v":0}]
[194,null,{"$f":"IFERROR(VLOOKUP(D197,Nomenclature!$B$2:$C$196,2,0),\"\")","v":""},null,null,null,null,{"$f":"IF(C197=\"\",0,IF(SUMIFS($G$5:G197,$C$5:C197,C197)-SUMIFS($I$4:I196,$C$4:C196,C197)<0,0,SUMIFS($G$5:G197,$C$5:C197,C197)-SUMIFS($I$4:I196,$C$4:C196,C197)))","v":0},null,{"$f":"IF(C197=\"\",0,IF(C197=$C$4,SUMIFS($I$4:I196,$C$4:C196,C196),SUMIFS($I$4:I196,$C$4:C196,C197)))","v":0},0]
[195,null,{"$f":"IFERROR(VLOOKUP(D198,Nomenclature!$B$2:$C$196,2,0),\"\")","v":""},null,null,null,null,{"$f":"IF(C198=\"\",0,IF(SUMIFS($G$5:G198,$C$5:C198,C198)-SUMIFS($I$4:I197,$C$4:C197,C198)<0,0,SUMIFS($G$5:G198,$C$5:C198,C198)-SUMIFS($I$4:I197,$C$4:C197,C198)))","v":0},null,{"$f":"IF(C198=\"\",0,IF(C198=$C$4,SUMIFS($I$4:I197,$C$4:C197,C197),SUMIFS($I$4:I197,$C$4:C197,C198)))","v":0},0]
[196,null,{"$f":"IFERROR(VLOOKUP(D199,Nomenclature!$B$2:$C$196,2,0),\"\")","v":""},null,null,null,null,{"$f":"IF(C199=\"\",0,IF(SUMIFS($G$5:G199,$C$5:C199,C199)-SUMIFS($I$4:I198,$C$4:C198,C199)<0,0,SUMIFS($G$5:G199,$C$5:C199,C199)-SUMIFS($I$4:I198,$C$4:C198,C199)))","v":0},null,{"$f":"IF(C199=\"\",0,IF(C199=$C$4,SUMIFS($I$4:I198,$C$4:C198,C198),SUMIFS($I$4:I198,$C$4:C198,C199)))","v":0},0]
[197,null,{"$f":"IFERROR(VLOOKUP(D200,Nomenclature!$B$2:$C$196,2,0),\"\")","v":""},null,null,null,null,{"$f":"IF(C200=\"\",0,IF(SUMIFS($G$5:G200,$C$5:C200,C200)-SUMIFS($I$4:I199,$C$4:C199,C200)<0,0,SUMIFS($G$5:G200,$C$5:C200,C200)-SUMIFS($I$4:I199,$C$4:C199,C200)))","v":0},null,{"$f":"IF(C200=\"\",0,IF(C200=$C$4,SUMIFS($I$4:I199,$C$4:C199,C199),SUMIFS($I$4:I199,$C$4:C199,C200)))","v":0},0]
[198,null,{"$f":"IFERROR(VLOOKUP(D201,Nomenclature!$B$2:$C$196,2,0),\"\")","v":""},null,null,null,null,{"$f":"IF(C201=\"\",0,IF(SUMIFS($G$5:G201,$C$5:C201,C201)-SUMIFS($I$4:I200,$C$4:C200,C201)<0,0,SUMIFS($G$5:G201,$C$5:C201,C201)-SUMIFS($I$4:I200,$C$4:C200,C201)))","v":0},null,{"$f":"IF(C201=\"\",0,IF(C201=$C$4,SUMIFS($I$4:I200,$C$4:C200,C200),SUMIFS($I$4:I200,$C$4:C200,C201)))","v":0},0]
[199,null,{"$f":"IFERROR(VLOOKUP(D202,Nomenclature!$B$2:$C$196,2,0),\"\")","v":""},null,null,null,null,{"$f":"IF(C202=\"\",0,IF(SUMIFS($G$5:G202,$C$5:C202,C202)-SUMIFS($I$4:I201,$C$4:C201,C202)<0,0,SUMIFS($G$5:G202,$C$5:C202,C202)-SUMIFS($I$4:I201,$C$4:C201,C202)))","v":0},null,{"$f":"IF(C202=\"\",0,IF(C202=$C$4,SUMIFS($I$4:I201,$C$4:C201,C201),SUMIFS($I$4:I201,$C$4:C201,C202)))","v":0},0]
[200,null,{"$f":"IFERROR(VLOOKUP(D203,Nomenclature!$B$2:$C$196,2,0),\"\")","v":""},null,null,null,null,{"$f":"IF(C203=\"\",0,IF(SUMIFS($G$5:G203,$C$5:C203,C203)-SUMIFS($I$4:I202,$C$4:C202,C203)<0,0,SUMIFS($G$5:G203,$C$5:C203,C203)-SUMIFS($I$4:I202,$C$4:C202,C203)))","v":0},null,{"$f":"IF(C203=\"\",0,IF(C203=$C$4,SUMIFS($I$4:I202,$C$4:C202,C202),SUMIFS($I$4:I202,$C$4:C202,C203)))","v":0},0]

{"sheet":"26000","index":12,"n_rows":203,"n_cols":44,"rows_kept":203,"cut":false,"hidden":false,"merged":[[50,23,50,24],[44,14,45,18],[44,22,45,26],[44,29,44,30],[46,14,47,18],[46,22,47,26],[47,29,47,30],[50,15,50,16],[33,14,33,17],[34,14,37,41],[39,14,39,17],[39,18,40,41],[42,14,42,27],[42,28,42,41],[28,38,29,41],[30,14,31,17],[30,18,31,21],[30,22,31,25],[30,26,31,29],[30,30,31,33],[30,34,31,37],[30,38,31,41],[28,14,29,17],[28,18,29,21],[28,22,29,25],[28,26,29,29],[28,30,29,33],[28,34,29,37],[19,14,19,15],[26,38,27,41],[20,22,20,32],[21,18,21,21],[21,22,21,32],[22,18,22,21],[22,22,22,32],[23,17,25,41],[20,18,20,21],[26,14,27,21],[26,22,27,25],[26,26,27,29],[26,30,27,33],[26,34,27,37],[15,19,15,20],[16,14,16,18],[16,19,16,20],[14,14,14,18],[14,19,14,27],[0,13,2,15],[3,14,3,41],[3,42,58,42],[4,14,4,18],[4,19,4,27],[5,14,5,18],[5,19,5,27],[6,14,6,18],[6,19,6,27],[10,15,11,19],[10,20,11,23],[10,31,11,32],[10,33,11,38],[13,14,13,18],[13,19,13,20],[15,14,15,18],[0,11,2,11],[0,0,2,0],[0,1,2,1],[0,2,2,2],[0,3,2,3],[0,4,2,4],[0,5,1,5],[0,6,1,6],[0,7,2,7],[0,8,1,8],[0,9,2,9],[0,10,1,10]]}
["رقم\nالاستمارة","التاريخ","الترميز","الصنف / الصنف الفرعي","ملاحظات المصلحة","AP Cat",{"$f":"IF(SUM(G4:G203)-SUM(F4:F203)<0,\"نقص في توزيع الاعتمادات على الاصناف الفرعية\",\nIF(SUM(G4:G203)-SUM(F4:F203)>0,\"تجاوز في الاعتمادات الموزعة على الاصناف الفرعية\",\"AP S.Cat\"))","v":"AP S.Cat"},"AP Sous_Cat",{"$f":"IF(I3>G3,\"تجاوز في الالتزامات\",\"∑ Engagements\")","v":"∑ Engagements"},"∑ Eng Sous_Cat","Reste","السند القانوني للعنوان الرابع",null,1]
[]
[null,null,null,null,null,{"$f":"SUM(F4:F203)","v":0},{"$f":"SUM(G4:G203)","v":0},null,{"$f":"SUM(I5:I203)","v":0},null,{"$f":"SUM(K4:K104)","v":0}]
[1,"2023-03-13",{"$f":"IFERROR(VLOOKUP(D4,Nomenclature!$B$2:$C$196,2,0),\"\")","v":26000},"خدمات أخرى","تكفل برخصة الالتزام المفتوحة لسنة 2023.",null,null,{"$f":"IF(C4=\"\",0,IF(SUMIFS($G4:G$5,$C4:C$5,C4)-SUMIFS($I3:I$4,$C3:C$4,C4)<0,0,SUMIFS($G4:G$5,$C4:C$5,C4)-SUMIFS($I3:I$4,$C3:C$4,C4)))","v":0},null,{"$f":"IF(I4=0,0,IF(C4=\"\",0,SUMIFS($I4:I$4,$C4:C$4,C4)))","v":0},{"$f":"IF(C4=\"\",0,H4-I4)","v":0},null,null,null,"الجمهورية الجزائرية الديمقراطية الشعبية"]
[2,"2023-04-01",{"$f":"IFERROR(VLOOKUP(D5,Nomenclature!$B$2:$C$196,2,0),\"\")","v":""},null,null,null,null,{"$f":"IF(C5=\"\",0,IF(SUMIFS($G$5:G5,$C$5:C5,C5)-SUMIFS($I$4:I4,$C$4:C4,C5)<0,0,SUMIFS($G$5:G5,$C$5:C5,C5)-SUMIFS($I$4:I4,$C$4:C4,C5)))","v":0},null,{"$f":"IF(C5=\"\",0,IF(C5=$C$4,SUMIFS($I$4:I4,$C$4:C4,C4),SUMIFS($I$4:I4,$C$4:C4,C5)))","v":0},0,null,null,null,"الـوزارة:",null,null,null,null,{"$f":"الواجهة!C2","v":"وزارة البيئة و الطاقات المتجددة"}]
[3,null,{"$f":"IFERROR(VLOOKUP(D6,Nomenclature!$B$2:$C$196,2,0),\"\")","v":""},null,null,null,null,{"$f":"IF(C6=\"\",0,IF(SUMIFS($G$5:G6,$C$5:C6,C6)-SUMIFS($I$4:I5,$C$4:C5,C6)<0,0,SUMIFS($G$5:G6,$C$5:C6,C6)-SUMIFS($I$4:I5,$C$4:C5,C6)))","v":0},null,{"$f":"IF(C6=\"\",0,IF(C6=$C$4,SUMIFS($I$4:I5,$C$4:C5,C5),SUMIFS($I$4:I5,$C$4:C5,C6)))","v":0},0,null,null,null,"الهيئة الإدارية:",null,null,null,null,{"$f":"الواجهة!C3","v":"مديرية البيئة لولاية المسيلة"}]
[4,null,{"$f":"IFERROR(VLOOKUP(D7,Nomenclature!$B$2:$C$196,2,0),\"\")","v":""},null,null,null,null,{"$f":"IF(C7=\"\",0,IF(SUMIFS($G$5:G7,$C$5:C7,C7)-SUMIFS($I$4:I6,$C$4:C6,C7)<0,0,SUMIFS($G$5:G7,$C$5:C7,C7)-SUMIFS($I$4:I6,$C$4:C6,C7)))","v":0},null,{"$f":"IF(C7=\"\",0,IF(C7=$C$4,SUMIFS($I$4:I6,$C$4:C6,C6),SUMIFS($I$4:I6,$C$4:C6,C7)))","v":0},0,null,null,null,"رمز الآمر بالصرف:",null,null,null,null,{"$f":"الواجهة!C4","v":"144 0 28 01"}]
[5,null,{"$f":"IFERROR(VLOOKUP(D8,Nomenclature!$B$2:$C$196,2,0),\"\")","v":""},null,null,null,null,{"$f":"IF(C8=\"\",0,IF(SUMIFS($G$5:G8,$C$5:C8,C8)-SUMIFS($I$4:I7,$C$4:C7,C8)<0,0,SUMIFS($G$5:G8,$C$5:C8,C8)-SUMIFS($I$4:I7,$C$4:C7,C8)))","v":0},null,{"$f":"IF(C8=\"\",0,IF(C8=$C$4,SUMIFS($I$4:I7,$C$4:C7,C7),SUMIFS($I$4:I7,$C$4:C7,C8)))","v":0},0,null,null,null,null,null,null,null,null,null,null,null,null,null,null,null,null,null,null,null,null,null,null,"."]
[6,null,{"$f":"IFERROR(VLOOKUP(D9,Nomenclature!$B$2:$C$196,2,0),\"\")","v":""},null,null,null,null,{"$f":"IF(C9=\"\",0,IF(SUMIFS($G$5:G9,$C$5:C9,C9)-SUMIFS($I$4:I8,$C$4:C8,C9)<0,0,SUMIFS($G$5:G9,$C$5:C9,C9)-SUMIFS($I$4:I8,$C$4:C8,C9)))","v":0},null,{"$f":"IF(C9=\"\",0,IF(C9=$C$4,SUMIFS($I$4:I8,$C$4:C8,C8),SUMIFS($I$4:I8,$C$4:C8,C9)))","v":0},0]
[7,null,{"$f":"IFERROR(VLOOKUP(D10,Nomenclature!$B$2:$C$196,2,0),\"\")","v":""},null,null,null,null,{"$f":"IF(C10=\"\",0,IF(SUMIFS($G$5:G10,$C$5:C10,C10)-SUMIFS($I$4:I9,$C$4:C9,C10)<0,0,SUMIFS($G$5:G10,$C$5:C10,C10)-SUMIFS($I$4:I9,$C$4:C9,C10)))","v":0},null,{"$f":"IF(C10=\"\",0,IF(C10=$C$4,SUMIFS($I$4:I9,$C$4:C9,C9),SUMIFS($I$4:I9,$C$4:C9,C10)))","v":0},0]
[8,null,{"$f":"IFERROR(VLOOKUP(D11,Nomenclature!$B$2:$C$196,2,0),\"\")","v":""},null,null,null,null,{"$f":"IF(C11=\"\",0,IF(SUMIFS($G$5:G11,$C$5:C11,C11)-SUMIFS($I$4:I10,$C$4:C10,C11)<0,0,SUMIFS($G$5:G11,$C$5:C11,C11)-SUMIFS($I$4:I10,$C$4:C10,C11)))","v":0},null,{"$f":"IF(C11=\"\",0,IF(C11=$C$4,SUMIFS($I$4:I10,$C$4:C10,C10),SUMIFS($I$4:I10,$C$4:C10,C11)))","v":0},0,null,null,null,null,"رقم بطاقة الالتزام:",null,null,null,null,{"$f":"IFERROR(VLOOKUP(N1,A4:L203,1,0),0)","v":1},null,null,null,null,null,null,null,null,null,null,"التاريخ:",null,{"$f":"IF(IFERROR(VLOOKUP(N1,A4:L203,2,0),0)=0,\"\",IFERROR(VLOOKUP(N1,A4:L203,2,0),0))","v":"2023-03-13"}]
[9,null,{"$f":"IFERROR(VLOOKUP(D12,Nomenclature!$B$2:$C$196,2,0),\"\")","v":""},null,null,null,null,{"$f":"IF(C12=\"\",0,IF(SUMIFS($G$5:G12,$C$5:C12,C12)-SUMIFS($I$4:I11,$C$4:C11,C12)<0,0,SUMIFS($G$5:G12,$C$5:C12,C12)-SUMIFS($I$4:I11,$C$4:C11,C12)))","v":0},null,{"$f":"IF(C12=\"\",0,IF(C12=$C$4,SUMIFS($I$4:I11,$C$4:C11,C11),SUMIFS($I$4:I11,$C$4:C11,C12)))","v":0},0]
[10,null,{"$f":"IFERROR(VLOOKUP(D13,Nomenclature!$B$2:$C$196,2,0),\"\")","v":""},null,null,null,null,{"$f":"IF(C13=\"\",0,IF(SUMIFS($G$5:G13,$C$5:C13,C13)-SUMIFS($I$4:I12,$C$4:C12,C13)<0,0,SUMIFS($G$5:G13,$C$5:C13,C13)-SUMIFS($I$4:I12,$C$4:C12,C13)))","v":0},null,{"$f":"IF(C13=\"\",0,IF(C13=$C$4,SUMIFS($I$4:I12,$C$4:C12,C12),SUMIFS($I$4:I12,$C$4:C12,C13)))","v":0},0]
[11,null,{"$f":"IFERROR(VLOOKUP(D14,Nomenclature!$B$2:$C$196,2,0),\"\")","v":""},null,null,null,null,{"$f":"IF(C14=\"\",0,IF(SUMIFS($G$5:G14,$C$5:C14,C14)-SUMIFS($I$4:I13,$C$4:C13,C14)<0,0,SUMIFS($G$5:G14,$C$5:C14,C14)-SUMIFS($I$4:I13,$C$4:C13,C14)))","v":0},null,{"$f":"IF(C14=\"\",0,IF(C14=$C$4,SUMIFS($I$4:I13,$C$4:C13,C13),SUMIFS($I$4:I13,$C$4:C13,C14)))","v":0},0,null,null,null,"رمز البرنــامج:",null,null,null,null,{"$f":"الواجهة!C7","v":"116"}]
[12,null,{"$f":"IFERROR(VLOOKUP(D15,Nomenclature!$B$2:$C$196,2,0),\"\")","v":""},null,null,null,null,{"$f":"IF(C15=\"\",0,IF(SUMIFS($G$5:G15,$C$5:C15,C15)-SUMIFS($I$4:I14,$C$4:C14,C15)<0,0,SUMIFS($G$5:G15,$C$5:C15,C15)-SUMIFS($I$4:I14,$C$4:C14,C15)))","v":0},null,{"$f":"IF(C15=\"\",0,IF(C15=$C$4,SUMIFS($I$4:I14,$C$4:C14,C14),SUMIFS($I$4:I14,$C$4:C14,C15)))","v":0},0,null,null,null,"رمز النشــاط:",null,null,null,null,{"$f":"الواجهة!C6&\" \"&الواجهة!C7&\" \"&الواجهة!C10&\" \"&الواجهة!C8&\" \"&الواجهة!C9&\" \"&الواجهة!C11","v":"030 116 02 2001 000 028"}]
[13,null,{"$f":"IFERROR(VLOOKUP(D16,Nomenclature!$B$2:$C$196,2,0),\"\")","v":""},null,null,null,null,{"$f":"IF(C16=\"\",0,IF(SUMIFS($G$5:G16,$C$5:C16,C16)-SUMIFS($I$4:I15,$C$4:C15,C16)<0,0,SUMIFS($G$5:G16,$C$5:C16,C16)-SUMIFS($I$4:I15,$C$4:C15,C16)))","v":0},null,{"$f":"IF(C16=\"\",0,IF(C16=$C$4,SUMIFS($I$4:I15,$C$4:C15,C15),SUMIFS($I$4:I15,$C$4:C15,C16)))","v":0},0,null,null,null,"رمز النشــاط الفرعي:",null,null,null,null,{"$f":"الواجهة!C9","v":"000"}]
[14,null,{"$f":"IFERROR(VLOOKUP(D17,Nomenclature!$B$2:$C$196,2,0),\"\")","v":""},null,null,null,null,{"$f":"IF(C17=\"\",0,IF(SUMIFS($G$5:G17,$C$5:C17,C17)-SUMIFS($I$4:I16,$C$4:C16,C17)<0,0,SUMIFS($G$5:G17,$C$5:C17,C17)-SUMIFS($I$4:I16,$C$4:C16,C17)))","v":0},null,{"$f":"IF(C17=\"\",0,IF(C17=$C$4,SUMIFS($I$4:I16,$C$4:C16,C16),SUMIFS($I$4:I16,$C$4:C16,C17)))","v":0},0,null,null,null,"رمز البرنـامج الفرعي:",null,null,null,null,{"$f":"الواجهة!C10","v":"02"}]
[15,null,{"$f":"IFERROR(VLOOKUP(D18,Nomenclature!$B$2:$C$196,2,0),\"\")","v":""},null,null,null,null,{"$f":"IF(C18=\"\",0,IF(SUMIFS($G$5:G18,$C$5:C18,C18)-SUMIFS($I$4:I17,$C$4:C17,C18)<0,0,SUMIFS($G$5:G18,$C$5:C18,C18)-SUMIFS($I$4:I17,$C$4:C17,C18)))","v":0},null,{"$f":"IF(C18=\"\",0,IF(C18=$C$4,SUMIFS($I$4:I17,$C$4:C17,C17),SUMIFS($I$4:I17,$C$4:C17,C18)))","v":0},0,null,null,null,null,null,null,null,null,null,null,null,null,null,null,null,null,null,null,null,null,null,null,null,null,null,null,null,null,null,null,null,null,"\n\n\n"]
[16,null,{"$f":"IFERROR(VLOOKUP(D19,Nomenclature!$B$2:$C$196,2,0),\"\")","v":""},null,null,null,null,{"$f":"IF(C19=\"\",0,IF(SUMIFS($G$5:G19,$C$5:C19,C19)-SUMIFS($I$4:I18,$C$4:C18,C19)<0,0,SUMIFS($G$5:G19,$C$5:C19,C19)-SUMIFS($I$4:I18,$C$4:C18,C19)))","v":0},null,{"$f":"IF(C19=\"\",0,IF(C19=$C$4,SUMIFS($I$4:I18,$C$4:C18,C18),SUMIFS($I$4:I18,$C$4:C18,C19)))","v":0},0]
[17,null,{"$f":"IFERROR(VLOOKUP(D20,Nomenclature!$B$2:$C$196,2,0),\"\")","v":""},null,null,null,null,{"$f":"IF(C20=\"\",0,IF(SUMIFS($G$5:G20,$C$5:C20,C20)-SUMIFS($I$4:I19,$C$4:C19,C20)<0,0,SUMIFS($G$5:G20,$C$5:C20,C20)-SUMIFS($I$4:I19,$C$4:C19,C20)))","v":0},null,{"$f":"IF(C20=\"\",0,IF(C20=$C$4,SUMIFS($I$4:I19,$C$4:C19,C19),SUMIFS($I$4:I19,$C$4:C19,C20)))","v":0},0,null,null,null,"العنوان:"]
[18,null,{"$f":"IFERROR(VLOOKUP(D21,Nomenclature!$B$2:$C$196,2,0),\"\")","v":""},null,null,null,null,{"$f":"IF(C21=\"\",0,IF(SUMIFS($G$5:G21,$C$5:C21,C21)-SUMIFS($I$4:I20,$C$4:C20,C21)<0,0,SUMIFS($G$5:G21,$C$5:C21,C21)-SUMIFS($I$4:I20,$C$4:C20,C21)))","v":0},null,{"$f":"IF(C21=\"\",0,IF(C21=$C$4,SUMIFS($I$4:I20,$C$4:C20,C20),SUMIFS($I$4:I20,$C$4:C20,C21)))","v":0},0,null,null,null,null,null,{"$f":"IF(C4<20000,\"X\",\"\")","v":""},null,"العنوان الأول:",null,null,null,"نفقات المستخدمين"]
[19,null,{"$f":"IFERROR(VLOOKUP(D22,Nomenclature!$B$2:$C$196,2,0),\"\")","v":""},null,null,null,null,{"$f":"IF(C22=\"\",0,IF(SUMIFS($G$5:G22,$C$5:C22,C22)-SUMIFS($I$4:I21,$C$4:C21,C22)<0,0,SUMIFS($G$5:G22,$C$5:C22,C22)-SUMIFS($I$4:I21,$C$4:C21,C22)))","v":0},null,{"$f":"IF(C22=\"\",0,IF(C22=$C$4,SUMIFS($I$4:I21,$C$4:C21,C21),SUMIFS($I$4:I21,$C$4:C21,C22)))","v":0},0,null,null,null,null,null,{"$f":"IF(AND(C4>19999,C4<40000),\"X\",\"\")","v":"X"},null,"العنوان الثاني:",null,null,null,"نفقات تسيير المصالح"]
[20,null,{"$f":"IFERROR(VLOOKUP(D23,Nomenclature!$B$2:$C$196,2,0),\"\")","v":""},null,null,null,null,{"$f":"IF(C23=\"\",0,IF(SUMIFS($G$5:G23,$C$5:C23,C23)-SUMIFS($I$4:I22,$C$4:C22,C23)<0,0,SUMIFS($G$5:G23,$C$5:C23,C23)-SUMIFS($I$4:I22,$C$4:C22,C23)))","v":0},null,{"$f":"IF(C23=\"\",0,IF(C23=$C$4,SUMIFS($I$4:I22,$C$4:C22,C22),SUMIFS($I$4:I22,$C$4:C22,C23)))","v":0},0,null,null,null,null,null,{"$f":"IF(AND(Q21=\"\",Q22=\"\"),\"X\",\"\")","v":""},null,"العنوان الرابع:",null,null,null,"نفقات التحويل"]
[21,null,{"$f":"IFERROR(VLOOKUP(D24,Nomenclature!$B$2:$C$196,2,0),\"\")","v":""},null,null,null,null,{"$f":"IF(C24=\"\",0,IF(SUMIFS($G$5:G24,$C$5:C24,C24)-SUMIFS($I$4:I23,$C$4:C23,C24)<0,0,SUMIFS($G$5:G24,$C$5:C24,C24)-SUMIFS($I$4:I23,$C$4:C23,C24)))","v":0},null,{"$f":"IF(C24=\"\",0,IF(C24=$C$4,SUMIFS($I$4:I23,$C$4:C23,C23),SUMIFS($I$4:I23,$C$4:C23,C24)))","v":0},0,null,null,null,null,null,null,{"$f":"IF(VLOOKUP(N1,A4:L203,12,0)=\"\",\"- - - - - - - - - - - - - - - - - - - - - - - - - - - - - - - - - - - - - - - - - - - - - - - / / / - - - - - - - - - - - - - - - - - - - - - - - - - - - - - - - - - - - - - - - - - - - - - - -\"& CHAR(10)&\"- - - - - - - - - - - - - - - - - - - - - - - - - - - - - - - - - - - - - - - - - - - - - - - / / / - - - - - - - - - - - - - - - - - - - - - - - - - - - - - - - - - - - - - - - - - - - - - - -\",VLOOKUP(N1,A4:L203,12,0))","v":"- - - - - - - - - - - - - - - - - - - - - - - - - - - - - - - - - - - - - - - - - - - - - - - / / / - - - - - - - - - - - - - - - - - - - - - - - - - - - - - - - - - - - - - - - - - - - - - - -\n- - - - - - - - - - - - - - - - - - - - - - - - - - - - - - - - - - - - - - - - - - - - - - - / / / - - - - - - - - - - - - - - - - - - - - - - - - - - - - - - - - - - - - - - - - - - - - - - -"}]
[22,null,{"$f":"IFERROR(VLOOKUP(D25,Nomenclature!$B$2:$C$196,2,0),\"\")","v":""},null,null,null,null,{"$f":"IF(C25=\"\",0,IF(SUMIFS($G$5:G25,$C$5:C25,C25)-SUMIFS($I$4:I24,$C$4:C24,C25)<0,0,SUMIFS($G$5:G25,$C$5:C25,C25)-SUMIFS($I$4:I24,$C$4:C24,C25)))","v":0},null,{"$f":"IF(C25=\"\",0,IF(C25=$C$4,SUMIFS($I$4:I24,$C$4:C24,C24),SUMIFS($I$4:I24,$C$4:C24,C25)))","v":0},0]
[23,null,{"$f":"IFERROR(VLOOKUP(D26,Nomenclature!$B$2:$C$196,2,0),\"\")","v":""},null,null,null,null,{"$f":"IF(C26=\"\",0,IF(SUMIFS($G$5:G26,$C$5:C26,C26)-SUMIFS($I$4:I25,$C$4:C25,C26)<0,0,SUMIFS($G$5:G26,$C$5:C26,C26)-SUMIFS($I$4:I25,$C$4:C25,C26)))","v":0},null,{"$f":"IF(C26=\"\",0,IF(C26=$C$4,SUMIFS($I$4:I25,$C$4:C25,C25),SUMIFS($I$4:I25,$C$4:C25,C26)))","v":0},0]
[24,null,{"$f":"IFERROR(VLOOKUP(D27,Nomenclature!$B$2:$C$196,2,0),\"\")","v":""},null,null,null,null,{"$f":"IF(C27=\"\",0,IF(SUMIFS($G$5:G27,$C$5:C27,C27)-SUMIFS($I$4:I26,$C$4:C26,C27)<0,0,SUMIFS($G$5:G27,$C$5:C27,C27)-SUMIFS($I$4:I26,$C$4:C26,C27)))","v":0},null,{"$f":"IF(C27=\"\",0,IF(C27=$C$4,SUMIFS($I$4:I26,$C$4:C26,C26),SUMIFS($I$4:I26,$C$4:C26,C27)))","v":0},0,null,null,null,"الصنف / الصنف الفرعي",null,null,null,null,null,null,null,"رخصة الالتزام\nالمفتوحة/المعدلة",null,null,null,"مجموع الالتزامات السابقة",null,null,null,"الرصيد\nالأولي",null,null,null,"الالتزام\nالمقترح",null,null,null,"الرصيد المتبقى"]
[25,null,{"$f":"IFERROR(VLOOKUP(D28,Nomenclature!$B$2:$C$196,2,0),\"\")","v":""},null,null,null,null,{"$f":"IF(C28=\"\",0,IF(SUMIFS($G$5:G28,$C$5:C28,C28)-SUMIFS($I$4:I27,$C$4:C27,C28)<0,0,SUMIFS($G$5:G28,$C$5:C28,C28)-SUMIFS($I$4:I27,$C$4:C27,C28)))","v":0},null,{"$f":"IF(C28=\"\",0,IF(C28=$C$4,SUMIFS($I$4:I27,$C$4:C27,C27),SUMIFS($I$4:I27,$C$4:C27,C28)))","v":0},0]
[26,null,{"$f":"IFERROR(VLOOKUP(D29,Nomenclature!$B$2:$C$196,2,0),\"\")","v":""},null,null,null,null,{"$f":"IF(C29=\"\",0,IF(SUMIFS($G$5:G29,$C$5:C29,C29)-SUMIFS($I$4:I28,$C$4:C28,C29)<0,0,SUMIFS($G$5:G29,$C$5:C29,C29)-SUMIFS($I$4:I28,$C$4:C28,C29)))","v":0},null,{"$f":"IF(C29=\"\",0,IF(C29=$C$4,SUMIFS($I$4:I28,$C$4:C28,C28),SUMIFS($I$4:I28,$C$4:C28,C29)))","v":0},0,null,null,null,"الصنف",null,null,null,{"$f":"C4","v":26000},null,null,null,{"$f":"SUM($F$4:INDIRECT(\"f\"&N1+3))","v":0},null,null,null,{"$f":"SUM($I$4:INDIRECT(\"i\"&N1+2))","v":0},null,null,null,{"$f":"W29-AA29","v":0},null,null,null,{"$f":"IF(S31=\"\",0,VLOOKUP(N1,A4:L103,9,0))","v":0},null,null,null,{"$f":"IF((AE29-AI29)<0,\"رصيد غير كاف\",AE29-AI29)","v":0}]
[27,null,{"$f":"IFERROR(VLOOKUP(D30,Nomenclature!$B$2:$C$196,2,0),\"\")","v":""},null,null,null,null,{"$f":"IF(C30=\"\",0,IF(SUMIFS($G$5:G30,$C$5:C30,C30)-SUMIFS($I$4:I29,$C$4:C29,C30)<0,0,SUMIFS($G$5:G30,$C$5:C30,C30)-SUMIFS($I$4:I29,$C$4:C29,C30)))","v":0},null,{"$f":"IF(C30=\"\",0,IF(C30=$C$4,SUMIFS($I$4:I29,$C$4:C29,C29),SUMIFS($I$4:I29,$C$4:C29,C30)))","v":0},0]
[28,null,{"$f":"IFERROR(VLOOKUP(D31,Nomenclature!$B$2:$C$196,2,0),\"\")","v":""},null,null,null,null,{"$f":"IF(C31=\"\",0,IF(SUMIFS($G$5:G31,$C$5:C31,C31)-SUMIFS($I$4:I30,$C$4:C30,C31)<0,0,SUMIFS($G$5:G31,$C$5:C31,C31)-SUMIFS($I$4:I30,$C$4:C30,C31)))","v":0},null,{"$f":"IF(C31=\"\",0,IF(C31=$C$4,SUMIFS($I$4:I30,$C$4:C30,C30),SUMIFS($I$4:I30,$C$4:C30,C31)))","v":0},0,null,null,null,"الصنف الفرعي",null,null,null,{"$f":"IF(IFERROR(VLOOKUP(N1,A4:L103,3,0),\"انتبه خطأ\")=S29,\"\",IFERROR(VLOOKUP(N1,A4:L103,3,0),\"انتبه خطأ\"))","v":""},null,null,null,{"$f":"IF(S31=\"\",\"\",VLOOKUP(N1,A4:L103,8,0))","v":""},null,null,null,{"$f":"IF(S31=\"\",\"\",VLOOKUP(N1,A4:L103,10,0))","v":""},null,null,null,{"$f":"IF(S31=\"\",\"\",W31-AA31)","v":""},null,null,null,{"$f":"IF(S31=\"\",\"\",VLOOKUP(N1,A4:L103,9,0))","v":""},null,null,null,{"$f":"IF(S31=\"\",\"\",IF((AE31-AI31)<0,\"رصيد غير كاف\",AE31-AI31))","v":""}]
[29,null,{"$f":"IFERROR(VLOOKUP(D32,Nomenclature!$B$2:$C$196,2,0),\"\")","v":""},null,null,null,null,{"$f":"IF(C32=\"\",0,IF(SUMIFS($G$5:G32,$C$5:C32,C32)-SUMIFS($I$4:I31,$C$4:C31,C32)<0,0,SUMIFS($G$5:G32,$C$5:C32,C32)-SUMIFS($I$4:I31,$C$4:C31,C32)))","v":0},null,{"$f":"IF(C32=\"\",0,IF(C32=$C$4,SUMIFS($I$4:I31,$C$4:C31,C31),SUMIFS($I$4:I31,$C$4:C31,C32)))","v":0},0]
[30,null,{"$f":"IFERROR(VLOOKUP(D33,Nomenclature!$B$2:$C$196,2,0),\"\")","v":""},null,null,null,null,{"$f":"IF(C33=\"\",0,IF(SUMIFS($G$5:G33,$C$5:C33,C33)-SUMIFS($I$4:I32,$C$4:C32,C33)<0,0,SUMIFS($G$5:G33,$C$5:C33,C33)-SUMIFS($I$4:I32,$C$4:C32,C33)))","v":0},null,{"$f":"IF(C33=\"\",0,IF(C33=$C$4,SUMIFS($I$4:I32,$C$4:C32,C32),SUMIFS($I$4:I32,$C$4:C32,C33)))","v":0},0]
[31,null,{"$f":"IFERROR(VLOOKUP(D34,Nomenclature!$B$2:$C$196,2,0),\"\")","v":""},null,null,null,null,{"$f":"IF(C34=\"\",0,IF(SUMIFS($G$5:G34,$C$5:C34,C34)-SUMIFS($I$4:I33,$C$4:C33,C34)<0,0,SUMIFS($G$5:G34,$C$5:C34,C34)-SUMIFS($I$4:I33,$C$4:C33,C34)))","v":0},null,{"$f":"IF(C34=\"\",0,IF(C34=$C$4,SUMIFS($I$4:I33,$C$4:C33,C33),SUMIFS($I$4:I33,$C$4:C33,C34)))","v":0},0,null,null,null,"موضوع الالتزام:"]
[32,null,{"$f":"IFERROR(VLOOKUP(D35,Nomenclature!$B$2:$C$196,2,0),\"\")","v":""},null,null,null,null,{"$f":"IF(C35=\"\",0,IF(SUMIFS($G$5:G35,$C$5:C35,C35)-SUMIFS($I$4:I34,$C$4:C34,C35)<0,0,SUMIFS($G$5:G35,$C$5:C35,C35)-SUMIFS($I$4:I34,$C$4:C34,C35)))","v":0},null,{"$f":"IF(C35=\"\",0,IF(C35=$C$4,SUMIFS($I$4:I34,$C$4:C34,C34),SUMIFS($I$4:I34,$C$4:C34,C35)))","v":0},0,null,null,null,{"$f":"IF(VLOOKUP(N1,A4:L203,5,0)=0,\"\",IFERROR(VLOOKUP(N1,A4:L203,5,0),\"انتبه خطأ\"))","v":"تكفل برخصة الالتزام المفتوحة لسنة 2023."}]
[33,null,{"$f":"IFERROR(VLOOKUP(D36,Nomenclature!$B$2:$C$196,2,0),\"\")","v":""},null,null,null,null,{"$f":"IF(C36=\"\",0,IF(SUMIFS($G$5:G36,$C$5:C36,C36)-SUMIFS($I$4:I35,$C$4:C35,C36)<0,0,SUMIFS($G$5:G36,$C$5:C36,C36)-SUMIFS($I$4:I35,$C$4:C35,C36)))","v":0},null,{"$f":"IF(C36=\"\",0,IF(C36=$C$4,SUMIFS($I$4:I35,$C$4:C35,C35),SUMIFS($I$4:I35,$C$4:C35,C36)))","v":0},0]
[34,null,{"$f":"IFERROR(VLOOKUP(D37,Nomenclature!$B$2:$C$196,2,0),\"\")","v":""},null,null,null,null,{"$f":"IF(C37=\"\",0,IF(SUMIFS($G$5:G37,$C$5:C37,C37)-SUMIFS($I$4:I36,$C$4:C36,C37)<0,0,SUMIFS($G$5:G37,$C$5:C37,C37)-SUMIFS($I$4:I36,$C$4:C36,C37)))","v":0},null,{"$f":"IF(C37=\"\",0,IF(C37=$C$4,SUMIFS($I$4:I36,$C$4:C36,C36),SUMIFS($I$4:I36,$C$4:C36,C37)))","v":0},0]
[35,null,{"$f":"IFERROR(VLOOKUP(D38,Nomenclature!$B$2:$C$196,2,0),\"\")","v":""},null,null,null,null,{"$f":"IF(C38=\"\",0,IF(SUMIFS($G$5:G38,$C$5:C38,C38)-SUMIFS($I$4:I37,$C$4:C37,C38)<0,0,SUMIFS($G$5:G38,$C$5:C38,C38)-SUMIFS($I$4:I37,$C$4:C37,C38)))","v":0},null,{"$f":"IF(C38=\"\",0,IF(C38=$C$4,SUMIFS($I$4:I37,$C$4:C37,C37),SUMIFS($I$4:I37,$C$4:C37,C38)))","v":0},0]
[36,null,{"$f":"IFERROR(VLOOKUP(D39,Nomenclature!$B$2:$C$196,2,0),\"\")","v":""},null,null,null,null,{"$f":"IF(C39=\"\",0,IF(SUMIFS($G$5:G39,$C$5:C39,C39)-SUMIFS($I$4:I38,$C$4:C38,C39)<0,0,SUMIFS($G$5:G39,$C$5:C39,C39)-SUMIFS($I$4:I38,$C$4:C38,C39)))","v":0},null,{"$f":"IF(C39=\"\",0,IF(C39=$C$4,SUMIFS($I$4:I38,$C$4:C38,C38),SUMIFS($I$4:I38,$C$4:C38,C39)))","v":0},0]
[37,null,{"$f":"IFERROR(VLOOKUP(D40,Nomenclature!$B$2:$C$196,2,0),\"\")","v":""},null,null,null,null,{"$f":"IF(C40=\"\",0,IF(SUMIFS($G$5:G40,$C$5:C40,C40)-SUMIFS($I$4:I39,$C$4:C39,C40)<0,0,SUMIFS($G$5:G40,$C$5:C40,C40)-SUMIFS($I$4:I39,$C$4:C39,C40)))","v":0},null,{"$f":"IF(C40=\"\",0,IF(C40=$C$4,SUMIFS($I$4:I39,$C$4:C39,C39),SUMIFS($I$4:I39,$C$4:C39,C40)))","v":0},0,null,null,null,"المبلغ بالحروف:",null,null,null,{"$f":"IFERROR(arretera(AI31),\"\")","v":""}]
[38,null,{"$f":"IFERROR(VLOOKUP(D41,Nomenclature!$B$2:$C$196,2,0),\"\")","v":""},null,null,null,null,{"$f":"IF(C41=\"\",0,IF(SUMIFS($G$5:G41,$C$5:C41,C41)-SUMIFS($I$4:I40,$C$4:C40,C41)<0,0,SUMIFS($G$5:G41,$C$5:C41,C41)-SUMIFS($I$4:I40,$C$4:C40,C41)))","v":0},null,{"$f":"IF(C41=\"\",0,IF(C41=$C$4,SUMIFS($I$4:I40,$C$4:C40,C40),SUMIFS($I$4:I40,$C$4:C40,C41)))","v":0},0]
[39,null,{"$f":"IFERROR(VLOOKUP(D42,Nomenclature!$B$2:$C$196,2,0),\"\")","v":""},null,null,null,null,{"$f":"IF(C42=\"\",0,IF(SUMIFS($G$5:G42,$C$5:C42,C42)-SUMIFS($I$4:I41,$C$4:C41,C42)<0,0,SUMIFS($G$5:G42,$C$5:C42,C42)-SUMIFS($I$4:I41,$C$4:C41,C42)))","v":0},null,{"$f":"IF(C42=\"\",0,IF(C42=$C$4,SUMIFS($I$4:I41,$C$4:C41,C41),SUMIFS($I$4:I41,$C$4:C41,C42)))","v":0},0]
[40,null,{"$f":"IFERROR(VLOOKUP(D43,Nomenclature!$B$2:$C$196,2,0),\"\")","v":""},null,null,null,null,{"$f":"IF(C43=\"\",0,IF(SUMIFS($G$5:G43,$C$5:C43,C43)-SUMIFS($I$4:I42,$C$4:C42,C43)<0,0,SUMIFS($G$5:G43,$C$5:C43,C43)-SUMIFS($I$4:I42,$C$4:C42,C43)))","v":0},null,{"$f":"IF(C43=\"\",0,IF(C43=$C$4,SUMIFS($I$4:I42,$C$4:C42,C42),SUMIFS($I$4:I42,$C$4:C42,C43)))","v":0},0,null,null,null,"إطار مخصص للمراقب الميزانياتي",null,null,null,null,null,null,null,null,null,null,null,null,null,"إطار مخصص للآمر بالصرف"]
[41,null,{"$f":"IFERROR(VLOOKUP(D44,Nomenclature!$B$2:$C$196,2,0),\"\")","v":""},null,null,null,null,{"$f":"IF(C44=\"\",0,IF(SUMIFS($G$5:G44,$C$5:C44,C44)-SUMIFS($I$4:I43,$C$4:C43,C44)<0,0,SUMIFS($G$5:G44,$C$5:C44,C44)-SUMIFS($I$4:I43,$C$4:C43,C44)))","v":0},null,{"$f":"IF(C44=\"\",0,IF(C44=$C$4,SUMIFS($I$4:I43,$C$4:C43,C43),SUMIFS($I$4:I43,$C$4:C43,C44)))","v":0},0]
[42,null,{"$f":"IFERROR(VLOOKUP(D45,Nomenclature!$B$2:$C$196,2,0),\"\")","v":""},null,null,null,null,{"$f":"IF(C45=\"\",0,IF(SUMIFS($G$5:G45,$C$5:C45,C45)-SUMIFS($I$4:I44,$C$4:C44,C45)<0,0,SUMIFS($G$5:G45,$C$5:C45,C45)-SUMIFS($I$4:I44,$C$4:C44,C45)))","v":0},null,{"$f":"IF(C45=\"\",0,IF(C45=$C$4,SUMIFS($I$4:I44,$C$4:C44,C44),SUMIFS($I$4:I44,$C$4:C44,C45)))","v":0},0,null,null,null,"رقم التأشيرة:",null,null,null,null,null,null,null,null,null,null,null,null,null,null,"ختم"]
[43,null,{"$f":"IFERROR(VLOOKUP(D46,Nomenclature!$B$2:$C$196,2,0),\"\")","v":""},null,null,null,null,{"$f":"IF(C46=\"\",0,IF(SUMIFS($G$5:G46,$C$5:C46,C46)-SUMIFS($I$4:I45,$C$4:C45,C46)<0,0,SUMIFS($G$5:G46,$C$5:C46,C46)-SUMIFS($I$4:I45,$C$4:C45,C46)))","v":0},null,{"$f":"IF(C46=\"\",0,IF(C46=$C$4,SUMIFS($I$4:I45,$C$4:C45,C45),SUMIFS($I$4:I45,$C$4:C45,C46)))","v":0},0]
[44,null,{"$f":"IFERROR(VLOOKUP(D47,Nomenclature!$B$2:$C$196,2,0),\"\")","v":""},null,null,null,null,{"$f":"IF(C47=\"\",0,IF(SUMIFS($G$5:G47,$C$5:C47,C47)-SUMIFS($I$4:I46,$C$4:C46,C47)<0,0,SUMIFS($G$5:G47,$C$5:C47,C47)-SUMIFS($I$4:I46,$C$4:C46,C47)))","v":0},null,{"$f":"IF(C47=\"\",0,IF(C47=$C$4,SUMIFS($I$4:I46,$C$4:C46,C46),SUMIFS($I$4:I46,$C$4:C46,C47)))","v":0},0,null,null,null,"تاريخ التأشيرة:"]
[45,null,{"$f":"IFERROR(VLOOKUP(D48,Nomenclature!$B$2:$C$196,2,0),\"\")","v":""},null,null,null,null,{"$f":"IF(C48=\"\",0,IF(SUMIFS($G$5:G48,$C$5:C48,C48)-SUMIFS($I$4:I47,$C$4:C47,C48)<0,0,SUMIFS($G$5:G48,$C$5:C48,C48)-SUMIFS($I$4:I47,$C$4:C47,C48)))","v":0},null,{"$f":"IF(C48=\"\",0,IF(C48=$C$4,SUMIFS($I$4:I47,$C$4:C47,C47),SUMIFS($I$4:I47,$C$4:C47,C48)))","v":0},0,null,null,null,null,null,null,null,null,null,null,null,null,null,null,null,null,null,null,"امضاء"]
[46,null,{"$f":"IFERROR(VLOOKUP(D49,Nomenclature!$B$2:$C$196,2,0),\"\")","v":""},null,null,null,null,{"$f":"IF(C49=\"\",0,IF(SUMIFS($G$5:G49,$C$5:C49,C49)-SUMIFS($I$4:I48,$C$4:C48,C49)<0,0,SUMIFS($G$5:G49,$C$5:C49,C49)-SUMIFS($I$4:I48,$C$4:C48,C49)))","v":0},null,{"$f":"IF(C49=\"\",0,IF(C49=$C$4,SUMIFS($I$4:I48,$C$4:C48,C48),SUMIFS($I$4:I48,$C$4:C48,C49)))","v":0},0]
[47,null,{"$f":"IFERROR(VLOOKUP(D50,Nomenclature!$B$2:$C$196,2,0),\"\")","v":""},null,null,null,null,{"$f":"IF(C50=\"\",0,IF(SUMIFS($G$5:G50,$C$5:C50,C50)-SUMIFS($I$4:I49,$C$4:C49,C50)<0,0,SUMIFS($G$5:G50,$C$5:C50,C50)-SUMIFS($I$4:I49,$C$4:C49,C50)))","v":0},null,{"$f":"IF(C50=\"\",0,IF(C50=$C$4,SUMIFS($I$4:I49,$C$4:C49,C49),SUMIFS($I$4:I49,$C$4:C49,C50)))","v":0},0]
[48,null,{"$f":"IFERROR(VLOOKUP(D51,Nomenclature!$B$2:$C$196,2,0),\"\")","v":""},null,null,null,null,{"$f":"IF(C51=\"\",0,IF(SUMIFS($G$5:G51,$C$5:C51,C51)-SUMIFS($I$4:I50,$C$4:C50,C51)<0,0,SUMIFS($G$5:G51,$C$5:C51,C51)-SUMIFS($I$4:I50,$C$4:C50,C51)))","v":0},null,{"$f":"IF(C51=\"\",0,IF(C51=$C$4,SUMIFS($I$4:I50,$C$4:C50,C50),SUMIFS($I$4:I50,$C$4:C50,C51)))","v":0},0,null,null,null,null,{"$f":"AD48","v":"امضاء"},null,null,null,null,null,null,null,{"$f":"AD45","v":"ختم"}]
[49,null,{"$f":"IFERROR(VLOOKUP(D52,Nomenclature!$B$2:$C$196,2,0),\"\")","v":""},null,null,null,null,{"$f":"IF(C52=\"\",0,IF(SUMIFS($G$5:G52,$C$5:C52,C52)-SUMIFS($I$4:I51,$C$4:C51,C52)<0,0,SUMIFS($G$5:G52,$C$5:C52,C52)-SUMIFS($I$4:I51,$C$4:C51,C52)))","v":0},null,{"$f":"IF(C52=\"\",0,IF(C52=$C$4,SUMIFS($I$4:I51,$C$4:C51,C51),SUMIFS($I$4:I51,$C$4:C51,C52)))","v":0},0]
[50,null,{"$f":"IFERROR(VLOOKUP(D53,Nomenclature!$B$2:$C$196,2,0),\"\")","v":""},null,null,null,null,{"$f":"IF(C53=\"\",0,IF(SUMIFS($G$5:G53,$C$5:C53,C53)-SUMIFS($I$4:I52,$C$4:C52,C53)<0,0,SUMIFS($G$5:G53,$C$5:C53,C53)-SUMIFS($I$4:I52,$C$4:C52,C53)))","v":0},null,{"$f":"IF(C53=\"\",0,IF(C53=$C$4,SUMIFS($I$4:I52,$C$4:C52,C52),SUMIFS($I$4:I52,$C$4:C52,C53)))","v":0},0]
[51,null,{"$f":"IFERROR(VLOOKUP(D54,Nomenclature!$B$2:$C$196,2,0),\"\")","v":""},null,null,null,null,{"$f":"IF(C54=\"\",0,IF(SUMIFS($G$5:G54,$C$5:C54,C54)-SUMIFS($I$4:I53,$C$4:C53,C54)<0,0,SUMIFS($G$5:G54,$C$5:C54,C54)-SUMIFS($I$4:I53,$C$4:C53,C54)))","v":0},null,{"$f":"IF(C54=\"\",0,IF(C54=$C$4,SUMIFS($I$4:I53,$C$4:C53,C53),SUMIFS($I$4:I53,$C$4:C53,C54)))","v":0},0]
[52,null,{"$f":"IFERROR(VLOOKUP(D55,Nomenclature!$B$2:$C$196,2,0),\"\")","v":""},null,null,null,null,{"$f":"IF(C55=\"\",0,IF(SUMIFS($G$5:G55,$C$5:C55,C55)-SUMIFS($I$4:I54,$C$4:C54,C55)<0,0,SUMIFS($G$5:G55,$C$5:C55,C55)-SUMIFS($I$4:I54,$C$4:C54,C55)))","v":0},null,{"$f":"IF(C55=\"\",0,IF(C55=$C$4,SUMIFS($I$4:I54,$C$4:C54,C54),SUMIFS($I$4:I54,$C$4:C54,C55)))","v":0},0]
[53,null,{"$f":"IFERROR(VLOOKUP(D56,Nomenclature!$B$2:$C$196,2,0),\"\")","v":""},null,null,null,null,{"$f":"IF(C56=\"\",0,IF(SUMIFS($G$5:G56,$C$5:C56,C56)-SUMIFS($I$4:I55,$C$4:C55,C56)<0,0,SUMIFS($G$5:G56,$C$5:C56,C56)-SUMIFS($I$4:I55,$C$4:C55,C56)))","v":0},null,{"$f":"IF(C56=\"\",0,IF(C56=$C$4,SUMIFS($I$4:I55,$C$4:C55,C55),SUMIFS($I$4:I55,$C$4:C55,C56)))","v":0},0]
[54,null,{"$f":"IFERROR(VLOOKUP(D57,Nomenclature!$B$2:$C$196,2,0),\"\")","v":""},null,null,null,null,{"$f":"IF(C57=\"\",0,IF(SUMIFS($G$5:G57,$C$5:C57,C57)-SUMIFS($I$4:I56,$C$4:C56,C57)<0,0,SUMIFS($G$5:G57,$C$5:C57,C57)-SUMIFS($I$4:I56,$C$4:C56,C57)))","v":0},null,{"$f":"IF(C57=\"\",0,IF(C57=$C$4,SUMIFS($I$4:I56,$C$4:C56,C56),SUMIFS($I$4:I56,$C$4:C56,C57)))","v":0},0]
[55,null,{"$f":"IFERROR(VLOOKUP(D58,Nomenclature!$B$2:$C$196,2,0),\"\")","v":""},null,null,null,null,{"$f":"IF(C58=\"\",0,IF(SUMIFS($G$5:G58,$C$5:C58,C58)-SUMIFS($I$4:I57,$C$4:C57,C58)<0,0,SUMIFS($G$5:G58,$C$5:C58,C58)-SUMIFS($I$4:I57,$C$4:C57,C58)))","v":0},null,{"$f":"IF(C58=\"\",0,IF(C58=$C$4,SUMIFS($I$4:I57,$C$4:C57,C57),SUMIFS($I$4:I57,$C$4:C57,C58)))","v":0},0]
[56,null,{"$f":"IFERROR(VLOOKUP(D59,Nomenclature!$B$2:$C$196,2,0),\"\")","v":""},null,null,null,null,{"$f":"IF(C59=\"\",0,IF(SUMIFS($G$5:G59,$C$5:C59,C59)-SUMIFS($I$4:I58,$C$4:C58,C59)<0,0,SUMIFS($G$5:G59,$C$5:C59,C59)-SUMIFS($I$4:I58,$C$4:C58,C59)))","v":0},null,{"$f":"IF(C59=\"\",0,IF(C59=$C$4,SUMIFS($I$4:I58,$C$4:C58,C58),SUMIFS($I$4:I58,$C$4:C58,C59)))","v":0},0]
[57,null,{"$f":"IFERROR(VLOOKUP(D60,Nomenclature!$B$2:$C$196,2,0),\"\")","v":""},null,null,null,null,{"$f":"IF(C60=\"\",0,IF(SUMIFS($G$5:G60,$C$5:C60,C60)-SUMIFS($I$4:I59,$C$4:C59,C60)<0,0,SUMIFS($G$5:G60,$C$5:C60,C60)-SUMIFS($I$4:I59,$C$4:C59,C60)))","v":0},null,{"$f":"IF(C60=\"\",0,IF(C60=$C$4,SUMIFS($I$4:I59,$C$4:C59,C59),SUMIFS($I$4:I59,$C$4:C59,C60)))","v":0},0]
[58,null,{"$f":"IFERROR(VLOOKUP(D61,Nomenclature!$B$2:$C$196,2,0),\"\")","v":""},null,null,null,null,{"$f":"IF(C61=\"\",0,IF(SUMIFS($G$5:G61,$C$5:C61,C61)-SUMIFS($I$4:I60,$C$4:C60,C61)<0,0,SUMIFS($G$5:G61,$C$5:C61,C61)-SUMIFS($I$4:I60,$C$4:C60,C61)))","v":0},null,{"$f":"IF(C61=\"\",0,IF(C61=$C$4,SUMIFS($I$4:I60,$C$4:C60,C60),SUMIFS($I$4:I60,$C$4:C60,C61)))","v":0},0]
[59,null,{"$f":"IFERROR(VLOOKUP(D62,Nomenclature!$B$2:$C$196,2,0),\"\")","v":""},null,null,null,null,{"$f":"IF(C62=\"\",0,IF(SUMIFS($G$5:G62,$C$5:C62,C62)-SUMIFS($I$4:I61,$C$4:C61,C62)<0,0,SUMIFS($G$5:G62,$C$5:C62,C62)-SUMIFS($I$4:I61,$C$4:C61,C62)))","v":0},null,{"$f":"IF(C62=\"\",0,IF(C62=$C$4,SUMIFS($I$4:I61,$C$4:C61,C61),SUMIFS($I$4:I61,$C$4:C61,C62)))","v":0},0]
[60,null,{"$f":"IFERROR(VLOOKUP(D63,Nomenclature!$B$2:$C$196,2,0),\"\")","v":""},null,null,null,null,{"$f":"IF(C63=\"\",0,IF(SUMIFS($G$5:G63,$C$5:C63,C63)-SUMIFS($I$4:I62,$C$4:C62,C63)<0,0,SUMIFS($G$5:G63,$C$5:C63,C63)-SUMIFS($I$4:I62,$C$4:C62,C63)))","v":0},null,{"$f":"IF(C63=\"\",0,IF(C63=$C$4,SUMIFS($I$4:I62,$C$4:C62,C62),SUMIFS($I$4:I62,$C$4:C62,C63)))","v":0},0]
[61,null,{"$f":"IFERROR(VLOOKUP(D64,Nomenclature!$B$2:$C$196,2,0),\"\")","v":""},null,null,null,null,{"$f":"IF(C64=\"\",0,IF(SUMIFS($G$5:G64,$C$5:C64,C64)-SUMIFS($I$4:I63,$C$4:C63,C64)<0,0,SUMIFS($G$5:G64,$C$5:C64,C64)-SUMIFS($I$4:I63,$C$4:C63,C64)))","v":0},null,{"$f":"IF(C64=\"\",0,IF(C64=$C$4,SUMIFS($I$4:I63,$C$4:C63,C63),SUMIFS($I$4:I63,$C$4:C63,C64)))","v":0},0]
[62,null,{"$f":"IFERROR(VLOOKUP(D65,Nomenclature!$B$2:$C$196,2,0),\"\")","v":""},null,null,null,null,{"$f":"IF(C65=\"\",0,IF(SUMIFS($G$5:G65,$C$5:C65,C65)-SUMIFS($I$4:I64,$C$4:C64,C65)<0,0,SUMIFS($G$5:G65,$C$5:C65,C65)-SUMIFS($I$4:I64,$C$4:C64,C65)))","v":0},null,{"$f":"IF(C65=\"\",0,IF(C65=$C$4,SUMIFS($I$4:I64,$C$4:C64,C64),SUMIFS($I$4:I64,$C$4:C64,C65)))","v":0},0]
[63,null,{"$f":"IFERROR(VLOOKUP(D66,Nomenclature!$B$2:$C$196,2,0),\"\")","v":""},null,null,null,null,{"$f":"IF(C66=\"\",0,IF(SUMIFS($G$5:G66,$C$5:C66,C66)-SUMIFS($I$4:I65,$C$4:C65,C66)<0,0,SUMIFS($G$5:G66,$C$5:C66,C66)-SUMIFS($I$4:I65,$C$4:C65,C66)))","v":0},null,{"$f":"IF(C66=\"\",0,IF(C66=$C$4,SUMIFS($I$4:I65,$C$4:C65,C65),SUMIFS($I$4:I65,$C$4:C65,C66)))","v":0},0]
[64,null,{"$f":"IFERROR(VLOOKUP(D67,Nomenclature!$B$2:$C$196,2,0),\"\")","v":""},null,null,null,null,{"$f":"IF(C67=\"\",0,IF(SUMIFS($G$5:G67,$C$5:C67,C67)-SUMIFS($I$4:I66,$C$4:C66,C67)<0,0,SUMIFS($G$5:G67,$C$5:C67,C67)-SUMIFS($I$4:I66,$C$4:C66,C67)))","v":0},null,{"$f":"IF(C67=\"\",0,IF(C67=$C$4,SUMIFS($I$4:I66,$C$4:C66,C66),SUMIFS($I$4:I66,$C$4:C66,C67)))","v":0},0]
[65,null,{"$f":"IFERROR(VLOOKUP(D68,Nomenclature!$B$2:$C$196,2,0),\"\")","v":""},null,null,null,null,{"$f":"IF(C68=\"\",0,IF(SUMIFS($G$5:G68,$C$5:C68,C68)-SUMIFS($I$4:I67,$C$4:C67,C68)<0,0,SUMIFS($G$5:G68,$C$5:C68,C68)-SUMIFS($I$4:I67,$C$4:C67,C68)))","v":0},null,{"$f":"IF(C68=\"\",0,IF(C68=$C$4,SUMIFS($I$4:I67,$C$4:C67,C67),SUMIFS($I$4:I67,$C$4:C67,C68)))","v":0},{"$f":"IF(C68=\"\",0,H68-I68)","v":0}]
[66,null,{"$f":"IFERROR(VLOOKUP(D69,Nomenclature!$B$2:$C$196,2,0),\"\")","v":""},null,null,null,null,{"$f":"IF(C69=\"\",0,IF(SUMIFS($G$5:G69,$C$5:C69,C69)-SUMIFS($I$4:I68,$C$4:C68,C69)<0,0,SUMIFS($G$5:G69,$C$5:C69,C69)-SUMIFS($I$4:I68,$C$4:C68,C69)))","v":0},null,{"$f":"IF(C69=\"\",0,IF(C69=$C$4,SUMIFS($I$4:I68,$C$4:C68,C68),SUMIFS($I$4:I68,$C$4:C68,C69)))","v":0},0]
[67,null,{"$f":"IFERROR(VLOOKUP(D70,Nomenclature!$B$2:$C$196,2,0),\"\")","v":""},null,null,null,null,{"$f":"IF(C70=\"\",0,IF(SUMIFS($G$5:G70,$C$5:C70,C70)-SUMIFS($I$4:I69,$C$4:C69,C70)<0,0,SUMIFS($G$5:G70,$C$5:C70,C70)-SUMIFS($I$4:I69,$C$4:C69,C70)))","v":0},null,{"$f":"IF(C70=\"\",0,IF(C70=$C$4,SUMIFS($I$4:I69,$C$4:C69,C69),SUMIFS($I$4:I69,$C$4:C69,C70)))","v":0},0]
[68,null,{"$f":"IFERROR(VLOOKUP(D71,Nomenclature!$B$2:$C$196,2,0),\"\")","v":""},null,null,null,null,{"$f":"IF(C71=\"\",0,IF(SUMIFS($G$5:G71,$C$5:C71,C71)-SUMIFS($I$4:I70,$C$4:C70,C71)<0,0,SUMIFS($G$5:G71,$C$5:C71,C71)-SUMIFS($I$4:I70,$C$4:C70,C71)))","v":0},null,{"$f":"IF(C71=\"\",0,IF(C71=$C$4,SUMIFS($I$4:I70,$C$4:C70,C70),SUMIFS($I$4:I70,$C$4:C70,C71)))","v":0},0]
[69,null,{"$f":"IFERROR(VLOOKUP(D72,Nomenclature!$B$2:$C$196,2,0),\"\")","v":""},null,null,null,null,{"$f":"IF(C72=\"\",0,IF(SUMIFS($G$5:G72,$C$5:C72,C72)-SUMIFS($I$4:I71,$C$4:C71,C72)<0,0,SUMIFS($G$5:G72,$C$5:C72,C72)-SUMIFS($I$4:I71,$C$4:C71,C72)))","v":0},null,{"$f":"IF(C72=\"\",0,IF(C72=$C$4,SUMIFS($I$4:I71,$C$4:C71,C71),SUMIFS($I$4:I71,$C$4:C71,C72)))","v":0},0]
[70,null,{"$f":"IFERROR(VLOOKUP(D73,Nomenclature!$B$2:$C$196,2,0),\"\")","v":""},null,null,null,null,{"$f":"IF(C73=\"\",0,IF(SUMIFS($G$5:G73,$C$5:C73,C73)-SUMIFS($I$4:I72,$C$4:C72,C73)<0,0,SUMIFS($G$5:G73,$C$5:C73,C73)-SUMIFS($I$4:I72,$C$4:C72,C73)))","v":0},null,{"$f":"IF(C73=\"\",0,IF(C73=$C$4,SUMIFS($I$4:I72,$C$4:C72,C72),SUMIFS($I$4:I72,$C$4:C72,C73)))","v":0},0]
[71,null,{"$f":"IFERROR(VLOOKUP(D74,Nomenclature!$B$2:$C$196,2,0),\"\")","v":""},null,null,null,null,{"$f":"IF(C74=\"\",0,IF(SUMIFS($G$5:G74,$C$5:C74,C74)-SUMIFS($I$4:I73,$C$4:C73,C74)<0,0,SUMIFS($G$5:G74,$C$5:C74,C74)-SUMIFS($I$4:I73,$C$4:C73,C74)))","v":0},null,{"$f":"IF(C74=\"\",0,IF(C74=$C$4,SUMIFS($I$4:I73,$C$4:C73,C73),SUMIFS($I$4:I73,$C$4:C73,C74)))","v":0},0]
[72,null,{"$f":"IFERROR(VLOOKUP(D75,Nomenclature!$B$2:$C$196,2,0),\"\")","v":""},null,null,null,null,{"$f":"IF(C75=\"\",0,IF(SUMIFS($G$5:G75,$C$5:C75,C75)-SUMIFS($I$4:I74,$C$4:C74,C75)<0,0,SUMIFS($G$5:G75,$C$5:C75,C75)-SUMIFS($I$4:I74,$C$4:C74,C75)))","v":0},null,{"$f":"IF(C75=\"\",0,IF(C75=$C$4,SUMIFS($I$4:I74,$C$4:C74,C74),SUMIFS($I$4:I74,$C$4:C74,C75)))","v":0},0]
[73,null,{"$f":"IFERROR(VLOOKUP(D76,Nomenclature!$B$2:$C$196,2,0),\"\")","v":""},null,null,null,null,{"$f":"IF(C76=\"\",0,IF(SUMIFS($G$5:G76,$C$5:C76,C76)-SUMIFS($I$4:I75,$C$4:C75,C76)<0,0,SUMIFS($G$5:G76,$C$5:C76,C76)-SUMIFS($I$4:I75,$C$4:C75,C76)))","v":0},null,{"$f":"IF(C76=\"\",0,IF(C76=$C$4,SUMIFS($I$4:I75,$C$4:C75,C75),SUMIFS($I$4:I75,$C$4:C75,C76)))","v":0},0]
[74,null,{"$f":"IFERROR(VLOOKUP(D77,Nomenclature!$B$2:$C$196,2,0),\"\")","v":""},null,null,null,null,{"$f":"IF(C77=\"\",0,IF(SUMIFS($G$5:G77,$C$5:C77,C77)-SUMIFS($I$4:I76,$C$4:C76,C77)<0,0,SUMIFS($G$5:G77,$C$5:C77,C77)-SUMIFS($I$4:I76,$C$4:C76,C77)))","v":0},null,{"$f":"IF(C77=\"\",0,IF(C77=$C$4,SUMIFS($I$4:I76,$C$4:C76,C76),SUMIFS($I$4:I76,$C$4:C76,C77)))","v":0},0]
[75,null,{"$f":"IFERROR(VLOOKUP(D78,Nomenclature!$B$2:$C$196,2,0),\"\")","v":""},null,null,null,null,{"$f":"IF(C78=\"\",0,IF(SUMIFS($G$5:G78,$C$5:C78,C78)-SUMIFS($I$4:I77,$C$4:C77,C78)<0,0,SUMIFS($G$5:G78,$C$5:C78,C78)-SUMIFS($I$4:I77,$C$4:C77,C78)))","v":0},null,{"$f":"IF(C78=\"\",0,IF(C78=$C$4,SUMIFS($I$4:I77,$C$4:C77,C77),SUMIFS($I$4:I77,$C$4:C77,C78)))","v":0},0]
[76,null,{"$f":"IFERROR(VLOOKUP(D79,Nomenclature!$B$2:$C$196,2,0),\"\")","v":""},null,null,null,null,{"$f":"IF(C79=\"\",0,IF(SUMIFS($G$5:G79,$C$5:C79,C79)-SUMIFS($I$4:I78,$C$4:C78,C79)<0,0,SUMIFS($G$5:G79,$C$5:C79,C79)-SUMIFS($I$4:I78,$C$4:C78,C79)))","v":0},null,{"$f":"IF(C79=\"\",0,IF(C79=$C$4,SUMIFS($I$4:I78,$C$4:C78,C78),SUMIFS($I$4:I78,$C$4:C78,C79)))","v":0},0]
[77,null,{"$f":"IFERROR(VLOOKUP(D80,Nomenclature!$B$2:$C$196,2,0),\"\")","v":""},null,null,null,null,{"$f":"IF(C80=\"\",0,IF(SUMIFS($G$5:G80,$C$5:C80,C80)-SUMIFS($I$4:I79,$C$4:C79,C80)<0,0,SUMIFS($G$5:G80,$C$5:C80,C80)-SUMIFS($I$4:I79,$C$4:C79,C80)))","v":0},null,{"$f":"IF(C80=\"\",0,IF(C80=$C$4,SUMIFS($I$4:I79,$C$4:C79,C79),SUMIFS($I$4:I79,$C$4:C79,C80)))","v":0},0]
[78,null,{"$f":"IFERROR(VLOOKUP(D81,Nomenclature!$B$2:$C$196,2,0),\"\")","v":""},null,null,null,null,{"$f":"IF(C81=\"\",0,IF(SUMIFS($G$5:G81,$C$5:C81,C81)-SUMIFS($I$4:I80,$C$4:C80,C81)<0,0,SUMIFS($G$5:G81,$C$5:C81,C81)-SUMIFS($I$4:I80,$C$4:C80,C81)))","v":0},null,{"$f":"IF(C81=\"\",0,IF(C81=$C$4,SUMIFS($I$4:I80,$C$4:C80,C80),SUMIFS($I$4:I80,$C$4:C80,C81)))","v":0},0]
[79,null,{"$f":"IFERROR(VLOOKUP(D82,Nomenclature!$B$2:$C$196,2,0),\"\")","v":""},null,null,null,null,{"$f":"IF(C82=\"\",0,IF(SUMIFS($G$5:G82,$C$5:C82,C82)-SUMIFS($I$4:I81,$C$4:C81,C82)<0,0,SUMIFS($G$5:G82,$C$5:C82,C82)-SUMIFS($I$4:I81,$C$4:C81,C82)))","v":0},null,{"$f":"IF(C82=\"\",0,IF(C82=$C$4,SUMIFS($I$4:I81,$C$4:C81,C81),SUMIFS($I$4:I81,$C$4:C81,C82)))","v":0},0]
[80,null,{"$f":"IFERROR(VLOOKUP(D83,Nomenclature!$B$2:$C$196,2,0),\"\")","v":""},null,null,null,null,{"$f":"IF(C83=\"\",0,IF(SUMIFS($G$5:G83,$C$5:C83,C83)-SUMIFS($I$4:I82,$C$4:C82,C83)<0,0,SUMIFS($G$5:G83,$C$5:C83,C83)-SUMIFS($I$4:I82,$C$4:C82,C83)))","v":0},null,{"$f":"IF(C83=\"\",0,IF(C83=$C$4,SUMIFS($I$4:I82,$C$4:C82,C82),SUMIFS($I$4:I82,$C$4:C82,C83)))","v":0},0]
[81,null,{"$f":"IFERROR(VLOOKUP(D84,Nomenclature!$B$2:$C$196,2,0),\"\")","v":""},null,null,null,null,{"$f":"IF(C84=\"\",0,IF(SUMIFS($G$5:G84,$C$5:C84,C84)-SUMIFS($I$4:I83,$C$4:C83,C84)<0,0,SUMIFS($G$5:G84,$C$5:C84,C84)-SUMIFS($I$4:I83,$C$4:C83,C84)))","v":0},null,{"$f":"IF(C84=\"\",0,IF(C84=$C$4,SUMIFS($I$4:I83,$C$4:C83,C83),SUMIFS($I$4:I83,$C$4:C83,C84)))","v":0},0]
[82,null,{"$f":"IFERROR(VLOOKUP(D85,Nomenclature!$B$2:$C$196,2,0),\"\")","v":""},null,null,null,null,{"$f":"IF(C85=\"\",0,IF(SUMIFS($G$5:G85,$C$5:C85,C85)-SUMIFS($I$4:I84,$C$4:C84,C85)<0,0,SUMIFS($G$5:G85,$C$5:C85,C85)-SUMIFS($I$4:I84,$C$4:C84,C85)))","v":0},null,{"$f":"IF(C85=\"\",0,IF(C85=$C$4,SUMIFS($I$4:I84,$C$4:C84,C84),SUMIFS($I$4:I84,$C$4:C84,C85)))","v":0},0]
[83,null,{"$f":"IFERROR(VLOOKUP(D86,Nomenclature!$B$2:$C$196,2,0),\"\")","v":""},null,null,null,null,{"$f":"IF(C86=\"\",0,IF(SUMIFS($G$5:G86,$C$5:C86,C86)-SUMIFS($I$4:I85,$C$4:C85,C86)<0,0,SUMIFS($G$5:G86,$C$5:C86,C86)-SUMIFS($I$4:I85,$C$4:C85,C86)))","v":0},null,{"$f":"IF(C86=\"\",0,IF(C86=$C$4,SUMIFS($I$4:I85,$C$4:C85,C85),SUMIFS($I$4:I85,$C$4:C85,C86)))","v":0},0]
[84,null,{"$f":"IFERROR(VLOOKUP(D87,Nomenclature!$B$2:$C$196,2,0),\"\")","v":""},null,null,null,null,{"$f":"IF(C87=\"\",0,IF(SUMIFS($G$5:G87,$C$5:C87,C87)-SUMIFS($I$4:I86,$C$4:C86,C87)<0,0,SUMIFS($G$5:G87,$C$5:C87,C87)-SUMIFS($I$4:I86,$C$4:C86,C87)))","v":0},null,{"$f":"IF(C87=\"\",0,IF(C87=$C$4,SUMIFS($I$4:I86,$C$4:C86,C86),SUMIFS($I$4:I86,$C$4:C86,C87)))","v":0},0]
[85,null,{"$f":"IFERROR(VLOOKUP(D88,Nomenclature!$B$2:$C$196,2,0),\"\")","v":""},null,null,null,null,{"$f":"IF(C88=\"\",0,IF(SUMIFS($G$5:G88,$C$5:C88,C88)-SUMIFS($I$4:I87,$C$4:C87,C88)<0,0,SUMIFS($G$5:G88,$C$5:C88,C88)-SUMIFS($I$4:I87,$C$4:C87,C88)))","v":0},null,{"$f":"IF(C88=\"\",0,IF(C88=$C$4,SUMIFS($I$4:I87,$C$4:C87,C87),SUMIFS($I$4:I87,$C$4:C87,C88)))","v":0},0]
[86,null,{"$f":"IFERROR(VLOOKUP(D89,Nomenclature!$B$2:$C$196,2,0),\"\")","v":""},null,null,null,null,{"$f":"IF(C89=\"\",0,IF(SUMIFS($G$5:G89,$C$5:C89,C89)-SUMIFS($I$4:I88,$C$4:C88,C89)<0,0,SUMIFS($G$5:G89,$C$5:C89,C89)-SUMIFS($I$4:I88,$C$4:C88,C89)))","v":0},null,{"$f":"IF(C89=\"\",0,IF(C89=$C$4,SUMIFS($I$4:I88,$C$4:C88,C88),SUMIFS($I$4:I88,$C$4:C88,C89)))","v":0},0]
[87,null,{"$f":"IFERROR(VLOOKUP(D90,Nomenclature!$B$2:$C$196,2,0),\"\")","v":""},null,null,null,null,{"$f":"IF(C90=\"\",0,IF(SUMIFS($G$5:G90,$C$5:C90,C90)-SUMIFS($I$4:I89,$C$4:C89,C90)<0,0,SUMIFS($G$5:G90,$C$5:C90,C90)-SUMIFS($I$4:I89,$C$4:C89,C90)))","v":0},null,{"$f":"IF(C90=\"\",0,IF(C90=$C$4,SUMIFS($I$4:I89,$C$4:C89,C89),SUMIFS($I$4:I89,$C$4:C89,C90)))","v":0},0]
[88,null,{"$f":"IFERROR(VLOOKUP(D91,Nomenclature!$B$2:$C$196,2,0),\"\")","v":""},null,null,null,null,{"$f":"IF(C91=\"\",0,IF(SUMIFS($G$5:G91,$C$5:C91,C91)-SUMIFS($I$4:I90,$C$4:C90,C91)<0,0,SUMIFS($G$5:G91,$C$5:C91,C91)-SUMIFS($I$4:I90,$C$4:C90,C91)))","v":0},null,{"$f":"IF(C91=\"\",0,IF(C91=$C$4,SUMIFS($I$4:I90,$C$4:C90,C90),SUMIFS($I$4:I90,$C$4:C90,C91)))","v":0},0]
[89,null,{"$f":"IFERROR(VLOOKUP(D92,Nomenclature!$B$2:$C$196,2,0),\"\")","v":""},null,null,null,null,{"$f":"IF(C92=\"\",0,IF(SUMIFS($G$5:G92,$C$5:C92,C92)-SUMIFS($I$4:I91,$C$4:C91,C92)<0,0,SUMIFS($G$5:G92,$C$5:C92,C92)-SUMIFS($I$4:I91,$C$4:C91,C92)))","v":0},null,{"$f":"IF(C92=\"\",0,IF(C92=$C$4,SUMIFS($I$4:I91,$C$4:C91,C91),SUMIFS($I$4:I91,$C$4:C91,C92)))","v":0},0]
[90,null,{"$f":"IFERROR(VLOOKUP(D93,Nomenclature!$B$2:$C$196,2,0),\"\")","v":""},null,null,null,null,{"$f":"IF(C93=\"\",0,IF(SUMIFS($G$5:G93,$C$5:C93,C93)-SUMIFS($I$4:I92,$C$4:C92,C93)<0,0,SUMIFS($G$5:G93,$C$5:C93,C93)-SUMIFS($I$4:I92,$C$4:C92,C93)))","v":0},null,{"$f":"IF(C93=\"\",0,IF(C93=$C$4,SUMIFS($I$4:I92,$C$4:C92,C92),SUMIFS($I$4:I92,$C$4:C92,C93)))","v":0},0]
[91,null,{"$f":"IFERROR(VLOOKUP(D94,Nomenclature!$B$2:$C$196,2,0),\"\")","v":""},null,null,null,null,{"$f":"IF(C94=\"\",0,IF(SUMIFS($G$5:G94,$C$5:C94,C94)-SUMIFS($I$4:I93,$C$4:C93,C94)<0,0,SUMIFS($G$5:G94,$C$5:C94,C94)-SUMIFS($I$4:I93,$C$4:C93,C94)))","v":0},null,{"$f":"IF(C94=\"\",0,IF(C94=$C$4,SUMIFS($I$4:I93,$C$4:C93,C93),SUMIFS($I$4:I93,$C$4:C93,C94)))","v":0},0]
[92,null,{"$f":"IFERROR(VLOOKUP(D95,Nomenclature!$B$2:$C$196,2,0),\"\")","v":""},null,null,null,null,{"$f":"IF(C95=\"\",0,IF(SUMIFS($G$5:G95,$C$5:C95,C95)-SUMIFS($I$4:I94,$C$4:C94,C95)<0,0,SUMIFS($G$5:G95,$C$5:C95,C95)-SUMIFS($I$4:I94,$C$4:C94,C95)))","v":0},null,{"$f":"IF(C95=\"\",0,IF(C95=$C$4,SUMIFS($I$4:I94,$C$4:C94,C94),SUMIFS($I$4:I94,$C$4:C94,C95)))","v":0},0]
[93,null,{"$f":"IFERROR(VLOOKUP(D96,Nomenclature!$B$2:$C$196,2,0),\"\")","v":""},null,null,null,null,{"$f":"IF(C96=\"\",0,IF(SUMIFS($G$5:G96,$C$5:C96,C96)-SUMIFS($I$4:I95,$C$4:C95,C96)<0,0,SUMIFS($G$5:G96,$C$5:C96,C96)-SUMIFS($I$4:I95,$C$4:C95,C96)))","v":0},null,{"$f":"IF(C96=\"\",0,IF(C96=$C$4,SUMIFS($I$4:I95,$C$4:C95,C95),SUMIFS($I$4:I95,$C$4:C95,C96)))","v":0},0]
[94,null,{"$f":"IFERROR(VLOOKUP(D97,Nomenclature!$B$2:$C$196,2,0),\"\")","v":""},null,null,null,null,{"$f":"IF(C97=\"\",0,IF(SUMIFS($G$5:G97,$C$5:C97,C97)-SUMIFS($I$4:I96,$C$4:C96,C97)<0,0,SUMIFS($G$5:G97,$C$5:C97,C97)-SUMIFS($I$4:I96,$C$4:C96,C97)))","v":0},null,{"$f":"IF(C97=\"\",0,IF(C97=$C$4,SUMIFS($I$4:I96,$C$4:C96,C96),SUMIFS($I$4:I96,$C$4:C96,C97)))","v":0},0]
[95,null,{"$f":"IFERROR(VLOOKUP(D98,Nomenclature!$B$2:$C$196,2,0),\"\")","v":""},null,null,null,null,{"$f":"IF(C98=\"\",0,IF(SUMIFS($G$5:G98,$C$5:C98,C98)-SUMIFS($I$4:I97,$C$4:C97,C98)<0,0,SUMIFS($G$5:G98,$C$5:C98,C98)-SUMIFS($I$4:I97,$C$4:C97,C98)))","v":0},null,{"$f":"IF(C98=\"\",0,IF(C98=$C$4,SUMIFS($I$4:I97,$C$4:C97,C97),SUMIFS($I$4:I97,$C$4:C97,C98)))","v":0},0]
[96,null,{"$f":"IFERROR(VLOOKUP(D99,Nomenclature!$B$2:$C$196,2,0),\"\")","v":""},null,null,null,null,{"$f":"IF(C99=\"\",0,IF(SUMIFS($G$5:G99,$C$5:C99,C99)-SUMIFS($I$4:I98,$C$4:C98,C99)<0,0,SUMIFS($G$5:G99,$C$5:C99,C99)-SUMIFS($I$4:I98,$C$4:C98,C99)))","v":0},null,{"$f":"IF(C99=\"\",0,IF(C99=$C$4,SUMIFS($I$4:I98,$C$4:C98,C98),SUMIFS($I$4:I98,$C$4:C98,C99)))","v":0},0]
[97,null,{"$f":"IFERROR(VLOOKUP(D100,Nomenclature!$B$2:$C$196,2,0),\"\")","v":""},null,null,null,null,{"$f":"IF(C100=\"\",0,IF(SUMIFS($G$5:G100,$C$5:C100,C100)-SUMIFS($I$4:I99,$C$4:C99,C100)<0,0,SUMIFS($G$5:G100,$C$5:C100,C100)-SUMIFS($I$4:I99,$C$4:C99,C100)))","v":0},null,{"$f":"IF(C100=\"\",0,IF(C100=$C$4,SUMIFS($I$4:I99,$C$4:C99,C99),SUMIFS($I$4:I99,$C$4:C99,C100)))","v":0},0]
[98,null,{"$f":"IFERROR(VLOOKUP(D101,Nomenclature!$B$2:$C$196,2,0),\"\")","v":""},null,null,null,null,{"$f":"IF(C101=\"\",0,IF(SUMIFS($G$5:G101,$C$5:C101,C101)-SUMIFS($I$4:I100,$C$4:C100,C101)<0,0,SUMIFS($G$5:G101,$C$5:C101,C101)-SUMIFS($I$4:I100,$C$4:C100,C101)))","v":0},null,{"$f":"IF(C101=\"\",0,IF(C101=$C$4,SUMIFS($I$4:I100,$C$4:C100,C100),SUMIFS($I$4:I100,$C$4:C100,C101)))","v":0},0]
[99,null,{"$f":"IFERROR(VLOOKUP(D102,Nomenclature!$B$2:$C$196,2,0),\"\")","v":""},null,null,null,null,{"$f":"IF(C102=\"\",0,IF(SUMIFS($G$5:G102,$C$5:C102,C102)-SUMIFS($I$4:I101,$C$4:C101,C102)<0,0,SUMIFS($G$5:G102,$C$5:C102,C102)-SUMIFS($I$4:I101,$C$4:C101,C102)))","v":0},null,{"$f":"IF(C102=\"\",0,IF(C102=$C$4,SUMIFS($I$4:I101,$C$4:C101,C101),SUMIFS($I$4:I101,$C$4:C101,C102)))","v":0},0]
[100,null,{"$f":"IFERROR(VLOOKUP(D103,Nomenclature!$B$2:$C$196,2,0),\"\")","v":""},null,null,null,null,{"$f":"IF(C103=\"\",0,IF(SUMIFS($G$5:G103,$C$5:C103,C103)-SUMIFS($I$4:I102,$C$4:C102,C103)<0,0,SUMIFS($G$5:G103,$C$5:C103,C103)-SUMIFS($I$4:I102,$C$4:C102,C103)))","v":0},null,{"$f":"IF(C103=\"\",0,IF(C103=$C$4,SUMIFS($I$4:I102,$C$4:C102,C102),SUMIFS($I$4:I102,$C$4:C102,C103)))","v":0},0]
[101,null,{"$f":"IFERROR(VLOOKUP(D104,Nomenclature!$B$2:$C$196,2,0),\"\")","v":""},null,null,null,null,{"$f":"IF(C104=\"\",0,IF(SUMIFS($G$5:G104,$C$5:C104,C104)-SUMIFS($I$4:I103,$C$4:C103,C104)<0,0,SUMIFS($G$5:G104,$C$5:C104,C104)-SUMIFS($I$4:I103,$C$4:C103,C104)))","v":0},null,{"$f":"IF(C104=\"\",0,IF(C104=$C$4,SUMIFS($I$4:I103,$C$4:C103,C103),SUMIFS($I$4:I103,$C$4:C103,C104)))","v":0},0]
[102,null,{"$f":"IFERROR(VLOOKUP(D105,Nomenclature!$B$2:$C$196,2,0),\"\")","v":""},null,null,null,null,{"$f":"IF(C105=\"\",0,IF(SUMIFS($G$5:G105,$C$5:C105,C105)-SUMIFS($I$4:I104,$C$4:C104,C105)<0,0,SUMIFS($G$5:G105,$C$5:C105,C105)-SUMIFS($I$4:I104,$C$4:C104,C105)))","v":0},null,{"$f":"IF(C105=\"\",0,IF(C105=$C$4,SUMIFS($I$4:I104,$C$4:C104,C104),SUMIFS($I$4:I104,$C$4:C104,C105)))","v":0},0]
[103,null,{"$f":"IFERROR(VLOOKUP(D106,Nomenclature!$B$2:$C$196,2,0),\"\")","v":""},null,null,null,null,{"$f":"IF(C106=\"\",0,IF(SUMIFS($G$5:G106,$C$5:C106,C106)-SUMIFS($I$4:I105,$C$4:C105,C106)<0,0,SUMIFS($G$5:G106,$C$5:C106,C106)-SUMIFS($I$4:I105,$C$4:C105,C106)))","v":0},null,{"$f":"IF(C106=\"\",0,IF(C106=$C$4,SUMIFS($I$4:I105,$C$4:C105,C105),SUMIFS($I$4:I105,$C$4:C105,C106)))","v":0},0]
[104,null,{"$f":"IFERROR(VLOOKUP(D107,Nomenclature!$B$2:$C$196,2,0),\"\")","v":""},null,null,null,null,{"$f":"IF(C107=\"\",0,IF(SUMIFS($G$5:G107,$C$5:C107,C107)-SUMIFS($I$4:I106,$C$4:C106,C107)<0,0,SUMIFS($G$5:G107,$C$5:C107,C107)-SUMIFS($I$4:I106,$C$4:C106,C107)))","v":0},null,{"$f":"IF(C107=\"\",0,IF(C107=$C$4,SUMIFS($I$4:I106,$C$4:C106,C106),SUMIFS($I$4:I106,$C$4:C106,C107)))","v":0},0]
[105,null,{"$f":"IFERROR(VLOOKUP(D108,Nomenclature!$B$2:$C$196,2,0),\"\")","v":""},null,null,null,null,{"$f":"IF(C108=\"\",0,IF(SUMIFS($G$5:G108,$C$5:C108,C108)-SUMIFS($I$4:I107,$C$4:C107,C108)<0,0,SUMIFS($G$5:G108,$C$5:C108,C108)-SUMIFS($I$4:I107,$C$4:C107,C108)))","v":0},null,{"$f":"IF(C108=\"\",0,IF(C108=$C$4,SUMIFS($I$4:I107,$C$4:C107,C107),SUMIFS($I$4:I107,$C$4:C107,C108)))","v":0},0]
[106,null,{"$f":"IFERROR(VLOOKUP(D109,Nomenclature!$B$2:$C$196,2,0),\"\")","v":""},null,null,null,null,{"$f":"IF(C109=\"\",0,IF(SUMIFS($G$5:G109,$C$5:C109,C109)-SUMIFS($I$4:I108,$C$4:C108,C109)<0,0,SUMIFS($G$5:G109,$C$5:C109,C109)-SUMIFS($I$4:I108,$C$4:C108,C109)))","v":0},null,{"$f":"IF(C109=\"\",0,IF(C109=$C$4,SUMIFS($I$4:I108,$C$4:C108,C108),SUMIFS($I$4:I108,$C$4:C108,C109)))","v":0},0]
[107,null,{"$f":"IFERROR(VLOOKUP(D110,Nomenclature!$B$2:$C$196,2,0),\"\")","v":""},null,null,null,null,{"$f":"IF(C110=\"\",0,IF(SUMIFS($G$5:G110,$C$5:C110,C110)-SUMIFS($I$4:I109,$C$4:C109,C110)<0,0,SUMIFS($G$5:G110,$C$5:C110,C110)-SUMIFS($I$4:I109,$C$4:C109,C110)))","v":0},null,{"$f":"IF(C110=\"\",0,IF(C110=$C$4,SUMIFS($I$4:I109,$C$4:C109,C109),SUMIFS($I$4:I109,$C$4:C109,C110)))","v":0},0]
[108,null,{"$f":"IFERROR(VLOOKUP(D111,Nomenclature!$B$2:$C$196,2,0),\"\")","v":""},null,null,null,null,{"$f":"IF(C111=\"\",0,IF(SUMIFS($G$5:G111,$C$5:C111,C111)-SUMIFS($I$4:I110,$C$4:C110,C111)<0,0,SUMIFS($G$5:G111,$C$5:C111,C111)-SUMIFS($I$4:I110,$C$4:C110,C111)))","v":0},null,{"$f":"IF(C111=\"\",0,IF(C111=$C$4,SUMIFS($I$4:I110,$C$4:C110,C110),SUMIFS($I$4:I110,$C$4:C110,C111)))","v":0},0]
[109,null,{"$f":"IFERROR(VLOOKUP(D112,Nomenclature!$B$2:$C$196,2,0),\"\")","v":""},null,null,null,null,{"$f":"IF(C112=\"\",0,IF(SUMIFS($G$5:G112,$C$5:C112,C112)-SUMIFS($I$4:I111,$C$4:C111,C112)<0,0,SUMIFS($G$5:G112,$C$5:C112,C112)-SUMIFS($I$4:I111,$C$4:C111,C112)))","v":0},null,{"$f":"IF(C112=\"\",0,IF(C112=$C$4,SUMIFS($I$4:I111,$C$4:C111,C111),SUMIFS($I$4:I111,$C$4:C111,C112)))","v":0},0]
[110,null,{"$f":"IFERROR(VLOOKUP(D113,Nomenclature!$B$2:$C$196,2,0),\"\")","v":""},null,null,null,null,{"$f":"IF(C113=\"\",0,IF(SUMIFS($G$5:G113,$C$5:C113,C113)-SUMIFS($I$4:I112,$C$4:C112,C113)<0,0,SUMIFS($G$5:G113,$C$5:C113,C113)-SUMIFS($I$4:I112,$C$4:C112,C113)))","v":0},null,{"$f":"IF(C113=\"\",0,IF(C113=$C$4,SUMIFS($I$4:I112,$C$4:C112,C112),SUMIFS($I$4:I112,$C$4:C112,C113)))","v":0},0]
[111,null,{"$f":"IFERROR(VLOOKUP(D114,Nomenclature!$B$2:$C$196,2,0),\"\")","v":""},null,null,null,null,{"$f":"IF(C114=\"\",0,IF(SUMIFS($G$5:G114,$C$5:C114,C114)-SUMIFS($I$4:I113,$C$4:C113,C114)<0,0,SUMIFS($G$5:G114,$C$5:C114,C114)-SUMIFS($I$4:I113,$C$4:C113,C114)))","v":0},null,{"$f":"IF(C114=\"\",0,IF(C114=$C$4,SUMIFS($I$4:I113,$C$4:C113,C113),SUMIFS($I$4:I113,$C$4:C113,C114)))","v":0},0]
[112,null,{"$f":"IFERROR(VLOOKUP(D115,Nomenclature!$B$2:$C$196,2,0),\"\")","v":""},null,null,null,null,{"$f":"IF(C115=\"\",0,IF(SUMIFS($G$5:G115,$C$5:C115,C115)-SUMIFS($I$4:I114,$C$4:C114,C115)<0,0,SUMIFS($G$5:G115,$C$5:C115,C115)-SUMIFS($I$4:I114,$C$4:C114,C115)))","v":0},null,{"$f":"IF(C115=\"\",0,IF(C115=$C$4,SUMIFS($I$4:I114,$C$4:C114,C114),SUMIFS($I$4:I114,$C$4:C114,C115)))","v":0},0]
[113,null,{"$f":"IFERROR(VLOOKUP(D116,Nomenclature!$B$2:$C$196,2,0),\"\")","v":""},null,null,null,null,{"$f":"IF(C116=\"\",0,IF(SUMIFS($G$5:G116,$C$5:C116,C116)-SUMIFS($I$4:I115,$C$4:C115,C116)<0,0,SUMIFS($G$5:G116,$C$5:C116,C116)-SUMIFS($I$4:I115,$C$4:C115,C116)))","v":0},null,{"$f":"IF(C116=\"\",0,IF(C116=$C$4,SUMIFS($I$4:I115,$C$4:C115,C115),SUMIFS($I$4:I115,$C$4:C115,C116)))","v":0},0]
[114,null,{"$f":"IFERROR(VLOOKUP(D117,Nomenclature!$B$2:$C$196,2,0),\"\")","v":""},null,null,null,null,{"$f":"IF(C117=\"\",0,IF(SUMIFS($G$5:G117,$C$5:C117,C117)-SUMIFS($I$4:I116,$C$4:C116,C117)<0,0,SUMIFS($G$5:G117,$C$5:C117,C117)-SUMIFS($I$4:I116,$C$4:C116,C117)))","v":0},null,{"$f":"IF(C117=\"\",0,IF(C117=$C$4,SUMIFS($I$4:I116,$C$4:C116,C116),SUMIFS($I$4:I116,$C$4:C116,C117)))","v":0},0]
[115,null,{"$f":"IFERROR(VLOOKUP(D118,Nomenclature!$B$2:$C$196,2,0),\"\")","v":""},null,null,null,null,{"$f":"IF(C118=\"\",0,IF(SUMIFS($G$5:G118,$C$5:C118,C118)-SUMIFS($I$4:I117,$C$4:C117,C118)<0,0,SUMIFS($G$5:G118,$C$5:C118,C118)-SUMIFS($I$4:I117,$C$4:C117,C118)))","v":0},null,{"$f":"IF(C118=\"\",0,IF(C118=$C$4,SUMIFS($I$4:I117,$C$4:C117,C117),SUMIFS($I$4:I117,$C$4:C117,C118)))","v":0},0]
[116,null,{"$f":"IFERROR(VLOOKUP(D119,Nomenclature!$B$2:$C$196,2,0),\"\")","v":""},null,null,null,null,{"$f":"IF(C119=\"\",0,IF(SUMIFS($G$5:G119,$C$5:C119,C119)-SUMIFS($I$4:I118,$C$4:C118,C119)<0,0,SUMIFS($G$5:G119,$C$5:C119,C119)-SUMIFS($I$4:I118,$C$4:C118,C119)))","v":0},null,{"$f":"IF(C119=\"\",0,IF(C119=$C$4,SUMIFS($I$4:I118,$C$4:C118,C118),SUMIFS($I$4:I118,$C$4:C118,C119)))","v":0},0]
[117,null,{"$f":"IFERROR(VLOOKUP(D120,Nomenclature!$B$2:$C$196,2,0),\"\")","v":""},null,null,null,null,{"$f":"IF(C120=\"\",0,IF(SUMIFS($G$5:G120,$C$5:C120,C120)-SUMIFS($I$4:I119,$C$4:C119,C120)<0,0,SUMIFS($G$5:G120,$C$5:C120,C120)-SUMIFS($I$4:I119,$C$4:C119,C120)))","v":0},null,{"$f":"IF(C120=\"\",0,IF(C120=$C$4,SUMIFS($I$4:I119,$C$4:C119,C119),SUMIFS($I$4:I119,$C$4:C119,C120)))","v":0},0]
[118,null,{"$f":"IFERROR(VLOOKUP(D121,Nomenclature!$B$2:$C$196,2,0),\"\")","v":""},null,null,null,null,{"$f":"IF(C121=\"\",0,IF(SUMIFS($G$5:G121,$C$5:C121,C121)-SUMIFS($I$4:I120,$C$4:C120,C121)<0,0,SUMIFS($G$5:G121,$C$5:C121,C121)-SUMIFS($I$4:I120,$C$4:C120,C121)))","v":0},null,{"$f":"IF(C121=\"\",0,IF(C121=$C$4,SUMIFS($I$4:I120,$C$4:C120,C120),SUMIFS($I$4:I120,$C$4:C120,C121)))","v":0},0]
[119,null,{"$f":"IFERROR(VLOOKUP(D122,Nomenclature!$B$2:$C$196,2,0),\"\")","v":""},null,null,null,null,{"$f":"IF(C122=\"\",0,IF(SUMIFS($G$5:G122,$C$5:C122,C122)-SUMIFS($I$4:I121,$C$4:C121,C122)<0,0,SUMIFS($G$5:G122,$C$5:C122,C122)-SUMIFS($I$4:I121,$C$4:C121,C122)))","v":0},null,{"$f":"IF(C122=\"\",0,IF(C122=$C$4,SUMIFS($I$4:I121,$C$4:C121,C121),SUMIFS($I$4:I121,$C$4:C121,C122)))","v":0},0]
[120,null,{"$f":"IFERROR(VLOOKUP(D123,Nomenclature!$B$2:$C$196,2,0),\"\")","v":""},null,null,null,null,{"$f":"IF(C123=\"\",0,IF(SUMIFS($G$5:G123,$C$5:C123,C123)-SUMIFS($I$4:I122,$C$4:C122,C123)<0,0,SUMIFS($G$5:G123,$C$5:C123,C123)-SUMIFS($I$4:I122,$C$4:C122,C123)))","v":0},null,{"$f":"IF(C123=\"\",0,IF(C123=$C$4,SUMIFS($I$4:I122,$C$4:C122,C122),SUMIFS($I$4:I122,$C$4:C122,C123)))","v":0},0]
[121,null,{"$f":"IFERROR(VLOOKUP(D124,Nomenclature!$B$2:$C$196,2,0),\"\")","v":""},null,null,null,null,{"$f":"IF(C124=\"\",0,IF(SUMIFS($G$5:G124,$C$5:C124,C124)-SUMIFS($I$4:I123,$C$4:C123,C124)<0,0,SUMIFS($G$5:G124,$C$5:C124,C124)-SUMIFS($I$4:I123,$C$4:C123,C124)))","v":0},null,{"$f":"IF(C124=\"\",0,IF(C124=$C$4,SUMIFS($I$4:I123,$C$4:C123,C123),SUMIFS($I$4:I123,$C$4:C123,C124)))","v":0},0]
[122,null,{"$f":"IFERROR(VLOOKUP(D125,Nomenclature!$B$2:$C$196,2,0),\"\")","v":""},null,null,null,null,{"$f":"IF(C125=\"\",0,IF(SUMIFS($G$5:G125,$C$5:C125,C125)-SUMIFS($I$4:I124,$C$4:C124,C125)<0,0,SUMIFS($G$5:G125,$C$5:C125,C125)-SUMIFS($I$4:I124,$C$4:C124,C125)))","v":0},null,{"$f":"IF(C125=\"\",0,IF(C125=$C$4,SUMIFS($I$4:I124,$C$4:C124,C124),SUMIFS($I$4:I124,$C$4:C124,C125)))","v":0},0]
[123,null,{"$f":"IFERROR(VLOOKUP(D126,Nomenclature!$B$2:$C$196,2,0),\"\")","v":""},null,null,null,null,{"$f":"IF(C126=\"\",0,IF(SUMIFS($G$5:G126,$C$5:C126,C126)-SUMIFS($I$4:I125,$C$4:C125,C126)<0,0,SUMIFS($G$5:G126,$C$5:C126,C126)-SUMIFS($I$4:I125,$C$4:C125,C126)))","v":0},null,{"$f":"IF(C126=\"\",0,IF(C126=$C$4,SUMIFS($I$4:I125,$C$4:C125,C125),SUMIFS($I$4:I125,$C$4:C125,C126)))","v":0},0]
[124,null,{"$f":"IFERROR(VLOOKUP(D127,Nomenclature!$B$2:$C$196,2,0),\"\")","v":""},null,null,null,null,{"$f":"IF(C127=\"\",0,IF(SUMIFS($G$5:G127,$C$5:C127,C127)-SUMIFS($I$4:I126,$C$4:C126,C127)<0,0,SUMIFS($G$5:G127,$C$5:C127,C127)-SUMIFS($I$4:I126,$C$4:C126,C127)))","v":0},null,{"$f":"IF(C127=\"\",0,IF(C127=$C$4,SUMIFS($I$4:I126,$C$4:C126,C126),SUMIFS($I$4:I126,$C$4:C126,C127)))","v":0},0]
[125,null,{"$f":"IFERROR(VLOOKUP(D128,Nomenclature!$B$2:$C$196,2,0),\"\")","v":""},null,null,null,null,{"$f":"IF(C128=\"\",0,IF(SUMIFS($G$5:G128,$C$5:C128,C128)-SUMIFS($I$4:I127,$C$4:C127,C128)<0,0,SUMIFS($G$5:G128,$C$5:C128,C128)-SUMIFS($I$4:I127,$C$4:C127,C128)))","v":0},null,{"$f":"IF(C128=\"\",0,IF(C128=$C$4,SUMIFS($I$4:I127,$C$4:C127,C127),SUMIFS($I$4:I127,$C$4:C127,C128)))","v":0},0]
[126,null,{"$f":"IFERROR(VLOOKUP(D129,Nomenclature!$B$2:$C$196,2,0),\"\")","v":""},null,null,null,null,{"$f":"IF(C129=\"\",0,IF(SUMIFS($G$5:G129,$C$5:C129,C129)-SUMIFS($I$4:I128,$C$4:C128,C129)<0,0,SUMIFS($G$5:G129,$C$5:C129,C129)-SUMIFS($I$4:I128,$C$4:C128,C129)))","v":0},null,{"$f":"IF(C129=\"\",0,IF(C129=$C$4,SUMIFS($I$4:I128,$C$4:C128,C128),SUMIFS($I$4:I128,$C$4:C128,C129)))","v":0},0]
[127,null,{"$f":"IFERROR(VLOOKUP(D130,Nomenclature!$B$2:$C$196,2,0),\"\")","v":""},null,null,null,null,{"$f":"IF(C130=\"\",0,IF(SUMIFS($G$5:G130,$C$5:C130,C130)-SUMIFS($I$4:I129,$C$4:C129,C130)<0,0,SUMIFS($G$5:G130,$C$5:C130,C130)-SUMIFS($I$4:I129,$C$4:C129,C130)))","v":0},null,{"$f":"IF(C130=\"\",0,IF(C130=$C$4,SUMIFS($I$4:I129,$C$4:C129,C129),SUMIFS($I$4:I129,$C$4:C129,C130)))","v":0},0]
[128,null,{"$f":"IFERROR(VLOOKUP(D131,Nomenclature!$B$2:$C$196,2,0),\"\")","v":""},null,null,null,null,{"$f":"IF(C131=\"\",0,IF(SUMIFS($G$5:G131,$C$5:C131,C131)-SUMIFS($I$4:I130,$C$4:C130,C131)<0,0,SUMIFS($G$5:G131,$C$5:C131,C131)-SUMIFS($I$4:I130,$C$4:C130,C131)))","v":0},null,{"$f":"IF(C131=\"\",0,IF(C131=$C$4,SUMIFS($I$4:I130,$C$4:C130,C130),SUMIFS($I$4:I130,$C$4:C130,C131)))","v":0},0]
[129,null,{"$f":"IFERROR(VLOOKUP(D132,Nomenclature!$B$2:$C$196,2,0),\"\")","v":""},null,null,null,null,{"$f":"IF(C132=\"\",0,IF(SUMIFS($G$5:G132,$C$5:C132,C132)-SUMIFS($I$4:I131,$C$4:C131,C132)<0,0,SUMIFS($G$5:G132,$C$5:C132,C132)-SUMIFS($I$4:I131,$C$4:C131,C132)))","v":0},null,{"$f":"IF(C132=\"\",0,IF(C132=$C$4,SUMIFS($I$4:I131,$C$4:C131,C131),SUMIFS($I$4:I131,$C$4:C131,C132)))","v":0},{"$f":"IF(C132=\"\",0,H132-I132)","v":0}]
[130,null,{"$f":"IFERROR(VLOOKUP(D133,Nomenclature!$B$2:$C$196,2,0),\"\")","v":""},null,null,null,null,{"$f":"IF(C133=\"\",0,IF(SUMIFS($G$5:G133,$C$5:C133,C133)-SUMIFS($I$4:I132,$C$4:C132,C133)<0,0,SUMIFS($G$5:G133,$C$5:C133,C133)-SUMIFS($I$4:I132,$C$4:C132,C133)))","v":0},null,{"$f":"IF(C133=\"\",0,IF(C133=$C$4,SUMIFS($I$4:I132,$C$4:C132,C132),SUMIFS($I$4:I132,$C$4:C132,C133)))","v":0},0]
[131,null,{"$f":"IFERROR(VLOOKUP(D134,Nomenclature!$B$2:$C$196,2,0),\"\")","v":""},null,null,null,null,{"$f":"IF(C134=\"\",0,IF(SUMIFS($G$5:G134,$C$5:C134,C134)-SUMIFS($I$4:I133,$C$4:C133,C134)<0,0,SUMIFS($G$5:G134,$C$5:C134,C134)-SUMIFS($I$4:I133,$C$4:C133,C134)))","v":0},null,{"$f":"IF(C134=\"\",0,IF(C134=$C$4,SUMIFS($I$4:I133,$C$4:C133,C133),SUMIFS($I$4:I133,$C$4:C133,C134)))","v":0},0]
[132,null,{"$f":"IFERROR(VLOOKUP(D135,Nomenclature!$B$2:$C$196,2,0),\"\")","v":""},null,null,null,null,{"$f":"IF(C135=\"\",0,IF(SUMIFS($G$5:G135,$C$5:C135,C135)-SUMIFS($I$4:I134,$C$4:C134,C135)<0,0,SUMIFS($G$5:G135,$C$5:C135,C135)-SUMIFS($I$4:I134,$C$4:C134,C135)))","v":0},null,{"$f":"IF(C135=\"\",0,IF(C135=$C$4,SUMIFS($I$4:I134,$C$4:C134,C134),SUMIFS($I$4:I134,$C$4:C134,C135)))","v":0},0]
[133,null,{"$f":"IFERROR(VLOOKUP(D136,Nomenclature!$B$2:$C$196,2,0),\"\")","v":""},null,null,null,null,{"$f":"IF(C136=\"\",0,IF(SUMIFS($G$5:G136,$C$5:C136,C136)-SUMIFS($I$4:I135,$C$4:C135,C136)<0,0,SUMIFS($G$5:G136,$C$5:C136,C136)-SUMIFS($I$4:I135,$C$4:C135,C136)))","v":0},null,{"$f":"IF(C136=\"\",0,IF(C136=$C$4,SUMIFS($I$4:I135,$C$4:C135,C135),SUMIFS($I$4:I135,$C$4:C135,C136)))","v":0},0]
[134,null,{"$f":"IFERROR(VLOOKUP(D137,Nomenclature!$B$2:$C$196,2,0),\"\")","v":""},null,null,null,null,{"$f":"IF(C137=\"\",0,IF(SUMIFS($G$5:G137,$C$5:C137,C137)-SUMIFS($I$4:I136,$C$4:C136,C137)<0,0,SUMIFS($G$5:G137,$C$5:C137,C137)-SUMIFS($I$4:I136,$C$4:C136,C137)))","v":0},null,{"$f":"IF(C137=\"\",0,IF(C137=$C$4,SUMIFS($I$4:I136,$C$4:C136,C136),SUMIFS($I$4:I136,$C$4:C136,C137)))","v":0},0]
[135,null,{"$f":"IFERROR(VLOOKUP(D138,Nomenclature!$B$2:$C$196,2,0),\"\")","v":""},null,null,null,null,{"$f":"IF(C138=\"\",0,IF(SUMIFS($G$5:G138,$C$5:C138,C138)-SUMIFS($I$4:I137,$C$4:C137,C138)<0,0,SUMIFS($G$5:G138,$C$5:C138,C138)-SUMIFS($I$4:I137,$C$4:C137,C138)))","v":0},null,{"$f":"IF(C138=\"\",0,IF(C138=$C$4,SUMIFS($I$4:I137,$C$4:C137,C137),SUMIFS($I$4:I137,$C$4:C137,C138)))","v":0},0]
[136,null,{"$f":"IFERROR(VLOOKUP(D139,Nomenclature!$B$2:$C$196,2,0),\"\")","v":""},null,null,null,null,{"$f":"IF(C139=\"\",0,IF(SUMIFS($G$5:G139,$C$5:C139,C139)-SUMIFS($I$4:I138,$C$4:C138,C139)<0,0,SUMIFS($G$5:G139,$C$5:C139,C139)-SUMIFS($I$4:I138,$C$4:C138,C139)))","v":0},null,{"$f":"IF(C139=\"\",0,IF(C139=$C$4,SUMIFS($I$4:I138,$C$4:C138,C138),SUMIFS($I$4:I138,$C$4:C138,C139)))","v":0},0]
[137,null,{"$f":"IFERROR(VLOOKUP(D140,Nomenclature!$B$2:$C$196,2,0),\"\")","v":""},null,null,null,null,{"$f":"IF(C140=\"\",0,IF(SUMIFS($G$5:G140,$C$5:C140,C140)-SUMIFS($I$4:I139,$C$4:C139,C140)<0,0,SUMIFS($G$5:G140,$C$5:C140,C140)-SUMIFS($I$4:I139,$C$4:C139,C140)))","v":0},null,{"$f":"IF(C140=\"\",0,IF(C140=$C$4,SUMIFS($I$4:I139,$C$4:C139,C139),SUMIFS($I$4:I139,$C$4:C139,C140)))","v":0},0]
[138,null,{"$f":"IFERROR(VLOOKUP(D141,Nomenclature!$B$2:$C$196,2,0),\"\")","v":""},null,null,null,null,{"$f":"IF(C141=\"\",0,IF(SUMIFS($G$5:G141,$C$5:C141,C141)-SUMIFS($I$4:I140,$C$4:C140,C141)<0,0,SUMIFS($G$5:G141,$C$5:C141,C141)-SUMIFS($I$4:I140,$C$4:C140,C141)))","v":0},null,{"$f":"IF(C141=\"\",0,IF(C141=$C$4,SUMIFS($I$4:I140,$C$4:C140,C140),SUMIFS($I$4:I140,$C$4:C140,C141)))","v":0},0]
[139,null,{"$f":"IFERROR(VLOOKUP(D142,Nomenclature!$B$2:$C$196,2,0),\"\")","v":""},null,null,null,null,{"$f":"IF(C142=\"\",0,IF(SUMIFS($G$5:G142,$C$5:C142,C142)-SUMIFS($I$4:I141,$C$4:C141,C142)<0,0,SUMIFS($G$5:G142,$C$5:C142,C142)-SUMIFS($I$4:I141,$C$4:C141,C142)))","v":0},null,{"$f":"IF(C142=\"\",0,IF(C142=$C$4,SUMIFS($I$4:I141,$C$4:C141,C141),SUMIFS($I$4:I141,$C$4:C141,C142)))","v":0},0]
[140,null,{"$f":"IFERROR(VLOOKUP(D143,Nomenclature!$B$2:$C$196,2,0),\"\")","v":""},null,null,null,null,{"$f":"IF(C143=\"\",0,IF(SUMIFS($G$5:G143,$C$5:C143,C143)-SUMIFS($I$4:I142,$C$4:C142,C143)<0,0,SUMIFS($G$5:G143,$C$5:C143,C143)-SUMIFS($I$4:I142,$C$4:C142,C143)))","v":0},null,{"$f":"IF(C143=\"\",0,IF(C143=$C$4,SUMIFS($I$4:I142,$C$4:C142,C142),SUMIFS($I$4:I142,$C$4:C142,C143)))","v":0},0]
[141,null,{"$f":"IFERROR(VLOOKUP(D144,Nomenclature!$B$2:$C$196,2,0),\"\")","v":""},null,null,null,null,{"$f":"IF(C144=\"\",0,IF(SUMIFS($G$5:G144,$C$5:C144,C144)-SUMIFS($I$4:I143,$C$4:C143,C144)<0,0,SUMIFS($G$5:G144,$C$5:C144,C144)-SUMIFS($I$4:I143,$C$4:C143,C144)))","v":0},null,{"$f":"IF(C144=\"\",0,IF(C144=$C$4,SUMIFS($I$4:I143,$C$4:C143,C143),SUMIFS($I$4:I143,$C$4:C143,C144)))","v":0},0]
[142,null,{"$f":"IFERROR(VLOOKUP(D145,Nomenclature!$B$2:$C$196,2,0),\"\")","v":""},null,null,null,null,{"$f":"IF(C145=\"\",0,IF(SUMIFS($G$5:G145,$C$5:C145,C145)-SUMIFS($I$4:I144,$C$4:C144,C145)<0,0,SUMIFS($G$5:G145,$C$5:C145,C145)-SUMIFS($I$4:I144,$C$4:C144,C145)))","v":0},null,{"$f":"IF(C145=\"\",0,IF(C145=$C$4,SUMIFS($I$4:I144,$C$4:C144,C144),SUMIFS($I$4:I144,$C$4:C144,C145)))","v":0},0]
[143,null,{"$f":"IFERROR(VLOOKUP(D146,Nomenclature!$B$2:$C$196,2,0),\"\")","v":""},null,null,null,null,{"$f":"IF(C146=\"\",0,IF(SUMIFS($G$5:G146,$C$5:C146,C146)-SUMIFS($I$4:I145,$C$4:C145,C146)<0,0,SUMIFS($G$5:G146,$C$5:C146,C146)-SUMIFS($I$4:I145,$C$4:C145,C146)))","v":0},null,{"$f":"IF(C146=\"\",0,IF(C146=$C$4,SUMIFS($I$4:I145,$C$4:C145,C145),SUMIFS($I$4:I145,$C$4:C145,C146)))","v":0},0]
[144,null,{"$f":"IFERROR(VLOOKUP(D147,Nomenclature!$B$2:$C$196,2,0),\"\")","v":""},null,null,null,null,{"$f":"IF(C147=\"\",0,IF(SUMIFS($G$5:G147,$C$5:C147,C147)-SUMIFS($I$4:I146,$C$4:C146,C147)<0,0,SUMIFS($G$5:G147,$C$5:C147,C147)-SUMIFS($I$4:I146,$C$4:C146,C147)))","v":0},null,{"$f":"IF(C147=\"\",0,IF(C147=$C$4,SUMIFS($I$4:I146,$C$4:C146,C146),SUMIFS($I$4:I146,$C$4:C146,C147)))","v":0},0]
[145,null,{"$f":"IFERROR(VLOOKUP(D148,Nomenclature!$B$2:$C$196,2,0),\"\")","v":""},null,null,null,null,{"$f":"IF(C148=\"\",0,IF(SUMIFS($G$5:G148,$C$5:C148,C148)-SUMIFS($I$4:I147,$C$4:C147,C148)<0,0,SUMIFS($G$5:G148,$C$5:C148,C148)-SUMIFS($I$4:I147,$C$4:C147,C148)))","v":0},null,{"$f":"IF(C148=\"\",0,IF(C148=$C$4,SUMIFS($I$4:I147,$C$4:C147,C147),SUMIFS($I$4:I147,$C$4:C147,C148)))","v":0},0]
[146,null,{"$f":"IFERROR(VLOOKUP(D149,Nomenclature!$B$2:$C$196,2,0),\"\")","v":""},null,null,null,null,{"$f":"IF(C149=\"\",0,IF(SUMIFS($G$5:G149,$C$5:C149,C149)-SUMIFS($I$4:I148,$C$4:C148,C149)<0,0,SUMIFS($G$5:G149,$C$5:C149,C149)-SUMIFS($I$4:I148,$C$4:C148,C149)))","v":0},null,{"$f":"IF(C149=\"\",0,IF(C149=$C$4,SUMIFS($I$4:I148,$C$4:C148,C148),SUMIFS($I$4:I148,$C$4:C148,C149)))","v":0},0]
[147,null,{"$f":"IFERROR(VLOOKUP(D150,Nomenclature!$B$2:$C$196,2,0),\"\")","v":""},null,null,null,null,{"$f":"IF(C150=\"\",0,IF(SUMIFS($G$5:G150,$C$5:C150,C150)-SUMIFS($I$4:I149,$C$4:C149,C150)<0,0,SUMIFS($G$5:G150,$C$5:C150,C150)-SUMIFS($I$4:I149,$C$4:C149,C150)))","v":0},null,{"$f":"IF(C150=\"\",0,IF(C150=$C$4,SUMIFS($I$4:I149,$C$4:C149,C149),SUMIFS($I$4:I149,$C$4:C149,C150)))","v":0},0]
[148,null,{"$f":"IFERROR(VLOOKUP(D151,Nomenclature!$B$2:$C$196,2,0),\"\")","v":""},null,null,null,null,{"$f":"IF(C151=\"\",0,IF(SUMIFS($G$5:G151,$C$5:C151,C151)-SUMIFS($I$4:I150,$C$4:C150,C151)<0,0,SUMIFS($G$5:G151,$C$5:C151,C151)-SUMIFS($I$4:I150,$C$4:C150,C151)))","v":0},null,{"$f":"IF(C151=\"\",0,IF(C151=$C$4,SUMIFS($I$4:I150,$C$4:C150,C150),SUMIFS($I$4:I150,$C$4:C150,C151)))","v":0},0]
[149,null,{"$f":"IFERROR(VLOOKUP(D152,Nomenclature!$B$2:$C$196,2,0),\"\")","v":""},null,null,null,null,{"$f":"IF(C152=\"\",0,IF(SUMIFS($G$5:G152,$C$5:C152,C152)-SUMIFS($I$4:I151,$C$4:C151,C152)<0,0,SUMIFS($G$5:G152,$C$5:C152,C152)-SUMIFS($I$4:I151,$C$4:C151,C152)))","v":0},null,{"$f":"IF(C152=\"\",0,IF(C152=$C$4,SUMIFS($I$4:I151,$C$4:C151,C151),SUMIFS($I$4:I151,$C$4:C151,C152)))","v":0},0]
[150,null,{"$f":"IFERROR(VLOOKUP(D153,Nomenclature!$B$2:$C$196,2,0),\"\")","v":""},null,null,null,null,{"$f":"IF(C153=\"\",0,IF(SUMIFS($G$5:G153,$C$5:C153,C153)-SUMIFS($I$4:I152,$C$4:C152,C153)<0,0,SUMIFS($G$5:G153,$C$5:C153,C153)-SUMIFS($I$4:I152,$C$4:C152,C153)))","v":0},null,{"$f":"IF(C153=\"\",0,IF(C153=$C$4,SUMIFS($I$4:I152,$C$4:C152,C152),SUMIFS($I$4:I152,$C$4:C152,C153)))","v":0},0]
[151,null,{"$f":"IFERROR(VLOOKUP(D154,Nomenclature!$B$2:$C$196,2,0),\"\")","v":""},null,null,null,null,{"$f":"IF(C154=\"\",0,IF(SUMIFS($G$5:G154,$C$5:C154,C154)-SUMIFS($I$4:I153,$C$4:C153,C154)<0,0,SUMIFS($G$5:G154,$C$5:C154,C154)-SUMIFS($I$4:I153,$C$4:C153,C154)))","v":0},null,{"$f":"IF(C154=\"\",0,IF(C154=$C$4,SUMIFS($I$4:I153,$C$4:C153,C153),SUMIFS($I$4:I153,$C$4:C153,C154)))","v":0},0]
[152,null,{"$f":"IFERROR(VLOOKUP(D155,Nomenclature!$B$2:$C$196,2,0),\"\")","v":""},null,null,null,null,{"$f":"IF(C155=\"\",0,IF(SUMIFS($G$5:G155,$C$5:C155,C155)-SUMIFS($I$4:I154,$C$4:C154,C155)<0,0,SUMIFS($G$5:G155,$C$5:C155,C155)-SUMIFS($I$4:I154,$C$4:C154,C155)))","v":0},null,{"$f":"IF(C155=\"\",0,IF(C155=$C$4,SUMIFS($I$4:I154,$C$4:C154,C154),SUMIFS($I$4:I154,$C$4:C154,C155)))","v":0},0]
[153,null,{"$f":"IFERROR(VLOOKUP(D156,Nomenclature!$B$2:$C$196,2,0),\"\")","v":""},null,null,null,null,{"$f":"IF(C156=\"\",0,IF(SUMIFS($G$5:G156,$C$5:C156,C156)-SUMIFS($I$4:I155,$C$4:C155,C156)<0,0,SUMIFS($G$5:G156,$C$5:C156,C156)-SUMIFS($I$4:I155,$C$4:C155,C156)))","v":0},null,{"$f":"IF(C156=\"\",0,IF(C156=$C$4,SUMIFS($I$4:I155,$C$4:C155,C155),SUMIFS($I$4:I155,$C$4:C155,C156)))","v":0},0]
[154,null,{"$f":"IFERROR(VLOOKUP(D157,Nomenclature!$B$2:$C$196,2,0),\"\")","v":""},null,null,null,null,{"$f":"IF(C157=\"\",0,IF(SUMIFS($G$5:G157,$C$5:C157,C157)-SUMIFS($I$4:I156,$C$4:C156,C157)<0,0,SUMIFS($G$5:G157,$C$5:C157,C157)-SUMIFS($I$4:I156,$C$4:C156,C157)))","v":0},null,{"$f":"IF(C157=\"\",0,IF(C157=$C$4,SUMIFS($I$4:I156,$C$4:C156,C156),SUMIFS($I$4:I156,$C$4:C156,C157)))","v":0},0]
[155,null,{"$f":"IFERROR(VLOOKUP(D158,Nomenclature!$B$2:$C$196,2,0),\"\")","v":""},null,null,null,null,{"$f":"IF(C158=\"\",0,IF(SUMIFS($G$5:G158,$C$5:C158,C158)-SUMIFS($I$4:I157,$C$4:C157,C158)<0,0,SUMIFS($G$5:G158,$C$5:C158,C158)-SUMIFS($I$4:I157,$C$4:C157,C158)))","v":0},null,{"$f":"IF(C158=\"\",0,IF(C158=$C$4,SUMIFS($I$4:I157,$C$4:C157,C157),SUMIFS($I$4:I157,$C$4:C157,C158)))","v":0},0]
[156,null,{"$f":"IFERROR(VLOOKUP(D159,Nomenclature!$B$2:$C$196,2,0),\"\")","v":""},null,null,null,null,{"$f":"IF(C159=\"\",0,IF(SUMIFS($G$5:G159,$C$5:C159,C159)-SUMIFS($I$4:I158,$C$4:C158,C159)<0,0,SUMIFS($G$5:G159,$C$5:C159,C159)-SUMIFS($I$4:I158,$C$4:C158,C159)))","v":0},null,{"$f":"IF(C159=\"\",0,IF(C159=$C$4,SUMIFS($I$4:I158,$C$4:C158,C158),SUMIFS($I$4:I158,$C$4:C158,C159)))","v":0},0]
[157,null,{"$f":"IFERROR(VLOOKUP(D160,Nomenclature!$B$2:$C$196,2,0),\"\")","v":""},null,null,null,null,{"$f":"IF(C160=\"\",0,IF(SUMIFS($G$5:G160,$C$5:C160,C160)-SUMIFS($I$4:I159,$C$4:C159,C160)<0,0,SUMIFS($G$5:G160,$C$5:C160,C160)-SUMIFS($I$4:I159,$C$4:C159,C160)))","v":0},null,{"$f":"IF(C160=\"\",0,IF(C160=$C$4,SUMIFS($I$4:I159,$C$4:C159,C159),SUMIFS($I$4:I159,$C$4:C159,C160)))","v":0},0]
[158,null,{"$f":"IFERROR(VLOOKUP(D161,Nomenclature!$B$2:$C$196,2,0),\"\")","v":""},null,null,null,null,{"$f":"IF(C161=\"\",0,IF(SUMIFS($G$5:G161,$C$5:C161,C161)-SUMIFS($I$4:I160,$C$4:C160,C161)<0,0,SUMIFS($G$5:G161,$C$5:C161,C161)-SUMIFS($I$4:I160,$C$4:C160,C161)))","v":0},null,{"$f":"IF(C161=\"\",0,IF(C161=$C$4,SUMIFS($I$4:I160,$C$4:C160,C160),SUMIFS($I$4:I160,$C$4:C160,C161)))","v":0},0]
[159,null,{"$f":"IFERROR(VLOOKUP(D162,Nomenclature!$B$2:$C$196,2,0),\"\")","v":""},null,null,null,null,{"$f":"IF(C162=\"\",0,IF(SUMIFS($G$5:G162,$C$5:C162,C162)-SUMIFS($I$4:I161,$C$4:C161,C162)<0,0,SUMIFS($G$5:G162,$C$5:C162,C162)-SUMIFS($I$4:I161,$C$4:C161,C162)))","v":0},null,{"$f":"IF(C162=\"\",0,IF(C162=$C$4,SUMIFS($I$4:I161,$C$4:C161,C161),SUMIFS($I$4:I161,$C$4:C161,C162)))","v":0},0]
[160,null,{"$f":"IFERROR(VLOOKUP(D163,Nomenclature!$B$2:$C$196,2,0),\"\")","v":""},null,null,null,null,{"$f":"IF(C163=\"\",0,IF(SUMIFS($G$5:G163,$C$5:C163,C163)-SUMIFS($I$4:I162,$C$4:C162,C163)<0,0,SUMIFS($G$5:G163,$C$5:C163,C163)-SUMIFS($I$4:I162,$C$4:C162,C163)))","v":0},null,{"$f":"IF(C163=\"\",0,IF(C163=$C$4,SUMIFS($I$4:I162,$C$4:C162,C162),SUMIFS($I$4:I162,$C$4:C162,C163)))","v":0},0]
[161,null,{"$f":"IFERROR(VLOOKUP(D164,Nomenclature!$B$2:$C$196,2,0),\"\")","v":""},null,null,null,null,{"$f":"IF(C164=\"\",0,IF(SUMIFS($G$5:G164,$C$5:C164,C164)-SUMIFS($I$4:I163,$C$4:C163,C164)<0,0,SUMIFS($G$5:G164,$C$5:C164,C164)-SUMIFS($I$4:I163,$C$4:C163,C164)))","v":0},null,{"$f":"IF(C164=\"\",0,IF(C164=$C$4,SUMIFS($I$4:I163,$C$4:C163,C163),SUMIFS($I$4:I163,$C$4:C163,C164)))","v":0},0]
[162,null,{"$f":"IFERROR(VLOOKUP(D165,Nomenclature!$B$2:$C$196,2,0),\"\")","v":""},null,null,null,null,{"$f":"IF(C165=\"\",0,IF(SUMIFS($G$5:G165,$C$5:C165,C165)-SUMIFS($I$4:I164,$C$4:C164,C165)<0,0,SUMIFS($G$5:G165,$C$5:C165,C165)-SUMIFS($I$4:I164,$C$4:C164,C165)))","v":0},null,{"$f":"IF(C165=\"\",0,IF(C165=$C$4,SUMIFS($I$4:I164,$C$4:C164,C164),SUMIFS($I$4:I164,$C$4:C164,C165)))","v":0},0]
[163,null,{"$f":"IFERROR(VLOOKUP(D166,Nomenclature!$B$2:$C$196,2,0),\"\")","v":""},null,null,null,null,{"$f":"IF(C166=\"\",0,IF(SUMIFS($G$5:G166,$C$5:C166,C166)-SUMIFS($I$4:I165,$C$4:C165,C166)<0,0,SUMIFS($G$5:G166,$C$5:C166,C166)-SUMIFS($I$4:I165,$C$4:C165,C166)))","v":0},null,{"$f":"IF(C166=\"\",0,IF(C166=$C$4,SUMIFS($I$4:I165,$C$4:C165,C165),SUMIFS($I$4:I165,$C$4:C165,C166)))","v":0},0]
[164,null,{"$f":"IFERROR(VLOOKUP(D167,Nomenclature!$B$2:$C$196,2,0),\"\")","v":""},null,null,null,null,{"$f":"IF(C167=\"\",0,IF(SUMIFS($G$5:G167,$C$5:C167,C167)-SUMIFS($I$4:I166,$C$4:C166,C167)<0,0,SUMIFS($G$5:G167,$C$5:C167,C167)-SUMIFS($I$4:I166,$C$4:C166,C167)))","v":0},null,{"$f":"IF(C167=\"\",0,IF(C167=$C$4,SUMIFS($I$4:I166,$C$4:C166,C166),SUMIFS($I$4:I166,$C$4:C166,C167)))","v":0},0]
[165,null,{"$f":"IFERROR(VLOOKUP(D168,Nomenclature!$B$2:$C$196,2,0),\"\")","v":""},null,null,null,null,{"$f":"IF(C168=\"\",0,IF(SUMIFS($G$5:G168,$C$5:C168,C168)-SUMIFS($I$4:I167,$C$4:C167,C168)<0,0,SUMIFS($G$5:G168,$C$5:C168,C168)-SUMIFS($I$4:I167,$C$4:C167,C168)))","v":0},null,{"$f":"IF(C168=\"\",0,IF(C168=$C$4,SUMIFS($I$4:I167,$C$4:C167,C167),SUMIFS($I$4:I167,$C$4:C167,C168)))","v":0},0]
[166,null,{"$f":"IFERROR(VLOOKUP(D169,Nomenclature!$B$2:$C$196,2,0),\"\")","v":""},null,null,null,null,{"$f":"IF(C169=\"\",0,IF(SUMIFS($G$5:G169,$C$5:C169,C169)-SUMIFS($I$4:I168,$C$4:C168,C169)<0,0,SUMIFS($G$5:G169,$C$5:C169,C169)-SUMIFS($I$4:I168,$C$4:C168,C169)))","v":0},null,{"$f":"IF(C169=\"\",0,IF(C169=$C$4,SUMIFS($I$4:I168,$C$4:C168,C168),SUMIFS($I$4:I168,$C$4:C168,C169)))","v":0},0]
[167,null,{"$f":"IFERROR(VLOOKUP(D170,Nomenclature!$B$2:$C$196,2,0),\"\")","v":""},null,null,null,null,{"$f":"IF(C170=\"\",0,IF(SUMIFS($G$5:G170,$C$5:C170,C170)-SUMIFS($I$4:I169,$C$4:C169,C170)<0,0,SUMIFS($G$5:G170,$C$5:C170,C170)-SUMIFS($I$4:I169,$C$4:C169,C170)))","v":0},null,{"$f":"IF(C170=\"\",0,IF(C170=$C$4,SUMIFS($I$4:I169,$C$4:C169,C169),SUMIFS($I$4:I169,$C$4:C169,C170)))","v":0},0]
[168,null,{"$f":"IFERROR(VLOOKUP(D171,Nomenclature!$B$2:$C$196,2,0),\"\")","v":""},null,null,null,null,{"$f":"IF(C171=\"\",0,IF(SUMIFS($G$5:G171,$C$5:C171,C171)-SUMIFS($I$4:I170,$C$4:C170,C171)<0,0,SUMIFS($G$5:G171,$C$5:C171,C171)-SUMIFS($I$4:I170,$C$4:C170,C171)))","v":0},null,{"$f":"IF(C171=\"\",0,IF(C171=$C$4,SUMIFS($I$4:I170,$C$4:C170,C170),SUMIFS($I$4:I170,$C$4:C170,C171)))","v":0},0]
[169,null,{"$f":"IFERROR(VLOOKUP(D172,Nomenclature!$B$2:$C$196,2,0),\"\")","v":""},null,null,null,null,{"$f":"IF(C172=\"\",0,IF(SUMIFS($G$5:G172,$C$5:C172,C172)-SUMIFS($I$4:I171,$C$4:C171,C172)<0,0,SUMIFS($G$5:G172,$C$5:C172,C172)-SUMIFS($I$4:I171,$C$4:C171,C172)))","v":0},null,{"$f":"IF(C172=\"\",0,IF(C172=$C$4,SUMIFS($I$4:I171,$C$4:C171,C171),SUMIFS($I$4:I171,$C$4:C171,C172)))","v":0},0]
[170,null,{"$f":"IFERROR(VLOOKUP(D173,Nomenclature!$B$2:$C$196,2,0),\"\")","v":""},null,null,null,null,{"$f":"IF(C173=\"\",0,IF(SUMIFS($G$5:G173,$C$5:C173,C173)-SUMIFS($I$4:I172,$C$4:C172,C173)<0,0,SUMIFS($G$5:G173,$C$5:C173,C173)-SUMIFS($I$4:I172,$C$4:C172,C173)))","v":0},null,{"$f":"IF(C173=\"\",0,IF(C173=$C$4,SUMIFS($I$4:I172,$C$4:C172,C172),SUMIFS($I$4:I172,$C$4:C172,C173)))","v":0},0]
[171,null,{"$f":"IFERROR(VLOOKUP(D174,Nomenclature!$B$2:$C$196,2,0),\"\")","v":""},null,null,null,null,{"$f":"IF(C174=\"\",0,IF(SUMIFS($G$5:G174,$C$5:C174,C174)-SUMIFS($I$4:I173,$C$4:C173,C174)<0,0,SUMIFS($G$5:G174,$C$5:C174,C174)-SUMIFS($I$4:I173,$C$4:C173,C174)))","v":0},null,{"$f":"IF(C174=\"\",0,IF(C174=$C$4,SUMIFS($I$4:I173,$C$4:C173,C173),SUMIFS($I$4:I173,$C$4:C173,C174)))","v":0},0]
[172,null,{"$f":"IFERROR(VLOOKUP(D175,Nomenclature!$B$2:$C$196,2,0),\"\")","v":""},null,null,null,null,{"$f":"IF(C175=\"\",0,IF(SUMIFS($G$5:G175,$C$5:C175,C175)-SUMIFS($I$4:I174,$C$4:C174,C175)<0,0,SUMIFS($G$5:G175,$C$5:C175,C175)-SUMIFS($I$4:I174,$C$4:C174,C175)))","v":0},null,{"$f":"IF(C175=\"\",0,IF(C175=$C$4,SUMIFS($I$4:I174,$C$4:C174,C174),SUMIFS($I$4:I174,$C$4:C174,C175)))","v":0},0]
[173,null,{"$f":"IFERROR(VLOOKUP(D176,Nomenclature!$B$2:$C$196,2,0),\"\")","v":""},null,null,null,null,{"$f":"IF(C176=\"\",0,IF(SUMIFS($G$5:G176,$C$5:C176,C176)-SUMIFS($I$4:I175,$C$4:C175,C176)<0,0,SUMIFS($G$5:G176,$C$5:C176,C176)-SUMIFS($I$4:I175,$C$4:C175,C176)))","v":0},null,{"$f":"IF(C176=\"\",0,IF(C176=$C$4,SUMIFS($I$4:I175,$C$4:C175,C175),SUMIFS($I$4:I175,$C$4:C175,C176)))","v":0},0]
[174,null,{"$f":"IFERROR(VLOOKUP(D177,Nomenclature!$B$2:$C$196,2,0),\"\")","v":""},null,null,null,null,{"$f":"IF(C177=\"\",0,IF(SUMIFS($G$5:G177,$C$5:C177,C177)-SUMIFS($I$4:I176,$C$4:C176,C177)<0,0,SUMIFS($G$5:G177,$C$5:C177,C177)-SUMIFS($I$4:I176,$C$4:C176,C177)))","v":0},null,{"$f":"IF(C177=\"\",0,IF(C177=$C$4,SUMIFS($I$4:I176,$C$4:C176,C176),SUMIFS($I$4:I176,$C$4:C176,C177)))","v":0},0]
[175,null,{"$f":"IFERROR(VLOOKUP(D178,Nomenclature!$B$2:$C$196,2,0),\"\")","v":""},null,null,null,null,{"$f":"IF(C178=\"\",0,IF(SUMIFS($G$5:G178,$C$5:C178,C178)-SUMIFS($I$4:I177,$C$4:C177,C178)<0,0,SUMIFS($G$5:G178,$C$5:C178,C178)-SUMIFS($I$4:I177,$C$4:C177,C178)))","v":0},null,{"$f":"IF(C178=\"\",0,IF(C178=$C$4,SUMIFS($I$4:I177,$C$4:C177,C177),SUMIFS($I$4:I177,$C$4:C177,C178)))","v":0},0]
[176,null,{"$f":"IFERROR(VLOOKUP(D179,Nomenclature!$B$2:$C$196,2,0),\"\")","v":""},null,null,null,null,{"$f":"IF(C179=\"\",0,IF(SUMIFS($G$5:G179,$C$5:C179,C179)-SUMIFS($I$4:I178,$C$4:C178,C179)<0,0,SUMIFS($G$5:G179,$C$5:C179,C179)-SUMIFS($I$4:I178,$C$4:C178,C179)))","v":0},null,{"$f":"IF(C179=\"\",0,IF(C179=$C$4,SUMIFS($I$4:I178,$C$4:C178,C178),SUMIFS($I$4:I178,$C$4:C178,C179)))","v":0},0]
[177,null,{"$f":"IFERROR(VLOOKUP(D180,Nomenclature!$B$2:$C$196,2,0),\"\")","v":""},null,null,null,null,{"$f":"IF(C180=\"\",0,IF(SUMIFS($G$5:G180,$C$5:C180,C180)-SUMIFS($I$4:I179,$C$4:C179,C180)<0,0,SUMIFS($G$5:G180,$C$5:C180,C180)-SUMIFS($I$4:I179,$C$4:C179,C180)))","v":0},null,{"$f":"IF(C180=\"\",0,IF(C180=$C$4,SUMIFS($I$4:I179,$C$4:C179,C179),SUMIFS($I$4:I179,$C$4:C179,C180)))","v":0},0]
[178,null,{"$f":"IFERROR(VLOOKUP(D181,Nomenclature!$B$2:$C$196,2,0),\"\")","v":""},null,null,null,null,{"$f":"IF(C181=\"\",0,IF(SUMIFS($G$5:G181,$C$5:C181,C181)-SUMIFS($I$4:I180,$C$4:C180,C181)<0,0,SUMIFS($G$5:G181,$C$5:C181,C181)-SUMIFS($I$4:I180,$C$4:C180,C181)))","v":0},null,{"$f":"IF(C181=\"\",0,IF(C181=$C$4,SUMIFS($I$4:I180,$C$4:C180,C180),SUMIFS($I$4:I180,$C$4:C180,C181)))","v":0},0]
[179,null,{"$f":"IFERROR(VLOOKUP(D182,Nomenclature!$B$2:$C$196,2,0),\"\")","v":""},null,null,null,null,{"$f":"IF(C182=\"\",0,IF(SUMIFS($G$5:G182,$C$5:C182,C182)-SUMIFS($I$4:I181,$C$4:C181,C182)<0,0,SUMIFS($G$5:G182,$C$5:C182,C182)-SUMIFS($I$4:I181,$C$4:C181,C182)))","v":0},null,{"$f":"IF(C182=\"\",0,IF(C182=$C$4,SUMIFS($I$4:I181,$C$4:C181,C181),SUMIFS($I$4:I181,$C$4:C181,C182)))","v":0},0]
[180,null,{"$f":"IFERROR(VLOOKUP(D183,Nomenclature!$B$2:$C$196,2,0),\"\")","v":""},null,null,null,null,{"$f":"IF(C183=\"\",0,IF(SUMIFS($G$5:G183,$C$5:C183,C183)-SUMIFS($I$4:I182,$C$4:C182,C183)<0,0,SUMIFS($G$5:G183,$C$5:C183,C183)-SUMIFS($I$4:I182,$C$4:C182,C183)))","v":0},null,{"$f":"IF(C183=\"\",0,IF(C183=$C$4,SUMIFS($I$4:I182,$C$4:C182,C182),SUMIFS($I$4:I182,$C$4:C182,C183)))","v":0},0]
[181,null,{"$f":"IFERROR(VLOOKUP(D184,Nomenclature!$B$2:$C$196,2,0),\"\")","v":""},null,null,null,null,{"$f":"IF(C184=\"\",0,IF(SUMIFS($G$5:G184,$C$5:C184,C184)-SUMIFS($I$4:I183,$C$4:C183,C184)<0,0,SUMIFS($G$5:G184,$C$5:C184,C184)-SUMIFS($I$4:I183,$C$4:C183,C184)))","v":0},null,{"$f":"IF(C184=\"\",0,IF(C184=$C$4,SUMIFS($I$4:I183,$C$4:C183,C183),SUMIFS($I$4:I183,$C$4:C183,C184)))","v":0},0]
[182,null,{"$f":"IFERROR(VLOOKUP(D185,Nomenclature!$B$2:$C$196,2,0),\"\")","v":""},null,null,null,null,{"$f":"IF(C185=\"\",0,IF(SUMIFS($G$5:G185,$C$5:C185,C185)-SUMIFS($I$4:I184,$C$4:C184,C185)<0,0,SUMIFS($G$5:G185,$C$5:C185,C185)-SUMIFS($I$4:I184,$C$4:C184,C185)))","v":0},null,{"$f":"IF(C185=\"\",0,IF(C185=$C$4,SUMIFS($I$4:I184,$C$4:C184,C184),SUMIFS($I$4:I184,$C$4:C184,C185)))","v":0},0]
[183,null,{"$f":"IFERROR(VLOOKUP(D186,Nomenclature!$B$2:$C$196,2,0),\"\")","v":""},null,null,null,null,{"$f":"IF(C186=\"\",0,IF(SUMIFS($G$5:G186,$C$5:C186,C186)-SUMIFS($I$4:I185,$C$4:C185,C186)<0,0,SUMIFS($G$5:G186,$C$5:C186,C186)-SUMIFS($I$4:I185,$C$4:C185,C186)))","v":0},null,{"$f":"IF(C186=\"\",0,IF(C186=$C$4,SUMIFS($I$4:I185,$C$4:C185,C185),SUMIFS($I$4:I185,$C$4:C185,C186)))","v":0},0]
[184,null,{"$f":"IFERROR(VLOOKUP(D187,Nomenclature!$B$2:$C$196,2,0),\"\")","v":""},null,null,null,null,{"$f":"IF(C187=\"\",0,IF(SUMIFS($G$5:G187,$C$5:C187,C187)-SUMIFS($I$4:I186,$C$4:C186,C187)<0,0,SUMIFS($G$5:G187,$C$5:C187,C187)-SUMIFS($I$4:I186,$C$4:C186,C187)))","v":0},null,{"$f":"IF(C187=\"\",0,IF(C187=$C$4,SUMIFS($I$4:I186,$C$4:C186,C186),SUMIFS($I$4:I186,$C$4:C186,C187)))","v":0},0]
[185,null,{"$f":"IFERROR(VLOOKUP(D188,Nomenclature!$B$2:$C$196,2,0),\"\")","v":""},null,null,null,null,{"$f":"IF(C188=\"\",0,IF(SUMIFS($G$5:G188,$C$5:C188,C188)-SUMIFS($I$4:I187,$C$4:C187,C188)<0,0,SUMIFS($G$5:G188,$C$5:C188,C188)-SUMIFS($I$4:I187,$C$4:C187,C188)))","v":0},null,{"$f":"IF(C188=\"\",0,IF(C188=$C$4,SUMIFS($I$4:I187,$C$4:C187,C187),SUMIFS($I$4:I187,$C$4:C187,C188)))","v":0},0]
[186,null,{"$f":"IFERROR(VLOOKUP(D189,Nomenclature!$B$2:$C$196,2,0),\"\")","v":""},null,null,null,null,{"$f":"IF(C189=\"\",0,IF(SUMIFS($G$5:G189,$C$5:C189,C189)-SUMIFS($I$4:I188,$C$4:C188,C189)<0,0,SUMIFS($G$5:G189,$C$5:C189,C189)-SUMIFS($I$4:I188,$C$4:C188,C189)))","v":0},null,{"$f":"IF(C189=\"\",0,IF(C189=$C$4,SUMIFS($I$4:I188,$C$4:C188,C188),SUMIFS($I$4:I188,$C$4:C188,C189)))","v":0},0]
[187,null,{"$f":"IFERROR(VLOOKUP(D190,Nomenclature!$B$2:$C$196,2,0),\"\")","v":""},null,null,null,null,{"$f":"IF(C190=\"\",0,IF(SUMIFS($G$5:G190,$C$5:C190,C190)-SUMIFS($I$4:I189,$C$4:C189,C190)<0,0,SUMIFS($G$5:G190,$C$5:C190,C190)-SUMIFS($I$4:I189,$C$4:C189,C190)))","v":0},null,{"$f":"IF(C190=\"\",0,IF(C190=$C$4,SUMIFS($I$4:I189,$C$4:C189,C189),SUMIFS($I$4:I189,$C$4:C189,C190)))","v":0},0]
[188,null,{"$f":"IFERROR(VLOOKUP(D191,Nomenclature!$B$2:$C$196,2,0),\"\")","v":""},null,null,null,null,{"$f":"IF(C191=\"\",0,IF(SUMIFS($G$5:G191,$C$5:C191,C191)-SUMIFS($I$4:I190,$C$4:C190,C191)<0,0,SUMIFS($G$5:G191,$C$5:C191,C191)-SUMIFS($I$4:I190,$C$4:C190,C191)))","v":0},null,{"$f":"IF(C191=\"\",0,IF(C191=$C$4,SUMIFS($I$4:I190,$C$4:C190,C190),SUMIFS($I$4:I190,$C$4:C190,C191)))","v":0},0]
[189,null,{"$f":"IFERROR(VLOOKUP(D192,Nomenclature!$B$2:$C$196,2,0),\"\")","v":""},null,null,null,null,{"$f":"IF(C192=\"\",0,IF(SUMIFS($G$5:G192,$C$5:C192,C192)-SUMIFS($I$4:I191,$C$4:C191,C192)<0,0,SUMIFS($G$5:G192,$C$5:C192,C192)-SUMIFS($I$4:I191,$C$4:C191,C192)))","v":0},null,{"$f":"IF(C192=\"\",0,IF(C192=$C$4,SUMIFS($I$4:I191,$C$4:C191,C191),SUMIFS($I$4:I191,$C$4:C191,C192)))","v":0},0]
[190,null,{"$f":"IFERROR(VLOOKUP(D193,Nomenclature!$B$2:$C$196,2,0),\"\")","v":""},null,null,null,null,{"$f":"IF(C193=\"\",0,IF(SUMIFS($G$5:G193,$C$5:C193,C193)-SUMIFS($I$4:I192,$C$4:C192,C193)<0,0,SUMIFS($G$5:G193,$C$5:C193,C193)-SUMIFS($I$4:I192,$C$4:C192,C193)))","v":0},null,{"$f":"IF(C193=\"\",0,IF(C193=$C$4,SUMIFS($I$4:I192,$C$4:C192,C192),SUMIFS($I$4:I192,$C$4:C192,C193)))","v":0},0]
[191,null,{"$f":"IFERROR(VLOOKUP(D194,Nomenclature!$B$2:$C$196,2,0),\"\")","v":""},null,null,null,null,{"$f":"IF(C194=\"\",0,IF(SUMIFS($G$5:G194,$C$5:C194,C194)-SUMIFS($I$4:I193,$C$4:C193,C194)<0,0,SUMIFS($G$5:G194,$C$5:C194,C194)-SUMIFS($I$4:I193,$C$4:C193,C194)))","v":0},null,{"$f":"IF(C194=\"\",0,IF(C194=$C$4,SUMIFS($I$4:I193,$C$4:C193,C193),SUMIFS($I$4:I193,$C$4:C193,C194)))","v":0},0]
[192,null,{"$f":"IFERROR(VLOOKUP(D195,Nomenclature!$B$2:$C$196,2,0),\"\")","v":""},null,null,null,null,{"$f":"IF(C195=\"\",0,IF(SUMIFS($G$5:G195,$C$5:C195,C195)-SUMIFS($I$4:I194,$C$4:C194,C195)<0,0,SUMIFS($G$5:G195,$C$5:C195,C195)-SUMIFS($I$4:I194,$C$4:C194,C195)))","v":0},null,{"$f":"IF(C195=\"\",0,IF(C195=$C$4,SUMIFS($I$4:I194,$C$4:C194,C194),SUMIFS($I$4:I194,$C$4:C194,C195)))","v":0},0]
[193,null,{"$f":"IFERROR(VLOOKUP(D196,Nomenclature!$B$2:$C$196,2,0),\"\")","v":""},null,null,null,null,{"$f":"IF(C196=\"\",0,IF(SUMIFS($G$5:G196,$C$5:C196,C196)-SUMIFS($I$4:I195,$C$4:C195,C196)<0,0,SUMIFS($G$5:G196,$C$5:C196,C196)-SUMIFS($I$4:I195,$C$4:C195,C196)))","v":0},null,{"$f":"IF(C196=\"\",0,IF(C196=$C$4,SUMIFS($I$4:I195,$C$4:C195,C195),SUMIFS($I$4:I195,$C$4:C195,C196)))","v":0},{"$f":"IF(C196=\"\",0,H196-I196)","v":0}]
[194,null,{"$f":"IFERROR(VLOOKUP(D197,Nomenclature!$B$2:$C$196,2,0),\"\")","v":""},null,null,null,null,{"$f":"IF(C197=\"\",0,IF(SUMIFS($G$5:G197,$C$5:C197,C197)-SUMIFS($I$4:I196,$C$4:C196,C197)<0,0,SUMIFS($G$5:G197,$C$5:C197,C197)-SUMIFS($I$4:I196,$C$4:C196,C197)))","v":0},null,{"$f":"IF(C197=\"\",0,IF(C197=$C$4,SUMIFS($I$4:I196,$C$4:C196,C196),SUMIFS($I$4:I196,$C$4:C196,C197)))","v":0},0]
[195,null,{"$f":"IFERROR(VLOOKUP(D198,Nomenclature!$B$2:$C$196,2,0),\"\")","v":""},null,null,null,null,{"$f":"IF(C198=\"\",0,IF(SUMIFS($G$5:G198,$C$5:C198,C198)-SUMIFS($I$4:I197,$C$4:C197,C198)<0,0,SUMIFS($G$5:G198,$C$5:C198,C198)-SUMIFS($I$4:I197,$C$4:C197,C198)))","v":0},null,{"$f":"IF(C198=\"\",0,IF(C198=$C$4,SUMIFS($I$4:I197,$C$4:C197,C197),SUMIFS($I$4:I197,$C$4:C197,C198)))","v":0},0]
[196,null,{"$f":"IFERROR(VLOOKUP(D199,Nomenclature!$B$2:$C$196,2,0),\"\")","v":""},null,null,null,null,{"$f":"IF(C199=\"\",0,IF(SUMIFS($G$5:G199,$C$5:C199,C199)-SUMIFS($I$4:I198,$C$4:C198,C199)<0,0,SUMIFS($G$5:G199,$C$5:C199,C199)-SUMIFS($I$4:I198,$C$4:C198,C199)))","v":0},null,{"$f":"IF(C199=\"\",0,IF(C199=$C$4,SUMIFS($I$4:I198,$C$4:C198,C198),SUMIFS($I$4:I198,$C$4:C198,C199)))","v":0},0]
[197,null,{"$f":"IFERROR(VLOOKUP(D200,Nomenclature!$B$2:$C$196,2,0),\"\")","v":""},null,null,null,null,{"$f":"IF(C200=\"\",0,IF(SUMIFS($G$5:G200,$C$5:C200,C200)-SUMIFS($I$4:I199,$C$4:C199,C200)<0,0,SUMIFS($G$5:G200,$C$5:C200,C200)-SUMIFS($I$4:I199,$C$4:C199,C200)))","v":0},null,{"$f":"IF(C200=\"\",0,IF(C200=$C$4,SUMIFS($I$4:I199,$C$4:C199,C199),SUMIFS($I$4:I199,$C$4:C199,C200)))","v":0},0]
[198,null,{"$f":"IFERROR(VLOOKUP(D201,Nomenclature!$B$2:$C$196,2,0),\"\")","v":""},null,null,null,null,{"$f":"IF(C201=\"\",0,IF(SUMIFS($G$5:G201,$C$5:C201,C201)-SUMIFS($I$4:I200,$C$4:C200,C201)<0,0,SUMIFS($G$5:G201,$C$5:C201,C201)-SUMIFS($I$4:I200,$C$4:C200,C201)))","v":0},null,{"$f":"IF(C201=\"\",0,IF(C201=$C$4,SUMIFS($I$4:I200,$C$4:C200,C200),SUMIFS($I$4:I200,$C$4:C200,C201)))","v":0},0]
[199,null,{"$f":"IFERROR(VLOOKUP(D202,Nomenclature!$B$2:$C$196,2,0),\"\")","v":""},null,null,null,null,{"$f":"IF(C202=\"\",0,IF(SUMIFS($G$5:G202,$C$5:C202,C202)-SUMIFS($I$4:I201,$C$4:C201,C202)<0,0,SUMIFS($G$5:G202,$C$5:C202,C202)-SUMIFS($I$4:I201,$C$4:C201,C202)))","v":0},null,{"$f":"IF(C202=\"\",0,IF(C202=$C$4,SUMIFS($I$4:I201,$C$4:C201,C201),SUMIFS($I$4:I201,$C$4:C201,C202)))","v":0},0]
[200,null,{"$f":"IFERROR(VLOOKUP(D203,Nomenclature!$B$2:$C$196,2,0),\"\")","v":""},null,null,null,null,{"$f":"IF(C203=\"\",0,IF(SUMIFS($G$5:G203,$C$5:C203,C203)-SUMIFS($I$4:I202,$C$4:C202,C203)<0,0,SUMIFS($G$5:G203,$C$5:C203,C203)-SUMIFS($I$4:I202,$C$4:C202,C203)))","v":0},null,{"$f":"IF(C203=\"\",0,IF(C203=$C$4,SUMIFS($I$4:I202,$C$4:C202,C202),SUMIFS($I$4:I202,$C$4:C202,C203)))","v":0},0]

{"sheet":"27000","index":13,"n_rows":203,"n_cols":44,"rows_kept":203,"cut":false,"hidden":false,"merged":[[50,23,50,24],[44,14,45,18],[44,22,45,26],[44,29,44,30],[46,14,47,18],[46,22,47,26],[47,29,47,30],[50,15,50,16],[33,14,33,17],[34,14,37,41],[39,14,39,17],[39,18,40,41],[42,14,42,27],[42,28,42,41],[28,38,29,41],[30,14,31,17],[30,18,31,21],[30,22,31,25],[30,26,31,29],[30,30,31,33],[30,34,31,37],[30,38,31,41],[28,14,29,17],[28,18,29,21],[28,22,29,25],[28,26,29,29],[28,30,29,33],[28,34,29,37],[19,14,19,15],[26,38,27,41],[20,22,20,32],[21,18,21,21],[21,22,21,32],[22,18,22,21],[22,22,22,32],[23,17,25,41],[20,18,20,21],[26,14,27,21],[26,22,27,25],[26,26,27,29],[26,30,27,33],[26,34,27,37],[15,19,15,20],[16,14,16,18],[16,19,16,20],[14,14,14,18],[14,19,14,27],[0,13,2,15],[3,14,3,41],[3,42,58,42],[4,14,4,18],[4,19,4,27],[5,14,5,18],[5,19,5,27],[6,14,6,18],[6,19,6,27],[10,15,11,19],[10,20,11,23],[10,31,11,32],[10,33,11,38],[13,14,13,18],[13,19,13,20],[15,14,15,18],[0,11,2,11],[0,0,2,0],[0,1,2,1],[0,2,2,2],[0,3,2,3],[0,4,2,4],[0,5,1,5],[0,6,1,6],[0,7,2,7],[0,8,1,8],[0,9,2,9],[0,10,1,10]]}
["رقم\nالاستمارة","التاريخ","الترميز","الصنف / الصنف الفرعي","ملاحظات المصلحة","AP Cat",{"$f":"IF(SUM(G4:G203)-SUM(F4:F203)<0,\"نقص في توزيع الاعتمادات على الاصناف الفرعية\",\nIF(SUM(G4:G203)-SUM(F4:F203)>0,\"تجاوز في الاعتمادات الموزعة على الاصناف الفرعية\",\"AP S.Cat\"))","v":"AP S.Cat"},"AP Sous_Cat",{"$f":"IF(I3>G3,\"تجاوز في الالتزامات\",\"∑ Engagements\")","v":"∑ Engagements"},"∑ Eng Sous_Cat","Reste","السند القانوني للعنوان الرابع",null,3]
[]
[null,null,null,null,null,{"$f":"SUM(F4:F203)","v":0},{"$f":"SUM(G4:G203)","v":0},null,{"$f":"SUM(I5:I203)","v":0},null,{"$f":"SUM(K4:K104)","v":0}]
[1,"2023-03-13",{"$f":"IFERROR(VLOOKUP(D4,Nomenclature!$B$2:$C$196,2,0),\"\")","v":27000},"التموينات و اللوازم","تكفل برخصة الالتزام المفتوحة لسنة 2023.",null,null,{"$f":"IF(C4=\"\",0,IF(SUMIFS($G4:G$5,$C4:C$5,C4)-SUMIFS($I3:I$4,$C3:C$4,C4)<0,0,SUMIFS($G4:G$5,$C4:C$5,C4)-SUMIFS($I3:I$4,$C3:C$4,C4)))","v":0},null,{"$f":"IF(I4=0,0,IF(C4=\"\",0,SUMIFS($I4:I$4,$C4:C$4,C4)))","v":0},{"$f":"IF(C4=\"\",0,H4-I4)","v":0},null,null,null,"الجمهورية الجزائرية الديمقراطية الشعبية"]
[2,"2023-04-01",{"$f":"IFERROR(VLOOKUP(D5,Nomenclature!$B$2:$C$196,2,0),\"\")","v":""},null,null,null,null,{"$f":"IF(C5=\"\",0,IF(SUMIFS($G$5:G5,$C$5:C5,C5)-SUMIFS($I$4:I4,$C$4:C4,C5)<0,0,SUMIFS($G$5:G5,$C$5:C5,C5)-SUMIFS($I$4:I4,$C$4:C4,C5)))","v":0},null,{"$f":"IF(C5=\"\",0,IF(C5=$C$4,SUMIFS($I$4:I4,$C$4:C4,C4),SUMIFS($I$4:I4,$C$4:C4,C5)))","v":0},0,null,null,null,"الـوزارة:",null,null,null,null,{"$f":"الواجهة!C2","v":"وزارة البيئة و الطاقات المتجددة"}]
[3,null,{"$f":"IFERROR(VLOOKUP(D6,Nomenclature!$B$2:$C$196,2,0),\"\")","v":""},null,null,null,null,{"$f":"IF(C6=\"\",0,IF(SUMIFS($G$5:G6,$C$5:C6,C6)-SUMIFS($I$4:I5,$C$4:C5,C6)<0,0,SUMIFS($G$5:G6,$C$5:C6,C6)-SUMIFS($I$4:I5,$C$4:C5,C6)))","v":0},null,{"$f":"IF(C6=\"\",0,IF(C6=$C$4,SUMIFS($I$4:I5,$C$4:C5,C5),SUMIFS($I$4:I5,$C$4:C5,C6)))","v":0},0,null,null,null,"الهيئة الإدارية:",null,null,null,null,{"$f":"الواجهة!C3","v":"مديرية البيئة لولاية المسيلة"}]
[4,null,{"$f":"IFERROR(VLOOKUP(D7,Nomenclature!$B$2:$C$196,2,0),\"\")","v":""},null,null,null,null,{"$f":"IF(C7=\"\",0,IF(SUMIFS($G$5:G7,$C$5:C7,C7)-SUMIFS($I$4:I6,$C$4:C6,C7)<0,0,SUMIFS($G$5:G7,$C$5:C7,C7)-SUMIFS($I$4:I6,$C$4:C6,C7)))","v":0},null,{"$f":"IF(C7=\"\",0,IF(C7=$C$4,SUMIFS($I$4:I6,$C$4:C6,C6),SUMIFS($I$4:I6,$C$4:C6,C7)))","v":0},0,null,null,null,"رمز الآمر بالصرف:",null,null,null,null,{"$f":"الواجهة!C4","v":"144 0 28 01"}]
[5,null,{"$f":"IFERROR(VLOOKUP(D8,Nomenclature!$B$2:$C$196,2,0),\"\")","v":""},null,null,null,null,{"$f":"IF(C8=\"\",0,IF(SUMIFS($G$5:G8,$C$5:C8,C8)-SUMIFS($I$4:I7,$C$4:C7,C8)<0,0,SUMIFS($G$5:G8,$C$5:C8,C8)-SUMIFS($I$4:I7,$C$4:C7,C8)))","v":0},null,{"$f":"IF(C8=\"\",0,IF(C8=$C$4,SUMIFS($I$4:I7,$C$4:C7,C7),SUMIFS($I$4:I7,$C$4:C7,C8)))","v":0},0,null,null,null,null,null,null,null,null,null,null,null,null,null,null,null,null,null,null,null,null,null,null,"."]
[6,null,{"$f":"IFERROR(VLOOKUP(D9,Nomenclature!$B$2:$C$196,2,0),\"\")","v":""},null,null,null,null,{"$f":"IF(C9=\"\",0,IF(SUMIFS($G$5:G9,$C$5:C9,C9)-SUMIFS($I$4:I8,$C$4:C8,C9)<0,0,SUMIFS($G$5:G9,$C$5:C9,C9)-SUMIFS($I$4:I8,$C$4:C8,C9)))","v":0},null,{"$f":"IF(C9=\"\",0,IF(C9=$C$4,SUMIFS($I$4:I8,$C$4:C8,C8),SUMIFS($I$4:I8,$C$4:C8,C9)))","v":0},0]
[7,null,{"$f":"IFERROR(VLOOKUP(D10,Nomenclature!$B$2:$C$196,2,0),\"\")","v":""},null,null,null,null,{"$f":"IF(C10=\"\",0,IF(SUMIFS($G$5:G10,$C$5:C10,C10)-SUMIFS($I$4:I9,$C$4:C9,C10)<0,0,SUMIFS($G$5:G10,$C$5:C10,C10)-SUMIFS($I$4:I9,$C$4:C9,C10)))","v":0},null,{"$f":"IF(C10=\"\",0,IF(C10=$C$4,SUMIFS($I$4:I9,$C$4:C9,C9),SUMIFS($I$4:I9,$C$4:C9,C10)))","v":0},0]
[8,null,{"$f":"IFERROR(VLOOKUP(D11,Nomenclature!$B$2:$C$196,2,0),\"\")","v":""},null,null,null,null,{"$f":"IF(C11=\"\",0,IF(SUMIFS($G$5:G11,$C$5:C11,C11)-SUMIFS($I$4:I10,$C$4:C10,C11)<0,0,SUMIFS($G$5:G11,$C$5:C11,C11)-SUMIFS($I$4:I10,$C$4:C10,C11)))","v":0},null,{"$f":"IF(C11=\"\",0,IF(C11=$C$4,SUMIFS($I$4:I10,$C$4:C10,C10),SUMIFS($I$4:I10,$C$4:C10,C11)))","v":0},0,null,null,null,null,"رقم بطاقة الالتزام:",null,null,null,null,{"$f":"IFERROR(VLOOKUP(N1,A4:L203,1,0),0)","v":3},null,null,null,null,null,null,null,null,null,null,"التاريخ:",null,{"$f":"IF(IFERROR(VLOOKUP(N1,A4:L203,2,0),0)=0,\"\",IFERROR(VLOOKUP(N1,A4:L203,2,0),0))","v":""}]
[9,null,{"$f":"IFERROR(VLOOKUP(D12,Nomenclature!$B$2:$C$196,2,0),\"\")","v":""},null,null,null,null,{"$f":"IF(C12=\"\",0,IF(SUMIFS($G$5:G12,$C$5:C12,C12)-SUMIFS($I$4:I11,$C$4:C11,C12)<0,0,SUMIFS($G$5:G12,$C$5:C12,C12)-SUMIFS($I$4:I11,$C$4:C11,C12)))","v":0},null,{"$f":"IF(C12=\"\",0,IF(C12=$C$4,SUMIFS($I$4:I11,$C$4:C11,C11),SUMIFS($I$4:I11,$C$4:C11,C12)))","v":0},0]
[10,null,{"$f":"IFERROR(VLOOKUP(D13,Nomenclature!$B$2:$C$196,2,0),\"\")","v":""},null,null,null,null,{"$f":"IF(C13=\"\",0,IF(SUMIFS($G$5:G13,$C$5:C13,C13)-SUMIFS($I$4:I12,$C$4:C12,C13)<0,0,SUMIFS($G$5:G13,$C$5:C13,C13)-SUMIFS($I$4:I12,$C$4:C12,C13)))","v":0},null,{"$f":"IF(C13=\"\",0,IF(C13=$C$4,SUMIFS($I$4:I12,$C$4:C12,C12),SUMIFS($I$4:I12,$C$4:C12,C13)))","v":0},0]
[11,null,{"$f":"IFERROR(VLOOKUP(D14,Nomenclature!$B$2:$C$196,2,0),\"\")","v":""},null,null,null,null,{"$f":"IF(C14=\"\",0,IF(SUMIFS($G$5:G14,$C$5:C14,C14)-SUMIFS($I$4:I13,$C$4:C13,C14)<0,0,SUMIFS($G$5:G14,$C$5:C14,C14)-SUMIFS($I$4:I13,$C$4:C13,C14)))","v":0},null,{"$f":"IF(C14=\"\",0,IF(C14=$C$4,SUMIFS($I$4:I13,$C$4:C13,C13),SUMIFS($I$4:I13,$C$4:C13,C14)))","v":0},0,null,null,null,"رمز البرنــامج:",null,null,null,null,{"$f":"الواجهة!C7","v":"116"}]
[12,null,{"$f":"IFERROR(VLOOKUP(D15,Nomenclature!$B$2:$C$196,2,0),\"\")","v":""},null,null,null,null,{"$f":"IF(C15=\"\",0,IF(SUMIFS($G$5:G15,$C$5:C15,C15)-SUMIFS($I$4:I14,$C$4:C14,C15)<0,0,SUMIFS($G$5:G15,$C$5:C15,C15)-SUMIFS($I$4:I14,$C$4:C14,C15)))","v":0},null,{"$f":"IF(C15=\"\",0,IF(C15=$C$4,SUMIFS($I$4:I14,$C$4:C14,C14),SUMIFS($I$4:I14,$C$4:C14,C15)))","v":0},0,null,null,null,"رمز النشــاط:",null,null,null,null,{"$f":"الواجهة!C6&\" \"&الواجهة!C7&\" \"&الواجهة!C10&\" \"&الواجهة!C8&\" \"&الواجهة!C9&\" \"&الواجهة!C11","v":"030 116 02 2001 000 028"}]
[13,null,{"$f":"IFERROR(VLOOKUP(D16,Nomenclature!$B$2:$C$196,2,0),\"\")","v":""},null,null,null,null,{"$f":"IF(C16=\"\",0,IF(SUMIFS($G$5:G16,$C$5:C16,C16)-SUMIFS($I$4:I15,$C$4:C15,C16)<0,0,SUMIFS($G$5:G16,$C$5:C16,C16)-SUMIFS($I$4:I15,$C$4:C15,C16)))","v":0},null,{"$f":"IF(C16=\"\",0,IF(C16=$C$4,SUMIFS($I$4:I15,$C$4:C15,C15),SUMIFS($I$4:I15,$C$4:C15,C16)))","v":0},0,null,null,null,"رمز النشــاط الفرعي:",null,null,null,null,{"$f":"الواجهة!C9","v":"000"}]
[14,null,{"$f":"IFERROR(VLOOKUP(D17,Nomenclature!$B$2:$C$196,2,0),\"\")","v":""},null,null,null,null,{"$f":"IF(C17=\"\",0,IF(SUMIFS($G$5:G17,$C$5:C17,C17)-SUMIFS($I$4:I16,$C$4:C16,C17)<0,0,SUMIFS($G$5:G17,$C$5:C17,C17)-SUMIFS($I$4:I16,$C$4:C16,C17)))","v":0},null,{"$f":"IF(C17=\"\",0,IF(C17=$C$4,SUMIFS($I$4:I16,$C$4:C16,C16),SUMIFS($I$4:I16,$C$4:C16,C17)))","v":0},0,null,null,null,"رمز البرنـامج الفرعي:",null,null,null,null,{"$f":"الواجهة!C10","v":"02"}]
[15,null,{"$f":"IFERROR(VLOOKUP(D18,Nomenclature!$B$2:$C$196,2,0),\"\")","v":""},null,null,null,null,{"$f":"IF(C18=\"\",0,IF(SUMIFS($G$5:G18,$C$5:C18,C18)-SUMIFS($I$4:I17,$C$4:C17,C18)<0,0,SUMIFS($G$5:G18,$C$5:C18,C18)-SUMIFS($I$4:I17,$C$4:C17,C18)))","v":0},null,{"$f":"IF(C18=\"\",0,IF(C18=$C$4,SUMIFS($I$4:I17,$C$4:C17,C17),SUMIFS($I$4:I17,$C$4:C17,C18)))","v":0},0,null,null,null,null,null,null,null,null,null,null,null,null,null,null,null,null,null,null,null,null,null,null,null,null,null,null,null,null,null,null,null,null,"\n\n\n"]
[16,null,{"$f":"IFERROR(VLOOKUP(D19,Nomenclature!$B$2:$C$196,2,0),\"\")","v":""},null,null,null,null,{"$f":"IF(C19=\"\",0,IF(SUMIFS($G$5:G19,$C$5:C19,C19)-SUMIFS($I$4:I18,$C$4:C18,C19)<0,0,SUMIFS($G$5:G19,$C$5:C19,C19)-SUMIFS($I$4:I18,$C$4:C18,C19)))","v":0},null,{"$f":"IF(C19=\"\",0,IF(C19=$C$4,SUMIFS($I$4:I18,$C$4:C18,C18),SUMIFS($I$4:I18,$C$4:C18,C19)))","v":0},0]
[17,null,{"$f":"IFERROR(VLOOKUP(D20,Nomenclature!$B$2:$C$196,2,0),\"\")","v":""},null,null,null,null,{"$f":"IF(C20=\"\",0,IF(SUMIFS($G$5:G20,$C$5:C20,C20)-SUMIFS($I$4:I19,$C$4:C19,C20)<0,0,SUMIFS($G$5:G20,$C$5:C20,C20)-SUMIFS($I$4:I19,$C$4:C19,C20)))","v":0},null,{"$f":"IF(C20=\"\",0,IF(C20=$C$4,SUMIFS($I$4:I19,$C$4:C19,C19),SUMIFS($I$4:I19,$C$4:C19,C20)))","v":0},0,null,null,null,"العنوان:"]
[18,null,{"$f":"IFERROR(VLOOKUP(D21,Nomenclature!$B$2:$C$196,2,0),\"\")","v":""},null,null,null,null,{"$f":"IF(C21=\"\",0,IF(SUMIFS($G$5:G21,$C$5:C21,C21)-SUMIFS($I$4:I20,$C$4:C20,C21)<0,0,SUMIFS($G$5:G21,$C$5:C21,C21)-SUMIFS($I$4:I20,$C$4:C20,C21)))","v":0},null,{"$f":"IF(C21=\"\",0,IF(C21=$C$4,SUMIFS($I$4:I20,$C$4:C20,C20),SUMIFS($I$4:I20,$C$4:C20,C21)))","v":0},0,null,null,null,null,null,{"$f":"IF(C4<20000,\"X\",\"\")","v":""},null,"العنوان الأول:",null,null,null,"نفقات المستخدمين"]
[19,null,{"$f":"IFERROR(VLOOKUP(D22,Nomenclature!$B$2:$C$196,2,0),\"\")","v":""},null,null,null,null,{"$f":"IF(C22=\"\",0,IF(SUMIFS($G$5:G22,$C$5:C22,C22)-SUMIFS($I$4:I21,$C$4:C21,C22)<0,0,SUMIFS($G$5:G22,$C$5:C22,C22)-SUMIFS($I$4:I21,$C$4:C21,C22)))","v":0},null,{"$f":"IF(C22=\"\",0,IF(C22=$C$4,SUMIFS($I$4:I21,$C$4:C21,C21),SUMIFS($I$4:I21,$C$4:C21,C22)))","v":0},0,null,null,null,null,null,{"$f":"IF(AND(C4>19999,C4<40000),\"X\",\"\")","v":"X"},null,"العنوان الثاني:",null,null,null,"نفقات تسيير المصالح"]
[20,null,{"$f":"IFERROR(VLOOKUP(D23,Nomenclature!$B$2:$C$196,2,0),\"\")","v":""},null,null,null,null,{"$f":"IF(C23=\"\",0,IF(SUMIFS($G$5:G23,$C$5:C23,C23)-SUMIFS($I$4:I22,$C$4:C22,C23)<0,0,SUMIFS($G$5:G23,$C$5:C23,C23)-SUMIFS($I$4:I22,$C$4:C22,C23)))","v":0},null,{"$f":"IF(C23=\"\",0,IF(C23=$C$4,SUMIFS($I$4:I22,$C$4:C22,C22),SUMIFS($I$4:I22,$C$4:C22,C23)))","v":0},0,null,null,null,null,null,{"$f":"IF(AND(Q21=\"\",Q22=\"\"),\"X\",\"\")","v":""},null,"العنوان الرابع:",null,null,null,"نفقات التحويل"]
[21,null,{"$f":"IFERROR(VLOOKUP(D24,Nomenclature!$B$2:$C$196,2,0),\"\")","v":""},null,null,null,null,{"$f":"IF(C24=\"\",0,IF(SUMIFS($G$5:G24,$C$5:C24,C24)-SUMIFS($I$4:I23,$C$4:C23,C24)<0,0,SUMIFS($G$5:G24,$C$5:C24,C24)-SUMIFS($I$4:I23,$C$4:C23,C24)))","v":0},null,{"$f":"IF(C24=\"\",0,IF(C24=$C$4,SUMIFS($I$4:I23,$C$4:C23,C23),SUMIFS($I$4:I23,$C$4:C23,C24)))","v":0},0,null,null,null,null,null,null,{"$f":"IF(VLOOKUP(N1,A4:L203,12,0)=\"\",\"- - - - - - - - - - - - - - - - - - - - - - - - - - - - - - - - - - - - - - - - - - - - - - - / / / - - - - - - - - - - - - - - - - - - - - - - - - - - - - - - - - - - - - - - - - - - - - - - -\"& CHAR(10)&\"- - - - - - - - - - - - - - - - - - - - - - - - - - - - - - - - - - - - - - - - - - - - - - - / / / - - - - - - - - - - - - - - - - - - - - - - - - - - - - - - - - - - - - - - - - - - - - - - -\",VLOOKUP(N1,A4:L203,12,0))","v":"- - - - - - - - - - - - - - - - - - - - - - - - - - - - - - - - - - - - - - - - - - - - - - - / / / - - - - - - - - - - - - - - - - - - - - - - - - - - - - - - - - - - - - - - - - - - - - - - -\n- - - - - - - - - - - - - - - - - - - - - - - - - - - - - - - - - - - - - - - - - - - - - - - / / / - - - - - - - - - - - - - - - - - - - - - - - - - - - - - - - - - - - - - - - - - - - - - - -"}]
[22,null,{"$f":"IFERROR(VLOOKUP(D25,Nomenclature!$B$2:$C$196,2,0),\"\")","v":""},null,null,null,null,{"$f":"IF(C25=\"\",0,IF(SUMIFS($G$5:G25,$C$5:C25,C25)-SUMIFS($I$4:I24,$C$4:C24,C25)<0,0,SUMIFS($G$5:G25,$C$5:C25,C25)-SUMIFS($I$4:I24,$C$4:C24,C25)))","v":0},null,{"$f":"IF(C25=\"\",0,IF(C25=$C$4,SUMIFS($I$4:I24,$C$4:C24,C24),SUMIFS($I$4:I24,$C$4:C24,C25)))","v":0},0]
[23,null,{"$f":"IFERROR(VLOOKUP(D26,Nomenclature!$B$2:$C$196,2,0),\"\")","v":""},null,null,null,null,{"$f":"IF(C26=\"\",0,IF(SUMIFS($G$5:G26,$C$5:C26,C26)-SUMIFS($I$4:I25,$C$4:C25,C26)<0,0,SUMIFS($G$5:G26,$C$5:C26,C26)-SUMIFS($I$4:I25,$C$4:C25,C26)))","v":0},null,{"$f":"IF(C26=\"\",0,IF(C26=$C$4,SUMIFS($I$4:I25,$C$4:C25,C25),SUMIFS($I$4:I25,$C$4:C25,C26)))","v":0},0]
[24,null,{"$f":"IFERROR(VLOOKUP(D27,Nomenclature!$B$2:$C$196,2,0),\"\")","v":""},null,null,null,null,{"$f":"IF(C27=\"\",0,IF(SUMIFS($G$5:G27,$C$5:C27,C27)-SUMIFS($I$4:I26,$C$4:C26,C27)<0,0,SUMIFS($G$5:G27,$C$5:C27,C27)-SUMIFS($I$4:I26,$C$4:C26,C27)))","v":0},null,{"$f":"IF(C27=\"\",0,IF(C27=$C$4,SUMIFS($I$4:I26,$C$4:C26,C26),SUMIFS($I$4:I26,$C$4:C26,C27)))","v":0},0,null,null,null,"الصنف / الصنف الفرعي",null,null,null,null,null,null,null,"رخصة الالتزام\nالمفتوحة/المعدلة",null,null,null,"مجموع الالتزامات السابقة",null,null,null,"الرصيد\nالأولي",null,null,null,"الالتزام\nالمقترح",null,null,null,"الرصيد المتبقى"]
[25,null,{"$f":"IFERROR(VLOOKUP(D28,Nomenclature!$B$2:$C$196,2,0),\"\")","v":""},null,null,null,null,{"$f":"IF(C28=\"\",0,IF(SUMIFS($G$5:G28,$C$5:C28,C28)-SUMIFS($I$4:I27,$C$4:C27,C28)<0,0,SUMIFS($G$5:G28,$C$5:C28,C28)-SUMIFS($I$4:I27,$C$4:C27,C28)))","v":0},null,{"$f":"IF(C28=\"\",0,IF(C28=$C$4,SUMIFS($I$4:I27,$C$4:C27,C27),SUMIFS($I$4:I27,$C$4:C27,C28)))","v":0},0]
[26,null,{"$f":"IFERROR(VLOOKUP(D29,Nomenclature!$B$2:$C$196,2,0),\"\")","v":""},null,null,null,null,{"$f":"IF(C29=\"\",0,IF(SUMIFS($G$5:G29,$C$5:C29,C29)-SUMIFS($I$4:I28,$C$4:C28,C29)<0,0,SUMIFS($G$5:G29,$C$5:C29,C29)-SUMIFS($I$4:I28,$C$4:C28,C29)))","v":0},null,{"$f":"IF(C29=\"\",0,IF(C29=$C$4,SUMIFS($I$4:I28,$C$4:C28,C28),SUMIFS($I$4:I28,$C$4:C28,C29)))","v":0},0,null,null,null,"الصنف",null,null,null,{"$f":"C4","v":27000},null,null,null,{"$f":"SUM($F$4:INDIRECT(\"f\"&N1+3))","v":0},null,null,null,{"$f":"SUM($I$4:INDIRECT(\"i\"&N1+2))","v":0},null,null,null,{"$f":"W29-AA29","v":0},null,null,null,{"$f":"IF(S31=\"\",0,VLOOKUP(N1,A4:L103,9,0))","v":0},null,null,null,{"$f":"IF((AE29-AI29)<0,\"رصيد غير كاف\",AE29-AI29)","v":0}]
[27,null,{"$f":"IFERROR(VLOOKUP(D30,Nomenclature!$B$2:$C$196,2,0),\"\")","v":""},null,null,null,null,{"$f":"IF(C30=\"\",0,IF(SUMIFS($G$5:G30,$C$5:C30,C30)-SUMIFS($I$4:I29,$C$4:C29,C30)<0,0,SUMIFS($G$5:G30,$C$5:C30,C30)-SUMIFS($I$4:I29,$C$4:C29,C30)))","v":0},null,{"$f":"IF(C30=\"\",0,IF(C30=$C$4,SUMIFS($I$4:I29,$C$4:C29,C29),SUMIFS($I$4:I29,$C$4:C29,C30)))","v":0},0]
[28,null,{"$f":"IFERROR(VLOOKUP(D31,Nomenclature!$B$2:$C$196,2,0),\"\")","v":""},null,null,null,null,{"$f":"IF(C31=\"\",0,IF(SUMIFS($G$5:G31,$C$5:C31,C31)-SUMIFS($I$4:I30,$C$4:C30,C31)<0,0,SUMIFS($G$5:G31,$C$5:C31,C31)-SUMIFS($I$4:I30,$C$4:C30,C31)))","v":0},null,{"$f":"IF(C31=\"\",0,IF(C31=$C$4,SUMIFS($I$4:I30,$C$4:C30,C30),SUMIFS($I$4:I30,$C$4:C30,C31)))","v":0},0,null,null,null,"الصنف الفرعي",null,null,null,{"$f":"IF(IFERROR(VLOOKUP(N1,A4:L103,3,0),\"انتبه خطأ\")=S29,\"\",IFERROR(VLOOKUP(N1,A4:L103,3,0),\"انتبه خطأ\"))","v":""},null,null,null,{"$f":"IF(S31=\"\",\"\",VLOOKUP(N1,A4:L103,8,0))","v":""},null,null,null,{"$f":"IF(S31=\"\",\"\",VLOOKUP(N1,A4:L103,10,0))","v":""},null,null,null,{"$f":"IF(S31=\"\",\"\",W31-AA31)","v":""},null,null,null,{"$f":"IF(S31=\"\",\"\",VLOOKUP(N1,A4:L103,9,0))","v":""},null,null,null,{"$f":"IF(S31=\"\",\"\",IF((AE31-AI31)<0,\"رصيد غير كاف\",AE31-AI31))","v":""}]
[29,null,{"$f":"IFERROR(VLOOKUP(D32,Nomenclature!$B$2:$C$196,2,0),\"\")","v":""},null,null,null,null,{"$f":"IF(C32=\"\",0,IF(SUMIFS($G$5:G32,$C$5:C32,C32)-SUMIFS($I$4:I31,$C$4:C31,C32)<0,0,SUMIFS($G$5:G32,$C$5:C32,C32)-SUMIFS($I$4:I31,$C$4:C31,C32)))","v":0},null,{"$f":"IF(C32=\"\",0,IF(C32=$C$4,SUMIFS($I$4:I31,$C$4:C31,C31),SUMIFS($I$4:I31,$C$4:C31,C32)))","v":0},0]
[30,null,{"$f":"IFERROR(VLOOKUP(D33,Nomenclature!$B$2:$C$196,2,0),\"\")","v":""},null,null,null,null,{"$f":"IF(C33=\"\",0,IF(SUMIFS($G$5:G33,$C$5:C33,C33)-SUMIFS($I$4:I32,$C$4:C32,C33)<0,0,SUMIFS($G$5:G33,$C$5:C33,C33)-SUMIFS($I$4:I32,$C$4:C32,C33)))","v":0},null,{"$f":"IF(C33=\"\",0,IF(C33=$C$4,SUMIFS($I$4:I32,$C$4:C32,C32),SUMIFS($I$4:I32,$C$4:C32,C33)))","v":0},0]
[31,null,{"$f":"IFERROR(VLOOKUP(D34,Nomenclature!$B$2:$C$196,2,0),\"\")","v":""},null,null,null,null,{"$f":"IF(C34=\"\",0,IF(SUMIFS($G$5:G34,$C$5:C34,C34)-SUMIFS($I$4:I33,$C$4:C33,C34)<0,0,SUMIFS($G$5:G34,$C$5:C34,C34)-SUMIFS($I$4:I33,$C$4:C33,C34)))","v":0},null,{"$f":"IF(C34=\"\",0,IF(C34=$C$4,SUMIFS($I$4:I33,$C$4:C33,C33),SUMIFS($I$4:I33,$C$4:C33,C34)))","v":0},0,null,null,null,"موضوع الالتزام:"]
[32,null,{"$f":"IFERROR(VLOOKUP(D35,Nomenclature!$B$2:$C$196,2,0),\"\")","v":""},null,null,null,null,{"$f":"IF(C35=\"\",0,IF(SUMIFS($G$5:G35,$C$5:C35,C35)-SUMIFS($I$4:I34,$C$4:C34,C35)<0,0,SUMIFS($G$5:G35,$C$5:C35,C35)-SUMIFS($I$4:I34,$C$4:C34,C35)))","v":0},null,{"$f":"IF(C35=\"\",0,IF(C35=$C$4,SUMIFS($I$4:I34,$C$4:C34,C34),SUMIFS($I$4:I34,$C$4:C34,C35)))","v":0},0,null,null,null,{"$f":"IF(VLOOKUP(N1,A4:L203,5,0)=0,\"\",IFERROR(VLOOKUP(N1,A4:L203,5,0),\"انتبه خطأ\"))","v":""}]
[33,null,{"$f":"IFERROR(VLOOKUP(D36,Nomenclature!$B$2:$C$196,2,0),\"\")","v":""},null,null,null,null,{"$f":"IF(C36=\"\",0,IF(SUMIFS($G$5:G36,$C$5:C36,C36)-SUMIFS($I$4:I35,$C$4:C35,C36)<0,0,SUMIFS($G$5:G36,$C$5:C36,C36)-SUMIFS($I$4:I35,$C$4:C35,C36)))","v":0},null,{"$f":"IF(C36=\"\",0,IF(C36=$C$4,SUMIFS($I$4:I35,$C$4:C35,C35),SUMIFS($I$4:I35,$C$4:C35,C36)))","v":0},0]
[34,null,{"$f":"IFERROR(VLOOKUP(D37,Nomenclature!$B$2:$C$196,2,0),\"\")","v":""},null,null,null,null,{"$f":"IF(C37=\"\",0,IF(SUMIFS($G$5:G37,$C$5:C37,C37)-SUMIFS($I$4:I36,$C$4:C36,C37)<0,0,SUMIFS($G$5:G37,$C$5:C37,C37)-SUMIFS($I$4:I36,$C$4:C36,C37)))","v":0},null,{"$f":"IF(C37=\"\",0,IF(C37=$C$4,SUMIFS($I$4:I36,$C$4:C36,C36),SUMIFS($I$4:I36,$C$4:C36,C37)))","v":0},0]
[35,null,{"$f":"IFERROR(VLOOKUP(D38,Nomenclature!$B$2:$C$196,2,0),\"\")","v":""},null,null,null,null,{"$f":"IF(C38=\"\",0,IF(SUMIFS($G$5:G38,$C$5:C38,C38)-SUMIFS($I$4:I37,$C$4:C37,C38)<0,0,SUMIFS($G$5:G38,$C$5:C38,C38)-SUMIFS($I$4:I37,$C$4:C37,C38)))","v":0},null,{"$f":"IF(C38=\"\",0,IF(C38=$C$4,SUMIFS($I$4:I37,$C$4:C37,C37),SUMIFS($I$4:I37,$C$4:C37,C38)))","v":0},0]
[36,null,{"$f":"IFERROR(VLOOKUP(D39,Nomenclature!$B$2:$C$196,2,0),\"\")","v":""},null,null,null,null,{"$f":"IF(C39=\"\",0,IF(SUMIFS($G$5:G39,$C$5:C39,C39)-SUMIFS($I$4:I38,$C$4:C38,C39)<0,0,SUMIFS($G$5:G39,$C$5:C39,C39)-SUMIFS($I$4:I38,$C$4:C38,C39)))","v":0},null,{"$f":"IF(C39=\"\",0,IF(C39=$C$4,SUMIFS($I$4:I38,$C$4:C38,C38),SUMIFS($I$4:I38,$C$4:C38,C39)))","v":0},0]
[37,null,{"$f":"IFERROR(VLOOKUP(D40,Nomenclature!$B$2:$C$196,2,0),\"\")","v":""},null,null,null,null,{"$f":"IF(C40=\"\",0,IF(SUMIFS($G$5:G40,$C$5:C40,C40)-SUMIFS($I$4:I39,$C$4:C39,C40)<0,0,SUMIFS($G$5:G40,$C$5:C40,C40)-SUMIFS($I$4:I39,$C$4:C39,C40)))","v":0},null,{"$f":"IF(C40=\"\",0,IF(C40=$C$4,SUMIFS($I$4:I39,$C$4:C39,C39),SUMIFS($I$4:I39,$C$4:C39,C40)))","v":0},0,null,null,null,"المبلغ بالحروف:",null,null,null,{"$f":"IFERROR(arretera(AI31),\"\")","v":""}]
[38,null,{"$f":"IFERROR(VLOOKUP(D41,Nomenclature!$B$2:$C$196,2,0),\"\")","v":""},null,null,null,null,{"$f":"IF(C41=\"\",0,IF(SUMIFS($G$5:G41,$C$5:C41,C41)-SUMIFS($I$4:I40,$C$4:C40,C41)<0,0,SUMIFS($G$5:G41,$C$5:C41,C41)-SUMIFS($I$4:I40,$C$4:C40,C41)))","v":0},null,{"$f":"IF(C41=\"\",0,IF(C41=$C$4,SUMIFS($I$4:I40,$C$4:C40,C40),SUMIFS($I$4:I40,$C$4:C40,C41)))","v":0},0]
[39,null,{"$f":"IFERROR(VLOOKUP(D42,Nomenclature!$B$2:$C$196,2,0),\"\")","v":""},null,null,null,null,{"$f":"IF(C42=\"\",0,IF(SUMIFS($G$5:G42,$C$5:C42,C42)-SUMIFS($I$4:I41,$C$4:C41,C42)<0,0,SUMIFS($G$5:G42,$C$5:C42,C42)-SUMIFS($I$4:I41,$C$4:C41,C42)))","v":0},null,{"$f":"IF(C42=\"\",0,IF(C42=$C$4,SUMIFS($I$4:I41,$C$4:C41,C41),SUMIFS($I$4:I41,$C$4:C41,C42)))","v":0},0]
[40,null,{"$f":"IFERROR(VLOOKUP(D43,Nomenclature!$B$2:$C$196,2,0),\"\")","v":""},null,null,null,null,{"$f":"IF(C43=\"\",0,IF(SUMIFS($G$5:G43,$C$5:C43,C43)-SUMIFS($I$4:I42,$C$4:C42,C43)<0,0,SUMIFS($G$5:G43,$C$5:C43,C43)-SUMIFS($I$4:I42,$C$4:C42,C43)))","v":0},null,{"$f":"IF(C43=\"\",0,IF(C43=$C$4,SUMIFS($I$4:I42,$C$4:C42,C42),SUMIFS($I$4:I42,$C$4:C42,C43)))","v":0},0,null,null,null,"إطار مخصص للمراقب الميزانياتي",null,null,null,null,null,null,null,null,null,null,null,null,null,"إطار مخصص للآمر بالصرف"]
[41,null,{"$f":"IFERROR(VLOOKUP(D44,Nomenclature!$B$2:$C$196,2,0),\"\")","v":""},null,null,null,null,{"$f":"IF(C44=\"\",0,IF(SUMIFS($G$5:G44,$C$5:C44,C44)-SUMIFS($I$4:I43,$C$4:C43,C44)<0,0,SUMIFS($G$5:G44,$C$5:C44,C44)-SUMIFS($I$4:I43,$C$4:C43,C44)))","v":0},null,{"$f":"IF(C44=\"\",0,IF(C44=$C$4,SUMIFS($I$4:I43,$C$4:C43,C43),SUMIFS($I$4:I43,$C$4:C43,C44)))","v":0},0]
[42,null,{"$f":"IFERROR(VLOOKUP(D45,Nomenclature!$B$2:$C$196,2,0),\"\")","v":""},null,null,null,null,{"$f":"IF(C45=\"\",0,IF(SUMIFS($G$5:G45,$C$5:C45,C45)-SUMIFS($I$4:I44,$C$4:C44,C45)<0,0,SUMIFS($G$5:G45,$C$5:C45,C45)-SUMIFS($I$4:I44,$C$4:C44,C45)))","v":0},null,{"$f":"IF(C45=\"\",0,IF(C45=$C$4,SUMIFS($I$4:I44,$C$4:C44,C44),SUMIFS($I$4:I44,$C$4:C44,C45)))","v":0},0,null,null,null,"رقم التأشيرة:",null,null,null,null,null,null,null,null,null,null,null,null,null,null,"ختم"]
[43,null,{"$f":"IFERROR(VLOOKUP(D46,Nomenclature!$B$2:$C$196,2,0),\"\")","v":""},null,null,null,null,{"$f":"IF(C46=\"\",0,IF(SUMIFS($G$5:G46,$C$5:C46,C46)-SUMIFS($I$4:I45,$C$4:C45,C46)<0,0,SUMIFS($G$5:G46,$C$5:C46,C46)-SUMIFS($I$4:I45,$C$4:C45,C46)))","v":0},null,{"$f":"IF(C46=\"\",0,IF(C46=$C$4,SUMIFS($I$4:I45,$C$4:C45,C45),SUMIFS($I$4:I45,$C$4:C45,C46)))","v":0},0]
[44,null,{"$f":"IFERROR(VLOOKUP(D47,Nomenclature!$B$2:$C$196,2,0),\"\")","v":""},null,null,null,null,{"$f":"IF(C47=\"\",0,IF(SUMIFS($G$5:G47,$C$5:C47,C47)-SUMIFS($I$4:I46,$C$4:C46,C47)<0,0,SUMIFS($G$5:G47,$C$5:C47,C47)-SUMIFS($I$4:I46,$C$4:C46,C47)))","v":0},null,{"$f":"IF(C47=\"\",0,IF(C47=$C$4,SUMIFS($I$4:I46,$C$4:C46,C46),SUMIFS($I$4:I46,$C$4:C46,C47)))","v":0},0,null,null,null,"تاريخ التأشيرة:"]
[45,null,{"$f":"IFERROR(VLOOKUP(D48,Nomenclature!$B$2:$C$196,2,0),\"\")","v":""},null,null,null,null,{"$f":"IF(C48=\"\",0,IF(SUMIFS($G$5:G48,$C$5:C48,C48)-SUMIFS($I$4:I47,$C$4:C47,C48)<0,0,SUMIFS($G$5:G48,$C$5:C48,C48)-SUMIFS($I$4:I47,$C$4:C47,C48)))","v":0},null,{"$f":"IF(C48=\"\",0,IF(C48=$C$4,SUMIFS($I$4:I47,$C$4:C47,C47),SUMIFS($I$4:I47,$C$4:C47,C48)))","v":0},0,null,null,null,null,null,null,null,null,null,null,null,null,null,null,null,null,null,null,"امضاء"]
[46,null,{"$f":"IFERROR(VLOOKUP(D49,Nomenclature!$B$2:$C$196,2,0),\"\")","v":""},null,null,null,null,{"$f":"IF(C49=\"\",0,IF(SUMIFS($G$5:G49,$C$5:C49,C49)-SUMIFS($I$4:I48,$C$4:C48,C49)<0,0,SUMIFS($G$5:G49,$C$5:C49,C49)-SUMIFS($I$4:I48,$C$4:C48,C49)))","v":0},null,{"$f":"IF(C49=\"\",0,IF(C49=$C$4,SUMIFS($I$4:I48,$C$4:C48,C48),SUMIFS($I$4:I48,$C$4:C48,C49)))","v":0},0]
[47,null,{"$f":"IFERROR(VLOOKUP(D50,Nomenclature!$B$2:$C$196,2,0),\"\")","v":""},null,null,null,null,{"$f":"IF(C50=\"\",0,IF(SUMIFS($G$5:G50,$C$5:C50,C50)-SUMIFS($I$4:I49,$C$4:C49,C50)<0,0,SUMIFS($G$5:G50,$C$5:C50,C50)-SUMIFS($I$4:I49,$C$4:C49,C50)))","v":0},null,{"$f":"IF(C50=\"\",0,IF(C50=$C$4,SUMIFS($I$4:I49,$C$4:C49,C49),SUMIFS($I$4:I49,$C$4:C49,C50)))","v":0},0]
[48,null,{"$f":"IFERROR(VLOOKUP(D51,Nomenclature!$B$2:$C$196,2,0),\"\")","v":""},null,null,null,null,{"$f":"IF(C51=\"\",0,IF(SUMIFS($G$5:G51,$C$5:C51,C51)-SUMIFS($I$4:I50,$C$4:C50,C51)<0,0,SUMIFS($G$5:G51,$C$5:C51,C51)-SUMIFS($I$4:I50,$C$4:C50,C51)))","v":0},null,{"$f":"IF(C51=\"\",0,IF(C51=$C$4,SUMIFS($I$4:I50,$C$4:C50,C50),SUMIFS($I$4:I50,$C$4:C50,C51)))","v":0},0,null,null,null,null,{"$f":"AD48","v":"امضاء"},null,null,null,null,null,null,null,{"$f":"AD45","v":"ختم"}]
[49,null,{"$f":"IFERROR(VLOOKUP(D52,Nomenclature!$B$2:$C$196,2,0),\"\")","v":""},null,null,null,null,{"$f":"IF(C52=\"\",0,IF(SUMIFS($G$5:G52,$C$5:C52,C52)-SUMIFS($I$4:I51,$C$4:C51,C52)<0,0,SUMIFS($G$5:G52,$C$5:C52,C52)-SUMIFS($I$4:I51,$C$4:C51,C52)))","v":0},null,{"$f":"IF(C52=\"\",0,IF(C52=$C$4,SUMIFS($I$4:I51,$C$4:C51,C51),SUMIFS($I$4:I51,$C$4:C51,C52)))","v":0},0]
[50,null,{"$f":"IFERROR(VLOOKUP(D53,Nomenclature!$B$2:$C$196,2,0),\"\")","v":""},null,null,null,null,{"$f":"IF(C53=\"\",0,IF(SUMIFS($G$5:G53,$C$5:C53,C53)-SUMIFS($I$4:I52,$C$4:C52,C53)<0,0,SUMIFS($G$5:G53,$C$5:C53,C53)-SUMIFS($I$4:I52,$C$4:C52,C53)))","v":0},null,{"$f":"IF(C53=\"\",0,IF(C53=$C$4,SUMIFS($I$4:I52,$C$4:C52,C52),SUMIFS($I$4:I52,$C$4:C52,C53)))","v":0},0]
[51,null,{"$f":"IFERROR(VLOOKUP(D54,Nomenclature!$B$2:$C$196,2,0),\"\")","v":""},null,null,null,null,{"$f":"IF(C54=\"\",0,IF(SUMIFS($G$5:G54,$C$5:C54,C54)-SUMIFS($I$4:I53,$C$4:C53,C54)<0,0,SUMIFS($G$5:G54,$C$5:C54,C54)-SUMIFS($I$4:I53,$C$4:C53,C54)))","v":0},null,{"$f":"IF(C54=\"\",0,IF(C54=$C$4,SUMIFS($I$4:I53,$C$4:C53,C53),SUMIFS($I$4:I53,$C$4:C53,C54)))","v":0},0]
[52,null,{"$f":"IFERROR(VLOOKUP(D55,Nomenclature!$B$2:$C$196,2,0),\"\")","v":""},null,null,null,null,{"$f":"IF(C55=\"\",0,IF(SUMIFS($G$5:G55,$C$5:C55,C55)-SUMIFS($I$4:I54,$C$4:C54,C55)<0,0,SUMIFS($G$5:G55,$C$5:C55,C55)-SUMIFS($I$4:I54,$C$4:C54,C55)))","v":0},null,{"$f":"IF(C55=\"\",0,IF(C55=$C$4,SUMIFS($I$4:I54,$C$4:C54,C54),SUMIFS($I$4:I54,$C$4:C54,C55)))","v":0},0]
[53,null,{"$f":"IFERROR(VLOOKUP(D56,Nomenclature!$B$2:$C$196,2,0),\"\")","v":""},null,null,null,null,{"$f":"IF(C56=\"\",0,IF(SUMIFS($G$5:G56,$C$5:C56,C56)-SUMIFS($I$4:I55,$C$4:C55,C56)<0,0,SUMIFS($G$5:G56,$C$5:C56,C56)-SUMIFS($I$4:I55,$C$4:C55,C56)))","v":0},null,{"$f":"IF(C56=\"\",0,IF(C56=$C$4,SUMIFS($I$4:I55,$C$4:C55,C55),SUMIFS($I$4:I55,$C$4:C55,C56)))","v":0},0]
[54,null,{"$f":"IFERROR(VLOOKUP(D57,Nomenclature!$B$2:$C$196,2,0),\"\")","v":""},null,null,null,null,{"$f":"IF(C57=\"\",0,IF(SUMIFS($G$5:G57,$C$5:C57,C57)-SUMIFS($I$4:I56,$C$4:C56,C57)<0,0,SUMIFS($G$5:G57,$C$5:C57,C57)-SUMIFS($I$4:I56,$C$4:C56,C57)))","v":0},null,{"$f":"IF(C57=\"\",0,IF(C57=$C$4,SUMIFS($I$4:I56,$C$4:C56,C56),SUMIFS($I$4:I56,$C$4:C56,C57)))","v":0},0]
[55,null,{"$f":"IFERROR(VLOOKUP(D58,Nomenclature!$B$2:$C$196,2,0),\"\")","v":""},null,null,null,null,{"$f":"IF(C58=\"\",0,IF(SUMIFS($G$5:G58,$C$5:C58,C58)-SUMIFS($I$4:I57,$C$4:C57,C58)<0,0,SUMIFS($G$5:G58,$C$5:C58,C58)-SUMIFS($I$4:I57,$C$4:C57,C58)))","v":0},null,{"$f":"IF(C58=\"\",0,IF(C58=$C$4,SUMIFS($I$4:I57,$C$4:C57,C57),SUMIFS($I$4:I57,$C$4:C57,C58)))","v":0},0]
[56,null,{"$f":"IFERROR(VLOOKUP(D59,Nomenclature!$B$2:$C$196,2,0),\"\")","v":""},null,null,null,null,{"$f":"IF(C59=\"\",0,IF(SUMIFS($G$5:G59,$C$5:C59,C59)-SUMIFS($I$4:I58,$C$4:C58,C59)<0,0,SUMIFS($G$5:G59,$C$5:C59,C59)-SUMIFS($I$4:I58,$C$4:C58,C59)))","v":0},null,{"$f":"IF(C59=\"\",0,IF(C59=$C$4,SUMIFS($I$4:I58,$C$4:C58,C58),SUMIFS($I$4:I58,$C$4:C58,C59)))","v":0},0]
[57,null,{"$f":"IFERROR(VLOOKUP(D60,Nomenclature!$B$2:$C$196,2,0),\"\")","v":""},null,null,null,null,{"$f":"IF(C60=\"\",0,IF(SUMIFS($G$5:G60,$C$5:C60,C60)-SUMIFS($I$4:I59,$C$4:C59,C60)<0,0,SUMIFS($G$5:G60,$C$5:C60,C60)-SUMIFS($I$4:I59,$C$4:C59,C60)))","v":0},null,{"$f":"IF(C60=\"\",0,IF(C60=$C$4,SUMIFS($I$4:I59,$C$4:C59,C59),SUMIFS($I$4:I59,$C$4:C59,C60)))","v":0},0]
[58,null,{"$f":"IFERROR(VLOOKUP(D61,Nomenclature!$B$2:$C$196,2,0),\"\")","v":""},null,null,null,null,{"$f":"IF(C61=\"\",0,IF(SUMIFS($G$5:G61,$C$5:C61,C61)-SUMIFS($I$4:I60,$C$4:C60,C61)<0,0,SUMIFS($G$5:G61,$C$5:C61,C61)-SUMIFS($I$4:I60,$C$4:C60,C61)))","v":0},null,{"$f":"IF(C61=\"\",0,IF(C61=$C$4,SUMIFS($I$4:I60,$C$4:C60,C60),SUMIFS($I$4:I60,$C$4:C60,C61)))","v":0},0]
[59,null,{"$f":"IFERROR(VLOOKUP(D62,Nomenclature!$B$2:$C$196,2,0),\"\")","v":""},null,null,null,null,{"$f":"IF(C62=\"\",0,IF(SUMIFS($G$5:G62,$C$5:C62,C62)-SUMIFS($I$4:I61,$C$4:C61,C62)<0,0,SUMIFS($G$5:G62,$C$5:C62,C62)-SUMIFS($I$4:I61,$C$4:C61,C62)))","v":0},null,{"$f":"IF(C62=\"\",0,IF(C62=$C$4,SUMIFS($I$4:I61,$C$4:C61,C61),SUMIFS($I$4:I61,$C$4:C61,C62)))","v":0},0]
[60,null,{"$f":"IFERROR(VLOOKUP(D63,Nomenclature!$B$2:$C$196,2,0),\"\")","v":""},null,null,null,null,{"$f":"IF(C63=\"\",0,IF(SUMIFS($G$5:G63,$C$5:C63,C63)-SUMIFS($I$4:I62,$C$4:C62,C63)<0,0,SUMIFS($G$5:G63,$C$5:C63,C63)-SUMIFS($I$4:I62,$C$4:C62,C63)))","v":0},null,{"$f":"IF(C63=\"\",0,IF(C63=$C$4,SUMIFS($I$4:I62,$C$4:C62,C62),SUMIFS($I$4:I62,$C$4:C62,C63)))","v":0},0]
[61,null,{"$f":"IFERROR(VLOOKUP(D64,Nomenclature!$B$2:$C$196,2,0),\"\")","v":""},null,null,null,null,{"$f":"IF(C64=\"\",0,IF(SUMIFS($G$5:G64,$C$5:C64,C64)-SUMIFS($I$4:I63,$C$4:C63,C64)<0,0,SUMIFS($G$5:G64,$C$5:C64,C64)-SUMIFS($I$4:I63,$C$4:C63,C64)))","v":0},null,{"$f":"IF(C64=\"\",0,IF(C64=$C$4,SUMIFS($I$4:I63,$C$4:C63,C63),SUMIFS($I$4:I63,$C$4:C63,C64)))","v":0},0]
[62,null,{"$f":"IFERROR(VLOOKUP(D65,Nomenclature!$B$2:$C$196,2,0),\"\")","v":""},null,null,null,null,{"$f":"IF(C65=\"\",0,IF(SUMIFS($G$5:G65,$C$5:C65,C65)-SUMIFS($I$4:I64,$C$4:C64,C65)<0,0,SUMIFS($G$5:G65,$C$5:C65,C65)-SUMIFS($I$4:I64,$C$4:C64,C65)))","v":0},null,{"$f":"IF(C65=\"\",0,IF(C65=$C$4,SUMIFS($I$4:I64,$C$4:C64,C64),SUMIFS($I$4:I64,$C$4:C64,C65)))","v":0},0]
[63,null,{"$f":"IFERROR(VLOOKUP(D66,Nomenclature!$B$2:$C$196,2,0),\"\")","v":""},null,null,null,null,{"$f":"IF(C66=\"\",0,IF(SUMIFS($G$5:G66,$C$5:C66,C66)-SUMIFS($I$4:I65,$C$4:C65,C66)<0,0,SUMIFS($G$5:G66,$C$5:C66,C66)-SUMIFS($I$4:I65,$C$4:C65,C66)))","v":0},null,{"$f":"IF(C66=\"\",0,IF(C66=$C$4,SUMIFS($I$4:I65,$C$4:C65,C65),SUMIFS($I$4:I65,$C$4:C65,C66)))","v":0},0]
[64,null,{"$f":"IFERROR(VLOOKUP(D67,Nomenclature!$B$2:$C$196,2,0),\"\")","v":""},null,null,null,null,{"$f":"IF(C67=\"\",0,IF(SUMIFS($G$5:G67,$C$5:C67,C67)-SUMIFS($I$4:I66,$C$4:C66,C67)<0,0,SUMIFS($G$5:G67,$C$5:C67,C67)-SUMIFS($I$4:I66,$C$4:C66,C67)))","v":0},null,{"$f":"IF(C67=\"\",0,IF(C67=$C$4,SUMIFS($I$4:I66,$C$4:C66,C66),SUMIFS($I$4:I66,$C$4:C66,C67)))","v":0},0]
[65,null,{"$f":"IFERROR(VLOOKUP(D68,Nomenclature!$B$2:$C$196,2,0),\"\")","v":""},null,null,null,null,{"$f":"IF(C68=\"\",0,IF(SUMIFS($G$5:G68,$C$5:C68,C68)-SUMIFS($I$4:I67,$C$4:C67,C68)<0,0,SUMIFS($G$5:G68,$C$5:C68,C68)-SUMIFS($I$4:I67,$C$4:C67,C68)))","v":0},null,{"$f":"IF(C68=\"\",0,IF(C68=$C$4,SUMIFS($I$4:I67,$C$4:C67,C67),SUMIFS($I$4:I67,$C$4:C67,C68)))","v":0},{"$f":"IF(C68=\"\",0,H68-I68)","v":0}]
[66,null,{"$f":"IFERROR(VLOOKUP(D69,Nomenclature!$B$2:$C$196,2,0),\"\")","v":""},null,null,null,null,{"$f":"IF(C69=\"\",0,IF(SUMIFS($G$5:G69,$C$5:C69,C69)-SUMIFS($I$4:I68,$C$4:C68,C69)<0,0,SUMIFS($G$5:G69,$C$5:C69,C69)-SUMIFS($I$4:I68,$C$4:C68,C69)))","v":0},null,{"$f":"IF(C69=\"\",0,IF(C69=$C$4,SUMIFS($I$4:I68,$C$4:C68,C68),SUMIFS($I$4:I68,$C$4:C68,C69)))","v":0},0]
[67,null,{"$f":"IFERROR(VLOOKUP(D70,Nomenclature!$B$2:$C$196,2,0),\"\")","v":""},null,null,null,null,{"$f":"IF(C70=\"\",0,IF(SUMIFS($G$5:G70,$C$5:C70,C70)-SUMIFS($I$4:I69,$C$4:C69,C70)<0,0,SUMIFS($G$5:G70,$C$5:C70,C70)-SUMIFS($I$4:I69,$C$4:C69,C70)))","v":0},null,{"$f":"IF(C70=\"\",0,IF(C70=$C$4,SUMIFS($I$4:I69,$C$4:C69,C69),SUMIFS($I$4:I69,$C$4:C69,C70)))","v":0},0]
[68,null,{"$f":"IFERROR(VLOOKUP(D71,Nomenclature!$B$2:$C$196,2,0),\"\")","v":""},null,null,null,null,{"$f":"IF(C71=\"\",0,IF(SUMIFS($G$5:G71,$C$5:C71,C71)-SUMIFS($I$4:I70,$C$4:C70,C71)<0,0,SUMIFS($G$5:G71,$C$5:C71,C71)-SUMIFS($I$4:I70,$C$4:C70,C71)))","v":0},null,{"$f":"IF(C71=\"\",0,IF(C71=$C$4,SUMIFS($I$4:I70,$C$4:C70,C70),SUMIFS($I$4:I70,$C$4:C70,C71)))","v":0},0]
[69,null,{"$f":"IFERROR(VLOOKUP(D72,Nomenclature!$B$2:$C$196,2,0),\"\")","v":""},null,null,null,null,{"$f":"IF(C72=\"\",0,IF(SUMIFS($G$5:G72,$C$5:C72,C72)-SUMIFS($I$4:I71,$C$4:C71,C72)<0,0,SUMIFS($G$5:G72,$C$5:C72,C72)-SUMIFS($I$4:I71,$C$4:C71,C72)))","v":0},null,{"$f":"IF(C72=\"\",0,IF(C72=$C$4,SUMIFS($I$4:I71,$C$4:C71,C71),SUMIFS($I$4:I71,$C$4:C71,C72)))","v":0},0]
[70,null,{"$f":"IFERROR(VLOOKUP(D73,Nomenclature!$B$2:$C$196,2,0),\"\")","v":""},null,null,null,null,{"$f":"IF(C73=\"\",0,IF(SUMIFS($G$5:G73,$C$5:C73,C73)-SUMIFS($I$4:I72,$C$4:C72,C73)<0,0,SUMIFS($G$5:G73,$C$5:C73,C73)-SUMIFS($I$4:I72,$C$4:C72,C73)))","v":0},null,{"$f":"IF(C73=\"\",0,IF(C73=$C$4,SUMIFS($I$4:I72,$C$4:C72,C72),SUMIFS($I$4:I72,$C$4:C72,C73)))","v":0},0]
[71,null,{"$f":"IFERROR(VLOOKUP(D74,Nomenclature!$B$2:$C$196,2,0),\"\")","v":""},null,null,null,null,{"$f":"IF(C74=\"\",0,IF(SUMIFS($G$5:G74,$C$5:C74,C74)-SUMIFS($I$4:I73,$C$4:C73,C74)<0,0,SUMIFS($G$5:G74,$C$5:C74,C74)-SUMIFS($I$4:I73,$C$4:C73,C74)))","v":0},null,{"$f":"IF(C74=\"\",0,IF(C74=$C$4,SUMIFS($I$4:I73,$C$4:C73,C73),SUMIFS($I$4:I73,$C$4:C73,C74)))","v":0},0]
[72,null,{"$f":"IFERROR(VLOOKUP(D75,Nomenclature!$B$2:$C$196,2,0),\"\")","v":""},null,null,null,null,{"$f":"IF(C75=\"\",0,IF(SUMIFS($G$5:G75,$C$5:C75,C75)-SUMIFS($I$4:I74,$C$4:C74,C75)<0,0,SUMIFS($G$5:G75,$C$5:C75,C75)-SUMIFS($I$4:I74,$C$4:C74,C75)))","v":0},null,{"$f":"IF(C75=\"\",0,IF(C75=$C$4,SUMIFS($I$4:I74,$C$4:C74,C74),SUMIFS($I$4:I74,$C$4:C74,C75)))","v":0},0]
[73,null,{"$f":"IFERROR(VLOOKUP(D76,Nomenclature!$B$2:$C$196,2,0),\"\")","v":""},null,null,null,null,{"$f":"IF(C76=\"\",0,IF(SUMIFS($G$5:G76,$C$5:C76,C76)-SUMIFS($I$4:I75,$C$4:C75,C76)<0,0,SUMIFS($G$5:G76,$C$5:C76,C76)-SUMIFS($I$4:I75,$C$4:C75,C76)))","v":0},null,{"$f":"IF(C76=\"\",0,IF(C76=$C$4,SUMIFS($I$4:I75,$C$4:C75,C75),SUMIFS($I$4:I75,$C$4:C75,C76)))","v":0},0]
[74,null,{"$f":"IFERROR(VLOOKUP(D77,Nomenclature!$B$2:$C$196,2,0),\"\")","v":""},null,null,null,null,{"$f":"IF(C77=\"\",0,IF(SUMIFS($G$5:G77,$C$5:C77,C77)-SUMIFS($I$4:I76,$C$4:C76,C77)<0,0,SUMIFS($G$5:G77,$C$5:C77,C77)-SUMIFS($I$4:I76,$C$4:C76,C77)))","v":0},null,{"$f":"IF(C77=\"\",0,IF(C77=$C$4,SUMIFS($I$4:I76,$C$4:C76,C76),SUMIFS($I$4:I76,$C$4:C76,C77)))","v":0},0]
[75,null,{"$f":"IFERROR(VLOOKUP(D78,Nomenclature!$B$2:$C$196,2,0),\"\")","v":""},null,null,null,null,{"$f":"IF(C78=\"\",0,IF(SUMIFS($G$5:G78,$C$5:C78,C78)-SUMIFS($I$4:I77,$C$4:C77,C78)<0,0,SUMIFS($G$5:G78,$C$5:C78,C78)-SUMIFS($I$4:I77,$C$4:C77,C78)))","v":0},null,{"$f":"IF(C78=\"\",0,IF(C78=$C$4,SUMIFS($I$4:I77,$C$4:C77,C77),SUMIFS($I$4:I77,$C$4:C77,C78)))","v":0},0]
[76,null,{"$f":"IFERROR(VLOOKUP(D79,Nomenclature!$B$2:$C$196,2,0),\"\")","v":""},null,null,null,null,{"$f":"IF(C79=\"\",0,IF(SUMIFS($G$5:G79,$C$5:C79,C79)-SUMIFS($I$4:I78,$C$4:C78,C79)<0,0,SUMIFS($G$5:G79,$C$5:C79,C79)-SUMIFS($I$4:I78,$C$4:C78,C79)))","v":0},null,{"$f":"IF(C79=\"\",0,IF(C79=$C$4,SUMIFS($I$4:I78,$C$4:C78,C78),SUMIFS($I$4:I78,$C$4:C78,C79)))","v":0},0]
[77,null,{"$f":"IFERROR(VLOOKUP(D80,Nomenclature!$B$2:$C$196,2,0),\"\")","v":""},null,null,null,null,{"$f":"IF(C80=\"\",0,IF(SUMIFS($G$5:G80,$C$5:C80,C80)-SUMIFS($I$4:I79,$C$4:C79,C80)<0,0,SUMIFS($G$5:G80,$C$5:C80,C80)-SUMIFS($I$4:I79,$C$4:C79,C80)))","v":0},null,{"$f":"IF(C80=\"\",0,IF(C80=$C$4,SUMIFS($I$4:I79,$C$4:C79,C79),SUMIFS($I$4:I79,$C$4:C79,C80)))","v":0},0]
[78,null,{"$f":"IFERROR(VLOOKUP(D81,Nomenclature!$B$2:$C$196,2,0),\"\")","v":""},null,null,null,null,{"$f":"IF(C81=\"\",0,IF(SUMIFS($G$5:G81,$C$5:C81,C81)-SUMIFS($I$4:I80,$C$4:C80,C81)<0,0,SUMIFS($G$5:G81,$C$5:C81,C81)-SUMIFS($I$4:I80,$C$4:C80,C81)))","v":0},null,{"$f":"IF(C81=\"\",0,IF(C81=$C$4,SUMIFS($I$4:I80,$C$4:C80,C80),SUMIFS($I$4:I80,$C$4:C80,C81)))","v":0},0]
[79,null,{"$f":"IFERROR(VLOOKUP(D82,Nomenclature!$B$2:$C$196,2,0),\"\")","v":""},null,null,null,null,{"$f":"IF(C82=\"\",0,IF(SUMIFS($G$5:G82,$C$5:C82,C82)-SUMIFS($I$4:I81,$C$4:C81,C82)<0,0,SUMIFS($G$5:G82,$C$5:C82,C82)-SUMIFS($I$4:I81,$C$4:C81,C82)))","v":0},null,{"$f":"IF(C82=\"\",0,IF(C82=$C$4,SUMIFS($I$4:I81,$C$4:C81,C81),SUMIFS($I$4:I81,$C$4:C81,C82)))","v":0},0]
[80,null,{"$f":"IFERROR(VLOOKUP(D83,Nomenclature!$B$2:$C$196,2,0),\"\")","v":""},null,null,null,null,{"$f":"IF(C83=\"\",0,IF(SUMIFS($G$5:G83,$C$5:C83,C83)-SUMIFS($I$4:I82,$C$4:C82,C83)<0,0,SUMIFS($G$5:G83,$C$5:C83,C83)-SUMIFS($I$4:I82,$C$4:C82,C83)))","v":0},null,{"$f":"IF(C83=\"\",0,IF(C83=$C$4,SUMIFS($I$4:I82,$C$4:C82,C82),SUMIFS($I$4:I82,$C$4:C82,C83)))","v":0},0]
[81,null,{"$f":"IFERROR(VLOOKUP(D84,Nomenclature!$B$2:$C$196,2,0),\"\")","v":""},null,null,null,null,{"$f":"IF(C84=\"\",0,IF(SUMIFS($G$5:G84,$C$5:C84,C84)-SUMIFS($I$4:I83,$C$4:C83,C84)<0,0,SUMIFS($G$5:G84,$C$5:C84,C84)-SUMIFS($I$4:I83,$C$4:C83,C84)))","v":0},null,{"$f":"IF(C84=\"\",0,IF(C84=$C$4,SUMIFS($I$4:I83,$C$4:C83,C83),SUMIFS($I$4:I83,$C$4:C83,C84)))","v":0},0]
[82,null,{"$f":"IFERROR(VLOOKUP(D85,Nomenclature!$B$2:$C$196,2,0),\"\")","v":""},null,null,null,null,{"$f":"IF(C85=\"\",0,IF(SUMIFS($G$5:G85,$C$5:C85,C85)-SUMIFS($I$4:I84,$C$4:C84,C85)<0,0,SUMIFS($G$5:G85,$C$5:C85,C85)-SUMIFS($I$4:I84,$C$4:C84,C85)))","v":0},null,{"$f":"IF(C85=\"\",0,IF(C85=$C$4,SUMIFS($I$4:I84,$C$4:C84,C84),SUMIFS($I$4:I84,$C$4:C84,C85)))","v":0},0]
[83,null,{"$f":"IFERROR(VLOOKUP(D86,Nomenclature!$B$2:$C$196,2,0),\"\")","v":""},null,null,null,null,{"$f":"IF(C86=\"\",0,IF(SUMIFS($G$5:G86,$C$5:C86,C86)-SUMIFS($I$4:I85,$C$4:C85,C86)<0,0,SUMIFS($G$5:G86,$C$5:C86,C86)-SUMIFS($I$4:I85,$C$4:C85,C86)))","v":0},null,{"$f":"IF(C86=\"\",0,IF(C86=$C$4,SUMIFS($I$4:I85,$C$4:C85,C85),SUMIFS($I$4:I85,$C$4:C85,C86)))","v":0},0]
[84,null,{"$f":"IFERROR(VLOOKUP(D87,Nomenclature!$B$2:$C$196,2,0),\"\")","v":""},null,null,null,null,{"$f":"IF(C87=\"\",0,IF(SUMIFS($G$5:G87,$C$5:C87,C87)-SUMIFS($I$4:I86,$C$4:C86,C87)<0,0,SUMIFS($G$5:G87,$C$5:C87,C87)-SUMIFS($I$4:I86,$C$4:C86,C87)))","v":0},null,{"$f":"IF(C87=\"\",0,IF(C87=$C$4,SUMIFS($I$4:I86,$C$4:C86,C86),SUMIFS($I$4:I86,$C$4:C86,C87)))","v":0},0]
[85,null,{"$f":"IFERROR(VLOOKUP(D88,Nomenclature!$B$2:$C$196,2,0),\"\")","v":""},null,null,null,null,{"$f":"IF(C88=\"\",0,IF(SUMIFS($G$5:G88,$C$5:C88,C88)-SUMIFS($I$4:I87,$C$4:C87,C88)<0,0,SUMIFS($G$5:G88,$C$5:C88,C88)-SUMIFS($I$4:I87,$C$4:C87,C88)))","v":0},null,{"$f":"IF(C88=\"\",0,IF(C88=$C$4,SUMIFS($I$4:I87,$C$4:C87,C87),SUMIFS($I$4:I87,$C$4:C87,C88)))","v":0},0]
[86,null,{"$f":"IFERROR(VLOOKUP(D89,Nomenclature!$B$2:$C$196,2,0),\"\")","v":""},null,null,null,null,{"$f":"IF(C89=\"\",0,IF(SUMIFS($G$5:G89,$C$5:C89,C89)-SUMIFS($I$4:I88,$C$4:C88,C89)<0,0,SUMIFS($G$5:G89,$C$5:C89,C89)-SUMIFS($I$4:I88,$C$4:C88,C89)))","v":0},null,{"$f":"IF(C89=\"\",0,IF(C89=$C$4,SUMIFS($I$4:I88,$C$4:C88,C88),SUMIFS($I$4:I88,$C$4:C88,C89)))","v":0},0]
[87,null,{"$f":"IFERROR(VLOOKUP(D90,Nomenclature!$B$2:$C$196,2,0),\"\")","v":""},null,null,null,null,{"$f":"IF(C90=\"\",0,IF(SUMIFS($G$5:G90,$C$5:C90,C90)-SUMIFS($I$4:I89,$C$4:C89,C90)<0,0,SUMIFS($G$5:G90,$C$5:C90,C90)-SUMIFS($I$4:I89,$C$4:C89,C90)))","v":0},null,{"$f":"IF(C90=\"\",0,IF(C90=$C$4,SUMIFS($I$4:I89,$C$4:C89,C89),SUMIFS($I$4:I89,$C$4:C89,C90)))","v":0},0]
[88,null,{"$f":"IFERROR(VLOOKUP(D91,Nomenclature!$B$2:$C$196,2,0),\"\")","v":""},null,null,null,null,{"$f":"IF(C91=\"\",0,IF(SUMIFS($G$5:G91,$C$5:C91,C91)-SUMIFS($I$4:I90,$C$4:C90,C91)<0,0,SUMIFS($G$5:G91,$C$5:C91,C91)-SUMIFS($I$4:I90,$C$4:C90,C91)))","v":0},null,{"$f":"IF(C91=\"\",0,IF(C91=$C$4,SUMIFS($I$4:I90,$C$4:C90,C90),SUMIFS($I$4:I90,$C$4:C90,C91)))","v":0},0]
[89,null,{"$f":"IFERROR(VLOOKUP(D92,Nomenclature!$B$2:$C$196,2,0),\"\")","v":""},null,null,null,null,{"$f":"IF(C92=\"\",0,IF(SUMIFS($G$5:G92,$C$5:C92,C92)-SUMIFS($I$4:I91,$C$4:C91,C92)<0,0,SUMIFS($G$5:G92,$C$5:C92,C92)-SUMIFS($I$4:I91,$C$4:C91,C92)))","v":0},null,{"$f":"IF(C92=\"\",0,IF(C92=$C$4,SUMIFS($I$4:I91,$C$4:C91,C91),SUMIFS($I$4:I91,$C$4:C91,C92)))","v":0},0]
[90,null,{"$f":"IFERROR(VLOOKUP(D93,Nomenclature!$B$2:$C$196,2,0),\"\")","v":""},null,null,null,null,{"$f":"IF(C93=\"\",0,IF(SUMIFS($G$5:G93,$C$5:C93,C93)-SUMIFS($I$4:I92,$C$4:C92,C93)<0,0,SUMIFS($G$5:G93,$C$5:C93,C93)-SUMIFS($I$4:I92,$C$4:C92,C93)))","v":0},null,{"$f":"IF(C93=\"\",0,IF(C93=$C$4,SUMIFS($I$4:I92,$C$4:C92,C92),SUMIFS($I$4:I92,$C$4:C92,C93)))","v":0},0]
[91,null,{"$f":"IFERROR(VLOOKUP(D94,Nomenclature!$B$2:$C$196,2,0),\"\")","v":""},null,null,null,null,{"$f":"IF(C94=\"\",0,IF(SUMIFS($G$5:G94,$C$5:C94,C94)-SUMIFS($I$4:I93,$C$4:C93,C94)<0,0,SUMIFS($G$5:G94,$C$5:C94,C94)-SUMIFS($I$4:I93,$C$4:C93,C94)))","v":0},null,{"$f":"IF(C94=\"\",0,IF(C94=$C$4,SUMIFS($I$4:I93,$C$4:C93,C93),SUMIFS($I$4:I93,$C$4:C93,C94)))","v":0},0]
[92,null,{"$f":"IFERROR(VLOOKUP(D95,Nomenclature!$B$2:$C$196,2,0),\"\")","v":""},null,null,null,null,{"$f":"IF(C95=\"\",0,IF(SUMIFS($G$5:G95,$C$5:C95,C95)-SUMIFS($I$4:I94,$C$4:C94,C95)<0,0,SUMIFS($G$5:G95,$C$5:C95,C95)-SUMIFS($I$4:I94,$C$4:C94,C95)))","v":0},null,{"$f":"IF(C95=\"\",0,IF(C95=$C$4,SUMIFS($I$4:I94,$C$4:C94,C94),SUMIFS($I$4:I94,$C$4:C94,C95)))","v":0},0]
[93,null,{"$f":"IFERROR(VLOOKUP(D96,Nomenclature!$B$2:$C$196,2,0),\"\")","v":""},null,null,null,null,{"$f":"IF(C96=\"\",0,IF(SUMIFS($G$5:G96,$C$5:C96,C96)-SUMIFS($I$4:I95,$C$4:C95,C96)<0,0,SUMIFS($G$5:G96,$C$5:C96,C96)-SUMIFS($I$4:I95,$C$4:C95,C96)))","v":0},null,{"$f":"IF(C96=\"\",0,IF(C96=$C$4,SUMIFS($I$4:I95,$C$4:C95,C95),SUMIFS($I$4:I95,$C$4:C95,C96)))","v":0},0]
[94,null,{"$f":"IFERROR(VLOOKUP(D97,Nomenclature!$B$2:$C$196,2,0),\"\")","v":""},null,null,null,null,{"$f":"IF(C97=\"\",0,IF(SUMIFS($G$5:G97,$C$5:C97,C97)-SUMIFS($I$4:I96,$C$4:C96,C97)<0,0,SUMIFS($G$5:G97,$C$5:C97,C97)-SUMIFS($I$4:I96,$C$4:C96,C97)))","v":0},null,{"$f":"IF(C97=\"\",0,IF(C97=$C$4,SUMIFS($I$4:I96,$C$4:C96,C96),SUMIFS($I$4:I96,$C$4:C96,C97)))","v":0},0]
[95,null,{"$f":"IFERROR(VLOOKUP(D98,Nomenclature!$B$2:$C$196,2,0),\"\")","v":""},null,null,null,null,{"$f":"IF(C98=\"\",0,IF(SUMIFS($G$5:G98,$C$5:C98,C98)-SUMIFS($I$4:I97,$C$4:C97,C98)<0,0,SUMIFS($G$5:G98,$C$5:C98,C98)-SUMIFS($I$4:I97,$C$4:C97,C98)))","v":0},null,{"$f":"IF(C98=\"\",0,IF(C98=$C$4,SUMIFS($I$4:I97,$C$4:C97,C97),SUMIFS($I$4:I97,$C$4:C97,C98)))","v":0},0]
[96,null,{"$f":"IFERROR(VLOOKUP(D99,Nomenclature!$B$2:$C$196,2,0),\"\")","v":""},null,null,null,null,{"$f":"IF(C99=\"\",0,IF(SUMIFS($G$5:G99,$C$5:C99,C99)-SUMIFS($I$4:I98,$C$4:C98,C99)<0,0,SUMIFS($G$5:G99,$C$5:C99,C99)-SUMIFS($I$4:I98,$C$4:C98,C99)))","v":0},null,{"$f":"IF(C99=\"\",0,IF(C99=$C$4,SUMIFS($I$4:I98,$C$4:C98,C98),SUMIFS($I$4:I98,$C$4:C98,C99)))","v":0},0]
[97,null,{"$f":"IFERROR(VLOOKUP(D100,Nomenclature!$B$2:$C$196,2,0),\"\")","v":""},null,null,null,null,{"$f":"IF(C100=\"\",0,IF(SUMIFS($G$5:G100,$C$5:C100,C100)-SUMIFS($I$4:I99,$C$4:C99,C100)<0,0,SUMIFS($G$5:G100,$C$5:C100,C100)-SUMIFS($I$4:I99,$C$4:C99,C100)))","v":0},null,{"$f":"IF(C100=\"\",0,IF(C100=$C$4,SUMIFS($I$4:I99,$C$4:C99,C99),SUMIFS($I$4:I99,$C$4:C99,C100)))","v":0},0]
[98,null,{"$f":"IFERROR(VLOOKUP(D101,Nomenclature!$B$2:$C$196,2,0),\"\")","v":""},null,null,null,null,{"$f":"IF(C101=\"\",0,IF(SUMIFS($G$5:G101,$C$5:C101,C101)-SUMIFS($I$4:I100,$C$4:C100,C101)<0,0,SUMIFS($G$5:G101,$C$5:C101,C101)-SUMIFS($I$4:I100,$C$4:C100,C101)))","v":0},null,{"$f":"IF(C101=\"\",0,IF(C101=$C$4,SUMIFS($I$4:I100,$C$4:C100,C100),SUMIFS($I$4:I100,$C$4:C100,C101)))","v":0},0]
[99,null,{"$f":"IFERROR(VLOOKUP(D102,Nomenclature!$B$2:$C$196,2,0),\"\")","v":""},null,null,null,null,{"$f":"IF(C102=\"\",0,IF(SUMIFS($G$5:G102,$C$5:C102,C102)-SUMIFS($I$4:I101,$C$4:C101,C102)<0,0,SUMIFS($G$5:G102,$C$5:C102,C102)-SUMIFS($I$4:I101,$C$4:C101,C102)))","v":0},null,{"$f":"IF(C102=\"\",0,IF(C102=$C$4,SUMIFS($I$4:I101,$C$4:C101,C101),SUMIFS($I$4:I101,$C$4:C101,C102)))","v":0},0]
[100,null,{"$f":"IFERROR(VLOOKUP(D103,Nomenclature!$B$2:$C$196,2,0),\"\")","v":""},null,null,null,null,{"$f":"IF(C103=\"\",0,IF(SUMIFS($G$5:G103,$C$5:C103,C103)-SUMIFS($I$4:I102,$C$4:C102,C103)<0,0,SUMIFS($G$5:G103,$C$5:C103,C103)-SUMIFS($I$4:I102,$C$4:C102,C103)))","v":0},null,{"$f":"IF(C103=\"\",0,IF(C103=$C$4,SUMIFS($I$4:I102,$C$4:C102,C102),SUMIFS($I$4:I102,$C$4:C102,C103)))","v":0},0]
[101,null,{"$f":"IFERROR(VLOOKUP(D104,Nomenclature!$B$2:$C$196,2,0),\"\")","v":""},null,null,null,null,{"$f":"IF(C104=\"\",0,IF(SUMIFS($G$5:G104,$C$5:C104,C104)-SUMIFS($I$4:I103,$C$4:C103,C104)<0,0,SUMIFS($G$5:G104,$C$5:C104,C104)-SUMIFS($I$4:I103,$C$4:C103,C104)))","v":0},null,{"$f":"IF(C104=\"\",0,IF(C104=$C$4,SUMIFS($I$4:I103,$C$4:C103,C103),SUMIFS($I$4:I103,$C$4:C103,C104)))","v":0},0]
[102,null,{"$f":"IFERROR(VLOOKUP(D105,Nomenclature!$B$2:$C$196,2,0),\"\")","v":""},null,null,null,null,{"$f":"IF(C105=\"\",0,IF(SUMIFS($G$5:G105,$C$5:C105,C105)-SUMIFS($I$4:I104,$C$4:C104,C105)<0,0,SUMIFS($G$5:G105,$C$5:C105,C105)-SUMIFS($I$4:I104,$C$4:C104,C105)))","v":0},null,{"$f":"IF(C105=\"\",0,IF(C105=$C$4,SUMIFS($I$4:I104,$C$4:C104,C104),SUMIFS($I$4:I104,$C$4:C104,C105)))","v":0},0]
[103,null,{"$f":"IFERROR(VLOOKUP(D106,Nomenclature!$B$2:$C$196,2,0),\"\")","v":""},null,null,null,null,{"$f":"IF(C106=\"\",0,IF(SUMIFS($G$5:G106,$C$5:C106,C106)-SUMIFS($I$4:I105,$C$4:C105,C106)<0,0,SUMIFS($G$5:G106,$C$5:C106,C106)-SUMIFS($I$4:I105,$C$4:C105,C106)))","v":0},null,{"$f":"IF(C106=\"\",0,IF(C106=$C$4,SUMIFS($I$4:I105,$C$4:C105,C105),SUMIFS($I$4:I105,$C$4:C105,C106)))","v":0},0]
[104,null,{"$f":"IFERROR(VLOOKUP(D107,Nomenclature!$B$2:$C$196,2,0),\"\")","v":""},null,null,null,null,{"$f":"IF(C107=\"\",0,IF(SUMIFS($G$5:G107,$C$5:C107,C107)-SUMIFS($I$4:I106,$C$4:C106,C107)<0,0,SUMIFS($G$5:G107,$C$5:C107,C107)-SUMIFS($I$4:I106,$C$4:C106,C107)))","v":0},null,{"$f":"IF(C107=\"\",0,IF(C107=$C$4,SUMIFS($I$4:I106,$C$4:C106,C106),SUMIFS($I$4:I106,$C$4:C106,C107)))","v":0},0]
[105,null,{"$f":"IFERROR(VLOOKUP(D108,Nomenclature!$B$2:$C$196,2,0),\"\")","v":""},null,null,null,null,{"$f":"IF(C108=\"\",0,IF(SUMIFS($G$5:G108,$C$5:C108,C108)-SUMIFS($I$4:I107,$C$4:C107,C108)<0,0,SUMIFS($G$5:G108,$C$5:C108,C108)-SUMIFS($I$4:I107,$C$4:C107,C108)))","v":0},null,{"$f":"IF(C108=\"\",0,IF(C108=$C$4,SUMIFS($I$4:I107,$C$4:C107,C107),SUMIFS($I$4:I107,$C$4:C107,C108)))","v":0},0]
[106,null,{"$f":"IFERROR(VLOOKUP(D109,Nomenclature!$B$2:$C$196,2,0),\"\")","v":""},null,null,null,null,{"$f":"IF(C109=\"\",0,IF(SUMIFS($G$5:G109,$C$5:C109,C109)-SUMIFS($I$4:I108,$C$4:C108,C109)<0,0,SUMIFS($G$5:G109,$C$5:C109,C109)-SUMIFS($I$4:I108,$C$4:C108,C109)))","v":0},null,{"$f":"IF(C109=\"\",0,IF(C109=$C$4,SUMIFS($I$4:I108,$C$4:C108,C108),SUMIFS($I$4:I108,$C$4:C108,C109)))","v":0},0]
[107,null,{"$f":"IFERROR(VLOOKUP(D110,Nomenclature!$B$2:$C$196,2,0),\"\")","v":""},null,null,null,null,{"$f":"IF(C110=\"\",0,IF(SUMIFS($G$5:G110,$C$5:C110,C110)-SUMIFS($I$4:I109,$C$4:C109,C110)<0,0,SUMIFS($G$5:G110,$C$5:C110,C110)-SUMIFS($I$4:I109,$C$4:C109,C110)))","v":0},null,{"$f":"IF(C110=\"\",0,IF(C110=$C$4,SUMIFS($I$4:I109,$C$4:C109,C109),SUMIFS($I$4:I109,$C$4:C109,C110)))","v":0},0]
[108,null,{"$f":"IFERROR(VLOOKUP(D111,Nomenclature!$B$2:$C$196,2,0),\"\")","v":""},null,null,null,null,{"$f":"IF(C111=\"\",0,IF(SUMIFS($G$5:G111,$C$5:C111,C111)-SUMIFS($I$4:I110,$C$4:C110,C111)<0,0,SUMIFS($G$5:G111,$C$5:C111,C111)-SUMIFS($I$4:I110,$C$4:C110,C111)))","v":0},null,{"$f":"IF(C111=\"\",0,IF(C111=$C$4,SUMIFS($I$4:I110,$C$4:C110,C110),SUMIFS($I$4:I110,$C$4:C110,C111)))","v":0},0]
[109,null,{"$f":"IFERROR(VLOOKUP(D112,Nomenclature!$B$2:$C$196,2,0),\"\")","v":""},null,null,null,null,{"$f":"IF(C112=\"\",0,IF(SUMIFS($G$5:G112,$C$5:C112,C112)-SUMIFS($I$4:I111,$C$4:C111,C112)<0,0,SUMIFS($G$5:G112,$C$5:C112,C112)-SUMIFS($I$4:I111,$C$4:C111,C112)))","v":0},null,{"$f":"IF(C112=\"\",0,IF(C112=$C$4,SUMIFS($I$4:I111,$C$4:C111,C111),SUMIFS($I$4:I111,$C$4:C111,C112)))","v":0},0]
[110,null,{"$f":"IFERROR(VLOOKUP(D113,Nomenclature!$B$2:$C$196,2,0),\"\")","v":""},null,null,null,null,{"$f":"IF(C113=\"\",0,IF(SUMIFS($G$5:G113,$C$5:C113,C113)-SUMIFS($I$4:I112,$C$4:C112,C113)<0,0,SUMIFS($G$5:G113,$C$5:C113,C113)-SUMIFS($I$4:I112,$C$4:C112,C113)))","v":0},null,{"$f":"IF(C113=\"\",0,IF(C113=$C$4,SUMIFS($I$4:I112,$C$4:C112,C112),SUMIFS($I$4:I112,$C$4:C112,C113)))","v":0},0]
[111,null,{"$f":"IFERROR(VLOOKUP(D114,Nomenclature!$B$2:$C$196,2,0),\"\")","v":""},null,null,null,null,{"$f":"IF(C114=\"\",0,IF(SUMIFS($G$5:G114,$C$5:C114,C114)-SUMIFS($I$4:I113,$C$4:C113,C114)<0,0,SUMIFS($G$5:G114,$C$5:C114,C114)-SUMIFS($I$4:I113,$C$4:C113,C114)))","v":0},null,{"$f":"IF(C114=\"\",0,IF(C114=$C$4,SUMIFS($I$4:I113,$C$4:C113,C113),SUMIFS($I$4:I113,$C$4:C113,C114)))","v":0},0]
[112,null,{"$f":"IFERROR(VLOOKUP(D115,Nomenclature!$B$2:$C$196,2,0),\"\")","v":""},null,null,null,null,{"$f":"IF(C115=\"\",0,IF(SUMIFS($G$5:G115,$C$5:C115,C115)-SUMIFS($I$4:I114,$C$4:C114,C115)<0,0,SUMIFS($G$5:G115,$C$5:C115,C115)-SUMIFS($I$4:I114,$C$4:C114,C115)))","v":0},null,{"$f":"IF(C115=\"\",0,IF(C115=$C$4,SUMIFS($I$4:I114,$C$4:C114,C114),SUMIFS($I$4:I114,$C$4:C114,C115)))","v":0},0]
[113,null,{"$f":"IFERROR(VLOOKUP(D116,Nomenclature!$B$2:$C$196,2,0),\"\")","v":""},null,null,null,null,{"$f":"IF(C116=\"\",0,IF(SUMIFS($G$5:G116,$C$5:C116,C116)-SUMIFS($I$4:I115,$C$4:C115,C116)<0,0,SUMIFS($G$5:G116,$C$5:C116,C116)-SUMIFS($I$4:I115,$C$4:C115,C116)))","v":0},null,{"$f":"IF(C116=\"\",0,IF(C116=$C$4,SUMIFS($I$4:I115,$C$4:C115,C115),SUMIFS($I$4:I115,$C$4:C115,C116)))","v":0},0]
[114,null,{"$f":"IFERROR(VLOOKUP(D117,Nomenclature!$B$2:$C$196,2,0),\"\")","v":""},null,null,null,null,{"$f":"IF(C117=\"\",0,IF(SUMIFS($G$5:G117,$C$5:C117,C117)-SUMIFS($I$4:I116,$C$4:C116,C117)<0,0,SUMIFS($G$5:G117,$C$5:C117,C117)-SUMIFS($I$4:I116,$C$4:C116,C117)))","v":0},null,{"$f":"IF(C117=\"\",0,IF(C117=$C$4,SUMIFS($I$4:I116,$C$4:C116,C116),SUMIFS($I$4:I116,$C$4:C116,C117)))","v":0},0]
[115,null,{"$f":"IFERROR(VLOOKUP(D118,Nomenclature!$B$2:$C$196,2,0),\"\")","v":""},null,null,null,null,{"$f":"IF(C118=\"\",0,IF(SUMIFS($G$5:G118,$C$5:C118,C118)-SUMIFS($I$4:I117,$C$4:C117,C118)<0,0,SUMIFS($G$5:G118,$C$5:C118,C118)-SUMIFS($I$4:I117,$C$4:C117,C118)))","v":0},null,{"$f":"IF(C118=\"\",0,IF(C118=$C$4,SUMIFS($I$4:I117,$C$4:C117,C117),SUMIFS($I$4:I117,$C$4:C117,C118)))","v":0},0]
[116,null,{"$f":"IFERROR(VLOOKUP(D119,Nomenclature!$B$2:$C$196,2,0),\"\")","v":""},null,null,null,null,{"$f":"IF(C119=\"\",0,IF(SUMIFS($G$5:G119,$C$5:C119,C119)-SUMIFS($I$4:I118,$C$4:C118,C119)<0,0,SUMIFS($G$5:G119,$C$5:C119,C119)-SUMIFS($I$4:I118,$C$4:C118,C119)))","v":0},null,{"$f":"IF(C119=\"\",0,IF(C119=$C$4,SUMIFS($I$4:I118,$C$4:C118,C118),SUMIFS($I$4:I118,$C$4:C118,C119)))","v":0},0]
[117,null,{"$f":"IFERROR(VLOOKUP(D120,Nomenclature!$B$2:$C$196,2,0),\"\")","v":""},null,null,null,null,{"$f":"IF(C120=\"\",0,IF(SUMIFS($G$5:G120,$C$5:C120,C120)-SUMIFS($I$4:I119,$C$4:C119,C120)<0,0,SUMIFS($G$5:G120,$C$5:C120,C120)-SUMIFS($I$4:I119,$C$4:C119,C120)))","v":0},null,{"$f":"IF(C120=\"\",0,IF(C120=$C$4,SUMIFS($I$4:I119,$C$4:C119,C119),SUMIFS($I$4:I119,$C$4:C119,C120)))","v":0},0]
[118,null,{"$f":"IFERROR(VLOOKUP(D121,Nomenclature!$B$2:$C$196,2,0),\"\")","v":""},null,null,null,null,{"$f":"IF(C121=\"\",0,IF(SUMIFS($G$5:G121,$C$5:C121,C121)-SUMIFS($I$4:I120,$C$4:C120,C121)<0,0,SUMIFS($G$5:G121,$C$5:C121,C121)-SUMIFS($I$4:I120,$C$4:C120,C121)))","v":0},null,{"$f":"IF(C121=\"\",0,IF(C121=$C$4,SUMIFS($I$4:I120,$C$4:C120,C120),SUMIFS($I$4:I120,$C$4:C120,C121)))","v":0},0]
[119,null,{"$f":"IFERROR(VLOOKUP(D122,Nomenclature!$B$2:$C$196,2,0),\"\")","v":""},null,null,null,null,{"$f":"IF(C122=\"\",0,IF(SUMIFS($G$5:G122,$C$5:C122,C122)-SUMIFS($I$4:I121,$C$4:C121,C122)<0,0,SUMIFS($G$5:G122,$C$5:C122,C122)-SUMIFS($I$4:I121,$C$4:C121,C122)))","v":0},null,{"$f":"IF(C122=\"\",0,IF(C122=$C$4,SUMIFS($I$4:I121,$C$4:C121,C121),SUMIFS($I$4:I121,$C$4:C121,C122)))","v":0},0]
[120,null,{"$f":"IFERROR(VLOOKUP(D123,Nomenclature!$B$2:$C$196,2,0),\"\")","v":""},null,null,null,null,{"$f":"IF(C123=\"\",0,IF(SUMIFS($G$5:G123,$C$5:C123,C123)-SUMIFS($I$4:I122,$C$4:C122,C123)<0,0,SUMIFS($G$5:G123,$C$5:C123,C123)-SUMIFS($I$4:I122,$C$4:C122,C123)))","v":0},null,{"$f":"IF(C123=\"\",0,IF(C123=$C$4,SUMIFS($I$4:I122,$C$4:C122,C122),SUMIFS($I$4:I122,$C$4:C122,C123)))","v":0},0]
[121,null,{"$f":"IFERROR(VLOOKUP(D124,Nomenclature!$B$2:$C$196,2,0),\"\")","v":""},null,null,null,null,{"$f":"IF(C124=\"\",0,IF(SUMIFS($G$5:G124,$C$5:C124,C124)-SUMIFS($I$4:I123,$C$4:C123,C124)<0,0,SUMIFS($G$5:G124,$C$5:C124,C124)-SUMIFS($I$4:I123,$C$4:C123,C124)))","v":0},null,{"$f":"IF(C124=\"\",0,IF(C124=$C$4,SUMIFS($I$4:I123,$C$4:C123,C123),SUMIFS($I$4:I123,$C$4:C123,C124)))","v":0},0]
[122,null,{"$f":"IFERROR(VLOOKUP(D125,Nomenclature!$B$2:$C$196,2,0),\"\")","v":""},null,null,null,null,{"$f":"IF(C125=\"\",0,IF(SUMIFS($G$5:G125,$C$5:C125,C125)-SUMIFS($I$4:I124,$C$4:C124,C125)<0,0,SUMIFS($G$5:G125,$C$5:C125,C125)-SUMIFS($I$4:I124,$C$4:C124,C125)))","v":0},null,{"$f":"IF(C125=\"\",0,IF(C125=$C$4,SUMIFS($I$4:I124,$C$4:C124,C124),SUMIFS($I$4:I124,$C$4:C124,C125)))","v":0},0]
[123,null,{"$f":"IFERROR(VLOOKUP(D126,Nomenclature!$B$2:$C$196,2,0),\"\")","v":""},null,null,null,null,{"$f":"IF(C126=\"\",0,IF(SUMIFS($G$5:G126,$C$5:C126,C126)-SUMIFS($I$4:I125,$C$4:C125,C126)<0,0,SUMIFS($G$5:G126,$C$5:C126,C126)-SUMIFS($I$4:I125,$C$4:C125,C126)))","v":0},null,{"$f":"IF(C126=\"\",0,IF(C126=$C$4,SUMIFS($I$4:I125,$C$4:C125,C125),SUMIFS($I$4:I125,$C$4:C125,C126)))","v":0},0]
[124,null,{"$f":"IFERROR(VLOOKUP(D127,Nomenclature!$B$2:$C$196,2,0),\"\")","v":""},null,null,null,null,{"$f":"IF(C127=\"\",0,IF(SUMIFS($G$5:G127,$C$5:C127,C127)-SUMIFS($I$4:I126,$C$4:C126,C127)<0,0,SUMIFS($G$5:G127,$C$5:C127,C127)-SUMIFS($I$4:I126,$C$4:C126,C127)))","v":0},null,{"$f":"IF(C127=\"\",0,IF(C127=$C$4,SUMIFS($I$4:I126,$C$4:C126,C126),SUMIFS($I$4:I126,$C$4:C126,C127)))","v":0},0]
[125,null,{"$f":"IFERROR(VLOOKUP(D128,Nomenclature!$B$2:$C$196,2,0),\"\")","v":""},null,null,null,null,{"$f":"IF(C128=\"\",0,IF(SUMIFS($G$5:G128,$C$5:C128,C128)-SUMIFS($I$4:I127,$C$4:C127,C128)<0,0,SUMIFS($G$5:G128,$C$5:C128,C128)-SUMIFS($I$4:I127,$C$4:C127,C128)))","v":0},null,{"$f":"IF(C128=\"\",0,IF(C128=$C$4,SUMIFS($I$4:I127,$C$4:C127,C127),SUMIFS($I$4:I127,$C$4:C127,C128)))","v":0},0]
[126,null,{"$f":"IFERROR(VLOOKUP(D129,Nomenclature!$B$2:$C$196,2,0),\"\")","v":""},null,null,null,null,{"$f":"IF(C129=\"\",0,IF(SUMIFS($G$5:G129,$C$5:C129,C129)-SUMIFS($I$4:I128,$C$4:C128,C129)<0,0,SUMIFS($G$5:G129,$C$5:C129,C129)-SUMIFS($I$4:I128,$C$4:C128,C129)))","v":0},null,{"$f":"IF(C129=\"\",0,IF(C129=$C$4,SUMIFS($I$4:I128,$C$4:C128,C128),SUMIFS($I$4:I128,$C$4:C128,C129)))","v":0},0]
[127,null,{"$f":"IFERROR(VLOOKUP(D130,Nomenclature!$B$2:$C$196,2,0),\"\")","v":""},null,null,null,null,{"$f":"IF(C130=\"\",0,IF(SUMIFS($G$5:G130,$C$5:C130,C130)-SUMIFS($I$4:I129,$C$4:C129,C130)<0,0,SUMIFS($G$5:G130,$C$5:C130,C130)-SUMIFS($I$4:I129,$C$4:C129,C130)))","v":0},null,{"$f":"IF(C130=\"\",0,IF(C130=$C$4,SUMIFS($I$4:I129,$C$4:C129,C129),SUMIFS($I$4:I129,$C$4:C129,C130)))","v":0},0]
[128,null,{"$f":"IFERROR(VLOOKUP(D131,Nomenclature!$B$2:$C$196,2,0),\"\")","v":""},null,null,null,null,{"$f":"IF(C131=\"\",0,IF(SUMIFS($G$5:G131,$C$5:C131,C131)-SUMIFS($I$4:I130,$C$4:C130,C131)<0,0,SUMIFS($G$5:G131,$C$5:C131,C131)-SUMIFS($I$4:I130,$C$4:C130,C131)))","v":0},null,{"$f":"IF(C131=\"\",0,IF(C131=$C$4,SUMIFS($I$4:I130,$C$4:C130,C130),SUMIFS($I$4:I130,$C$4:C130,C131)))","v":0},0]
[129,null,{"$f":"IFERROR(VLOOKUP(D132,Nomenclature!$B$2:$C$196,2,0),\"\")","v":""},null,null,null,null,{"$f":"IF(C132=\"\",0,IF(SUMIFS($G$5:G132,$C$5:C132,C132)-SUMIFS($I$4:I131,$C$4:C131,C132)<0,0,SUMIFS($G$5:G132,$C$5:C132,C132)-SUMIFS($I$4:I131,$C$4:C131,C132)))","v":0},null,{"$f":"IF(C132=\"\",0,IF(C132=$C$4,SUMIFS($I$4:I131,$C$4:C131,C131),SUMIFS($I$4:I131,$C$4:C131,C132)))","v":0},{"$f":"IF(C132=\"\",0,H132-I132)","v":0}]
[130,null,{"$f":"IFERROR(VLOOKUP(D133,Nomenclature!$B$2:$C$196,2,0),\"\")","v":""},null,null,null,null,{"$f":"IF(C133=\"\",0,IF(SUMIFS($G$5:G133,$C$5:C133,C133)-SUMIFS($I$4:I132,$C$4:C132,C133)<0,0,SUMIFS($G$5:G133,$C$5:C133,C133)-SUMIFS($I$4:I132,$C$4:C132,C133)))","v":0},null,{"$f":"IF(C133=\"\",0,IF(C133=$C$4,SUMIFS($I$4:I132,$C$4:C132,C132),SUMIFS($I$4:I132,$C$4:C132,C133)))","v":0},0]
[131,null,{"$f":"IFERROR(VLOOKUP(D134,Nomenclature!$B$2:$C$196,2,0),\"\")","v":""},null,null,null,null,{"$f":"IF(C134=\"\",0,IF(SUMIFS($G$5:G134,$C$5:C134,C134)-SUMIFS($I$4:I133,$C$4:C133,C134)<0,0,SUMIFS($G$5:G134,$C$5:C134,C134)-SUMIFS($I$4:I133,$C$4:C133,C134)))","v":0},null,{"$f":"IF(C134=\"\",0,IF(C134=$C$4,SUMIFS($I$4:I133,$C$4:C133,C133),SUMIFS($I$4:I133,$C$4:C133,C134)))","v":0},0]
[132,null,{"$f":"IFERROR(VLOOKUP(D135,Nomenclature!$B$2:$C$196,2,0),\"\")","v":""},null,null,null,null,{"$f":"IF(C135=\"\",0,IF(SUMIFS($G$5:G135,$C$5:C135,C135)-SUMIFS($I$4:I134,$C$4:C134,C135)<0,0,SUMIFS($G$5:G135,$C$5:C135,C135)-SUMIFS($I$4:I134,$C$4:C134,C135)))","v":0},null,{"$f":"IF(C135=\"\",0,IF(C135=$C$4,SUMIFS($I$4:I134,$C$4:C134,C134),SUMIFS($I$4:I134,$C$4:C134,C135)))","v":0},0]
[133,null,{"$f":"IFERROR(VLOOKUP(D136,Nomenclature!$B$2:$C$196,2,0),\"\")","v":""},null,null,null,null,{"$f":"IF(C136=\"\",0,IF(SUMIFS($G$5:G136,$C$5:C136,C136)-SUMIFS($I$4:I135,$C$4:C135,C136)<0,0,SUMIFS($G$5:G136,$C$5:C136,C136)-SUMIFS($I$4:I135,$C$4:C135,C136)))","v":0},null,{"$f":"IF(C136=\"\",0,IF(C136=$C$4,SUMIFS($I$4:I135,$C$4:C135,C135),SUMIFS($I$4:I135,$C$4:C135,C136)))","v":0},0]
[134,null,{"$f":"IFERROR(VLOOKUP(D137,Nomenclature!$B$2:$C$196,2,0),\"\")","v":""},null,null,null,null,{"$f":"IF(C137=\"\",0,IF(SUMIFS($G$5:G137,$C$5:C137,C137)-SUMIFS($I$4:I136,$C$4:C136,C137)<0,0,SUMIFS($G$5:G137,$C$5:C137,C137)-SUMIFS($I$4:I136,$C$4:C136,C137)))","v":0},null,{"$f":"IF(C137=\"\",0,IF(C137=$C$4,SUMIFS($I$4:I136,$C$4:C136,C136),SUMIFS($I$4:I136,$C$4:C136,C137)))","v":0},0]
[135,null,{"$f":"IFERROR(VLOOKUP(D138,Nomenclature!$B$2:$C$196,2,0),\"\")","v":""},null,null,null,null,{"$f":"IF(C138=\"\",0,IF(SUMIFS($G$5:G138,$C$5:C138,C138)-SUMIFS($I$4:I137,$C$4:C137,C138)<0,0,SUMIFS($G$5:G138,$C$5:C138,C138)-SUMIFS($I$4:I137,$C$4:C137,C138)))","v":0},null,{"$f":"IF(C138=\"\",0,IF(C138=$C$4,SUMIFS($I$4:I137,$C$4:C137,C137),SUMIFS($I$4:I137,$C$4:C137,C138)))","v":0},0]
[136,null,{"$f":"IFERROR(VLOOKUP(D139,Nomenclature!$B$2:$C$196,2,0),\"\")","v":""},null,null,null,null,{"$f":"IF(C139=\"\",0,IF(SUMIFS($G$5:G139,$C$5:C139,C139)-SUMIFS($I$4:I138,$C$4:C138,C139)<0,0,SUMIFS($G$5:G139,$C$5:C139,C139)-SUMIFS($I$4:I138,$C$4:C138,C139)))","v":0},null,{"$f":"IF(C139=\"\",0,IF(C139=$C$4,SUMIFS($I$4:I138,$C$4:C138,C138),SUMIFS($I$4:I138,$C$4:C138,C139)))","v":0},0]
[137,null,{"$f":"IFERROR(VLOOKUP(D140,Nomenclature!$B$2:$C$196,2,0),\"\")","v":""},null,null,null,null,{"$f":"IF(C140=\"\",0,IF(SUMIFS($G$5:G140,$C$5:C140,C140)-SUMIFS($I$4:I139,$C$4:C139,C140)<0,0,SUMIFS($G$5:G140,$C$5:C140,C140)-SUMIFS($I$4:I139,$C$4:C139,C140)))","v":0},null,{"$f":"IF(C140=\"\",0,IF(C140=$C$4,SUMIFS($I$4:I139,$C$4:C139,C139),SUMIFS($I$4:I139,$C$4:C139,C140)))","v":0},0]
[138,null,{"$f":"IFERROR(VLOOKUP(D141,Nomenclature!$B$2:$C$196,2,0),\"\")","v":""},null,null,null,null,{"$f":"IF(C141=\"\",0,IF(SUMIFS($G$5:G141,$C$5:C141,C141)-SUMIFS($I$4:I140,$C$4:C140,C141)<0,0,SUMIFS($G$5:G141,$C$5:C141,C141)-SUMIFS($I$4:I140,$C$4:C140,C141)))","v":0},null,{"$f":"IF(C141=\"\",0,IF(C141=$C$4,SUMIFS($I$4:I140,$C$4:C140,C140),SUMIFS($I$4:I140,$C$4:C140,C141)))","v":0},0]
[139,null,{"$f":"IFERROR(VLOOKUP(D142,Nomenclature!$B$2:$C$196,2,0),\"\")","v":""},null,null,null,null,{"$f":"IF(C142=\"\",0,IF(SUMIFS($G$5:G142,$C$5:C142,C142)-SUMIFS($I$4:I141,$C$4:C141,C142)<0,0,SUMIFS($G$5:G142,$C$5:C142,C142)-SUMIFS($I$4:I141,$C$4:C141,C142)))","v":0},null,{"$f":"IF(C142=\"\",0,IF(C142=$C$4,SUMIFS($I$4:I141,$C$4:C141,C141),SUMIFS($I$4:I141,$C$4:C141,C142)))","v":0},0]
[140,null,{"$f":"IFERROR(VLOOKUP(D143,Nomenclature!$B$2:$C$196,2,0),\"\")","v":""},null,null,null,null,{"$f":"IF(C143=\"\",0,IF(SUMIFS($G$5:G143,$C$5:C143,C143)-SUMIFS($I$4:I142,$C$4:C142,C143)<0,0,SUMIFS($G$5:G143,$C$5:C143,C143)-SUMIFS($I$4:I142,$C$4:C142,C143)))","v":0},null,{"$f":"IF(C143=\"\",0,IF(C143=$C$4,SUMIFS($I$4:I142,$C$4:C142,C142),SUMIFS($I$4:I142,$C$4:C142,C143)))","v":0},0]
[141,null,{"$f":"IFERROR(VLOOKUP(D144,Nomenclature!$B$2:$C$196,2,0),\"\")","v":""},null,null,null,null,{"$f":"IF(C144=\"\",0,IF(SUMIFS($G$5:G144,$C$5:C144,C144)-SUMIFS($I$4:I143,$C$4:C143,C144)<0,0,SUMIFS($G$5:G144,$C$5:C144,C144)-SUMIFS($I$4:I143,$C$4:C143,C144)))","v":0},null,{"$f":"IF(C144=\"\",0,IF(C144=$C$4,SUMIFS($I$4:I143,$C$4:C143,C143),SUMIFS($I$4:I143,$C$4:C143,C144)))","v":0},0]
[142,null,{"$f":"IFERROR(VLOOKUP(D145,Nomenclature!$B$2:$C$196,2,0),\"\")","v":""},null,null,null,null,{"$f":"IF(C145=\"\",0,IF(SUMIFS($G$5:G145,$C$5:C145,C145)-SUMIFS($I$4:I144,$C$4:C144,C145)<0,0,SUMIFS($G$5:G145,$C$5:C145,C145)-SUMIFS($I$4:I144,$C$4:C144,C145)))","v":0},null,{"$f":"IF(C145=\"\",0,IF(C145=$C$4,SUMIFS($I$4:I144,$C$4:C144,C144),SUMIFS($I$4:I144,$C$4:C144,C145)))","v":0},0]
[143,null,{"$f":"IFERROR(VLOOKUP(D146,Nomenclature!$B$2:$C$196,2,0),\"\")","v":""},null,null,null,null,{"$f":"IF(C146=\"\",0,IF(SUMIFS($G$5:G146,$C$5:C146,C146)-SUMIFS($I$4:I145,$C$4:C145,C146)<0,0,SUMIFS($G$5:G146,$C$5:C146,C146)-SUMIFS($I$4:I145,$C$4:C145,C146)))","v":0},null,{"$f":"IF(C146=\"\",0,IF(C146=$C$4,SUMIFS($I$4:I145,$C$4:C145,C145),SUMIFS($I$4:I145,$C$4:C145,C146)))","v":0},0]
[144,null,{"$f":"IFERROR(VLOOKUP(D147,Nomenclature!$B$2:$C$196,2,0),\"\")","v":""},null,null,null,null,{"$f":"IF(C147=\"\",0,IF(SUMIFS($G$5:G147,$C$5:C147,C147)-SUMIFS($I$4:I146,$C$4:C146,C147)<0,0,SUMIFS($G$5:G147,$C$5:C147,C147)-SUMIFS($I$4:I146,$C$4:C146,C147)))","v":0},null,{"$f":"IF(C147=\"\",0,IF(C147=$C$4,SUMIFS($I$4:I146,$C$4:C146,C146),SUMIFS($I$4:I146,$C$4:C146,C147)))","v":0},0]
[145,null,{"$f":"IFERROR(VLOOKUP(D148,Nomenclature!$B$2:$C$196,2,0),\"\")","v":""},null,null,null,null,{"$f":"IF(C148=\"\",0,IF(SUMIFS($G$5:G148,$C$5:C148,C148)-SUMIFS($I$4:I147,$C$4:C147,C148)<0,0,SUMIFS($G$5:G148,$C$5:C148,C148)-SUMIFS($I$4:I147,$C$4:C147,C148)))","v":0},null,{"$f":"IF(C148=\"\",0,IF(C148=$C$4,SUMIFS($I$4:I147,$C$4:C147,C147),SUMIFS($I$4:I147,$C$4:C147,C148)))","v":0},0]
[146,null,{"$f":"IFERROR(VLOOKUP(D149,Nomenclature!$B$2:$C$196,2,0),\"\")","v":""},null,null,null,null,{"$f":"IF(C149=\"\",0,IF(SUMIFS($G$5:G149,$C$5:C149,C149)-SUMIFS($I$4:I148,$C$4:C148,C149)<0,0,SUMIFS($G$5:G149,$C$5:C149,C149)-SUMIFS($I$4:I148,$C$4:C148,C149)))","v":0},null,{"$f":"IF(C149=\"\",0,IF(C149=$C$4,SUMIFS($I$4:I148,$C$4:C148,C148),SUMIFS($I$4:I148,$C$4:C148,C149)))","v":0},0]
[147,null,{"$f":"IFERROR(VLOOKUP(D150,Nomenclature!$B$2:$C$196,2,0),\"\")","v":""},null,null,null,null,{"$f":"IF(C150=\"\",0,IF(SUMIFS($G$5:G150,$C$5:C150,C150)-SUMIFS($I$4:I149,$C$4:C149,C150)<0,0,SUMIFS($G$5:G150,$C$5:C150,C150)-SUMIFS($I$4:I149,$C$4:C149,C150)))","v":0},null,{"$f":"IF(C150=\"\",0,IF(C150=$C$4,SUMIFS($I$4:I149,$C$4:C149,C149),SUMIFS($I$4:I149,$C$4:C149,C150)))","v":0},0]
[148,null,{"$f":"IFERROR(VLOOKUP(D151,Nomenclature!$B$2:$C$196,2,0),\"\")","v":""},null,null,null,null,{"$f":"IF(C151=\"\",0,IF(SUMIFS($G$5:G151,$C$5:C151,C151)-SUMIFS($I$4:I150,$C$4:C150,C151)<0,0,SUMIFS($G$5:G151,$C$5:C151,C151)-SUMIFS($I$4:I150,$C$4:C150,C151)))","v":0},null,{"$f":"IF(C151=\"\",0,IF(C151=$C$4,SUMIFS($I$4:I150,$C$4:C150,C150),SUMIFS($I$4:I150,$C$4:C150,C151)))","v":0},0]
[149,null,{"$f":"IFERROR(VLOOKUP(D152,Nomenclature!$B$2:$C$196,2,0),\"\")","v":""},null,null,null,null,{"$f":"IF(C152=\"\",0,IF(SUMIFS($G$5:G152,$C$5:C152,C152)-SUMIFS($I$4:I151,$C$4:C151,C152)<0,0,SUMIFS($G$5:G152,$C$5:C152,C152)-SUMIFS($I$4:I151,$C$4:C151,C152)))","v":0},null,{"$f":"IF(C152=\"\",0,IF(C152=$C$4,SUMIFS($I$4:I151,$C$4:C151,C151),SUMIFS($I$4:I151,$C$4:C151,C152)))","v":0},0]
[150,null,{"$f":"IFERROR(VLOOKUP(D153,Nomenclature!$B$2:$C$196,2,0),\"\")","v":""},null,null,null,null,{"$f":"IF(C153=\"\",0,IF(SUMIFS($G$5:G153,$C$5:C153,C153)-SUMIFS($I$4:I152,$C$4:C152,C153)<0,0,SUMIFS($G$5:G153,$C$5:C153,C153)-SUMIFS($I$4:I152,$C$4:C152,C153)))","v":0},null,{"$f":"IF(C153=\"\",0,IF(C153=$C$4,SUMIFS($I$4:I152,$C$4:C152,C152),SUMIFS($I$4:I152,$C$4:C152,C153)))","v":0},0]
[151,null,{"$f":"IFERROR(VLOOKUP(D154,Nomenclature!$B$2:$C$196,2,0),\"\")","v":""},null,null,null,null,{"$f":"IF(C154=\"\",0,IF(SUMIFS($G$5:G154,$C$5:C154,C154)-SUMIFS($I$4:I153,$C$4:C153,C154)<0,0,SUMIFS($G$5:G154,$C$5:C154,C154)-SUMIFS($I$4:I153,$C$4:C153,C154)))","v":0},null,{"$f":"IF(C154=\"\",0,IF(C154=$C$4,SUMIFS($I$4:I153,$C$4:C153,C153),SUMIFS($I$4:I153,$C$4:C153,C154)))","v":0},0]
[152,null,{"$f":"IFERROR(VLOOKUP(D155,Nomenclature!$B$2:$C$196,2,0),\"\")","v":""},null,null,null,null,{"$f":"IF(C155=\"\",0,IF(SUMIFS($G$5:G155,$C$5:C155,C155)-SUMIFS($I$4:I154,$C$4:C154,C155)<0,0,SUMIFS($G$5:G155,$C$5:C155,C155)-SUMIFS($I$4:I154,$C$4:C154,C155)))","v":0},null,{"$f":"IF(C155=\"\",0,IF(C155=$C$4,SUMIFS($I$4:I154,$C$4:C154,C154),SUMIFS($I$4:I154,$C$4:C154,C155)))","v":0},0]
[153,null,{"$f":"IFERROR(VLOOKUP(D156,Nomenclature!$B$2:$C$196,2,0),\"\")","v":""},null,null,null,null,{"$f":"IF(C156=\"\",0,IF(SUMIFS($G$5:G156,$C$5:C156,C156)-SUMIFS($I$4:I155,$C$4:C155,C156)<0,0,SUMIFS($G$5:G156,$C$5:C156,C156)-SUMIFS($I$4:I155,$C$4:C155,C156)))","v":0},null,{"$f":"IF(C156=\"\",0,IF(C156=$C$4,SUMIFS($I$4:I155,$C$4:C155,C155),SUMIFS($I$4:I155,$C$4:C155,C156)))","v":0},0]
[154,null,{"$f":"IFERROR(VLOOKUP(D157,Nomenclature!$B$2:$C$196,2,0),\"\")","v":""},null,null,null,null,{"$f":"IF(C157=\"\",0,IF(SUMIFS($G$5:G157,$C$5:C157,C157)-SUMIFS($I$4:I156,$C$4:C156,C157)<0,0,SUMIFS($G$5:G157,$C$5:C157,C157)-SUMIFS($I$4:I156,$C$4:C156,C157)))","v":0},null,{"$f":"IF(C157=\"\",0,IF(C157=$C$4,SUMIFS($I$4:I156,$C$4:C156,C156),SUMIFS($I$4:I156,$C$4:C156,C157)))","v":0},0]
[155,null,{"$f":"IFERROR(VLOOKUP(D158,Nomenclature!$B$2:$C$196,2,0),\"\")","v":""},null,null,null,null,{"$f":"IF(C158=\"\",0,IF(SUMIFS($G$5:G158,$C$5:C158,C158)-SUMIFS($I$4:I157,$C$4:C157,C158)<0,0,SUMIFS($G$5:G158,$C$5:C158,C158)-SUMIFS($I$4:I157,$C$4:C157,C158)))","v":0},null,{"$f":"IF(C158=\"\",0,IF(C158=$C$4,SUMIFS($I$4:I157,$C$4:C157,C157),SUMIFS($I$4:I157,$C$4:C157,C158)))","v":0},0]
[156,null,{"$f":"IFERROR(VLOOKUP(D159,Nomenclature!$B$2:$C$196,2,0),\"\")","v":""},null,null,null,null,{"$f":"IF(C159=\"\",0,IF(SUMIFS($G$5:G159,$C$5:C159,C159)-SUMIFS($I$4:I158,$C$4:C158,C159)<0,0,SUMIFS($G$5:G159,$C$5:C159,C159)-SUMIFS($I$4:I158,$C$4:C158,C159)))","v":0},null,{"$f":"IF(C159=\"\",0,IF(C159=$C$4,SUMIFS($I$4:I158,$C$4:C158,C158),SUMIFS($I$4:I158,$C$4:C158,C159)))","v":0},0]
[157,null,{"$f":"IFERROR(VLOOKUP(D160,Nomenclature!$B$2:$C$196,2,0),\"\")","v":""},null,null,null,null,{"$f":"IF(C160=\"\",0,IF(SUMIFS($G$5:G160,$C$5:C160,C160)-SUMIFS($I$4:I159,$C$4:C159,C160)<0,0,SUMIFS($G$5:G160,$C$5:C160,C160)-SUMIFS($I$4:I159,$C$4:C159,C160)))","v":0},null,{"$f":"IF(C160=\"\",0,IF(C160=$C$4,SUMIFS($I$4:I159,$C$4:C159,C159),SUMIFS($I$4:I159,$C$4:C159,C160)))","v":0},0]
[158,null,{"$f":"IFERROR(VLOOKUP(D161,Nomenclature!$B$2:$C$196,2,0),\"\")","v":""},null,null,null,null,{"$f":"IF(C161=\"\",0,IF(SUMIFS($G$5:G161,$C$5:C161,C161)-SUMIFS($I$4:I160,$C$4:C160,C161)<0,0,SUMIFS($G$5:G161,$C$5:C161,C161)-SUMIFS($I$4:I160,$C$4:C160,C161)))","v":0},null,{"$f":"IF(C161=\"\",0,IF(C161=$C$4,SUMIFS($I$4:I160,$C$4:C160,C160),SUMIFS($I$4:I160,$C$4:C160,C161)))","v":0},0]
[159,null,{"$f":"IFERROR(VLOOKUP(D162,Nomenclature!$B$2:$C$196,2,0),\"\")","v":""},null,null,null,null,{"$f":"IF(C162=\"\",0,IF(SUMIFS($G$5:G162,$C$5:C162,C162)-SUMIFS($I$4:I161,$C$4:C161,C162)<0,0,SUMIFS($G$5:G162,$C$5:C162,C162)-SUMIFS($I$4:I161,$C$4:C161,C162)))","v":0},null,{"$f":"IF(C162=\"\",0,IF(C162=$C$4,SUMIFS($I$4:I161,$C$4:C161,C161),SUMIFS($I$4:I161,$C$4:C161,C162)))","v":0},0]
[160,null,{"$f":"IFERROR(VLOOKUP(D163,Nomenclature!$B$2:$C$196,2,0),\"\")","v":""},null,null,null,null,{"$f":"IF(C163=\"\",0,IF(SUMIFS($G$5:G163,$C$5:C163,C163)-SUMIFS($I$4:I162,$C$4:C162,C163)<0,0,SUMIFS($G$5:G163,$C$5:C163,C163)-SUMIFS($I$4:I162,$C$4:C162,C163)))","v":0},null,{"$f":"IF(C163=\"\",0,IF(C163=$C$4,SUMIFS($I$4:I162,$C$4:C162,C162),SUMIFS($I$4:I162,$C$4:C162,C163)))","v":0},0]
[161,null,{"$f":"IFERROR(VLOOKUP(D164,Nomenclature!$B$2:$C$196,2,0),\"\")","v":""},null,null,null,null,{"$f":"IF(C164=\"\",0,IF(SUMIFS($G$5:G164,$C$5:C164,C164)-SUMIFS($I$4:I163,$C$4:C163,C164)<0,0,SUMIFS($G$5:G164,$C$5:C164,C164)-SUMIFS($I$4:I163,$C$4:C163,C164)))","v":0},null,{"$f":"IF(C164=\"\",0,IF(C164=$C$4,SUMIFS($I$4:I163,$C$4:C163,C163),SUMIFS($I$4:I163,$C$4:C163,C164)))","v":0},0]
[162,null,{"$f":"IFERROR(VLOOKUP(D165,Nomenclature!$B$2:$C$196,2,0),\"\")","v":""},null,null,null,null,{"$f":"IF(C165=\"\",0,IF(SUMIFS($G$5:G165,$C$5:C165,C165)-SUMIFS($I$4:I164,$C$4:C164,C165)<0,0,SUMIFS($G$5:G165,$C$5:C165,C165)-SUMIFS($I$4:I164,$C$4:C164,C165)))","v":0},null,{"$f":"IF(C165=\"\",0,IF(C165=$C$4,SUMIFS($I$4:I164,$C$4:C164,C164),SUMIFS($I$4:I164,$C$4:C164,C165)))","v":0},0]
[163,null,{"$f":"IFERROR(VLOOKUP(D166,Nomenclature!$B$2:$C$196,2,0),\"\")","v":""},null,null,null,null,{"$f":"IF(C166=\"\",0,IF(SUMIFS($G$5:G166,$C$5:C166,C166)-SUMIFS($I$4:I165,$C$4:C165,C166)<0,0,SUMIFS($G$5:G166,$C$5:C166,C166)-SUMIFS($I$4:I165,$C$4:C165,C166)))","v":0},null,{"$f":"IF(C166=\"\",0,IF(C166=$C$4,SUMIFS($I$4:I165,$C$4:C165,C165),SUMIFS($I$4:I165,$C$4:C165,C166)))","v":0},0]
[164,null,{"$f":"IFERROR(VLOOKUP(D167,Nomenclature!$B$2:$C$196,2,0),\"\")","v":""},null,null,null,null,{"$f":"IF(C167=\"\",0,IF(SUMIFS($G$5:G167,$C$5:C167,C167)-SUMIFS($I$4:I166,$C$4:C166,C167)<0,0,SUMIFS($G$5:G167,$C$5:C167,C167)-SUMIFS($I$4:I166,$C$4:C166,C167)))","v":0},null,{"$f":"IF(C167=\"\",0,IF(C167=$C$4,SUMIFS($I$4:I166,$C$4:C166,C166),SUMIFS($I$4:I166,$C$4:C166,C167)))","v":0},0]
[165,null,{"$f":"IFERROR(VLOOKUP(D168,Nomenclature!$B$2:$C$196,2,0),\"\")","v":""},null,null,null,null,{"$f":"IF(C168=\"\",0,IF(SUMIFS($G$5:G168,$C$5:C168,C168)-SUMIFS($I$4:I167,$C$4:C167,C168)<0,0,SUMIFS($G$5:G168,$C$5:C168,C168)-SUMIFS($I$4:I167,$C$4:C167,C168)))","v":0},null,{"$f":"IF(C168=\"\",0,IF(C168=$C$4,SUMIFS($I$4:I167,$C$4:C167,C167),SUMIFS($I$4:I167,$C$4:C167,C168)))","v":0},0]
[166,null,{"$f":"IFERROR(VLOOKUP(D169,Nomenclature!$B$2:$C$196,2,0),\"\")","v":""},null,null,null,null,{"$f":"IF(C169=\"\",0,IF(SUMIFS($G$5:G169,$C$5:C169,C169)-SUMIFS($I$4:I168,$C$4:C168,C169)<0,0,SUMIFS($G$5:G169,$C$5:C169,C169)-SUMIFS($I$4:I168,$C$4:C168,C169)))","v":0},null,{"$f":"IF(C169=\"\",0,IF(C169=$C$4,SUMIFS($I$4:I168,$C$4:C168,C168),SUMIFS($I$4:I168,$C$4:C168,C169)))","v":0},0]
[167,null,{"$f":"IFERROR(VLOOKUP(D170,Nomenclature!$B$2:$C$196,2,0),\"\")","v":""},null,null,null,null,{"$f":"IF(C170=\"\",0,IF(SUMIFS($G$5:G170,$C$5:C170,C170)-SUMIFS($I$4:I169,$C$4:C169,C170)<0,0,SUMIFS($G$5:G170,$C$5:C170,C170)-SUMIFS($I$4:I169,$C$4:C169,C170)))","v":0},null,{"$f":"IF(C170=\"\",0,IF(C170=$C$4,SUMIFS($I$4:I169,$C$4:C169,C169),SUMIFS($I$4:I169,$C$4:C169,C170)))","v":0},0]
[168,null,{"$f":"IFERROR(VLOOKUP(D171,Nomenclature!$B$2:$C$196,2,0),\"\")","v":""},null,null,null,null,{"$f":"IF(C171=\"\",0,IF(SUMIFS($G$5:G171,$C$5:C171,C171)-SUMIFS($I$4:I170,$C$4:C170,C171)<0,0,SUMIFS($G$5:G171,$C$5:C171,C171)-SUMIFS($I$4:I170,$C$4:C170,C171)))","v":0},null,{"$f":"IF(C171=\"\",0,IF(C171=$C$4,SUMIFS($I$4:I170,$C$4:C170,C170),SUMIFS($I$4:I170,$C$4:C170,C171)))","v":0},0]
[169,null,{"$f":"IFERROR(VLOOKUP(D172,Nomenclature!$B$2:$C$196,2,0),\"\")","v":""},null,null,null,null,{"$f":"IF(C172=\"\",0,IF(SUMIFS($G$5:G172,$C$5:C172,C172)-SUMIFS($I$4:I171,$C$4:C171,C172)<0,0,SUMIFS($G$5:G172,$C$5:C172,C172)-SUMIFS($I$4:I171,$C$4:C171,C172)))","v":0},null,{"$f":"IF(C172=\"\",0,IF(C172=$C$4,SUMIFS($I$4:I171,$C$4:C171,C171),SUMIFS($I$4:I171,$C$4:C171,C172)))","v":0},0]
[170,null,{"$f":"IFERROR(VLOOKUP(D173,Nomenclature!$B$2:$C$196,2,0),\"\")","v":""},null,null,null,null,{"$f":"IF(C173=\"\",0,IF(SUMIFS($G$5:G173,$C$5:C173,C173)-SUMIFS($I$4:I172,$C$4:C172,C173)<0,0,SUMIFS($G$5:G173,$C$5:C173,C173)-SUMIFS($I$4:I172,$C$4:C172,C173)))","v":0},null,{"$f":"IF(C173=\"\",0,IF(C173=$C$4,SUMIFS($I$4:I172,$C$4:C172,C172),SUMIFS($I$4:I172,$C$4:C172,C173)))","v":0},0]
[171,null,{"$f":"IFERROR(VLOOKUP(D174,Nomenclature!$B$2:$C$196,2,0),\"\")","v":""},null,null,null,null,{"$f":"IF(C174=\"\",0,IF(SUMIFS($G$5:G174,$C$5:C174,C174)-SUMIFS($I$4:I173,$C$4:C173,C174)<0,0,SUMIFS($G$5:G174,$C$5:C174,C174)-SUMIFS($I$4:I173,$C$4:C173,C174)))","v":0},null,{"$f":"IF(C174=\"\",0,IF(C174=$C$4,SUMIFS($I$4:I173,$C$4:C173,C173),SUMIFS($I$4:I173,$C$4:C173,C174)))","v":0},0]
[172,null,{"$f":"IFERROR(VLOOKUP(D175,Nomenclature!$B$2:$C$196,2,0),\"\")","v":""},null,null,null,null,{"$f":"IF(C175=\"\",0,IF(SUMIFS($G$5:G175,$C$5:C175,C175)-SUMIFS($I$4:I174,$C$4:C174,C175)<0,0,SUMIFS($G$5:G175,$C$5:C175,C175)-SUMIFS($I$4:I174,$C$4:C174,C175)))","v":0},null,{"$f":"IF(C175=\"\",0,IF(C175=$C$4,SUMIFS($I$4:I174,$C$4:C174,C174),SUMIFS($I$4:I174,$C$4:C174,C175)))","v":0},0]
[173,null,{"$f":"IFERROR(VLOOKUP(D176,Nomenclature!$B$2:$C$196,2,0),\"\")","v":""},null,null,null,null,{"$f":"IF(C176=\"\",0,IF(SUMIFS($G$5:G176,$C$5:C176,C176)-SUMIFS($I$4:I175,$C$4:C175,C176)<0,0,SUMIFS($G$5:G176,$C$5:C176,C176)-SUMIFS($I$4:I175,$C$4:C175,C176)))","v":0},null,{"$f":"IF(C176=\"\",0,IF(C176=$C$4,SUMIFS($I$4:I175,$C$4:C175,C175),SUMIFS($I$4:I175,$C$4:C175,C176)))","v":0},0]
[174,null,{"$f":"IFERROR(VLOOKUP(D177,Nomenclature!$B$2:$C$196,2,0),\"\")","v":""},null,null,null,null,{"$f":"IF(C177=\"\",0,IF(SUMIFS($G$5:G177,$C$5:C177,C177)-SUMIFS($I$4:I176,$C$4:C176,C177)<0,0,SUMIFS($G$5:G177,$C$5:C177,C177)-SUMIFS($I$4:I176,$C$4:C176,C177)))","v":0},null,{"$f":"IF(C177=\"\",0,IF(C177=$C$4,SUMIFS($I$4:I176,$C$4:C176,C176),SUMIFS($I$4:I176,$C$4:C176,C177)))","v":0},0]
[175,null,{"$f":"IFERROR(VLOOKUP(D178,Nomenclature!$B$2:$C$196,2,0),\"\")","v":""},null,null,null,null,{"$f":"IF(C178=\"\",0,IF(SUMIFS($G$5:G178,$C$5:C178,C178)-SUMIFS($I$4:I177,$C$4:C177,C178)<0,0,SUMIFS($G$5:G178,$C$5:C178,C178)-SUMIFS($I$4:I177,$C$4:C177,C178)))","v":0},null,{"$f":"IF(C178=\"\",0,IF(C178=$C$4,SUMIFS($I$4:I177,$C$4:C177,C177),SUMIFS($I$4:I177,$C$4:C177,C178)))","v":0},0]
[176,null,{"$f":"IFERROR(VLOOKUP(D179,Nomenclature!$B$2:$C$196,2,0),\"\")","v":""},null,null,null,null,{"$f":"IF(C179=\"\",0,IF(SUMIFS($G$5:G179,$C$5:C179,C179)-SUMIFS($I$4:I178,$C$4:C178,C179)<0,0,SUMIFS($G$5:G179,$C$5:C179,C179)-SUMIFS($I$4:I178,$C$4:C178,C179)))","v":0},null,{"$f":"IF(C179=\"\",0,IF(C179=$C$4,SUMIFS($I$4:I178,$C$4:C178,C178),SUMIFS($I$4:I178,$C$4:C178,C179)))","v":0},0]
[177,null,{"$f":"IFERROR(VLOOKUP(D180,Nomenclature!$B$2:$C$196,2,0),\"\")","v":""},null,null,null,null,{"$f":"IF(C180=\"\",0,IF(SUMIFS($G$5:G180,$C$5:C180,C180)-SUMIFS($I$4:I179,$C$4:C179,C180)<0,0,SUMIFS($G$5:G180,$C$5:C180,C180)-SUMIFS($I$4:I179,$C$4:C179,C180)))","v":0},null,{"$f":"IF(C180=\"\",0,IF(C180=$C$4,SUMIFS($I$4:I179,$C$4:C179,C179),SUMIFS($I$4:I179,$C$4:C179,C180)))","v":0},0]
[178,null,{"$f":"IFERROR(VLOOKUP(D181,Nomenclature!$B$2:$C$196,2,0),\"\")","v":""},null,null,null,null,{"$f":"IF(C181=\"\",0,IF(SUMIFS($G$5:G181,$C$5:C181,C181)-SUMIFS($I$4:I180,$C$4:C180,C181)<0,0,SUMIFS($G$5:G181,$C$5:C181,C181)-SUMIFS($I$4:I180,$C$4:C180,C181)))","v":0},null,{"$f":"IF(C181=\"\",0,IF(C181=$C$4,SUMIFS($I$4:I180,$C$4:C180,C180),SUMIFS($I$4:I180,$C$4:C180,C181)))","v":0},0]
[179,null,{"$f":"IFERROR(VLOOKUP(D182,Nomenclature!$B$2:$C$196,2,0),\"\")","v":""},null,null,null,null,{"$f":"IF(C182=\"\",0,IF(SUMIFS($G$5:G182,$C$5:C182,C182)-SUMIFS($I$4:I181,$C$4:C181,C182)<0,0,SUMIFS($G$5:G182,$C$5:C182,C182)-SUMIFS($I$4:I181,$C$4:C181,C182)))","v":0},null,{"$f":"IF(C182=\"\",0,IF(C182=$C$4,SUMIFS($I$4:I181,$C$4:C181,C181),SUMIFS($I$4:I181,$C$4:C181,C182)))","v":0},0]
[180,null,{"$f":"IFERROR(VLOOKUP(D183,Nomenclature!$B$2:$C$196,2,0),\"\")","v":""},null,null,null,null,{"$f":"IF(C183=\"\",0,IF(SUMIFS($G$5:G183,$C$5:C183,C183)-SUMIFS($I$4:I182,$C$4:C182,C183)<0,0,SUMIFS($G$5:G183,$C$5:C183,C183)-SUMIFS($I$4:I182,$C$4:C182,C183)))","v":0},null,{"$f":"IF(C183=\"\",0,IF(C183=$C$4,SUMIFS($I$4:I182,$C$4:C182,C182),SUMIFS($I$4:I182,$C$4:C182,C183)))","v":0},0]
[181,null,{"$f":"IFERROR(VLOOKUP(D184,Nomenclature!$B$2:$C$196,2,0),\"\")","v":""},null,null,null,null,{"$f":"IF(C184=\"\",0,IF(SUMIFS($G$5:G184,$C$5:C184,C184)-SUMIFS($I$4:I183,$C$4:C183,C184)<0,0,SUMIFS($G$5:G184,$C$5:C184,C184)-SUMIFS($I$4:I183,$C$4:C183,C184)))","v":0},null,{"$f":"IF(C184=\"\",0,IF(C184=$C$4,SUMIFS($I$4:I183,$C$4:C183,C183),SUMIFS($I$4:I183,$C$4:C183,C184)))","v":0},0]
[182,null,{"$f":"IFERROR(VLOOKUP(D185,Nomenclature!$B$2:$C$196,2,0),\"\")","v":""},null,null,null,null,{"$f":"IF(C185=\"\",0,IF(SUMIFS($G$5:G185,$C$5:C185,C185)-SUMIFS($I$4:I184,$C$4:C184,C185)<0,0,SUMIFS($G$5:G185,$C$5:C185,C185)-SUMIFS($I$4:I184,$C$4:C184,C185)))","v":0},null,{"$f":"IF(C185=\"\",0,IF(C185=$C$4,SUMIFS($I$4:I184,$C$4:C184,C184),SUMIFS($I$4:I184,$C$4:C184,C185)))","v":0},0]
[183,null,{"$f":"IFERROR(VLOOKUP(D186,Nomenclature!$B$2:$C$196,2,0),\"\")","v":""},null,null,null,null,{"$f":"IF(C186=\"\",0,IF(SUMIFS($G$5:G186,$C$5:C186,C186)-SUMIFS($I$4:I185,$C$4:C185,C186)<0,0,SUMIFS($G$5:G186,$C$5:C186,C186)-SUMIFS($I$4:I185,$C$4:C185,C186)))","v":0},null,{"$f":"IF(C186=\"\",0,IF(C186=$C$4,SUMIFS($I$4:I185,$C$4:C185,C185),SUMIFS($I$4:I185,$C$4:C185,C186)))","v":0},0]
[184,null,{"$f":"IFERROR(VLOOKUP(D187,Nomenclature!$B$2:$C$196,2,0),\"\")","v":""},null,null,null,null,{"$f":"IF(C187=\"\",0,IF(SUMIFS($G$5:G187,$C$5:C187,C187)-SUMIFS($I$4:I186,$C$4:C186,C187)<0,0,SUMIFS($G$5:G187,$C$5:C187,C187)-SUMIFS($I$4:I186,$C$4:C186,C187)))","v":0},null,{"$f":"IF(C187=\"\",0,IF(C187=$C$4,SUMIFS($I$4:I186,$C$4:C186,C186),SUMIFS($I$4:I186,$C$4:C186,C187)))","v":0},0]
[185,null,{"$f":"IFERROR(VLOOKUP(D188,Nomenclature!$B$2:$C$196,2,0),\"\")","v":""},null,null,null,null,{"$f":"IF(C188=\"\",0,IF(SUMIFS($G$5:G188,$C$5:C188,C188)-SUMIFS($I$4:I187,$C$4:C187,C188)<0,0,SUMIFS($G$5:G188,$C$5:C188,C188)-SUMIFS($I$4:I187,$C$4:C187,C188)))","v":0},null,{"$f":"IF(C188=\"\",0,IF(C188=$C$4,SUMIFS($I$4:I187,$C$4:C187,C187),SUMIFS($I$4:I187,$C$4:C187,C188)))","v":0},0]
[186,null,{"$f":"IFERROR(VLOOKUP(D189,Nomenclature!$B$2:$C$196,2,0),\"\")","v":""},null,null,null,null,{"$f":"IF(C189=\"\",0,IF(SUMIFS($G$5:G189,$C$5:C189,C189)-SUMIFS($I$4:I188,$C$4:C188,C189)<0,0,SUMIFS($G$5:G189,$C$5:C189,C189)-SUMIFS($I$4:I188,$C$4:C188,C189)))","v":0},null,{"$f":"IF(C189=\"\",0,IF(C189=$C$4,SUMIFS($I$4:I188,$C$4:C188,C188),SUMIFS($I$4:I188,$C$4:C188,C189)))","v":0},0]
[187,null,{"$f":"IFERROR(VLOOKUP(D190,Nomenclature!$B$2:$C$196,2,0),\"\")","v":""},null,null,null,null,{"$f":"IF(C190=\"\",0,IF(SUMIFS($G$5:G190,$C$5:C190,C190)-SUMIFS($I$4:I189,$C$4:C189,C190)<0,0,SUMIFS($G$5:G190,$C$5:C190,C190)-SUMIFS($I$4:I189,$C$4:C189,C190)))","v":0},null,{"$f":"IF(C190=\"\",0,IF(C190=$C$4,SUMIFS($I$4:I189,$C$4:C189,C189),SUMIFS($I$4:I189,$C$4:C189,C190)))","v":0},0]
[188,null,{"$f":"IFERROR(VLOOKUP(D191,Nomenclature!$B$2:$C$196,2,0),\"\")","v":""},null,null,null,null,{"$f":"IF(C191=\"\",0,IF(SUMIFS($G$5:G191,$C$5:C191,C191)-SUMIFS($I$4:I190,$C$4:C190,C191)<0,0,SUMIFS($G$5:G191,$C$5:C191,C191)-SUMIFS($I$4:I190,$C$4:C190,C191)))","v":0},null,{"$f":"IF(C191=\"\",0,IF(C191=$C$4,SUMIFS($I$4:I190,$C$4:C190,C190),SUMIFS($I$4:I190,$C$4:C190,C191)))","v":0},0]
[189,null,{"$f":"IFERROR(VLOOKUP(D192,Nomenclature!$B$2:$C$196,2,0),\"\")","v":""},null,null,null,null,{"$f":"IF(C192=\"\",0,IF(SUMIFS($G$5:G192,$C$5:C192,C192)-SUMIFS($I$4:I191,$C$4:C191,C192)<0,0,SUMIFS($G$5:G192,$C$5:C192,C192)-SUMIFS($I$4:I191,$C$4:C191,C192)))","v":0},null,{"$f":"IF(C192=\"\",0,IF(C192=$C$4,SUMIFS($I$4:I191,$C$4:C191,C191),SUMIFS($I$4:I191,$C$4:C191,C192)))","v":0},0]
[190,null,{"$f":"IFERROR(VLOOKUP(D193,Nomenclature!$B$2:$C$196,2,0),\"\")","v":""},null,null,null,null,{"$f":"IF(C193=\"\",0,IF(SUMIFS($G$5:G193,$C$5:C193,C193)-SUMIFS($I$4:I192,$C$4:C192,C193)<0,0,SUMIFS($G$5:G193,$C$5:C193,C193)-SUMIFS($I$4:I192,$C$4:C192,C193)))","v":0},null,{"$f":"IF(C193=\"\",0,IF(C193=$C$4,SUMIFS($I$4:I192,$C$4:C192,C192),SUMIFS($I$4:I192,$C$4:C192,C193)))","v":0},0]
[191,null,{"$f":"IFERROR(VLOOKUP(D194,Nomenclature!$B$2:$C$196,2,0),\"\")","v":""},null,null,null,null,{"$f":"IF(C194=\"\",0,IF(SUMIFS($G$5:G194,$C$5:C194,C194)-SUMIFS($I$4:I193,$C$4:C193,C194)<0,0,SUMIFS($G$5:G194,$C$5:C194,C194)-SUMIFS($I$4:I193,$C$4:C193,C194)))","v":0},null,{"$f":"IF(C194=\"\",0,IF(C194=$C$4,SUMIFS($I$4:I193,$C$4:C193,C193),SUMIFS($I$4:I193,$C$4:C193,C194)))","v":0},0]
[192,null,{"$f":"IFERROR(VLOOKUP(D195,Nomenclature!$B$2:$C$196,2,0),\"\")","v":""},null,null,null,null,{"$f":"IF(C195=\"\",0,IF(SUMIFS($G$5:G195,$C$5:C195,C195)-SUMIFS($I$4:I194,$C$4:C194,C195)<0,0,SUMIFS($G$5:G195,$C$5:C195,C195)-SUMIFS($I$4:I194,$C$4:C194,C195)))","v":0},null,{"$f":"IF(C195=\"\",0,IF(C195=$C$4,SUMIFS($I$4:I194,$C$4:C194,C194),SUMIFS($I$4:I194,$C$4:C194,C195)))","v":0},0]
[193,null,{"$f":"IFERROR(VLOOKUP(D196,Nomenclature!$B$2:$C$196,2,0),\"\")","v":""},null,null,null,null,{"$f":"IF(C196=\"\",0,IF(SUMIFS($G$5:G196,$C$5:C196,C196)-SUMIFS($I$4:I195,$C$4:C195,C196)<0,0,SUMIFS($G$5:G196,$C$5:C196,C196)-SUMIFS($I$4:I195,$C$4:C195,C196)))","v":0},null,{"$f":"IF(C196=\"\",0,IF(C196=$C$4,SUMIFS($I$4:I195,$C$4:C195,C195),SUMIFS($I$4:I195,$C$4:C195,C196)))","v":0},{"$f":"IF(C196=\"\",0,H196-I196)","v":0}]
[194,null,{"$f":"IFERROR(VLOOKUP(D197,Nomenclature!$B$2:$C$196,2,0),\"\")","v":""},null,null,null,null,{"$f":"IF(C197=\"\",0,IF(SUMIFS($G$5:G197,$C$5:C197,C197)-SUMIFS($I$4:I196,$C$4:C196,C197)<0,0,SUMIFS($G$5:G197,$C$5:C197,C197)-SUMIFS($I$4:I196,$C$4:C196,C197)))","v":0},null,{"$f":"IF(C197=\"\",0,IF(C197=$C$4,SUMIFS($I$4:I196,$C$4:C196,C196),SUMIFS($I$4:I196,$C$4:C196,C197)))","v":0},0]
[195,null,{"$f":"IFERROR(VLOOKUP(D198,Nomenclature!$B$2:$C$196,2,0),\"\")","v":""},null,null,null,null,{"$f":"IF(C198=\"\",0,IF(SUMIFS($G$5:G198,$C$5:C198,C198)-SUMIFS($I$4:I197,$C$4:C197,C198)<0,0,SUMIFS($G$5:G198,$C$5:C198,C198)-SUMIFS($I$4:I197,$C$4:C197,C198)))","v":0},null,{"$f":"IF(C198=\"\",0,IF(C198=$C$4,SUMIFS($I$4:I197,$C$4:C197,C197),SUMIFS($I$4:I197,$C$4:C197,C198)))","v":0},0]
[196,null,{"$f":"IFERROR(VLOOKUP(D199,Nomenclature!$B$2:$C$196,2,0),\"\")","v":""},null,null,null,null,{"$f":"IF(C199=\"\",0,IF(SUMIFS($G$5:G199,$C$5:C199,C199)-SUMIFS($I$4:I198,$C$4:C198,C199)<0,0,SUMIFS($G$5:G199,$C$5:C199,C199)-SUMIFS($I$4:I198,$C$4:C198,C199)))","v":0},null,{"$f":"IF(C199=\"\",0,IF(C199=$C$4,SUMIFS($I$4:I198,$C$4:C198,C198),SUMIFS($I$4:I198,$C$4:C198,C199)))","v":0},0]
[197,null,{"$f":"IFERROR(VLOOKUP(D200,Nomenclature!$B$2:$C$196,2,0),\"\")","v":""},null,null,null,null,{"$f":"IF(C200=\"\",0,IF(SUMIFS($G$5:G200,$C$5:C200,C200)-SUMIFS($I$4:I199,$C$4:C199,C200)<0,0,SUMIFS($G$5:G200,$C$5:C200,C200)-SUMIFS($I$4:I199,$C$4:C199,C200)))","v":0},null,{"$f":"IF(C200=\"\",0,IF(C200=$C$4,SUMIFS($I$4:I199,$C$4:C199,C199),SUMIFS($I$4:I199,$C$4:C199,C200)))","v":0},0]
[198,null,{"$f":"IFERROR(VLOOKUP(D201,Nomenclature!$B$2:$C$196,2,0),\"\")","v":""},null,null,null,null,{"$f":"IF(C201=\"\",0,IF(SUMIFS($G$5:G201,$C$5:C201,C201)-SUMIFS($I$4:I200,$C$4:C200,C201)<0,0,SUMIFS($G$5:G201,$C$5:C201,C201)-SUMIFS($I$4:I200,$C$4:C200,C201)))","v":0},null,{"$f":"IF(C201=\"\",0,IF(C201=$C$4,SUMIFS($I$4:I200,$C$4:C200,C200),SUMIFS($I$4:I200,$C$4:C200,C201)))","v":0},0]
[199,null,{"$f":"IFERROR(VLOOKUP(D202,Nomenclature!$B$2:$C$196,2,0),\"\")","v":""},null,null,null,null,{"$f":"IF(C202=\"\",0,IF(SUMIFS($G$5:G202,$C$5:C202,C202)-SUMIFS($I$4:I201,$C$4:C201,C202)<0,0,SUMIFS($G$5:G202,$C$5:C202,C202)-SUMIFS($I$4:I201,$C$4:C201,C202)))","v":0},null,{"$f":"IF(C202=\"\",0,IF(C202=$C$4,SUMIFS($I$4:I201,$C$4:C201,C201),SUMIFS($I$4:I201,$C$4:C201,C202)))","v":0},0]
[200,null,{"$f":"IFERROR(VLOOKUP(D203,Nomenclature!$B$2:$C$196,2,0),\"\")","v":""},null,null,null,null,{"$f":"IF(C203=\"\",0,IF(SUMIFS($G$5:G203,$C$5:C203,C203)-SUMIFS($I$4:I202,$C$4:C202,C203)<0,0,SUMIFS($G$5:G203,$C$5:C203,C203)-SUMIFS($I$4:I202,$C$4:C202,C203)))","v":0},null,{"$f":"IF(C203=\"\",0,IF(C203=$C$4,SUMIFS($I$4:I202,$C$4:C202,C202),SUMIFS($I$4:I202,$C$4:C202,C203)))","v":0},0]

{"sheet":"28000","index":14,"n_rows":203,"n_cols":44,"rows_kept":203,"cut":false,"hidden":false,"merged":[[50,23,50,24],[44,14,45,18],[44,22,45,26],[44,29,44,30],[46,14,47,18],[46,22,47,26],[47,29,47,30],[50,15,50,16],[33,14,33,17],[34,14,37,41],[39,14,39,17],[39,18,40,41],[42,14,42,27],[42,28,42,41],[28,38,29,41],[30,14,31,17],[30,18,31,21],[30,22,31,25],[30,26,31,29],[30,30,31,33],[30,34,31,37],[30,38,31,41],[28,14,29,17],[28,18,29,21],[28,22,29,25],[28,26,29,29],[28,30,29,33],[28,34,29,37],[19,14,19,15],[26,38,27,41],[20,22,20,32],[21,18,21,21],[21,22,21,32],[22,18,22,21],[22,22,22,32],[23,17,25,41],[20,18,20,21],[26,14,27,21],[26,22,27,25],[26,26,27,29],[26,30,27,33],[26,34,27,37],[15,19,15,20],[16,14,16,18],[16,19,16,20],[14,14,14,18],[14,19,14,27],[0,13,2,15],[3,14,3,41],[3,42,58,42],[4,14,4,18],[4,19,4,27],[5,14,5,18],[5,19,5,27],[6,14,6,18],[6,19,6,27],[10,15,11,19],[10,20,11,23],[10,31,11,32],[10,33,11,38],[13,14,13,18],[13,19,13,20],[15,14,15,18],[0,11,2,11],[0,0,2,0],[0,1,2,1],[0,2,2,2],[0,3,2,3],[0,4,2,4],[0,5,1,5],[0,6,1,6],[0,7,2,7],[0,8,1,8],[0,9,2,9],[0,10,1,10]]}
["رقم\nالاستمارة","التاريخ","الترميز","الصنف / الصنف الفرعي","ملاحظات المصلحة","AP Cat",{"$f":"IF(SUM(G4:G203)-SUM(F4:F203)<0,\"نقص في توزيع الاعتمادات على الاصناف الفرعية\",\nIF(SUM(G4:G203)-SUM(F4:F203)>0,\"تجاوز في الاعتمادات الموزعة على الاصناف الفرعية\",\"AP S.Cat\"))","v":"AP S.Cat"},"AP Sous_Cat",{"$f":"IF(I3>G3,\"تجاوز في الالتزامات\",\"∑ Engagements\")","v":"∑ Engagements"},"∑ Eng Sous_Cat","Reste","السند القانوني للعنوان الرابع",null,3]
[]
[null,null,null,null,null,{"$f":"SUM(F4:F203)","v":0},{"$f":"SUM(G4:G203)","v":0},null,{"$f":"SUM(I5:I203)","v":0},null,{"$f":"SUM(K4:K104)","v":0}]
[1,"2023-03-13",{"$f":"IFERROR(VLOOKUP(D4,Nomenclature!$B$2:$C$196,2,0),\"\")","v":28000},"أعباء أخرى للتسيير","تكفل برخصة الالتزام المفتوحة لسنة 2023.",null,null,{"$f":"IF(C4=\"\",0,IF(SUMIFS($G4:G$5,$C4:C$5,C4)-SUMIFS($I3:I$4,$C3:C$4,C4)<0,0,SUMIFS($G4:G$5,$C4:C$5,C4)-SUMIFS($I3:I$4,$C3:C$4,C4)))","v":0},null,{"$f":"IF(I4=0,0,IF(C4=\"\",0,SUMIFS($I4:I$4,$C4:C$4,C4)))","v":0},{"$f":"IF(C4=\"\",0,H4-I4)","v":0},null,null,null,"الجمهورية الجزائرية الديمقراطية الشعبية"]
[2,"2023-04-01",{"$f":"IFERROR(VLOOKUP(D5,Nomenclature!$B$2:$C$196,2,0),\"\")","v":""},null,null,null,null,null,null,{"$f":"IF(C5=\"\",0,IF(C5=$C$4,SUMIFS($I$4:I4,$C$4:C4,C4),SUMIFS($I$4:I4,$C$4:C4,C5)))","v":0},0,null,null,null,"الـوزارة:",null,null,null,null,{"$f":"الواجهة!C2","v":"وزارة البيئة و الطاقات المتجددة"}]
[3,null,{"$f":"IFERROR(VLOOKUP(D6,Nomenclature!$B$2:$C$196,2,0),\"\")","v":""},null,null,null,null,null,null,{"$f":"IF(C6=\"\",0,IF(C6=$C$4,SUMIFS($I$4:I5,$C$4:C5,C5),SUMIFS($I$4:I5,$C$4:C5,C6)))","v":0},0,null,null,null,"الهيئة الإدارية:",null,null,null,null,{"$f":"الواجهة!C3","v":"مديرية البيئة لولاية المسيلة"}]
[4,null,{"$f":"IFERROR(VLOOKUP(D7,Nomenclature!$B$2:$C$196,2,0),\"\")","v":""},null,null,null,null,{"$f":"IF(C7=\"\",0,IF(SUMIFS($G$5:G7,$C$5:C7,C7)-SUMIFS($I$4:I6,$C$4:C6,C7)<0,0,SUMIFS($G$5:G7,$C$5:C7,C7)-SUMIFS($I$4:I6,$C$4:C6,C7)))","v":0},null,{"$f":"IF(C7=\"\",0,IF(C7=$C$4,SUMIFS($I$4:I6,$C$4:C6,C6),SUMIFS($I$4:I6,$C$4:C6,C7)))","v":0},0,null,null,null,"رمز الآمر بالصرف:",null,null,null,null,{"$f":"الواجهة!C4","v":"144 0 28 01"}]
[5,null,{"$f":"IFERROR(VLOOKUP(D8,Nomenclature!$B$2:$C$196,2,0),\"\")","v":""},null,null,null,null,{"$f":"IF(C8=\"\",0,IF(SUMIFS($G$5:G8,$C$5:C8,C8)-SUMIFS($I$4:I7,$C$4:C7,C8)<0,0,SUMIFS($G$5:G8,$C$5:C8,C8)-SUMIFS($I$4:I7,$C$4:C7,C8)))","v":0},null,{"$f":"IF(C8=\"\",0,IF(C8=$C$4,SUMIFS($I$4:I7,$C$4:C7,C7),SUMIFS($I$4:I7,$C$4:C7,C8)))","v":0},0,null,null,null,null,null,null,null,null,null,null,null,null,null,null,null,null,null,null,null,null,null,null,"."]
[6,null,{"$f":"IFERROR(VLOOKUP(D9,Nomenclature!$B$2:$C$196,2,0),\"\")","v":""},null,null,null,null,{"$f":"IF(C9=\"\",0,IF(SUMIFS($G$5:G9,$C$5:C9,C9)-SUMIFS($I$4:I8,$C$4:C8,C9)<0,0,SUMIFS($G$5:G9,$C$5:C9,C9)-SUMIFS($I$4:I8,$C$4:C8,C9)))","v":0},null,{"$f":"IF(C9=\"\",0,IF(C9=$C$4,SUMIFS($I$4:I8,$C$4:C8,C8),SUMIFS($I$4:I8,$C$4:C8,C9)))","v":0},0]
[7,null,{"$f":"IFERROR(VLOOKUP(D10,Nomenclature!$B$2:$C$196,2,0),\"\")","v":""},null,null,null,null,{"$f":"IF(C10=\"\",0,IF(SUMIFS($G$5:G10,$C$5:C10,C10)-SUMIFS($I$4:I9,$C$4:C9,C10)<0,0,SUMIFS($G$5:G10,$C$5:C10,C10)-SUMIFS($I$4:I9,$C$4:C9,C10)))","v":0},null,{"$f":"IF(C10=\"\",0,IF(C10=$C$4,SUMIFS($I$4:I9,$C$4:C9,C9),SUMIFS($I$4:I9,$C$4:C9,C10)))","v":0},0]
[8,null,{"$f":"IFERROR(VLOOKUP(D11,Nomenclature!$B$2:$C$196,2,0),\"\")","v":""},null,null,null,null,{"$f":"IF(C11=\"\",0,IF(SUMIFS($G$5:G11,$C$5:C11,C11)-SUMIFS($I$4:I10,$C$4:C10,C11)<0,0,SUMIFS($G$5:G11,$C$5:C11,C11)-SUMIFS($I$4:I10,$C$4:C10,C11)))","v":0},null,{"$f":"IF(C11=\"\",0,IF(C11=$C$4,SUMIFS($I$4:I10,$C$4:C10,C10),SUMIFS($I$4:I10,$C$4:C10,C11)))","v":0},0,null,null,null,null,"رقم بطاقة الالتزام:",null,null,null,null,{"$f":"IFERROR(VLOOKUP(N1,A4:L203,1,0),0)","v":3},null,null,null,null,null,null,null,null,null,null,"التاريخ:",null,{"$f":"IF(IFERROR(VLOOKUP(N1,A4:L203,2,0),0)=0,\"\",IFERROR(VLOOKUP(N1,A4:L203,2,0),0))","v":""}]
[9,null,{"$f":"IFERROR(VLOOKUP(D12,Nomenclature!$B$2:$C$196,2,0),\"\")","v":""},null,null,null,null,{"$f":"IF(C12=\"\",0,IF(SUMIFS($G$5:G12,$C$5:C12,C12)-SUMIFS($I$4:I11,$C$4:C11,C12)<0,0,SUMIFS($G$5:G12,$C$5:C12,C12)-SUMIFS($I$4:I11,$C$4:C11,C12)))","v":0},null,{"$f":"IF(C12=\"\",0,IF(C12=$C$4,SUMIFS($I$4:I11,$C$4:C11,C11),SUMIFS($I$4:I11,$C$4:C11,C12)))","v":0},0]
[10,null,{"$f":"IFERROR(VLOOKUP(D13,Nomenclature!$B$2:$C$196,2,0),\"\")","v":""},null,null,null,null,{"$f":"IF(C13=\"\",0,IF(SUMIFS($G$5:G13,$C$5:C13,C13)-SUMIFS($I$4:I12,$C$4:C12,C13)<0,0,SUMIFS($G$5:G13,$C$5:C13,C13)-SUMIFS($I$4:I12,$C$4:C12,C13)))","v":0},null,{"$f":"IF(C13=\"\",0,IF(C13=$C$4,SUMIFS($I$4:I12,$C$4:C12,C12),SUMIFS($I$4:I12,$C$4:C12,C13)))","v":0},0]
[11,null,{"$f":"IFERROR(VLOOKUP(D14,Nomenclature!$B$2:$C$196,2,0),\"\")","v":""},null,null,null,null,{"$f":"IF(C14=\"\",0,IF(SUMIFS($G$5:G14,$C$5:C14,C14)-SUMIFS($I$4:I13,$C$4:C13,C14)<0,0,SUMIFS($G$5:G14,$C$5:C14,C14)-SUMIFS($I$4:I13,$C$4:C13,C14)))","v":0},null,{"$f":"IF(C14=\"\",0,IF(C14=$C$4,SUMIFS($I$4:I13,$C$4:C13,C13),SUMIFS($I$4:I13,$C$4:C13,C14)))","v":0},0,null,null,null,"رمز البرنــامج:",null,null,null,null,{"$f":"الواجهة!C7","v":"116"}]
[12,null,{"$f":"IFERROR(VLOOKUP(D15,Nomenclature!$B$2:$C$196,2,0),\"\")","v":""},null,null,null,null,{"$f":"IF(C15=\"\",0,IF(SUMIFS($G$5:G15,$C$5:C15,C15)-SUMIFS($I$4:I14,$C$4:C14,C15)<0,0,SUMIFS($G$5:G15,$C$5:C15,C15)-SUMIFS($I$4:I14,$C$4:C14,C15)))","v":0},null,{"$f":"IF(C15=\"\",0,IF(C15=$C$4,SUMIFS($I$4:I14,$C$4:C14,C14),SUMIFS($I$4:I14,$C$4:C14,C15)))","v":0},0,null,null,null,"رمز النشــاط:",null,null,null,null,{"$f":"الواجهة!C6&\" \"&الواجهة!C7&\" \"&الواجهة!C10&\" \"&الواجهة!C8&\" \"&الواجهة!C9&\" \"&الواجهة!C11","v":"030 116 02 2001 000 028"}]
[13,null,{"$f":"IFERROR(VLOOKUP(D16,Nomenclature!$B$2:$C$196,2,0),\"\")","v":""},null,null,null,null,{"$f":"IF(C16=\"\",0,IF(SUMIFS($G$5:G16,$C$5:C16,C16)-SUMIFS($I$4:I15,$C$4:C15,C16)<0,0,SUMIFS($G$5:G16,$C$5:C16,C16)-SUMIFS($I$4:I15,$C$4:C15,C16)))","v":0},null,{"$f":"IF(C16=\"\",0,IF(C16=$C$4,SUMIFS($I$4:I15,$C$4:C15,C15),SUMIFS($I$4:I15,$C$4:C15,C16)))","v":0},0,null,null,null,"رمز النشــاط الفرعي:",null,null,null,null,{"$f":"الواجهة!C9","v":"000"}]
[14,null,{"$f":"IFERROR(VLOOKUP(D17,Nomenclature!$B$2:$C$196,2,0),\"\")","v":""},null,null,null,null,{"$f":"IF(C17=\"\",0,IF(SUMIFS($G$5:G17,$C$5:C17,C17)-SUMIFS($I$4:I16,$C$4:C16,C17)<0,0,SUMIFS($G$5:G17,$C$5:C17,C17)-SUMIFS($I$4:I16,$C$4:C16,C17)))","v":0},null,{"$f":"IF(C17=\"\",0,IF(C17=$C$4,SUMIFS($I$4:I16,$C$4:C16,C16),SUMIFS($I$4:I16,$C$4:C16,C17)))","v":0},0,null,null,null,"رمز البرنـامج الفرعي:",null,null,null,null,{"$f":"الواجهة!C10","v":"02"}]
[15,null,{"$f":"IFERROR(VLOOKUP(D18,Nomenclature!$B$2:$C$196,2,0),\"\")","v":""},null,null,null,null,{"$f":"IF(C18=\"\",0,IF(SUMIFS($G$5:G18,$C$5:C18,C18)-SUMIFS($I$4:I17,$C$4:C17,C18)<0,0,SUMIFS($G$5:G18,$C$5:C18,C18)-SUMIFS($I$4:I17,$C$4:C17,C18)))","v":0},null,{"$f":"IF(C18=\"\",0,IF(C18=$C$4,SUMIFS($I$4:I17,$C$4:C17,C17),SUMIFS($I$4:I17,$C$4:C17,C18)))","v":0},0,null,null,null,null,null,null,null,null,null,null,null,null,null,null,null,null,null,null,null,null,null,null,null,null,null,null,null,null,null,null,null,null,"\n\n\n"]
[16,null,{"$f":"IFERROR(VLOOKUP(D19,Nomenclature!$B$2:$C$196,2,0),\"\")","v":""},null,null,null,null,{"$f":"IF(C19=\"\",0,IF(SUMIFS($G$5:G19,$C$5:C19,C19)-SUMIFS($I$4:I18,$C$4:C18,C19)<0,0,SUMIFS($G$5:G19,$C$5:C19,C19)-SUMIFS($I$4:I18,$C$4:C18,C19)))","v":0},null,{"$f":"IF(C19=\"\",0,IF(C19=$C$4,SUMIFS($I$4:I18,$C$4:C18,C18),SUMIFS($I$4:I18,$C$4:C18,C19)))","v":0},0]
[17,null,{"$f":"IFERROR(VLOOKUP(D20,Nomenclature!$B$2:$C$196,2,0),\"\")","v":""},null,null,null,null,{"$f":"IF(C20=\"\",0,IF(SUMIFS($G$5:G20,$C$5:C20,C20)-SUMIFS($I$4:I19,$C$4:C19,C20)<0,0,SUMIFS($G$5:G20,$C$5:C20,C20)-SUMIFS($I$4:I19,$C$4:C19,C20)))","v":0},null,{"$f":"IF(C20=\"\",0,IF(C20=$C$4,SUMIFS($I$4:I19,$C$4:C19,C19),SUMIFS($I$4:I19,$C$4:C19,C20)))","v":0},0,null,null,null,"العنوان:"]
[18,null,{"$f":"IFERROR(VLOOKUP(D21,Nomenclature!$B$2:$C$196,2,0),\"\")","v":""},null,null,null,null,{"$f":"IF(C21=\"\",0,IF(SUMIFS($G$5:G21,$C$5:C21,C21)-SUMIFS($I$4:I20,$C$4:C20,C21)<0,0,SUMIFS($G$5:G21,$C$5:C21,C21)-SUMIFS($I$4:I20,$C$4:C20,C21)))","v":0},null,{"$f":"IF(C21=\"\",0,IF(C21=$C$4,SUMIFS($I$4:I20,$C$4:C20,C20),SUMIFS($I$4:I20,$C$4:C20,C21)))","v":0},0,null,null,null,null,null,{"$f":"IF(C4<20000,\"X\",\"\")","v":""},null,"العنوان الأول:",null,null,null,"نفقات المستخدمين"]
[19,null,{"$f":"IFERROR(VLOOKUP(D22,Nomenclature!$B$2:$C$196,2,0),\"\")","v":""},null,null,null,null,{"$f":"IF(C22=\"\",0,IF(SUMIFS($G$5:G22,$C$5:C22,C22)-SUMIFS($I$4:I21,$C$4:C21,C22)<0,0,SUMIFS($G$5:G22,$C$5:C22,C22)-SUMIFS($I$4:I21,$C$4:C21,C22)))","v":0},null,{"$f":"IF(C22=\"\",0,IF(C22=$C$4,SUMIFS($I$4:I21,$C$4:C21,C21),SUMIFS($I$4:I21,$C$4:C21,C22)))","v":0},0,null,null,null,null,null,{"$f":"IF(AND(C4>19999,C4<40000),\"X\",\"\")","v":"X"},null,"العنوان الثاني:",null,null,null,"نفقات تسيير المصالح"]
[20,null,{"$f":"IFERROR(VLOOKUP(D23,Nomenclature!$B$2:$C$196,2,0),\"\")","v":""},null,null,null,null,{"$f":"IF(C23=\"\",0,IF(SUMIFS($G$5:G23,$C$5:C23,C23)-SUMIFS($I$4:I22,$C$4:C22,C23)<0,0,SUMIFS($G$5:G23,$C$5:C23,C23)-SUMIFS($I$4:I22,$C$4:C22,C23)))","v":0},null,{"$f":"IF(C23=\"\",0,IF(C23=$C$4,SUMIFS($I$4:I22,$C$4:C22,C22),SUMIFS($I$4:I22,$C$4:C22,C23)))","v":0},0,null,null,null,null,null,{"$f":"IF(AND(Q21=\"\",Q22=\"\"),\"X\",\"\")","v":""},null,"العنوان الرابع:",null,null,null,"نفقات التحويل"]
[21,null,{"$f":"IFERROR(VLOOKUP(D24,Nomenclature!$B$2:$C$196,2,0),\"\")","v":""},null,null,null,null,{"$f":"IF(C24=\"\",0,IF(SUMIFS($G$5:G24,$C$5:C24,C24)-SUMIFS($I$4:I23,$C$4:C23,C24)<0,0,SUMIFS($G$5:G24,$C$5:C24,C24)-SUMIFS($I$4:I23,$C$4:C23,C24)))","v":0},null,{"$f":"IF(C24=\"\",0,IF(C24=$C$4,SUMIFS($I$4:I23,$C$4:C23,C23),SUMIFS($I$4:I23,$C$4:C23,C24)))","v":0},0,null,null,null,null,null,null,{"$f":"IF(VLOOKUP(N1,A4:L203,12,0)=\"\",\"- - - - - - - - - - - - - - - - - - - - - - - - - - - - - - - - - - - - - - - - - - - - - - - / / / - - - - - - - - - - - - - - - - - - - - - - - - - - - - - - - - - - - - - - - - - - - - - - -\"& CHAR(10)&\"- - - - - - - - - - - - - - - - - - - - - - - - - - - - - - - - - - - - - - - - - - - - - - - / / / - - - - - - - - - - - - - - - - - - - - - - - - - - - - - - - - - - - - - - - - - - - - - - -\",VLOOKUP(N1,A4:L203,12,0))","v":"- - - - - - - - - - - - - - - - - - - - - - - - - - - - - - - - - - - - - - - - - - - - - - - / / / - - - - - - - - - - - - - - - - - - - - - - - - - - - - - - - - - - - - - - - - - - - - - - -\n- - - - - - - - - - - - - - - - - - - - - - - - - - - - - - - - - - - - - - - - - - - - - - - / / / - - - - - - - - - - - - - - - - - - - - - - - - - - - - - - - - - - - - - - - - - - - - - - -"}]
[22,null,{"$f":"IFERROR(VLOOKUP(D25,Nomenclature!$B$2:$C$196,2,0),\"\")","v":""},null,null,null,null,{"$f":"IF(C25=\"\",0,IF(SUMIFS($G$5:G25,$C$5:C25,C25)-SUMIFS($I$4:I24,$C$4:C24,C25)<0,0,SUMIFS($G$5:G25,$C$5:C25,C25)-SUMIFS($I$4:I24,$C$4:C24,C25)))","v":0},null,{"$f":"IF(C25=\"\",0,IF(C25=$C$4,SUMIFS($I$4:I24,$C$4:C24,C24),SUMIFS($I$4:I24,$C$4:C24,C25)))","v":0},0]
[23,null,{"$f":"IFERROR(VLOOKUP(D26,Nomenclature!$B$2:$C$196,2,0),\"\")","v":""},null,null,null,null,{"$f":"IF(C26=\"\",0,IF(SUMIFS($G$5:G26,$C$5:C26,C26)-SUMIFS($I$4:I25,$C$4:C25,C26)<0,0,SUMIFS($G$5:G26,$C$5:C26,C26)-SUMIFS($I$4:I25,$C$4:C25,C26)))","v":0},null,{"$f":"IF(C26=\"\",0,IF(C26=$C$4,SUMIFS($I$4:I25,$C$4:C25,C25),SUMIFS($I$4:I25,$C$4:C25,C26)))","v":0},0]
[24,null,{"$f":"IFERROR(VLOOKUP(D27,Nomenclature!$B$2:$C$196,2,0),\"\")","v":""},null,null,null,null,{"$f":"IF(C27=\"\",0,IF(SUMIFS($G$5:G27,$C$5:C27,C27)-SUMIFS($I$4:I26,$C$4:C26,C27)<0,0,SUMIFS($G$5:G27,$C$5:C27,C27)-SUMIFS($I$4:I26,$C$4:C26,C27)))","v":0},null,{"$f":"IF(C27=\"\",0,IF(C27=$C$4,SUMIFS($I$4:I26,$C$4:C26,C26),SUMIFS($I$4:I26,$C$4:C26,C27)))","v":0},0,null,null,null,"الصنف / الصنف الفرعي",null,null,null,null,null,null,null,"رخصة الالتزام\nالمفتوحة/المعدلة",null,null,null,"مجموع الالتزامات السابقة",null,null,null,"الرصيد\nالأولي",null,null,null,"الالتزام\nالمقترح",null,null,null,"الرصيد المتبقى"]
[25,null,{"$f":"IFERROR(VLOOKUP(D28,Nomenclature!$B$2:$C$196,2,0),\"\")","v":""},null,null,null,null,{"$f":"IF(C28=\"\",0,IF(SUMIFS($G$5:G28,$C$5:C28,C28)-SUMIFS($I$4:I27,$C$4:C27,C28)<0,0,SUMIFS($G$5:G28,$C$5:C28,C28)-SUMIFS($I$4:I27,$C$4:C27,C28)))","v":0},null,{"$f":"IF(C28=\"\",0,IF(C28=$C$4,SUMIFS($I$4:I27,$C$4:C27,C27),SUMIFS($I$4:I27,$C$4:C27,C28)))","v":0},0]
[26,null,{"$f":"IFERROR(VLOOKUP(D29,Nomenclature!$B$2:$C$196,2,0),\"\")","v":""},null,null,null,null,{"$f":"IF(C29=\"\",0,IF(SUMIFS($G$5:G29,$C$5:C29,C29)-SUMIFS($I$4:I28,$C$4:C28,C29)<0,0,SUMIFS($G$5:G29,$C$5:C29,C29)-SUMIFS($I$4:I28,$C$4:C28,C29)))","v":0},null,{"$f":"IF(C29=\"\",0,IF(C29=$C$4,SUMIFS($I$4:I28,$C$4:C28,C28),SUMIFS($I$4:I28,$C$4:C28,C29)))","v":0},0,null,null,null,"الصنف",null,null,null,{"$f":"C4","v":28000},null,null,null,{"$f":"SUM($F$4:INDIRECT(\"f\"&N1+3))","v":0},null,null,null,{"$f":"SUM($I$4:INDIRECT(\"i\"&N1+2))","v":0},null,null,null,{"$f":"W29-AA29","v":0},null,null,null,{"$f":"IF(S31=\"\",0,VLOOKUP(N1,A4:L103,9,0))","v":0},null,null,null,{"$f":"IF((AE29-AI29)<0,\"رصيد غير كاف\",AE29-AI29)","v":0}]
[27,null,{"$f":"IFERROR(VLOOKUP(D30,Nomenclature!$B$2:$C$196,2,0),\"\")","v":""},null,null,null,null,{"$f":"IF(C30=\"\",0,IF(SUMIFS($G$5:G30,$C$5:C30,C30)-SUMIFS($I$4:I29,$C$4:C29,C30)<0,0,SUMIFS($G$5:G30,$C$5:C30,C30)-SUMIFS($I$4:I29,$C$4:C29,C30)))","v":0},null,{"$f":"IF(C30=\"\",0,IF(C30=$C$4,SUMIFS($I$4:I29,$C$4:C29,C29),SUMIFS($I$4:I29,$C$4:C29,C30)))","v":0},0]
[28,null,{"$f":"IFERROR(VLOOKUP(D31,Nomenclature!$B$2:$C$196,2,0),\"\")","v":""},null,null,null,null,{"$f":"IF(C31=\"\",0,IF(SUMIFS($G$5:G31,$C$5:C31,C31)-SUMIFS($I$4:I30,$C$4:C30,C31)<0,0,SUMIFS($G$5:G31,$C$5:C31,C31)-SUMIFS($I$4:I30,$C$4:C30,C31)))","v":0},null,{"$f":"IF(C31=\"\",0,IF(C31=$C$4,SUMIFS($I$4:I30,$C$4:C30,C30),SUMIFS($I$4:I30,$C$4:C30,C31)))","v":0},0,null,null,null,"الصنف الفرعي",null,null,null,{"$f":"IF(IFERROR(VLOOKUP(N1,A4:L103,3,0),\"انتبه خطأ\")=S29,\"\",IFERROR(VLOOKUP(N1,A4:L103,3,0),\"انتبه خطأ\"))","v":""},null,null,null,{"$f":"IF(S31=\"\",\"\",VLOOKUP(N1,A4:L103,8,0))","v":""},null,null,null,{"$f":"IF(S31=\"\",\"\",VLOOKUP(N1,A4:L103,10,0))","v":""},null,null,null,{"$f":"IF(S31=\"\",\"\",W31-AA31)","v":""},null,null,null,{"$f":"IF(S31=\"\",\"\",VLOOKUP(N1,A4:L103,9,0))","v":""},null,null,null,{"$f":"IF(S31=\"\",\"\",IF((AE31-AI31)<0,\"رصيد غير كاف\",AE31-AI31))","v":""}]
[29,null,{"$f":"IFERROR(VLOOKUP(D32,Nomenclature!$B$2:$C$196,2,0),\"\")","v":""},null,null,null,null,{"$f":"IF(C32=\"\",0,IF(SUMIFS($G$5:G32,$C$5:C32,C32)-SUMIFS($I$4:I31,$C$4:C31,C32)<0,0,SUMIFS($G$5:G32,$C$5:C32,C32)-SUMIFS($I$4:I31,$C$4:C31,C32)))","v":0},null,{"$f":"IF(C32=\"\",0,IF(C32=$C$4,SUMIFS($I$4:I31,$C$4:C31,C31),SUMIFS($I$4:I31,$C$4:C31,C32)))","v":0},0]
[30,null,{"$f":"IFERROR(VLOOKUP(D33,Nomenclature!$B$2:$C$196,2,0),\"\")","v":""},null,null,null,null,{"$f":"IF(C33=\"\",0,IF(SUMIFS($G$5:G33,$C$5:C33,C33)-SUMIFS($I$4:I32,$C$4:C32,C33)<0,0,SUMIFS($G$5:G33,$C$5:C33,C33)-SUMIFS($I$4:I32,$C$4:C32,C33)))","v":0},null,{"$f":"IF(C33=\"\",0,IF(C33=$C$4,SUMIFS($I$4:I32,$C$4:C32,C32),SUMIFS($I$4:I32,$C$4:C32,C33)))","v":0},0]
[31,null,{"$f":"IFERROR(VLOOKUP(D34,Nomenclature!$B$2:$C$196,2,0),\"\")","v":""},null,null,null,null,{"$f":"IF(C34=\"\",0,IF(SUMIFS($G$5:G34,$C$5:C34,C34)-SUMIFS($I$4:I33,$C$4:C33,C34)<0,0,SUMIFS($G$5:G34,$C$5:C34,C34)-SUMIFS($I$4:I33,$C$4:C33,C34)))","v":0},null,{"$f":"IF(C34=\"\",0,IF(C34=$C$4,SUMIFS($I$4:I33,$C$4:C33,C33),SUMIFS($I$4:I33,$C$4:C33,C34)))","v":0},0,null,null,null,"موضوع الالتزام:"]
[32,null,{"$f":"IFERROR(VLOOKUP(D35,Nomenclature!$B$2:$C$196,2,0),\"\")","v":""},null,null,null,null,{"$f":"IF(C35=\"\",0,IF(SUMIFS($G$5:G35,$C$5:C35,C35)-SUMIFS($I$4:I34,$C$4:C34,C35)<0,0,SUMIFS($G$5:G35,$C$5:C35,C35)-SUMIFS($I$4:I34,$C$4:C34,C35)))","v":0},null,{"$f":"IF(C35=\"\",0,IF(C35=$C$4,SUMIFS($I$4:I34,$C$4:C34,C34),SUMIFS($I$4:I34,$C$4:C34,C35)))","v":0},0,null,null,null,{"$f":"IF(VLOOKUP(N1,A4:L203,5,0)=0,\"\",IFERROR(VLOOKUP(N1,A4:L203,5,0),\"انتبه خطأ\"))","v":""}]
[33,null,{"$f":"IFERROR(VLOOKUP(D36,Nomenclature!$B$2:$C$196,2,0),\"\")","v":""},null,null,null,null,{"$f":"IF(C36=\"\",0,IF(SUMIFS($G$5:G36,$C$5:C36,C36)-SUMIFS($I$4:I35,$C$4:C35,C36)<0,0,SUMIFS($G$5:G36,$C$5:C36,C36)-SUMIFS($I$4:I35,$C$4:C35,C36)))","v":0},null,{"$f":"IF(C36=\"\",0,IF(C36=$C$4,SUMIFS($I$4:I35,$C$4:C35,C35),SUMIFS($I$4:I35,$C$4:C35,C36)))","v":0},0]
[34,null,{"$f":"IFERROR(VLOOKUP(D37,Nomenclature!$B$2:$C$196,2,0),\"\")","v":""},null,null,null,null,{"$f":"IF(C37=\"\",0,IF(SUMIFS($G$5:G37,$C$5:C37,C37)-SUMIFS($I$4:I36,$C$4:C36,C37)<0,0,SUMIFS($G$5:G37,$C$5:C37,C37)-SUMIFS($I$4:I36,$C$4:C36,C37)))","v":0},null,{"$f":"IF(C37=\"\",0,IF(C37=$C$4,SUMIFS($I$4:I36,$C$4:C36,C36),SUMIFS($I$4:I36,$C$4:C36,C37)))","v":0},0]
[35,null,{"$f":"IFERROR(VLOOKUP(D38,Nomenclature!$B$2:$C$196,2,0),\"\")","v":""},null,null,null,null,{"$f":"IF(C38=\"\",0,IF(SUMIFS($G$5:G38,$C$5:C38,C38)-SUMIFS($I$4:I37,$C$4:C37,C38)<0,0,SUMIFS($G$5:G38,$C$5:C38,C38)-SUMIFS($I$4:I37,$C$4:C37,C38)))","v":0},null,{"$f":"IF(C38=\"\",0,IF(C38=$C$4,SUMIFS($I$4:I37,$C$4:C37,C37),SUMIFS($I$4:I37,$C$4:C37,C38)))","v":0},0]
[36,null,{"$f":"IFERROR(VLOOKUP(D39,Nomenclature!$B$2:$C$196,2,0),\"\")","v":""},null,null,null,null,{"$f":"IF(C39=\"\",0,IF(SUMIFS($G$5:G39,$C$5:C39,C39)-SUMIFS($I$4:I38,$C$4:C38,C39)<0,0,SUMIFS($G$5:G39,$C$5:C39,C39)-SUMIFS($I$4:I38,$C$4:C38,C39)))","v":0},null,{"$f":"IF(C39=\"\",0,IF(C39=$C$4,SUMIFS($I$4:I38,$C$4:C38,C38),SUMIFS($I$4:I38,$C$4:C38,C39)))","v":0},0]
[37,null,{"$f":"IFERROR(VLOOKUP(D40,Nomenclature!$B$2:$C$196,2,0),\"\")","v":""},null,null,null,null,{"$f":"IF(C40=\"\",0,IF(SUMIFS($G$5:G40,$C$5:C40,C40)-SUMIFS($I$4:I39,$C$4:C39,C40)<0,0,SUMIFS($G$5:G40,$C$5:C40,C40)-SUMIFS($I$4:I39,$C$4:C39,C40)))","v":0},null,{"$f":"IF(C40=\"\",0,IF(C40=$C$4,SUMIFS($I$4:I39,$C$4:C39,C39),SUMIFS($I$4:I39,$C$4:C39,C40)))","v":0},0,null,null,null,"المبلغ بالحروف:",null,null,null,{"$f":"IFERROR(arretera(AI31),\"\")","v":""}]
[38,null,{"$f":"IFERROR(VLOOKUP(D41,Nomenclature!$B$2:$C$196,2,0),\"\")","v":""},null,null,null,null,{"$f":"IF(C41=\"\",0,IF(SUMIFS($G$5:G41,$C$5:C41,C41)-SUMIFS($I$4:I40,$C$4:C40,C41)<0,0,SUMIFS($G$5:G41,$C$5:C41,C41)-SUMIFS($I$4:I40,$C$4:C40,C41)))","v":0},null,{"$f":"IF(C41=\"\",0,IF(C41=$C$4,SUMIFS($I$4:I40,$C$4:C40,C40),SUMIFS($I$4:I40,$C$4:C40,C41)))","v":0},0]
[39,null,{"$f":"IFERROR(VLOOKUP(D42,Nomenclature!$B$2:$C$196,2,0),\"\")","v":""},null,null,null,null,{"$f":"IF(C42=\"\",0,IF(SUMIFS($G$5:G42,$C$5:C42,C42)-SUMIFS($I$4:I41,$C$4:C41,C42)<0,0,SUMIFS($G$5:G42,$C$5:C42,C42)-SUMIFS($I$4:I41,$C$4:C41,C42)))","v":0},null,{"$f":"IF(C42=\"\",0,IF(C42=$C$4,SUMIFS($I$4:I41,$C$4:C41,C41),SUMIFS($I$4:I41,$C$4:C41,C42)))","v":0},0]
[40,null,{"$f":"IFERROR(VLOOKUP(D43,Nomenclature!$B$2:$C$196,2,0),\"\")","v":""},null,null,null,null,{"$f":"IF(C43=\"\",0,IF(SUMIFS($G$5:G43,$C$5:C43,C43)-SUMIFS($I$4:I42,$C$4:C42,C43)<0,0,SUMIFS($G$5:G43,$C$5:C43,C43)-SUMIFS($I$4:I42,$C$4:C42,C43)))","v":0},null,{"$f":"IF(C43=\"\",0,IF(C43=$C$4,SUMIFS($I$4:I42,$C$4:C42,C42),SUMIFS($I$4:I42,$C$4:C42,C43)))","v":0},0,null,null,null,"إطار مخصص للمراقب الميزانياتي",null,null,null,null,null,null,null,null,null,null,null,null,null,"إطار مخصص للآمر بالصرف"]
[41,null,{"$f":"IFERROR(VLOOKUP(D44,Nomenclature!$B$2:$C$196,2,0),\"\")","v":""},null,null,null,null,{"$f":"IF(C44=\"\",0,IF(SUMIFS($G$5:G44,$C$5:C44,C44)-SUMIFS($I$4:I43,$C$4:C43,C44)<0,0,SUMIFS($G$5:G44,$C$5:C44,C44)-SUMIFS($I$4:I43,$C$4:C43,C44)))","v":0},null,{"$f":"IF(C44=\"\",0,IF(C44=$C$4,SUMIFS($I$4:I43,$C$4:C43,C43),SUMIFS($I$4:I43,$C$4:C43,C44)))","v":0},0]
[42,null,{"$f":"IFERROR(VLOOKUP(D45,Nomenclature!$B$2:$C$196,2,0),\"\")","v":""},null,null,null,null,{"$f":"IF(C45=\"\",0,IF(SUMIFS($G$5:G45,$C$5:C45,C45)-SUMIFS($I$4:I44,$C$4:C44,C45)<0,0,SUMIFS($G$5:G45,$C$5:C45,C45)-SUMIFS($I$4:I44,$C$4:C44,C45)))","v":0},null,{"$f":"IF(C45=\"\",0,IF(C45=$C$4,SUMIFS($I$4:I44,$C$4:C44,C44),SUMIFS($I$4:I44,$C$4:C44,C45)))","v":0},0,null,null,null,"رقم التأشيرة:",null,null,null,null,null,null,null,null,null,null,null,null,null,null,"ختم"]
[43,null,{"$f":"IFERROR(VLOOKUP(D46,Nomenclature!$B$2:$C$196,2,0),\"\")","v":""},null,null,null,null,{"$f":"IF(C46=\"\",0,IF(SUMIFS($G$5:G46,$C$5:C46,C46)-SUMIFS($I$4:I45,$C$4:C45,C46)<0,0,SUMIFS($G$5:G46,$C$5:C46,C46)-SUMIFS($I$4:I45,$C$4:C45,C46)))","v":0},null,{"$f":"IF(C46=\"\",0,IF(C46=$C$4,SUMIFS($I$4:I45,$C$4:C45,C45),SUMIFS($I$4:I45,$C$4:C45,C46)))","v":0},0]
[44,null,{"$f":"IFERROR(VLOOKUP(D47,Nomenclature!$B$2:$C$196,2,0),\"\")","v":""},null,null,null,null,{"$f":"IF(C47=\"\",0,IF(SUMIFS($G$5:G47,$C$5:C47,C47)-SUMIFS($I$4:I46,$C$4:C46,C47)<0,0,SUMIFS($G$5:G47,$C$5:C47,C47)-SUMIFS($I$4:I46,$C$4:C46,C47)))","v":0},null,{"$f":"IF(C47=\"\",0,IF(C47=$C$4,SUMIFS($I$4:I46,$C$4:C46,C46),SUMIFS($I$4:I46,$C$4:C46,C47)))","v":0},0,null,null,null,"تاريخ التأشيرة:"]
[45,null,{"$f":"IFERROR(VLOOKUP(D48,Nomenclature!$B$2:$C$196,2,0),\"\")","v":""},null,null,null,null,{"$f":"IF(C48=\"\",0,IF(SUMIFS($G$5:G48,$C$5:C48,C48)-SUMIFS($I$4:I47,$C$4:C47,C48)<0,0,SUMIFS($G$5:G48,$C$5:C48,C48)-SUMIFS($I$4:I47,$C$4:C47,C48)))","v":0},null,{"$f":"IF(C48=\"\",0,IF(C48=$C$4,SUMIFS($I$4:I47,$C$4:C47,C47),SUMIFS($I$4:I47,$C$4:C47,C48)))","v":0},0,null,null,null,null,null,null,null,null,null,null,null,null,null,null,null,null,null,null,"امضاء"]
[46,null,{"$f":"IFERROR(VLOOKUP(D49,Nomenclature!$B$2:$C$196,2,0),\"\")","v":""},null,null,null,null,{"$f":"IF(C49=\"\",0,IF(SUMIFS($G$5:G49,$C$5:C49,C49)-SUMIFS($I$4:I48,$C$4:C48,C49)<0,0,SUMIFS($G$5:G49,$C$5:C49,C49)-SUMIFS($I$4:I48,$C$4:C48,C49)))","v":0},null,{"$f":"IF(C49=\"\",0,IF(C49=$C$4,SUMIFS($I$4:I48,$C$4:C48,C48),SUMIFS($I$4:I48,$C$4:C48,C49)))","v":0},0]
[47,null,{"$f":"IFERROR(VLOOKUP(D50,Nomenclature!$B$2:$C$196,2,0),\"\")","v":""},null,null,null,null,{"$f":"IF(C50=\"\",0,IF(SUMIFS($G$5:G50,$C$5:C50,C50)-SUMIFS($I$4:I49,$C$4:C49,C50)<0,0,SUMIFS($G$5:G50,$C$5:C50,C50)-SUMIFS($I$4:I49,$C$4:C49,C50)))","v":0},null,{"$f":"IF(C50=\"\",0,IF(C50=$C$4,SUMIFS($I$4:I49,$C$4:C49,C49),SUMIFS($I$4:I49,$C$4:C49,C50)))","v":0},0]
[48,null,{"$f":"IFERROR(VLOOKUP(D51,Nomenclature!$B$2:$C$196,2,0),\"\")","v":""},null,null,null,null,{"$f":"IF(C51=\"\",0,IF(SUMIFS($G$5:G51,$C$5:C51,C51)-SUMIFS($I$4:I50,$C$4:C50,C51)<0,0,SUMIFS($G$5:G51,$C$5:C51,C51)-SUMIFS($I$4:I50,$C$4:C50,C51)))","v":0},null,{"$f":"IF(C51=\"\",0,IF(C51=$C$4,SUMIFS($I$4:I50,$C$4:C50,C50),SUMIFS($I$4:I50,$C$4:C50,C51)))","v":0},0,null,null,null,null,{"$f":"AD48","v":"امضاء"},null,null,null,null,null,null,null,{"$f":"AD45","v":"ختم"}]
[49,null,{"$f":"IFERROR(VLOOKUP(D52,Nomenclature!$B$2:$C$196,2,0),\"\")","v":""},null,null,null,null,{"$f":"IF(C52=\"\",0,IF(SUMIFS($G$5:G52,$C$5:C52,C52)-SUMIFS($I$4:I51,$C$4:C51,C52)<0,0,SUMIFS($G$5:G52,$C$5:C52,C52)-SUMIFS($I$4:I51,$C$4:C51,C52)))","v":0},null,{"$f":"IF(C52=\"\",0,IF(C52=$C$4,SUMIFS($I$4:I51,$C$4:C51,C51),SUMIFS($I$4:I51,$C$4:C51,C52)))","v":0},0]
[50,null,{"$f":"IFERROR(VLOOKUP(D53,Nomenclature!$B$2:$C$196,2,0),\"\")","v":""},null,null,null,null,{"$f":"IF(C53=\"\",0,IF(SUMIFS($G$5:G53,$C$5:C53,C53)-SUMIFS($I$4:I52,$C$4:C52,C53)<0,0,SUMIFS($G$5:G53,$C$5:C53,C53)-SUMIFS($I$4:I52,$C$4:C52,C53)))","v":0},null,{"$f":"IF(C53=\"\",0,IF(C53=$C$4,SUMIFS($I$4:I52,$C$4:C52,C52),SUMIFS($I$4:I52,$C$4:C52,C53)))","v":0},0]
[51,null,{"$f":"IFERROR(VLOOKUP(D54,Nomenclature!$B$2:$C$196,2,0),\"\")","v":""},null,null,null,null,{"$f":"IF(C54=\"\",0,IF(SUMIFS($G$5:G54,$C$5:C54,C54)-SUMIFS($I$4:I53,$C$4:C53,C54)<0,0,SUMIFS($G$5:G54,$C$5:C54,C54)-SUMIFS($I$4:I53,$C$4:C53,C54)))","v":0},null,{"$f":"IF(C54=\"\",0,IF(C54=$C$4,SUMIFS($I$4:I53,$C$4:C53,C53),SUMIFS($I$4:I53,$C$4:C53,C54)))","v":0},0]
[52,null,{"$f":"IFERROR(VLOOKUP(D55,Nomenclature!$B$2:$C$196,2,0),\"\")","v":""},null,null,null,null,{"$f":"IF(C55=\"\",0,IF(SUMIFS($G$5:G55,$C$5:C55,C55)-SUMIFS($I$4:I54,$C$4:C54,C55)<0,0,SUMIFS($G$5:G55,$C$5:C55,C55)-SUMIFS($I$4:I54,$C$4:C54,C55)))","v":0},null,{"$f":"IF(C55=\"\",0,IF(C55=$C$4,SUMIFS($I$4:I54,$C$4:C54,C54),SUMIFS($I$4:I54,$C$4:C54,C55)))","v":0},0]
[53,null,{"$f":"IFERROR(VLOOKUP(D56,Nomenclature!$B$2:$C$196,2,0),\"\")","v":""},null,null,null,null,{"$f":"IF(C56=\"\",0,IF(SUMIFS($G$5:G56,$C$5:C56,C56)-SUMIFS($I$4:I55,$C$4:C55,C56)<0,0,SUMIFS($G$5:G56,$C$5:C56,C56)-SUMIFS($I$4:I55,$C$4:C55,C56)))","v":0},null,{"$f":"IF(C56=\"\",0,IF(C56=$C$4,SUMIFS($I$4:I55,$C$4:C55,C55),SUMIFS($I$4:I55,$C$4:C55,C56)))","v":0},0]
[54,null,{"$f":"IFERROR(VLOOKUP(D57,Nomenclature!$B$2:$C$196,2,0),\"\")","v":""},null,null,null,null,{"$f":"IF(C57=\"\",0,IF(SUMIFS($G$5:G57,$C$5:C57,C57)-SUMIFS($I$4:I56,$C$4:C56,C57)<0,0,SUMIFS($G$5:G57,$C$5:C57,C57)-SUMIFS($I$4:I56,$C$4:C56,C57)))","v":0},null,{"$f":"IF(C57=\"\",0,IF(C57=$C$4,SUMIFS($I$4:I56,$C$4:C56,C56),SUMIFS($I$4:I56,$C$4:C56,C57)))","v":0},0]
[55,null,{"$f":"IFERROR(VLOOKUP(D58,Nomenclature!$B$2:$C$196,2,0),\"\")","v":""},null,null,null,null,{"$f":"IF(C58=\"\",0,IF(SUMIFS($G$5:G58,$C$5:C58,C58)-SUMIFS($I$4:I57,$C$4:C57,C58)<0,0,SUMIFS($G$5:G58,$C$5:C58,C58)-SUMIFS($I$4:I57,$C$4:C57,C58)))","v":0},null,{"$f":"IF(C58=\"\",0,IF(C58=$C$4,SUMIFS($I$4:I57,$C$4:C57,C57),SUMIFS($I$4:I57,$C$4:C57,C58)))","v":0},0]
[56,null,{"$f":"IFERROR(VLOOKUP(D59,Nomenclature!$B$2:$C$196,2,0),\"\")","v":""},null,null,null,null,{"$f":"IF(C59=\"\",0,IF(SUMIFS($G$5:G59,$C$5:C59,C59)-SUMIFS($I$4:I58,$C$4:C58,C59)<0,0,SUMIFS($G$5:G59,$C$5:C59,C59)-SUMIFS($I$4:I58,$C$4:C58,C59)))","v":0},null,{"$f":"IF(C59=\"\",0,IF(C59=$C$4,SUMIFS($I$4:I58,$C$4:C58,C58),SUMIFS($I$4:I58,$C$4:C58,C59)))","v":0},0]
[57,null,{"$f":"IFERROR(VLOOKUP(D60,Nomenclature!$B$2:$C$196,2,0),\"\")","v":""},null,null,null,null,{"$f":"IF(C60=\"\",0,IF(SUMIFS($G$5:G60,$C$5:C60,C60)-SUMIFS($I$4:I59,$C$4:C59,C60)<0,0,SUMIFS($G$5:G60,$C$5:C60,C60)-SUMIFS($I$4:I59,$C$4:C59,C60)))","v":0},null,{"$f":"IF(C60=\"\",0,IF(C60=$C$4,SUMIFS($I$4:I59,$C$4:C59,C59),SUMIFS($I$4:I59,$C$4:C59,C60)))","v":0},0]
[58,null,{"$f":"IFERROR(VLOOKUP(D61,Nomenclature!$B$2:$C$196,2,0),\"\")","v":""},null,null,null,null,{"$f":"IF(C61=\"\",0,IF(SUMIFS($G$5:G61,$C$5:C61,C61)-SUMIFS($I$4:I60,$C$4:C60,C61)<0,0,SUMIFS($G$5:G61,$C$5:C61,C61)-SUMIFS($I$4:I60,$C$4:C60,C61)))","v":0},null,{"$f":"IF(C61=\"\",0,IF(C61=$C$4,SUMIFS($I$4:I60,$C$4:C60,C60),SUMIFS($I$4:I60,$C$4:C60,C61)))","v":0},0]
[59,null,{"$f":"IFERROR(VLOOKUP(D62,Nomenclature!$B$2:$C$196,2,0),\"\")","v":""},null,null,null,null,{"$f":"IF(C62=\"\",0,IF(SUMIFS($G$5:G62,$C$5:C62,C62)-SUMIFS($I$4:I61,$C$4:C61,C62)<0,0,SUMIFS($G$5:G62,$C$5:C62,C62)-SUMIFS($I$4:I61,$C$4:C61,C62)))","v":0},null,{"$f":"IF(C62=\"\",0,IF(C62=$C$4,SUMIFS($I$4:I61,$C$4:C61,C61),SUMIFS($I$4:I61,$C$4:C61,C62)))","v":0},0]
[60,null,{"$f":"IFERROR(VLOOKUP(D63,Nomenclature!$B$2:$C$196,2,0),\"\")","v":""},null,null,null,null,{"$f":"IF(C63=\"\",0,IF(SUMIFS($G$5:G63,$C$5:C63,C63)-SUMIFS($I$4:I62,$C$4:C62,C63)<0,0,SUMIFS($G$5:G63,$C$5:C63,C63)-SUMIFS($I$4:I62,$C$4:C62,C63)))","v":0},null,{"$f":"IF(C63=\"\",0,IF(C63=$C$4,SUMIFS($I$4:I62,$C$4:C62,C62),SUMIFS($I$4:I62,$C$4:C62,C63)))","v":0},0]
[61,null,{"$f":"IFERROR(VLOOKUP(D64,Nomenclature!$B$2:$C$196,2,0),\"\")","v":""},null,null,null,null,{"$f":"IF(C64=\"\",0,IF(SUMIFS($G$5:G64,$C$5:C64,C64)-SUMIFS($I$4:I63,$C$4:C63,C64)<0,0,SUMIFS($G$5:G64,$C$5:C64,C64)-SUMIFS($I$4:I63,$C$4:C63,C64)))","v":0},null,{"$f":"IF(C64=\"\",0,IF(C64=$C$4,SUMIFS($I$4:I63,$C$4:C63,C63),SUMIFS($I$4:I63,$C$4:C63,C64)))","v":0},0]
[62,null,{"$f":"IFERROR(VLOOKUP(D65,Nomenclature!$B$2:$C$196,2,0),\"\")","v":""},null,null,null,null,{"$f":"IF(C65=\"\",0,IF(SUMIFS($G$5:G65,$C$5:C65,C65)-SUMIFS($I$4:I64,$C$4:C64,C65)<0,0,SUMIFS($G$5:G65,$C$5:C65,C65)-SUMIFS($I$4:I64,$C$4:C64,C65)))","v":0},null,{"$f":"IF(C65=\"\",0,IF(C65=$C$4,SUMIFS($I$4:I64,$C$4:C64,C64),SUMIFS($I$4:I64,$C$4:C64,C65)))","v":0},0]
[63,null,{"$f":"IFERROR(VLOOKUP(D66,Nomenclature!$B$2:$C$196,2,0),\"\")","v":""},null,null,null,null,{"$f":"IF(C66=\"\",0,IF(SUMIFS($G$5:G66,$C$5:C66,C66)-SUMIFS($I$4:I65,$C$4:C65,C66)<0,0,SUMIFS($G$5:G66,$C$5:C66,C66)-SUMIFS($I$4:I65,$C$4:C65,C66)))","v":0},null,{"$f":"IF(C66=\"\",0,IF(C66=$C$4,SUMIFS($I$4:I65,$C$4:C65,C65),SUMIFS($I$4:I65,$C$4:C65,C66)))","v":0},0]
[64,null,{"$f":"IFERROR(VLOOKUP(D67,Nomenclature!$B$2:$C$196,2,0),\"\")","v":""},null,null,null,null,{"$f":"IF(C67=\"\",0,IF(SUMIFS($G$5:G67,$C$5:C67,C67)-SUMIFS($I$4:I66,$C$4:C66,C67)<0,0,SUMIFS($G$5:G67,$C$5:C67,C67)-SUMIFS($I$4:I66,$C$4:C66,C67)))","v":0},null,{"$f":"IF(C67=\"\",0,IF(C67=$C$4,SUMIFS($I$4:I66,$C$4:C66,C66),SUMIFS($I$4:I66,$C$4:C66,C67)))","v":0},0]
[65,null,{"$f":"IFERROR(VLOOKUP(D68,Nomenclature!$B$2:$C$196,2,0),\"\")","v":""},null,null,null,null,{"$f":"IF(C68=\"\",0,IF(SUMIFS($G$5:G68,$C$5:C68,C68)-SUMIFS($I$4:I67,$C$4:C67,C68)<0,0,SUMIFS($G$5:G68,$C$5:C68,C68)-SUMIFS($I$4:I67,$C$4:C67,C68)))","v":0},null,{"$f":"IF(C68=\"\",0,IF(C68=$C$4,SUMIFS($I$4:I67,$C$4:C67,C67),SUMIFS($I$4:I67,$C$4:C67,C68)))","v":0},{"$f":"IF(C68=\"\",0,H68-I68)","v":0}]
[66,null,{"$f":"IFERROR(VLOOKUP(D69,Nomenclature!$B$2:$C$196,2,0),\"\")","v":""},null,null,null,null,{"$f":"IF(C69=\"\",0,IF(SUMIFS($G$5:G69,$C$5:C69,C69)-SUMIFS($I$4:I68,$C$4:C68,C69)<0,0,SUMIFS($G$5:G69,$C$5:C69,C69)-SUMIFS($I$4:I68,$C$4:C68,C69)))","v":0},null,{"$f":"IF(C69=\"\",0,IF(C69=$C$4,SUMIFS($I$4:I68,$C$4:C68,C68),SUMIFS($I$4:I68,$C$4:C68,C69)))","v":0},0]
[67,null,{"$f":"IFERROR(VLOOKUP(D70,Nomenclature!$B$2:$C$196,2,0),\"\")","v":""},null,null,null,null,{"$f":"IF(C70=\"\",0,IF(SUMIFS($G$5:G70,$C$5:C70,C70)-SUMIFS($I$4:I69,$C$4:C69,C70)<0,0,SUMIFS($G$5:G70,$C$5:C70,C70)-SUMIFS($I$4:I69,$C$4:C69,C70)))","v":0},null,{"$f":"IF(C70=\"\",0,IF(C70=$C$4,SUMIFS($I$4:I69,$C$4:C69,C69),SUMIFS($I$4:I69,$C$4:C69,C70)))","v":0},0]
[68,null,{"$f":"IFERROR(VLOOKUP(D71,Nomenclature!$B$2:$C$196,2,0),\"\")","v":""},null,null,null,null,{"$f":"IF(C71=\"\",0,IF(SUMIFS($G$5:G71,$C$5:C71,C71)-SUMIFS($I$4:I70,$C$4:C70,C71)<0,0,SUMIFS($G$5:G71,$C$5:C71,C71)-SUMIFS($I$4:I70,$C$4:C70,C71)))","v":0},null,{"$f":"IF(C71=\"\",0,IF(C71=$C$4,SUMIFS($I$4:I70,$C$4:C70,C70),SUMIFS($I$4:I70,$C$4:C70,C71)))","v":0},0]
[69,null,{"$f":"IFERROR(VLOOKUP(D72,Nomenclature!$B$2:$C$196,2,0),\"\")","v":""},null,null,null,null,{"$f":"IF(C72=\"\",0,IF(SUMIFS($G$5:G72,$C$5:C72,C72)-SUMIFS($I$4:I71,$C$4:C71,C72)<0,0,SUMIFS($G$5:G72,$C$5:C72,C72)-SUMIFS($I$4:I71,$C$4:C71,C72)))","v":0},null,{"$f":"IF(C72=\"\",0,IF(C72=$C$4,SUMIFS($I$4:I71,$C$4:C71,C71),SUMIFS($I$4:I71,$C$4:C71,C72)))","v":0},0]
[70,null,{"$f":"IFERROR(VLOOKUP(D73,Nomenclature!$B$2:$C$196,2,0),\"\")","v":""},null,null,null,null,{"$f":"IF(C73=\"\",0,IF(SUMIFS($G$5:G73,$C$5:C73,C73)-SUMIFS($I$4:I72,$C$4:C72,C73)<0,0,SUMIFS($G$5:G73,$C$5:C73,C73)-SUMIFS($I$4:I72,$C$4:C72,C73)))","v":0},null,{"$f":"IF(C73=\"\",0,IF(C73=$C$4,SUMIFS($I$4:I72,$C$4:C72,C72),SUMIFS($I$4:I72,$C$4:C72,C73)))","v":0},0]
[71,null,{"$f":"IFERROR(VLOOKUP(D74,Nomenclature!$B$2:$C$196,2,0),\"\")","v":""},null,null,null,null,{"$f":"IF(C74=\"\",0,IF(SUMIFS($G$5:G74,$C$5:C74,C74)-SUMIFS($I$4:I73,$C$4:C73,C74)<0,0,SUMIFS($G$5:G74,$C$5:C74,C74)-SUMIFS($I$4:I73,$C$4:C73,C74)))","v":0},null,{"$f":"IF(C74=\"\",0,IF(C74=$C$4,SUMIFS($I$4:I73,$C$4:C73,C73),SUMIFS($I$4:I73,$C$4:C73,C74)))","v":0},0]
[72,null,{"$f":"IFERROR(VLOOKUP(D75,Nomenclature!$B$2:$C$196,2,0),\"\")","v":""},null,null,null,null,{"$f":"IF(C75=\"\",0,IF(SUMIFS($G$5:G75,$C$5:C75,C75)-SUMIFS($I$4:I74,$C$4:C74,C75)<0,0,SUMIFS($G$5:G75,$C$5:C75,C75)-SUMIFS($I$4:I74,$C$4:C74,C75)))","v":0},null,{"$f":"IF(C75=\"\",0,IF(C75=$C$4,SUMIFS($I$4:I74,$C$4:C74,C74),SUMIFS($I$4:I74,$C$4:C74,C75)))","v":0},0]
[73,null,{"$f":"IFERROR(VLOOKUP(D76,Nomenclature!$B$2:$C$196,2,0),\"\")","v":""},null,null,null,null,{"$f":"IF(C76=\"\",0,IF(SUMIFS($G$5:G76,$C$5:C76,C76)-SUMIFS($I$4:I75,$C$4:C75,C76)<0,0,SUMIFS($G$5:G76,$C$5:C76,C76)-SUMIFS($I$4:I75,$C$4:C75,C76)))","v":0},null,{"$f":"IF(C76=\"\",0,IF(C76=$C$4,SUMIFS($I$4:I75,$C$4:C75,C75),SUMIFS($I$4:I75,$C$4:C75,C76)))","v":0},0]
[74,null,{"$f":"IFERROR(VLOOKUP(D77,Nomenclature!$B$2:$C$196,2,0),\"\")","v":""},null,null,null,null,{"$f":"IF(C77=\"\",0,IF(SUMIFS($G$5:G77,$C$5:C77,C77)-SUMIFS($I$4:I76,$C$4:C76,C77)<0,0,SUMIFS($G$5:G77,$C$5:C77,C77)-SUMIFS($I$4:I76,$C$4:C76,C77)))","v":0},null,{"$f":"IF(C77=\"\",0,IF(C77=$C$4,SUMIFS($I$4:I76,$C$4:C76,C76),SUMIFS($I$4:I76,$C$4:C76,C77)))","v":0},0]
[75,null,{"$f":"IFERROR(VLOOKUP(D78,Nomenclature!$B$2:$C$196,2,0),\"\")","v":""},null,null,null,null,{"$f":"IF(C78=\"\",0,IF(SUMIFS($G$5:G78,$C$5:C78,C78)-SUMIFS($I$4:I77,$C$4:C77,C78)<0,0,SUMIFS($G$5:G78,$C$5:C78,C78)-SUMIFS($I$4:I77,$C$4:C77,C78)))","v":0},null,{"$f":"IF(C78=\"\",0,IF(C78=$C$4,SUMIFS($I$4:I77,$C$4:C77,C77),SUMIFS($I$4:I77,$C$4:C77,C78)))","v":0},0]
[76,null,{"$f":"IFERROR(VLOOKUP(D79,Nomenclature!$B$2:$C$196,2,0),\"\")","v":""},null,null,null,null,{"$f":"IF(C79=\"\",0,IF(SUMIFS($G$5:G79,$C$5:C79,C79)-SUMIFS($I$4:I78,$C$4:C78,C79)<0,0,SUMIFS($G$5:G79,$C$5:C79,C79)-SUMIFS($I$4:I78,$C$4:C78,C79)))","v":0},null,{"$f":"IF(C79=\"\",0,IF(C79=$C$4,SUMIFS($I$4:I78,$C$4:C78,C78),SUMIFS($I$4:I78,$C$4:C78,C79)))","v":0},0]
[77,null,{"$f":"IFERROR(VLOOKUP(D80,Nomenclature!$B$2:$C$196,2,0),\"\")","v":""},null,null,null,null,{"$f":"IF(C80=\"\",0,IF(SUMIFS($G$5:G80,$C$5:C80,C80)-SUMIFS($I$4:I79,$C$4:C79,C80)<0,0,SUMIFS($G$5:G80,$C$5:C80,C80)-SUMIFS($I$4:I79,$C$4:C79,C80)))","v":0},null,{"$f":"IF(C80=\"\",0,IF(C80=$C$4,SUMIFS($I$4:I79,$C$4:C79,C79),SUMIFS($I$4:I79,$C$4:C79,C80)))","v":0},0]
[78,null,{"$f":"IFERROR(VLOOKUP(D81,Nomenclature!$B$2:$C$196,2,0),\"\")","v":""},null,null,null,null,{"$f":"IF(C81=\"\",0,IF(SUMIFS($G$5:G81,$C$5:C81,C81)-SUMIFS($I$4:I80,$C$4:C80,C81)<0,0,SUMIFS($G$5:G81,$C$5:C81,C81)-SUMIFS($I$4:I80,$C$4:C80,C81)))","v":0},null,{"$f":"IF(C81=\"\",0,IF(C81=$C$4,SUMIFS($I$4:I80,$C$4:C80,C80),SUMIFS($I$4:I80,$C$4:C80,C81)))","v":0},0]
[79,null,{"$f":"IFERROR(VLOOKUP(D82,Nomenclature!$B$2:$C$196,2,0),\"\")","v":""},null,null,null,null,{"$f":"IF(C82=\"\",0,IF(SUMIFS($G$5:G82,$C$5:C82,C82)-SUMIFS($I$4:I81,$C$4:C81,C82)<0,0,SUMIFS($G$5:G82,$C$5:C82,C82)-SUMIFS($I$4:I81,$C$4:C81,C82)))","v":0},null,{"$f":"IF(C82=\"\",0,IF(C82=$C$4,SUMIFS($I$4:I81,$C$4:C81,C81),SUMIFS($I$4:I81,$C$4:C81,C82)))","v":0},0]
[80,null,{"$f":"IFERROR(VLOOKUP(D83,Nomenclature!$B$2:$C$196,2,0),\"\")","v":""},null,null,null,null,{"$f":"IF(C83=\"\",0,IF(SUMIFS($G$5:G83,$C$5:C83,C83)-SUMIFS($I$4:I82,$C$4:C82,C83)<0,0,SUMIFS($G$5:G83,$C$5:C83,C83)-SUMIFS($I$4:I82,$C$4:C82,C83)))","v":0},null,{"$f":"IF(C83=\"\",0,IF(C83=$C$4,SUMIFS($I$4:I82,$C$4:C82,C82),SUMIFS($I$4:I82,$C$4:C82,C83)))","v":0},0]
[81,null,{"$f":"IFERROR(VLOOKUP(D84,Nomenclature!$B$2:$C$196,2,0),\"\")","v":""},null,null,null,null,{"$f":"IF(C84=\"\",0,IF(SUMIFS($G$5:G84,$C$5:C84,C84)-SUMIFS($I$4:I83,$C$4:C83,C84)<0,0,SUMIFS($G$5:G84,$C$5:C84,C84)-SUMIFS($I$4:I83,$C$4:C83,C84)))","v":0},null,{"$f":"IF(C84=\"\",0,IF(C84=$C$4,SUMIFS($I$4:I83,$C$4:C83,C83),SUMIFS($I$4:I83,$C$4:C83,C84)))","v":0},0]
[82,null,{"$f":"IFERROR(VLOOKUP(D85,Nomenclature!$B$2:$C$196,2,0),\"\")","v":""},null,null,null,null,{"$f":"IF(C85=\"\",0,IF(SUMIFS($G$5:G85,$C$5:C85,C85)-SUMIFS($I$4:I84,$C$4:C84,C85)<0,0,SUMIFS($G$5:G85,$C$5:C85,C85)-SUMIFS($I$4:I84,$C$4:C84,C85)))","v":0},null,{"$f":"IF(C85=\"\",0,IF(C85=$C$4,SUMIFS($I$4:I84,$C$4:C84,C84),SUMIFS($I$4:I84,$C$4:C84,C85)))","v":0},0]
[83,null,{"$f":"IFERROR(VLOOKUP(D86,Nomenclature!$B$2:$C$196,2,0),\"\")","v":""},null,null,null,null,{"$f":"IF(C86=\"\",0,IF(SUMIFS($G$5:G86,$C$5:C86,C86)-SUMIFS($I$4:I85,$C$4:C85,C86)<0,0,SUMIFS($G$5:G86,$C$5:C86,C86)-SUMIFS($I$4:I85,$C$4:C85,C86)))","v":0},null,{"$f":"IF(C86=\"\",0,IF(C86=$C$4,SUMIFS($I$4:I85,$C$4:C85,C85),SUMIFS($I$4:I85,$C$4:C85,C86)))","v":0},0]
[84,null,{"$f":"IFERROR(VLOOKUP(D87,Nomenclature!$B$2:$C$196,2,0),\"\")","v":""},null,null,null,null,{"$f":"IF(C87=\"\",0,IF(SUMIFS($G$5:G87,$C$5:C87,C87)-SUMIFS($I$4:I86,$C$4:C86,C87)<0,0,SUMIFS($G$5:G87,$C$5:C87,C87)-SUMIFS($I$4:I86,$C$4:C86,C87)))","v":0},null,{"$f":"IF(C87=\"\",0,IF(C87=$C$4,SUMIFS($I$4:I86,$C$4:C86,C86),SUMIFS($I$4:I86,$C$4:C86,C87)))","v":0},0]
[85,null,{"$f":"IFERROR(VLOOKUP(D88,Nomenclature!$B$2:$C$196,2,0),\"\")","v":""},null,null,null,null,{"$f":"IF(C88=\"\",0,IF(SUMIFS($G$5:G88,$C$5:C88,C88)-SUMIFS($I$4:I87,$C$4:C87,C88)<0,0,SUMIFS($G$5:G88,$C$5:C88,C88)-SUMIFS($I$4:I87,$C$4:C87,C88)))","v":0},null,{"$f":"IF(C88=\"\",0,IF(C88=$C$4,SUMIFS($I$4:I87,$C$4:C87,C87),SUMIFS($I$4:I87,$C$4:C87,C88)))","v":0},0]
[86,null,{"$f":"IFERROR(VLOOKUP(D89,Nomenclature!$B$2:$C$196,2,0),\"\")","v":""},null,null,null,null,{"$f":"IF(C89=\"\",0,IF(SUMIFS($G$5:G89,$C$5:C89,C89)-SUMIFS($I$4:I88,$C$4:C88,C89)<0,0,SUMIFS($G$5:G89,$C$5:C89,C89)-SUMIFS($I$4:I88,$C$4:C88,C89)))","v":0},null,{"$f":"IF(C89=\"\",0,IF(C89=$C$4,SUMIFS($I$4:I88,$C$4:C88,C88),SUMIFS($I$4:I88,$C$4:C88,C89)))","v":0},0]
[87,null,{"$f":"IFERROR(VLOOKUP(D90,Nomenclature!$B$2:$C$196,2,0),\"\")","v":""},null,null,null,null,{"$f":"IF(C90=\"\",0,IF(SUMIFS($G$5:G90,$C$5:C90,C90)-SUMIFS($I$4:I89,$C$4:C89,C90)<0,0,SUMIFS($G$5:G90,$C$5:C90,C90)-SUMIFS($I$4:I89,$C$4:C89,C90)))","v":0},null,{"$f":"IF(C90=\"\",0,IF(C90=$C$4,SUMIFS($I$4:I89,$C$4:C89,C89),SUMIFS($I$4:I89,$C$4:C89,C90)))","v":0},0]
[88,null,{"$f":"IFERROR(VLOOKUP(D91,Nomenclature!$B$2:$C$196,2,0),\"\")","v":""},null,null,null,null,{"$f":"IF(C91=\"\",0,IF(SUMIFS($G$5:G91,$C$5:C91,C91)-SUMIFS($I$4:I90,$C$4:C90,C91)<0,0,SUMIFS($G$5:G91,$C$5:C91,C91)-SUMIFS($I$4:I90,$C$4:C90,C91)))","v":0},null,{"$f":"IF(C91=\"\",0,IF(C91=$C$4,SUMIFS($I$4:I90,$C$4:C90,C90),SUMIFS($I$4:I90,$C$4:C90,C91)))","v":0},0]
[89,null,{"$f":"IFERROR(VLOOKUP(D92,Nomenclature!$B$2:$C$196,2,0),\"\")","v":""},null,null,null,null,{"$f":"IF(C92=\"\",0,IF(SUMIFS($G$5:G92,$C$5:C92,C92)-SUMIFS($I$4:I91,$C$4:C91,C92)<0,0,SUMIFS($G$5:G92,$C$5:C92,C92)-SUMIFS($I$4:I91,$C$4:C91,C92)))","v":0},null,{"$f":"IF(C92=\"\",0,IF(C92=$C$4,SUMIFS($I$4:I91,$C$4:C91,C91),SUMIFS($I$4:I91,$C$4:C91,C92)))","v":0},0]
[90,null,{"$f":"IFERROR(VLOOKUP(D93,Nomenclature!$B$2:$C$196,2,0),\"\")","v":""},null,null,null,null,{"$f":"IF(C93=\"\",0,IF(SUMIFS($G$5:G93,$C$5:C93,C93)-SUMIFS($I$4:I92,$C$4:C92,C93)<0,0,SUMIFS($G$5:G93,$C$5:C93,C93)-SUMIFS($I$4:I92,$C$4:C92,C93)))","v":0},null,{"$f":"IF(C93=\"\",0,IF(C93=$C$4,SUMIFS($I$4:I92,$C$4:C92,C92),SUMIFS($I$4:I92,$C$4:C92,C93)))","v":0},0]
[91,null,{"$f":"IFERROR(VLOOKUP(D94,Nomenclature!$B$2:$C$196,2,0),\"\")","v":""},null,null,null,null,{"$f":"IF(C94=\"\",0,IF(SUMIFS($G$5:G94,$C$5:C94,C94)-SUMIFS($I$4:I93,$C$4:C93,C94)<0,0,SUMIFS($G$5:G94,$C$5:C94,C94)-SUMIFS($I$4:I93,$C$4:C93,C94)))","v":0},null,{"$f":"IF(C94=\"\",0,IF(C94=$C$4,SUMIFS($I$4:I93,$C$4:C93,C93),SUMIFS($I$4:I93,$C$4:C93,C94)))","v":0},0]
[92,null,{"$f":"IFERROR(VLOOKUP(D95,Nomenclature!$B$2:$C$196,2,0),\"\")","v":""},null,null,null,null,{"$f":"IF(C95=\"\",0,IF(SUMIFS($G$5:G95,$C$5:C95,C95)-SUMIFS($I$4:I94,$C$4:C94,C95)<0,0,SUMIFS($G$5:G95,$C$5:C95,C95)-SUMIFS($I$4:I94,$C$4:C94,C95)))","v":0},null,{"$f":"IF(C95=\"\",0,IF(C95=$C$4,SUMIFS($I$4:I94,$C$4:C94,C94),SUMIFS($I$4:I94,$C$4:C94,C95)))","v":0},0]
[93,null,{"$f":"IFERROR(VLOOKUP(D96,Nomenclature!$B$2:$C$196,2,0),\"\")","v":""},null,null,null,null,{"$f":"IF(C96=\"\",0,IF(SUMIFS($G$5:G96,$C$5:C96,C96)-SUMIFS($I$4:I95,$C$4:C95,C96)<0,0,SUMIFS($G$5:G96,$C$5:C96,C96)-SUMIFS($I$4:I95,$C$4:C95,C96)))","v":0},null,{"$f":"IF(C96=\"\",0,IF(C96=$C$4,SUMIFS($I$4:I95,$C$4:C95,C95),SUMIFS($I$4:I95,$C$4:C95,C96)))","v":0},0]
[94,null,{"$f":"IFERROR(VLOOKUP(D97,Nomenclature!$B$2:$C$196,2,0),\"\")","v":""},null,null,null,null,{"$f":"IF(C97=\"\",0,IF(SUMIFS($G$5:G97,$C$5:C97,C97)-SUMIFS($I$4:I96,$C$4:C96,C97)<0,0,SUMIFS($G$5:G97,$C$5:C97,C97)-SUMIFS($I$4:I96,$C$4:C96,C97)))","v":0},null,{"$f":"IF(C97=\"\",0,IF(C97=$C$4,SUMIFS($I$4:I96,$C$4:C96,C96),SUMIFS($I$4:I96,$C$4:C96,C97)))","v":0},0]
[95,null,{"$f":"IFERROR(VLOOKUP(D98,Nomenclature!$B$2:$C$196,2,0),\"\")","v":""},null,null,null,null,{"$f":"IF(C98=\"\",0,IF(SUMIFS($G$5:G98,$C$5:C98,C98)-SUMIFS($I$4:I97,$C$4:C97,C98)<0,0,SUMIFS($G$5:G98,$C$5:C98,C98)-SUMIFS($I$4:I97,$C$4:C97,C98)))","v":0},null,{"$f":"IF(C98=\"\",0,IF(C98=$C$4,SUMIFS($I$4:I97,$C$4:C97,C97),SUMIFS($I$4:I97,$C$4:C97,C98)))","v":0},0]
[96,null,{"$f":"IFERROR(VLOOKUP(D99,Nomenclature!$B$2:$C$196,2,0),\"\")","v":""},null,null,null,null,{"$f":"IF(C99=\"\",0,IF(SUMIFS($G$5:G99,$C$5:C99,C99)-SUMIFS($I$4:I98,$C$4:C98,C99)<0,0,SUMIFS($G$5:G99,$C$5:C99,C99)-SUMIFS($I$4:I98,$C$4:C98,C99)))","v":0},null,{"$f":"IF(C99=\"\",0,IF(C99=$C$4,SUMIFS($I$4:I98,$C$4:C98,C98),SUMIFS($I$4:I98,$C$4:C98,C99)))","v":0},0]
[97,null,{"$f":"IFERROR(VLOOKUP(D100,Nomenclature!$B$2:$C$196,2,0),\"\")","v":""},null,null,null,null,{"$f":"IF(C100=\"\",0,IF(SUMIFS($G$5:G100,$C$5:C100,C100)-SUMIFS($I$4:I99,$C$4:C99,C100)<0,0,SUMIFS($G$5:G100,$C$5:C100,C100)-SUMIFS($I$4:I99,$C$4:C99,C100)))","v":0},null,{"$f":"IF(C100=\"\",0,IF(C100=$C$4,SUMIFS($I$4:I99,$C$4:C99,C99),SUMIFS($I$4:I99,$C$4:C99,C100)))","v":0},0]
[98,null,{"$f":"IFERROR(VLOOKUP(D101,Nomenclature!$B$2:$C$196,2,0),\"\")","v":""},null,null,null,null,{"$f":"IF(C101=\"\",0,IF(SUMIFS($G$5:G101,$C$5:C101,C101)-SUMIFS($I$4:I100,$C$4:C100,C101)<0,0,SUMIFS($G$5:G101,$C$5:C101,C101)-SUMIFS($I$4:I100,$C$4:C100,C101)))","v":0},null,{"$f":"IF(C101=\"\",0,IF(C101=$C$4,SUMIFS($I$4:I100,$C$4:C100,C100),SUMIFS($I$4:I100,$C$4:C100,C101)))","v":0},0]
[99,null,{"$f":"IFERROR(VLOOKUP(D102,Nomenclature!$B$2:$C$196,2,0),\"\")","v":""},null,null,null,null,{"$f":"IF(C102=\"\",0,IF(SUMIFS($G$5:G102,$C$5:C102,C102)-SUMIFS($I$4:I101,$C$4:C101,C102)<0,0,SUMIFS($G$5:G102,$C$5:C102,C102)-SUMIFS($I$4:I101,$C$4:C101,C102)))","v":0},null,{"$f":"IF(C102=\"\",0,IF(C102=$C$4,SUMIFS($I$4:I101,$C$4:C101,C101),SUMIFS($I$4:I101,$C$4:C101,C102)))","v":0},0]
[100,null,{"$f":"IFERROR(VLOOKUP(D103,Nomenclature!$B$2:$C$196,2,0),\"\")","v":""},null,null,null,null,{"$f":"IF(C103=\"\",0,IF(SUMIFS($G$5:G103,$C$5:C103,C103)-SUMIFS($I$4:I102,$C$4:C102,C103)<0,0,SUMIFS($G$5:G103,$C$5:C103,C103)-SUMIFS($I$4:I102,$C$4:C102,C103)))","v":0},null,{"$f":"IF(C103=\"\",0,IF(C103=$C$4,SUMIFS($I$4:I102,$C$4:C102,C102),SUMIFS($I$4:I102,$C$4:C102,C103)))","v":0},0]
[101,null,{"$f":"IFERROR(VLOOKUP(D104,Nomenclature!$B$2:$C$196,2,0),\"\")","v":""},null,null,null,null,{"$f":"IF(C104=\"\",0,IF(SUMIFS($G$5:G104,$C$5:C104,C104)-SUMIFS($I$4:I103,$C$4:C103,C104)<0,0,SUMIFS($G$5:G104,$C$5:C104,C104)-SUMIFS($I$4:I103,$C$4:C103,C104)))","v":0},null,{"$f":"IF(C104=\"\",0,IF(C104=$C$4,SUMIFS($I$4:I103,$C$4:C103,C103),SUMIFS($I$4:I103,$C$4:C103,C104)))","v":0},0]
[102,null,{"$f":"IFERROR(VLOOKUP(D105,Nomenclature!$B$2:$C$196,2,0),\"\")","v":""},null,null,null,null,{"$f":"IF(C105=\"\",0,IF(SUMIFS($G$5:G105,$C$5:C105,C105)-SUMIFS($I$4:I104,$C$4:C104,C105)<0,0,SUMIFS($G$5:G105,$C$5:C105,C105)-SUMIFS($I$4:I104,$C$4:C104,C105)))","v":0},null,{"$f":"IF(C105=\"\",0,IF(C105=$C$4,SUMIFS($I$4:I104,$C$4:C104,C104),SUMIFS($I$4:I104,$C$4:C104,C105)))","v":0},0]
[103,null,{"$f":"IFERROR(VLOOKUP(D106,Nomenclature!$B$2:$C$196,2,0),\"\")","v":""},null,null,null,null,{"$f":"IF(C106=\"\",0,IF(SUMIFS($G$5:G106,$C$5:C106,C106)-SUMIFS($I$4:I105,$C$4:C105,C106)<0,0,SUMIFS($G$5:G106,$C$5:C106,C106)-SUMIFS($I$4:I105,$C$4:C105,C106)))","v":0},null,{"$f":"IF(C106=\"\",0,IF(C106=$C$4,SUMIFS($I$4:I105,$C$4:C105,C105),SUMIFS($I$4:I105,$C$4:C105,C106)))","v":0},0]
[104,null,{"$f":"IFERROR(VLOOKUP(D107,Nomenclature!$B$2:$C$196,2,0),\"\")","v":""},null,null,null,null,{"$f":"IF(C107=\"\",0,IF(SUMIFS($G$5:G107,$C$5:C107,C107)-SUMIFS($I$4:I106,$C$4:C106,C107)<0,0,SUMIFS($G$5:G107,$C$5:C107,C107)-SUMIFS($I$4:I106,$C$4:C106,C107)))","v":0},null,{"$f":"IF(C107=\"\",0,IF(C107=$C$4,SUMIFS($I$4:I106,$C$4:C106,C106),SUMIFS($I$4:I106,$C$4:C106,C107)))","v":0},0]
[105,null,{"$f":"IFERROR(VLOOKUP(D108,Nomenclature!$B$2:$C$196,2,0),\"\")","v":""},null,null,null,null,{"$f":"IF(C108=\"\",0,IF(SUMIFS($G$5:G108,$C$5:C108,C108)-SUMIFS($I$4:I107,$C$4:C107,C108)<0,0,SUMIFS($G$5:G108,$C$5:C108,C108)-SUMIFS($I$4:I107,$C$4:C107,C108)))","v":0},null,{"$f":"IF(C108=\"\",0,IF(C108=$C$4,SUMIFS($I$4:I107,$C$4:C107,C107),SUMIFS($I$4:I107,$C$4:C107,C108)))","v":0},0]
[106,null,{"$f":"IFERROR(VLOOKUP(D109,Nomenclature!$B$2:$C$196,2,0),\"\")","v":""},null,null,null,null,{"$f":"IF(C109=\"\",0,IF(SUMIFS($G$5:G109,$C$5:C109,C109)-SUMIFS($I$4:I108,$C$4:C108,C109)<0,0,SUMIFS($G$5:G109,$C$5:C109,C109)-SUMIFS($I$4:I108,$C$4:C108,C109)))","v":0},null,{"$f":"IF(C109=\"\",0,IF(C109=$C$4,SUMIFS($I$4:I108,$C$4:C108,C108),SUMIFS($I$4:I108,$C$4:C108,C109)))","v":0},0]
[107,null,{"$f":"IFERROR(VLOOKUP(D110,Nomenclature!$B$2:$C$196,2,0),\"\")","v":""},null,null,null,null,{"$f":"IF(C110=\"\",0,IF(SUMIFS($G$5:G110,$C$5:C110,C110)-SUMIFS($I$4:I109,$C$4:C109,C110)<0,0,SUMIFS($G$5:G110,$C$5:C110,C110)-SUMIFS($I$4:I109,$C$4:C109,C110)))","v":0},null,{"$f":"IF(C110=\"\",0,IF(C110=$C$4,SUMIFS($I$4:I109,$C$4:C109,C109),SUMIFS($I$4:I109,$C$4:C109,C110)))","v":0},0]
[108,null,{"$f":"IFERROR(VLOOKUP(D111,Nomenclature!$B$2:$C$196,2,0),\"\")","v":""},null,null,null,null,{"$f":"IF(C111=\"\",0,IF(SUMIFS($G$5:G111,$C$5:C111,C111)-SUMIFS($I$4:I110,$C$4:C110,C111)<0,0,SUMIFS($G$5:G111,$C$5:C111,C111)-SUMIFS($I$4:I110,$C$4:C110,C111)))","v":0},null,{"$f":"IF(C111=\"\",0,IF(C111=$C$4,SUMIFS($I$4:I110,$C$4:C110,C110),SUMIFS($I$4:I110,$C$4:C110,C111)))","v":0},0]
[109,null,{"$f":"IFERROR(VLOOKUP(D112,Nomenclature!$B$2:$C$196,2,0),\"\")","v":""},null,null,null,null,{"$f":"IF(C112=\"\",0,IF(SUMIFS($G$5:G112,$C$5:C112,C112)-SUMIFS($I$4:I111,$C$4:C111,C112)<0,0,SUMIFS($G$5:G112,$C$5:C112,C112)-SUMIFS($I$4:I111,$C$4:C111,C112)))","v":0},null,{"$f":"IF(C112=\"\",0,IF(C112=$C$4,SUMIFS($I$4:I111,$C$4:C111,C111),SUMIFS($I$4:I111,$C$4:C111,C112)))","v":0},0]
[110,null,{"$f":"IFERROR(VLOOKUP(D113,Nomenclature!$B$2:$C$196,2,0),\"\")","v":""},null,null,null,null,{"$f":"IF(C113=\"\",0,IF(SUMIFS($G$5:G113,$C$5:C113,C113)-SUMIFS($I$4:I112,$C$4:C112,C113)<0,0,SUMIFS($G$5:G113,$C$5:C113,C113)-SUMIFS($I$4:I112,$C$4:C112,C113)))","v":0},null,{"$f":"IF(C113=\"\",0,IF(C113=$C$4,SUMIFS($I$4:I112,$C$4:C112,C112),SUMIFS($I$4:I112,$C$4:C112,C113)))","v":0},0]
[111,null,{"$f":"IFERROR(VLOOKUP(D114,Nomenclature!$B$2:$C$196,2,0),\"\")","v":""},null,null,null,null,{"$f":"IF(C114=\"\",0,IF(SUMIFS($G$5:G114,$C$5:C114,C114)-SUMIFS($I$4:I113,$C$4:C113,C114)<0,0,SUMIFS($G$5:G114,$C$5:C114,C114)-SUMIFS($I$4:I113,$C$4:C113,C114)))","v":0},null,{"$f":"IF(C114=\"\",0,IF(C114=$C$4,SUMIFS($I$4:I113,$C$4:C113,C113),SUMIFS($I$4:I113,$C$4:C113,C114)))","v":0},0]
[112,null,{"$f":"IFERROR(VLOOKUP(D115,Nomenclature!$B$2:$C$196,2,0),\"\")","v":""},null,null,null,null,{"$f":"IF(C115=\"\",0,IF(SUMIFS($G$5:G115,$C$5:C115,C115)-SUMIFS($I$4:I114,$C$4:C114,C115)<0,0,SUMIFS($G$5:G115,$C$5:C115,C115)-SUMIFS($I$4:I114,$C$4:C114,C115)))","v":0},null,{"$f":"IF(C115=\"\",0,IF(C115=$C$4,SUMIFS($I$4:I114,$C$4:C114,C114),SUMIFS($I$4:I114,$C$4:C114,C115)))","v":0},0]
[113,null,{"$f":"IFERROR(VLOOKUP(D116,Nomenclature!$B$2:$C$196,2,0),\"\")","v":""},null,null,null,null,{"$f":"IF(C116=\"\",0,IF(SUMIFS($G$5:G116,$C$5:C116,C116)-SUMIFS($I$4:I115,$C$4:C115,C116)<0,0,SUMIFS($G$5:G116,$C$5:C116,C116)-SUMIFS($I$4:I115,$C$4:C115,C116)))","v":0},null,{"$f":"IF(C116=\"\",0,IF(C116=$C$4,SUMIFS($I$4:I115,$C$4:C115,C115),SUMIFS($I$4:I115,$C$4:C115,C116)))","v":0},0]
[114,null,{"$f":"IFERROR(VLOOKUP(D117,Nomenclature!$B$2:$C$196,2,0),\"\")","v":""},null,null,null,null,{"$f":"IF(C117=\"\",0,IF(SUMIFS($G$5:G117,$C$5:C117,C117)-SUMIFS($I$4:I116,$C$4:C116,C117)<0,0,SUMIFS($G$5:G117,$C$5:C117,C117)-SUMIFS($I$4:I116,$C$4:C116,C117)))","v":0},null,{"$f":"IF(C117=\"\",0,IF(C117=$C$4,SUMIFS($I$4:I116,$C$4:C116,C116),SUMIFS($I$4:I116,$C$4:C116,C117)))","v":0},0]
[115,null,{"$f":"IFERROR(VLOOKUP(D118,Nomenclature!$B$2:$C$196,2,0),\"\")","v":""},null,null,null,null,{"$f":"IF(C118=\"\",0,IF(SUMIFS($G$5:G118,$C$5:C118,C118)-SUMIFS($I$4:I117,$C$4:C117,C118)<0,0,SUMIFS($G$5:G118,$C$5:C118,C118)-SUMIFS($I$4:I117,$C$4:C117,C118)))","v":0},null,{"$f":"IF(C118=\"\",0,IF(C118=$C$4,SUMIFS($I$4:I117,$C$4:C117,C117),SUMIFS($I$4:I117,$C$4:C117,C118)))","v":0},0]
[116,null,{"$f":"IFERROR(VLOOKUP(D119,Nomenclature!$B$2:$C$196,2,0),\"\")","v":""},null,null,null,null,{"$f":"IF(C119=\"\",0,IF(SUMIFS($G$5:G119,$C$5:C119,C119)-SUMIFS($I$4:I118,$C$4:C118,C119)<0,0,SUMIFS($G$5:G119,$C$5:C119,C119)-SUMIFS($I$4:I118,$C$4:C118,C119)))","v":0},null,{"$f":"IF(C119=\"\",0,IF(C119=$C$4,SUMIFS($I$4:I118,$C$4:C118,C118),SUMIFS($I$4:I118,$C$4:C118,C119)))","v":0},0]
[117,null,{"$f":"IFERROR(VLOOKUP(D120,Nomenclature!$B$2:$C$196,2,0),\"\")","v":""},null,null,null,null,{"$f":"IF(C120=\"\",0,IF(SUMIFS($G$5:G120,$C$5:C120,C120)-SUMIFS($I$4:I119,$C$4:C119,C120)<0,0,SUMIFS($G$5:G120,$C$5:C120,C120)-SUMIFS($I$4:I119,$C$4:C119,C120)))","v":0},null,{"$f":"IF(C120=\"\",0,IF(C120=$C$4,SUMIFS($I$4:I119,$C$4:C119,C119),SUMIFS($I$4:I119,$C$4:C119,C120)))","v":0},0]
[118,null,{"$f":"IFERROR(VLOOKUP(D121,Nomenclature!$B$2:$C$196,2,0),\"\")","v":""},null,null,null,null,{"$f":"IF(C121=\"\",0,IF(SUMIFS($G$5:G121,$C$5:C121,C121)-SUMIFS($I$4:I120,$C$4:C120,C121)<0,0,SUMIFS($G$5:G121,$C$5:C121,C121)-SUMIFS($I$4:I120,$C$4:C120,C121)))","v":0},null,{"$f":"IF(C121=\"\",0,IF(C121=$C$4,SUMIFS($I$4:I120,$C$4:C120,C120),SUMIFS($I$4:I120,$C$4:C120,C121)))","v":0},0]
[119,null,{"$f":"IFERROR(VLOOKUP(D122,Nomenclature!$B$2:$C$196,2,0),\"\")","v":""},null,null,null,null,{"$f":"IF(C122=\"\",0,IF(SUMIFS($G$5:G122,$C$5:C122,C122)-SUMIFS($I$4:I121,$C$4:C121,C122)<0,0,SUMIFS($G$5:G122,$C$5:C122,C122)-SUMIFS($I$4:I121,$C$4:C121,C122)))","v":0},null,{"$f":"IF(C122=\"\",0,IF(C122=$C$4,SUMIFS($I$4:I121,$C$4:C121,C121),SUMIFS($I$4:I121,$C$4:C121,C122)))","v":0},0]
[120,null,{"$f":"IFERROR(VLOOKUP(D123,Nomenclature!$B$2:$C$196,2,0),\"\")","v":""},null,null,null,null,{"$f":"IF(C123=\"\",0,IF(SUMIFS($G$5:G123,$C$5:C123,C123)-SUMIFS($I$4:I122,$C$4:C122,C123)<0,0,SUMIFS($G$5:G123,$C$5:C123,C123)-SUMIFS($I$4:I122,$C$4:C122,C123)))","v":0},null,{"$f":"IF(C123=\"\",0,IF(C123=$C$4,SUMIFS($I$4:I122,$C$4:C122,C122),SUMIFS($I$4:I122,$C$4:C122,C123)))","v":0},0]
[121,null,{"$f":"IFERROR(VLOOKUP(D124,Nomenclature!$B$2:$C$196,2,0),\"\")","v":""},null,null,null,null,{"$f":"IF(C124=\"\",0,IF(SUMIFS($G$5:G124,$C$5:C124,C124)-SUMIFS($I$4:I123,$C$4:C123,C124)<0,0,SUMIFS($G$5:G124,$C$5:C124,C124)-SUMIFS($I$4:I123,$C$4:C123,C124)))","v":0},null,{"$f":"IF(C124=\"\",0,IF(C124=$C$4,SUMIFS($I$4:I123,$C$4:C123,C123),SUMIFS($I$4:I123,$C$4:C123,C124)))","v":0},0]
[122,null,{"$f":"IFERROR(VLOOKUP(D125,Nomenclature!$B$2:$C$196,2,0),\"\")","v":""},null,null,null,null,{"$f":"IF(C125=\"\",0,IF(SUMIFS($G$5:G125,$C$5:C125,C125)-SUMIFS($I$4:I124,$C$4:C124,C125)<0,0,SUMIFS($G$5:G125,$C$5:C125,C125)-SUMIFS($I$4:I124,$C$4:C124,C125)))","v":0},null,{"$f":"IF(C125=\"\",0,IF(C125=$C$4,SUMIFS($I$4:I124,$C$4:C124,C124),SUMIFS($I$4:I124,$C$4:C124,C125)))","v":0},0]
[123,null,{"$f":"IFERROR(VLOOKUP(D126,Nomenclature!$B$2:$C$196,2,0),\"\")","v":""},null,null,null,null,{"$f":"IF(C126=\"\",0,IF(SUMIFS($G$5:G126,$C$5:C126,C126)-SUMIFS($I$4:I125,$C$4:C125,C126)<0,0,SUMIFS($G$5:G126,$C$5:C126,C126)-SUMIFS($I$4:I125,$C$4:C125,C126)))","v":0},null,{"$f":"IF(C126=\"\",0,IF(C126=$C$4,SUMIFS($I$4:I125,$C$4:C125,C125),SUMIFS($I$4:I125,$C$4:C125,C126)))","v":0},0]
[124,null,{"$f":"IFERROR(VLOOKUP(D127,Nomenclature!$B$2:$C$196,2,0),\"\")","v":""},null,null,null,null,{"$f":"IF(C127=\"\",0,IF(SUMIFS($G$5:G127,$C$5:C127,C127)-SUMIFS($I$4:I126,$C$4:C126,C127)<0,0,SUMIFS($G$5:G127,$C$5:C127,C127)-SUMIFS($I$4:I126,$C$4:C126,C127)))","v":0},null,{"$f":"IF(C127=\"\",0,IF(C127=$C$4,SUMIFS($I$4:I126,$C$4:C126,C126),SUMIFS($I$4:I126,$C$4:C126,C127)))","v":0},0]
[125,null,{"$f":"IFERROR(VLOOKUP(D128,Nomenclature!$B$2:$C$196,2,0),\"\")","v":""},null,null,null,null,{"$f":"IF(C128=\"\",0,IF(SUMIFS($G$5:G128,$C$5:C128,C128)-SUMIFS($I$4:I127,$C$4:C127,C128)<0,0,SUMIFS($G$5:G128,$C$5:C128,C128)-SUMIFS($I$4:I127,$C$4:C127,C128)))","v":0},null,{"$f":"IF(C128=\"\",0,IF(C128=$C$4,SUMIFS($I$4:I127,$C$4:C127,C127),SUMIFS($I$4:I127,$C$4:C127,C128)))","v":0},0]
[126,null,{"$f":"IFERROR(VLOOKUP(D129,Nomenclature!$B$2:$C$196,2,0),\"\")","v":""},null,null,null,null,{"$f":"IF(C129=\"\",0,IF(SUMIFS($G$5:G129,$C$5:C129,C129)-SUMIFS($I$4:I128,$C$4:C128,C129)<0,0,SUMIFS($G$5:G129,$C$5:C129,C129)-SUMIFS($I$4:I128,$C$4:C128,C129)))","v":0},null,{"$f":"IF(C129=\"\",0,IF(C129=$C$4,SUMIFS($I$4:I128,$C$4:C128,C128),SUMIFS($I$4:I128,$C$4:C128,C129)))","v":0},0]
[127,null,{"$f":"IFERROR(VLOOKUP(D130,Nomenclature!$B$2:$C$196,2,0),\"\")","v":""},null,null,null,null,{"$f":"IF(C130=\"\",0,IF(SUMIFS($G$5:G130,$C$5:C130,C130)-SUMIFS($I$4:I129,$C$4:C129,C130)<0,0,SUMIFS($G$5:G130,$C$5:C130,C130)-SUMIFS($I$4:I129,$C$4:C129,C130)))","v":0},null,{"$f":"IF(C130=\"\",0,IF(C130=$C$4,SUMIFS($I$4:I129,$C$4:C129,C129),SUMIFS($I$4:I129,$C$4:C129,C130)))","v":0},0]
[128,null,{"$f":"IFERROR(VLOOKUP(D131,Nomenclature!$B$2:$C$196,2,0),\"\")","v":""},null,null,null,null,{"$f":"IF(C131=\"\",0,IF(SUMIFS($G$5:G131,$C$5:C131,C131)-SUMIFS($I$4:I130,$C$4:C130,C131)<0,0,SUMIFS($G$5:G131,$C$5:C131,C131)-SUMIFS($I$4:I130,$C$4:C130,C131)))","v":0},null,{"$f":"IF(C131=\"\",0,IF(C131=$C$4,SUMIFS($I$4:I130,$C$4:C130,C130),SUMIFS($I$4:I130,$C$4:C130,C131)))","v":0},0]
[129,null,{"$f":"IFERROR(VLOOKUP(D132,Nomenclature!$B$2:$C$196,2,0),\"\")","v":""},null,null,null,null,{"$f":"IF(C132=\"\",0,IF(SUMIFS($G$5:G132,$C$5:C132,C132)-SUMIFS($I$4:I131,$C$4:C131,C132)<0,0,SUMIFS($G$5:G132,$C$5:C132,C132)-SUMIFS($I$4:I131,$C$4:C131,C132)))","v":0},null,{"$f":"IF(C132=\"\",0,IF(C132=$C$4,SUMIFS($I$4:I131,$C$4:C131,C131),SUMIFS($I$4:I131,$C$4:C131,C132)))","v":0},{"$f":"IF(C132=\"\",0,H132-I132)","v":0}]
[130,null,{"$f":"IFERROR(VLOOKUP(D133,Nomenclature!$B$2:$C$196,2,0),\"\")","v":""},null,null,null,null,{"$f":"IF(C133=\"\",0,IF(SUMIFS($G$5:G133,$C$5:C133,C133)-SUMIFS($I$4:I132,$C$4:C132,C133)<0,0,SUMIFS($G$5:G133,$C$5:C133,C133)-SUMIFS($I$4:I132,$C$4:C132,C133)))","v":0},null,{"$f":"IF(C133=\"\",0,IF(C133=$C$4,SUMIFS($I$4:I132,$C$4:C132,C132),SUMIFS($I$4:I132,$C$4:C132,C133)))","v":0},0]
[131,null,{"$f":"IFERROR(VLOOKUP(D134,Nomenclature!$B$2:$C$196,2,0),\"\")","v":""},null,null,null,null,{"$f":"IF(C134=\"\",0,IF(SUMIFS($G$5:G134,$C$5:C134,C134)-SUMIFS($I$4:I133,$C$4:C133,C134)<0,0,SUMIFS($G$5:G134,$C$5:C134,C134)-SUMIFS($I$4:I133,$C$4:C133,C134)))","v":0},null,{"$f":"IF(C134=\"\",0,IF(C134=$C$4,SUMIFS($I$4:I133,$C$4:C133,C133),SUMIFS($I$4:I133,$C$4:C133,C134)))","v":0},0]
[132,null,{"$f":"IFERROR(VLOOKUP(D135,Nomenclature!$B$2:$C$196,2,0),\"\")","v":""},null,null,null,null,{"$f":"IF(C135=\"\",0,IF(SUMIFS($G$5:G135,$C$5:C135,C135)-SUMIFS($I$4:I134,$C$4:C134,C135)<0,0,SUMIFS($G$5:G135,$C$5:C135,C135)-SUMIFS($I$4:I134,$C$4:C134,C135)))","v":0},null,{"$f":"IF(C135=\"\",0,IF(C135=$C$4,SUMIFS($I$4:I134,$C$4:C134,C134),SUMIFS($I$4:I134,$C$4:C134,C135)))","v":0},0]
[133,null,{"$f":"IFERROR(VLOOKUP(D136,Nomenclature!$B$2:$C$196,2,0),\"\")","v":""},null,null,null,null,{"$f":"IF(C136=\"\",0,IF(SUMIFS($G$5:G136,$C$5:C136,C136)-SUMIFS($I$4:I135,$C$4:C135,C136)<0,0,SUMIFS($G$5:G136,$C$5:C136,C136)-SUMIFS($I$4:I135,$C$4:C135,C136)))","v":0},null,{"$f":"IF(C136=\"\",0,IF(C136=$C$4,SUMIFS($I$4:I135,$C$4:C135,C135),SUMIFS($I$4:I135,$C$4:C135,C136)))","v":0},0]
[134,null,{"$f":"IFERROR(VLOOKUP(D137,Nomenclature!$B$2:$C$196,2,0),\"\")","v":""},null,null,null,null,{"$f":"IF(C137=\"\",0,IF(SUMIFS($G$5:G137,$C$5:C137,C137)-SUMIFS($I$4:I136,$C$4:C136,C137)<0,0,SUMIFS($G$5:G137,$C$5:C137,C137)-SUMIFS($I$4:I136,$C$4:C136,C137)))","v":0},null,{"$f":"IF(C137=\"\",0,IF(C137=$C$4,SUMIFS($I$4:I136,$C$4:C136,C136),SUMIFS($I$4:I136,$C$4:C136,C137)))","v":0},0]
[135,null,{"$f":"IFERROR(VLOOKUP(D138,Nomenclature!$B$2:$C$196,2,0),\"\")","v":""},null,null,null,null,{"$f":"IF(C138=\"\",0,IF(SUMIFS($G$5:G138,$C$5:C138,C138)-SUMIFS($I$4:I137,$C$4:C137,C138)<0,0,SUMIFS($G$5:G138,$C$5:C138,C138)-SUMIFS($I$4:I137,$C$4:C137,C138)))","v":0},null,{"$f":"IF(C138=\"\",0,IF(C138=$C$4,SUMIFS($I$4:I137,$C$4:C137,C137),SUMIFS($I$4:I137,$C$4:C137,C138)))","v":0},0]
[136,null,{"$f":"IFERROR(VLOOKUP(D139,Nomenclature!$B$2:$C$196,2,0),\"\")","v":""},null,null,null,null,{"$f":"IF(C139=\"\",0,IF(SUMIFS($G$5:G139,$C$5:C139,C139)-SUMIFS($I$4:I138,$C$4:C138,C139)<0,0,SUMIFS($G$5:G139,$C$5:C139,C139)-SUMIFS($I$4:I138,$C$4:C138,C139)))","v":0},null,{"$f":"IF(C139=\"\",0,IF(C139=$C$4,SUMIFS($I$4:I138,$C$4:C138,C138),SUMIFS($I$4:I138,$C$4:C138,C139)))","v":0},0]
[137,null,{"$f":"IFERROR(VLOOKUP(D140,Nomenclature!$B$2:$C$196,2,0),\"\")","v":""},null,null,null,null,{"$f":"IF(C140=\"\",0,IF(SUMIFS($G$5:G140,$C$5:C140,C140)-SUMIFS($I$4:I139,$C$4:C139,C140)<0,0,SUMIFS($G$5:G140,$C$5:C140,C140)-SUMIFS($I$4:I139,$C$4:C139,C140)))","v":0},null,{"$f":"IF(C140=\"\",0,IF(C140=$C$4,SUMIFS($I$4:I139,$C$4:C139,C139),SUMIFS($I$4:I139,$C$4:C139,C140)))","v":0},0]
[138,null,{"$f":"IFERROR(VLOOKUP(D141,Nomenclature!$B$2:$C$196,2,0),\"\")","v":""},null,null,null,null,{"$f":"IF(C141=\"\",0,IF(SUMIFS($G$5:G141,$C$5:C141,C141)-SUMIFS($I$4:I140,$C$4:C140,C141)<0,0,SUMIFS($G$5:G141,$C$5:C141,C141)-SUMIFS($I$4:I140,$C$4:C140,C141)))","v":0},null,{"$f":"IF(C141=\"\",0,IF(C141=$C$4,SUMIFS($I$4:I140,$C$4:C140,C140),SUMIFS($I$4:I140,$C$4:C140,C141)))","v":0},0]
[139,null,{"$f":"IFERROR(VLOOKUP(D142,Nomenclature!$B$2:$C$196,2,0),\"\")","v":""},null,null,null,null,{"$f":"IF(C142=\"\",0,IF(SUMIFS($G$5:G142,$C$5:C142,C142)-SUMIFS($I$4:I141,$C$4:C141,C142)<0,0,SUMIFS($G$5:G142,$C$5:C142,C142)-SUMIFS($I$4:I141,$C$4:C141,C142)))","v":0},null,{"$f":"IF(C142=\"\",0,IF(C142=$C$4,SUMIFS($I$4:I141,$C$4:C141,C141),SUMIFS($I$4:I141,$C$4:C141,C142)))","v":0},0]
[140,null,{"$f":"IFERROR(VLOOKUP(D143,Nomenclature!$B$2:$C$196,2,0),\"\")","v":""},null,null,null,null,{"$f":"IF(C143=\"\",0,IF(SUMIFS($G$5:G143,$C$5:C143,C143)-SUMIFS($I$4:I142,$C$4:C142,C143)<0,0,SUMIFS($G$5:G143,$C$5:C143,C143)-SUMIFS($I$4:I142,$C$4:C142,C143)))","v":0},null,{"$f":"IF(C143=\"\",0,IF(C143=$C$4,SUMIFS($I$4:I142,$C$4:C142,C142),SUMIFS($I$4:I142,$C$4:C142,C143)))","v":0},0]
[141,null,{"$f":"IFERROR(VLOOKUP(D144,Nomenclature!$B$2:$C$196,2,0),\"\")","v":""},null,null,null,null,{"$f":"IF(C144=\"\",0,IF(SUMIFS($G$5:G144,$C$5:C144,C144)-SUMIFS($I$4:I143,$C$4:C143,C144)<0,0,SUMIFS($G$5:G144,$C$5:C144,C144)-SUMIFS($I$4:I143,$C$4:C143,C144)))","v":0},null,{"$f":"IF(C144=\"\",0,IF(C144=$C$4,SUMIFS($I$4:I143,$C$4:C143,C143),SUMIFS($I$4:I143,$C$4:C143,C144)))","v":0},0]
[142,null,{"$f":"IFERROR(VLOOKUP(D145,Nomenclature!$B$2:$C$196,2,0),\"\")","v":""},null,null,null,null,{"$f":"IF(C145=\"\",0,IF(SUMIFS($G$5:G145,$C$5:C145,C145)-SUMIFS($I$4:I144,$C$4:C144,C145)<0,0,SUMIFS($G$5:G145,$C$5:C145,C145)-SUMIFS($I$4:I144,$C$4:C144,C145)))","v":0},null,{"$f":"IF(C145=\"\",0,IF(C145=$C$4,SUMIFS($I$4:I144,$C$4:C144,C144),SUMIFS($I$4:I144,$C$4:C144,C145)))","v":0},0]
[143,null,{"$f":"IFERROR(VLOOKUP(D146,Nomenclature!$B$2:$C$196,2,0),\"\")","v":""},null,null,null,null,{"$f":"IF(C146=\"\",0,IF(SUMIFS($G$5:G146,$C$5:C146,C146)-SUMIFS($I$4:I145,$C$4:C145,C146)<0,0,SUMIFS($G$5:G146,$C$5:C146,C146)-SUMIFS($I$4:I145,$C$4:C145,C146)))","v":0},null,{"$f":"IF(C146=\"\",0,IF(C146=$C$4,SUMIFS($I$4:I145,$C$4:C145,C145),SUMIFS($I$4:I145,$C$4:C145,C146)))","v":0},0]
[144,null,{"$f":"IFERROR(VLOOKUP(D147,Nomenclature!$B$2:$C$196,2,0),\"\")","v":""},null,null,null,null,{"$f":"IF(C147=\"\",0,IF(SUMIFS($G$5:G147,$C$5:C147,C147)-SUMIFS($I$4:I146,$C$4:C146,C147)<0,0,SUMIFS($G$5:G147,$C$5:C147,C147)-SUMIFS($I$4:I146,$C$4:C146,C147)))","v":0},null,{"$f":"IF(C147=\"\",0,IF(C147=$C$4,SUMIFS($I$4:I146,$C$4:C146,C146),SUMIFS($I$4:I146,$C$4:C146,C147)))","v":0},0]
[145,null,{"$f":"IFERROR(VLOOKUP(D148,Nomenclature!$B$2:$C$196,2,0),\"\")","v":""},null,null,null,null,{"$f":"IF(C148=\"\",0,IF(SUMIFS($G$5:G148,$C$5:C148,C148)-SUMIFS($I$4:I147,$C$4:C147,C148)<0,0,SUMIFS($G$5:G148,$C$5:C148,C148)-SUMIFS($I$4:I147,$C$4:C147,C148)))","v":0},null,{"$f":"IF(C148=\"\",0,IF(C148=$C$4,SUMIFS($I$4:I147,$C$4:C147,C147),SUMIFS($I$4:I147,$C$4:C147,C148)))","v":0},0]
[146,null,{"$f":"IFERROR(VLOOKUP(D149,Nomenclature!$B$2:$C$196,2,0),\"\")","v":""},null,null,null,null,{"$f":"IF(C149=\"\",0,IF(SUMIFS($G$5:G149,$C$5:C149,C149)-SUMIFS($I$4:I148,$C$4:C148,C149)<0,0,SUMIFS($G$5:G149,$C$5:C149,C149)-SUMIFS($I$4:I148,$C$4:C148,C149)))","v":0},null,{"$f":"IF(C149=\"\",0,IF(C149=$C$4,SUMIFS($I$4:I148,$C$4:C148,C148),SUMIFS($I$4:I148,$C$4:C148,C149)))","v":0},0]
[147,null,{"$f":"IFERROR(VLOOKUP(D150,Nomenclature!$B$2:$C$196,2,0),\"\")","v":""},null,null,null,null,{"$f":"IF(C150=\"\",0,IF(SUMIFS($G$5:G150,$C$5:C150,C150)-SUMIFS($I$4:I149,$C$4:C149,C150)<0,0,SUMIFS($G$5:G150,$C$5:C150,C150)-SUMIFS($I$4:I149,$C$4:C149,C150)))","v":0},null,{"$f":"IF(C150=\"\",0,IF(C150=$C$4,SUMIFS($I$4:I149,$C$4:C149,C149),SUMIFS($I$4:I149,$C$4:C149,C150)))","v":0},0]
[148,null,{"$f":"IFERROR(VLOOKUP(D151,Nomenclature!$B$2:$C$196,2,0),\"\")","v":""},null,null,null,null,{"$f":"IF(C151=\"\",0,IF(SUMIFS($G$5:G151,$C$5:C151,C151)-SUMIFS($I$4:I150,$C$4:C150,C151)<0,0,SUMIFS($G$5:G151,$C$5:C151,C151)-SUMIFS($I$4:I150,$C$4:C150,C151)))","v":0},null,{"$f":"IF(C151=\"\",0,IF(C151=$C$4,SUMIFS($I$4:I150,$C$4:C150,C150),SUMIFS($I$4:I150,$C$4:C150,C151)))","v":0},0]
[149,null,{"$f":"IFERROR(VLOOKUP(D152,Nomenclature!$B$2:$C$196,2,0),\"\")","v":""},null,null,null,null,{"$f":"IF(C152=\"\",0,IF(SUMIFS($G$5:G152,$C$5:C152,C152)-SUMIFS($I$4:I151,$C$4:C151,C152)<0,0,SUMIFS($G$5:G152,$C$5:C152,C152)-SUMIFS($I$4:I151,$C$4:C151,C152)))","v":0},null,{"$f":"IF(C152=\"\",0,IF(C152=$C$4,SUMIFS($I$4:I151,$C$4:C151,C151),SUMIFS($I$4:I151,$C$4:C151,C152)))","v":0},0]
[150,null,{"$f":"IFERROR(VLOOKUP(D153,Nomenclature!$B$2:$C$196,2,0),\"\")","v":""},null,null,null,null,{"$f":"IF(C153=\"\",0,IF(SUMIFS($G$5:G153,$C$5:C153,C153)-SUMIFS($I$4:I152,$C$4:C152,C153)<0,0,SUMIFS($G$5:G153,$C$5:C153,C153)-SUMIFS($I$4:I152,$C$4:C152,C153)))","v":0},null,{"$f":"IF(C153=\"\",0,IF(C153=$C$4,SUMIFS($I$4:I152,$C$4:C152,C152),SUMIFS($I$4:I152,$C$4:C152,C153)))","v":0},0]
[151,null,{"$f":"IFERROR(VLOOKUP(D154,Nomenclature!$B$2:$C$196,2,0),\"\")","v":""},null,null,null,null,{"$f":"IF(C154=\"\",0,IF(SUMIFS($G$5:G154,$C$5:C154,C154)-SUMIFS($I$4:I153,$C$4:C153,C154)<0,0,SUMIFS($G$5:G154,$C$5:C154,C154)-SUMIFS($I$4:I153,$C$4:C153,C154)))","v":0},null,{"$f":"IF(C154=\"\",0,IF(C154=$C$4,SUMIFS($I$4:I153,$C$4:C153,C153),SUMIFS($I$4:I153,$C$4:C153,C154)))","v":0},0]
[152,null,{"$f":"IFERROR(VLOOKUP(D155,Nomenclature!$B$2:$C$196,2,0),\"\")","v":""},null,null,null,null,{"$f":"IF(C155=\"\",0,IF(SUMIFS($G$5:G155,$C$5:C155,C155)-SUMIFS($I$4:I154,$C$4:C154,C155)<0,0,SUMIFS($G$5:G155,$C$5:C155,C155)-SUMIFS($I$4:I154,$C$4:C154,C155)))","v":0},null,{"$f":"IF(C155=\"\",0,IF(C155=$C$4,SUMIFS($I$4:I154,$C$4:C154,C154),SUMIFS($I$4:I154,$C$4:C154,C155)))","v":0},0]
[153,null,{"$f":"IFERROR(VLOOKUP(D156,Nomenclature!$B$2:$C$196,2,0),\"\")","v":""},null,null,null,null,{"$f":"IF(C156=\"\",0,IF(SUMIFS($G$5:G156,$C$5:C156,C156)-SUMIFS($I$4:I155,$C$4:C155,C156)<0,0,SUMIFS($G$5:G156,$C$5:C156,C156)-SUMIFS($I$4:I155,$C$4:C155,C156)))","v":0},null,{"$f":"IF(C156=\"\",0,IF(C156=$C$4,SUMIFS($I$4:I155,$C$4:C155,C155),SUMIFS($I$4:I155,$C$4:C155,C156)))","v":0},0]
[154,null,{"$f":"IFERROR(VLOOKUP(D157,Nomenclature!$B$2:$C$196,2,0),\"\")","v":""},null,null,null,null,{"$f":"IF(C157=\"\",0,IF(SUMIFS($G$5:G157,$C$5:C157,C157)-SUMIFS($I$4:I156,$C$4:C156,C157)<0,0,SUMIFS($G$5:G157,$C$5:C157,C157)-SUMIFS($I$4:I156,$C$4:C156,C157)))","v":0},null,{"$f":"IF(C157=\"\",0,IF(C157=$C$4,SUMIFS($I$4:I156,$C$4:C156,C156),SUMIFS($I$4:I156,$C$4:C156,C157)))","v":0},0]
[155,null,{"$f":"IFERROR(VLOOKUP(D158,Nomenclature!$B$2:$C$196,2,0),\"\")","v":""},null,null,null,null,{"$f":"IF(C158=\"\",0,IF(SUMIFS($G$5:G158,$C$5:C158,C158)-SUMIFS($I$4:I157,$C$4:C157,C158)<0,0,SUMIFS($G$5:G158,$C$5:C158,C158)-SUMIFS($I$4:I157,$C$4:C157,C158)))","v":0},null,{"$f":"IF(C158=\"\",0,IF(C158=$C$4,SUMIFS($I$4:I157,$C$4:C157,C157),SUMIFS($I$4:I157,$C$4:C157,C158)))","v":0},0]
[156,null,{"$f":"IFERROR(VLOOKUP(D159,Nomenclature!$B$2:$C$196,2,0),\"\")","v":""},null,null,null,null,{"$f":"IF(C159=\"\",0,IF(SUMIFS($G$5:G159,$C$5:C159,C159)-SUMIFS($I$4:I158,$C$4:C158,C159)<0,0,SUMIFS($G$5:G159,$C$5:C159,C159)-SUMIFS($I$4:I158,$C$4:C158,C159)))","v":0},null,{"$f":"IF(C159=\"\",0,IF(C159=$C$4,SUMIFS($I$4:I158,$C$4:C158,C158),SUMIFS($I$4:I158,$C$4:C158,C159)))","v":0},0]
[157,null,{"$f":"IFERROR(VLOOKUP(D160,Nomenclature!$B$2:$C$196,2,0),\"\")","v":""},null,null,null,null,{"$f":"IF(C160=\"\",0,IF(SUMIFS($G$5:G160,$C$5:C160,C160)-SUMIFS($I$4:I159,$C$4:C159,C160)<0,0,SUMIFS($G$5:G160,$C$5:C160,C160)-SUMIFS($I$4:I159,$C$4:C159,C160)))","v":0},null,{"$f":"IF(C160=\"\",0,IF(C160=$C$4,SUMIFS($I$4:I159,$C$4:C159,C159),SUMIFS($I$4:I159,$C$4:C159,C160)))","v":0},0]
[158,null,{"$f":"IFERROR(VLOOKUP(D161,Nomenclature!$B$2:$C$196,2,0),\"\")","v":""},null,null,null,null,{"$f":"IF(C161=\"\",0,IF(SUMIFS($G$5:G161,$C$5:C161,C161)-SUMIFS($I$4:I160,$C$4:C160,C161)<0,0,SUMIFS($G$5:G161,$C$5:C161,C161)-SUMIFS($I$4:I160,$C$4:C160,C161)))","v":0},null,{"$f":"IF(C161=\"\",0,IF(C161=$C$4,SUMIFS($I$4:I160,$C$4:C160,C160),SUMIFS($I$4:I160,$C$4:C160,C161)))","v":0},0]
[159,null,{"$f":"IFERROR(VLOOKUP(D162,Nomenclature!$B$2:$C$196,2,0),\"\")","v":""},null,null,null,null,{"$f":"IF(C162=\"\",0,IF(SUMIFS($G$5:G162,$C$5:C162,C162)-SUMIFS($I$4:I161,$C$4:C161,C162)<0,0,SUMIFS($G$5:G162,$C$5:C162,C162)-SUMIFS($I$4:I161,$C$4:C161,C162)))","v":0},null,{"$f":"IF(C162=\"\",0,IF(C162=$C$4,SUMIFS($I$4:I161,$C$4:C161,C161),SUMIFS($I$4:I161,$C$4:C161,C162)))","v":0},0]
[160,null,{"$f":"IFERROR(VLOOKUP(D163,Nomenclature!$B$2:$C$196,2,0),\"\")","v":""},null,null,null,null,{"$f":"IF(C163=\"\",0,IF(SUMIFS($G$5:G163,$C$5:C163,C163)-SUMIFS($I$4:I162,$C$4:C162,C163)<0,0,SUMIFS($G$5:G163,$C$5:C163,C163)-SUMIFS($I$4:I162,$C$4:C162,C163)))","v":0},null,{"$f":"IF(C163=\"\",0,IF(C163=$C$4,SUMIFS($I$4:I162,$C$4:C162,C162),SUMIFS($I$4:I162,$C$4:C162,C163)))","v":0},0]
[161,null,{"$f":"IFERROR(VLOOKUP(D164,Nomenclature!$B$2:$C$196,2,0),\"\")","v":""},null,null,null,null,{"$f":"IF(C164=\"\",0,IF(SUMIFS($G$5:G164,$C$5:C164,C164)-SUMIFS($I$4:I163,$C$4:C163,C164)<0,0,SUMIFS($G$5:G164,$C$5:C164,C164)-SUMIFS($I$4:I163,$C$4:C163,C164)))","v":0},null,{"$f":"IF(C164=\"\",0,IF(C164=$C$4,SUMIFS($I$4:I163,$C$4:C163,C163),SUMIFS($I$4:I163,$C$4:C163,C164)))","v":0},0]
[162,null,{"$f":"IFERROR(VLOOKUP(D165,Nomenclature!$B$2:$C$196,2,0),\"\")","v":""},null,null,null,null,{"$f":"IF(C165=\"\",0,IF(SUMIFS($G$5:G165,$C$5:C165,C165)-SUMIFS($I$4:I164,$C$4:C164,C165)<0,0,SUMIFS($G$5:G165,$C$5:C165,C165)-SUMIFS($I$4:I164,$C$4:C164,C165)))","v":0},null,{"$f":"IF(C165=\"\",0,IF(C165=$C$4,SUMIFS($I$4:I164,$C$4:C164,C164),SUMIFS($I$4:I164,$C$4:C164,C165)))","v":0},0]
[163,null,{"$f":"IFERROR(VLOOKUP(D166,Nomenclature!$B$2:$C$196,2,0),\"\")","v":""},null,null,null,null,{"$f":"IF(C166=\"\",0,IF(SUMIFS($G$5:G166,$C$5:C166,C166)-SUMIFS($I$4:I165,$C$4:C165,C166)<0,0,SUMIFS($G$5:G166,$C$5:C166,C166)-SUMIFS($I$4:I165,$C$4:C165,C166)))","v":0},null,{"$f":"IF(C166=\"\",0,IF(C166=$C$4,SUMIFS($I$4:I165,$C$4:C165,C165),SUMIFS($I$4:I165,$C$4:C165,C166)))","v":0},0]
[164,null,{"$f":"IFERROR(VLOOKUP(D167,Nomenclature!$B$2:$C$196,2,0),\"\")","v":""},null,null,null,null,{"$f":"IF(C167=\"\",0,IF(SUMIFS($G$5:G167,$C$5:C167,C167)-SUMIFS($I$4:I166,$C$4:C166,C167)<0,0,SUMIFS($G$5:G167,$C$5:C167,C167)-SUMIFS($I$4:I166,$C$4:C166,C167)))","v":0},null,{"$f":"IF(C167=\"\",0,IF(C167=$C$4,SUMIFS($I$4:I166,$C$4:C166,C166),SUMIFS($I$4:I166,$C$4:C166,C167)))","v":0},0]
[165,null,{"$f":"IFERROR(VLOOKUP(D168,Nomenclature!$B$2:$C$196,2,0),\"\")","v":""},null,null,null,null,{"$f":"IF(C168=\"\",0,IF(SUMIFS($G$5:G168,$C$5:C168,C168)-SUMIFS($I$4:I167,$C$4:C167,C168)<0,0,SUMIFS($G$5:G168,$C$5:C168,C168)-SUMIFS($I$4:I167,$C$4:C167,C168)))","v":0},null,{"$f":"IF(C168=\"\",0,IF(C168=$C$4,SUMIFS($I$4:I167,$C$4:C167,C167),SUMIFS($I$4:I167,$C$4:C167,C168)))","v":0},0]
[166,null,{"$f":"IFERROR(VLOOKUP(D169,Nomenclature!$B$2:$C$196,2,0),\"\")","v":""},null,null,null,null,{"$f":"IF(C169=\"\",0,IF(SUMIFS($G$5:G169,$C$5:C169,C169)-SUMIFS($I$4:I168,$C$4:C168,C169)<0,0,SUMIFS($G$5:G169,$C$5:C169,C169)-SUMIFS($I$4:I168,$C$4:C168,C169)))","v":0},null,{"$f":"IF(C169=\"\",0,IF(C169=$C$4,SUMIFS($I$4:I168,$C$4:C168,C168),SUMIFS($I$4:I168,$C$4:C168,C169)))","v":0},0]
[167,null,{"$f":"IFERROR(VLOOKUP(D170,Nomenclature!$B$2:$C$196,2,0),\"\")","v":""},null,null,null,null,{"$f":"IF(C170=\"\",0,IF(SUMIFS($G$5:G170,$C$5:C170,C170)-SUMIFS($I$4:I169,$C$4:C169,C170)<0,0,SUMIFS($G$5:G170,$C$5:C170,C170)-SUMIFS($I$4:I169,$C$4:C169,C170)))","v":0},null,{"$f":"IF(C170=\"\",0,IF(C170=$C$4,SUMIFS($I$4:I169,$C$4:C169,C169),SUMIFS($I$4:I169,$C$4:C169,C170)))","v":0},0]
[168,null,{"$f":"IFERROR(VLOOKUP(D171,Nomenclature!$B$2:$C$196,2,0),\"\")","v":""},null,null,null,null,{"$f":"IF(C171=\"\",0,IF(SUMIFS($G$5:G171,$C$5:C171,C171)-SUMIFS($I$4:I170,$C$4:C170,C171)<0,0,SUMIFS($G$5:G171,$C$5:C171,C171)-SUMIFS($I$4:I170,$C$4:C170,C171)))","v":0},null,{"$f":"IF(C171=\"\",0,IF(C171=$C$4,SUMIFS($I$4:I170,$C$4:C170,C170),SUMIFS($I$4:I170,$C$4:C170,C171)))","v":0},0]
[169,null,{"$f":"IFERROR(VLOOKUP(D172,Nomenclature!$B$2:$C$196,2,0),\"\")","v":""},null,null,null,null,{"$f":"IF(C172=\"\",0,IF(SUMIFS($G$5:G172,$C$5:C172,C172)-SUMIFS($I$4:I171,$C$4:C171,C172)<0,0,SUMIFS($G$5:G172,$C$5:C172,C172)-SUMIFS($I$4:I171,$C$4:C171,C172)))","v":0},null,{"$f":"IF(C172=\"\",0,IF(C172=$C$4,SUMIFS($I$4:I171,$C$4:C171,C171),SUMIFS($I$4:I171,$C$4:C171,C172)))","v":0},0]
[170,null,{"$f":"IFERROR(VLOOKUP(D173,Nomenclature!$B$2:$C$196,2,0),\"\")","v":""},null,null,null,null,{"$f":"IF(C173=\"\",0,IF(SUMIFS($G$5:G173,$C$5:C173,C173)-SUMIFS($I$4:I172,$C$4:C172,C173)<0,0,SUMIFS($G$5:G173,$C$5:C173,C173)-SUMIFS($I$4:I172,$C$4:C172,C173)))","v":0},null,{"$f":"IF(C173=\"\",0,IF(C173=$C$4,SUMIFS($I$4:I172,$C$4:C172,C172),SUMIFS($I$4:I172,$C$4:C172,C173)))","v":0},0]
[171,null,{"$f":"IFERROR(VLOOKUP(D174,Nomenclature!$B$2:$C$196,2,0),\"\")","v":""},null,null,null,null,{"$f":"IF(C174=\"\",0,IF(SUMIFS($G$5:G174,$C$5:C174,C174)-SUMIFS($I$4:I173,$C$4:C173,C174)<0,0,SUMIFS($G$5:G174,$C$5:C174,C174)-SUMIFS($I$4:I173,$C$4:C173,C174)))","v":0},null,{"$f":"IF(C174=\"\",0,IF(C174=$C$4,SUMIFS($I$4:I173,$C$4:C173,C173),SUMIFS($I$4:I173,$C$4:C173,C174)))","v":0},0]
[172,null,{"$f":"IFERROR(VLOOKUP(D175,Nomenclature!$B$2:$C$196,2,0),\"\")","v":""},null,null,null,null,{"$f":"IF(C175=\"\",0,IF(SUMIFS($G$5:G175,$C$5:C175,C175)-SUMIFS($I$4:I174,$C$4:C174,C175)<0,0,SUMIFS($G$5:G175,$C$5:C175,C175)-SUMIFS($I$4:I174,$C$4:C174,C175)))","v":0},null,{"$f":"IF(C175=\"\",0,IF(C175=$C$4,SUMIFS($I$4:I174,$C$4:C174,C174),SUMIFS($I$4:I174,$C$4:C174,C175)))","v":0},0]
[173,null,{"$f":"IFERROR(VLOOKUP(D176,Nomenclature!$B$2:$C$196,2,0),\"\")","v":""},null,null,null,null,{"$f":"IF(C176=\"\",0,IF(SUMIFS($G$5:G176,$C$5:C176,C176)-SUMIFS($I$4:I175,$C$4:C175,C176)<0,0,SUMIFS($G$5:G176,$C$5:C176,C176)-SUMIFS($I$4:I175,$C$4:C175,C176)))","v":0},null,{"$f":"IF(C176=\"\",0,IF(C176=$C$4,SUMIFS($I$4:I175,$C$4:C175,C175),SUMIFS($I$4:I175,$C$4:C175,C176)))","v":0},0]
[174,null,{"$f":"IFERROR(VLOOKUP(D177,Nomenclature!$B$2:$C$196,2,0),\"\")","v":""},null,null,null,null,{"$f":"IF(C177=\"\",0,IF(SUMIFS($G$5:G177,$C$5:C177,C177)-SUMIFS($I$4:I176,$C$4:C176,C177)<0,0,SUMIFS($G$5:G177,$C$5:C177,C177)-SUMIFS($I$4:I176,$C$4:C176,C177)))","v":0},null,{"$f":"IF(C177=\"\",0,IF(C177=$C$4,SUMIFS($I$4:I176,$C$4:C176,C176),SUMIFS($I$4:I176,$C$4:C176,C177)))","v":0},0]
[175,null,{"$f":"IFERROR(VLOOKUP(D178,Nomenclature!$B$2:$C$196,2,0),\"\")","v":""},null,null,null,null,{"$f":"IF(C178=\"\",0,IF(SUMIFS($G$5:G178,$C$5:C178,C178)-SUMIFS($I$4:I177,$C$4:C177,C178)<0,0,SUMIFS($G$5:G178,$C$5:C178,C178)-SUMIFS($I$4:I177,$C$4:C177,C178)))","v":0},null,{"$f":"IF(C178=\"\",0,IF(C178=$C$4,SUMIFS($I$4:I177,$C$4:C177,C177),SUMIFS($I$4:I177,$C$4:C177,C178)))","v":0},0]
[176,null,{"$f":"IFERROR(VLOOKUP(D179,Nomenclature!$B$2:$C$196,2,0),\"\")","v":""},null,null,null,null,{"$f":"IF(C179=\"\",0,IF(SUMIFS($G$5:G179,$C$5:C179,C179)-SUMIFS($I$4:I178,$C$4:C178,C179)<0,0,SUMIFS($G$5:G179,$C$5:C179,C179)-SUMIFS($I$4:I178,$C$4:C178,C179)))","v":0},null,{"$f":"IF(C179=\"\",0,IF(C179=$C$4,SUMIFS($I$4:I178,$C$4:C178,C178),SUMIFS($I$4:I178,$C$4:C178,C179)))","v":0},0]
[177,null,{"$f":"IFERROR(VLOOKUP(D180,Nomenclature!$B$2:$C$196,2,0),\"\")","v":""},null,null,null,null,{"$f":"IF(C180=\"\",0,IF(SUMIFS($G$5:G180,$C$5:C180,C180)-SUMIFS($I$4:I179,$C$4:C179,C180)<0,0,SUMIFS($G$5:G180,$C$5:C180,C180)-SUMIFS($I$4:I179,$C$4:C179,C180)))","v":0},null,{"$f":"IF(C180=\"\",0,IF(C180=$C$4,SUMIFS($I$4:I179,$C$4:C179,C179),SUMIFS($I$4:I179,$C$4:C179,C180)))","v":0},0]
[178,null,{"$f":"IFERROR(VLOOKUP(D181,Nomenclature!$B$2:$C$196,2,0),\"\")","v":""},null,null,null,null,{"$f":"IF(C181=\"\",0,IF(SUMIFS($G$5:G181,$C$5:C181,C181)-SUMIFS($I$4:I180,$C$4:C180,C181)<0,0,SUMIFS($G$5:G181,$C$5:C181,C181)-SUMIFS($I$4:I180,$C$4:C180,C181)))","v":0},null,{"$f":"IF(C181=\"\",0,IF(C181=$C$4,SUMIFS($I$4:I180,$C$4:C180,C180),SUMIFS($I$4:I180,$C$4:C180,C181)))","v":0},0]
[179,null,{"$f":"IFERROR(VLOOKUP(D182,Nomenclature!$B$2:$C$196,2,0),\"\")","v":""},null,null,null,null,{"$f":"IF(C182=\"\",0,IF(SUMIFS($G$5:G182,$C$5:C182,C182)-SUMIFS($I$4:I181,$C$4:C181,C182)<0,0,SUMIFS($G$5:G182,$C$5:C182,C182)-SUMIFS($I$4:I181,$C$4:C181,C182)))","v":0},null,{"$f":"IF(C182=\"\",0,IF(C182=$C$4,SUMIFS($I$4:I181,$C$4:C181,C181),SUMIFS($I$4:I181,$C$4:C181,C182)))","v":0},0]
[180,null,{"$f":"IFERROR(VLOOKUP(D183,Nomenclature!$B$2:$C$196,2,0),\"\")","v":""},null,null,null,null,{"$f":"IF(C183=\"\",0,IF(SUMIFS($G$5:G183,$C$5:C183,C183)-SUMIFS($I$4:I182,$C$4:C182,C183)<0,0,SUMIFS($G$5:G183,$C$5:C183,C183)-SUMIFS($I$4:I182,$C$4:C182,C183)))","v":0},null,{"$f":"IF(C183=\"\",0,IF(C183=$C$4,SUMIFS($I$4:I182,$C$4:C182,C182),SUMIFS($I$4:I182,$C$4:C182,C183)))","v":0},0]
[181,null,{"$f":"IFERROR(VLOOKUP(D184,Nomenclature!$B$2:$C$196,2,0),\"\")","v":""},null,null,null,null,{"$f":"IF(C184=\"\",0,IF(SUMIFS($G$5:G184,$C$5:C184,C184)-SUMIFS($I$4:I183,$C$4:C183,C184)<0,0,SUMIFS($G$5:G184,$C$5:C184,C184)-SUMIFS($I$4:I183,$C$4:C183,C184)))","v":0},null,{"$f":"IF(C184=\"\",0,IF(C184=$C$4,SUMIFS($I$4:I183,$C$4:C183,C183),SUMIFS($I$4:I183,$C$4:C183,C184)))","v":0},0]
[182,null,{"$f":"IFERROR(VLOOKUP(D185,Nomenclature!$B$2:$C$196,2,0),\"\")","v":""},null,null,null,null,{"$f":"IF(C185=\"\",0,IF(SUMIFS($G$5:G185,$C$5:C185,C185)-SUMIFS($I$4:I184,$C$4:C184,C185)<0,0,SUMIFS($G$5:G185,$C$5:C185,C185)-SUMIFS($I$4:I184,$C$4:C184,C185)))","v":0},null,{"$f":"IF(C185=\"\",0,IF(C185=$C$4,SUMIFS($I$4:I184,$C$4:C184,C184),SUMIFS($I$4:I184,$C$4:C184,C185)))","v":0},0]
[183,null,{"$f":"IFERROR(VLOOKUP(D186,Nomenclature!$B$2:$C$196,2,0),\"\")","v":""},null,null,null,null,{"$f":"IF(C186=\"\",0,IF(SUMIFS($G$5:G186,$C$5:C186,C186)-SUMIFS($I$4:I185,$C$4:C185,C186)<0,0,SUMIFS($G$5:G186,$C$5:C186,C186)-SUMIFS($I$4:I185,$C$4:C185,C186)))","v":0},null,{"$f":"IF(C186=\"\",0,IF(C186=$C$4,SUMIFS($I$4:I185,$C$4:C185,C185),SUMIFS($I$4:I185,$C$4:C185,C186)))","v":0},0]
[184,null,{"$f":"IFERROR(VLOOKUP(D187,Nomenclature!$B$2:$C$196,2,0),\"\")","v":""},null,null,null,null,{"$f":"IF(C187=\"\",0,IF(SUMIFS($G$5:G187,$C$5:C187,C187)-SUMIFS($I$4:I186,$C$4:C186,C187)<0,0,SUMIFS($G$5:G187,$C$5:C187,C187)-SUMIFS($I$4:I186,$C$4:C186,C187)))","v":0},null,{"$f":"IF(C187=\"\",0,IF(C187=$C$4,SUMIFS($I$4:I186,$C$4:C186,C186),SUMIFS($I$4:I186,$C$4:C186,C187)))","v":0},0]
[185,null,{"$f":"IFERROR(VLOOKUP(D188,Nomenclature!$B$2:$C$196,2,0),\"\")","v":""},null,null,null,null,{"$f":"IF(C188=\"\",0,IF(SUMIFS($G$5:G188,$C$5:C188,C188)-SUMIFS($I$4:I187,$C$4:C187,C188)<0,0,SUMIFS($G$5:G188,$C$5:C188,C188)-SUMIFS($I$4:I187,$C$4:C187,C188)))","v":0},null,{"$f":"IF(C188=\"\",0,IF(C188=$C$4,SUMIFS($I$4:I187,$C$4:C187,C187),SUMIFS($I$4:I187,$C$4:C187,C188)))","v":0},0]
[186,null,{"$f":"IFERROR(VLOOKUP(D189,Nomenclature!$B$2:$C$196,2,0),\"\")","v":""},null,null,null,null,{"$f":"IF(C189=\"\",0,IF(SUMIFS($G$5:G189,$C$5:C189,C189)-SUMIFS($I$4:I188,$C$4:C188,C189)<0,0,SUMIFS($G$5:G189,$C$5:C189,C189)-SUMIFS($I$4:I188,$C$4:C188,C189)))","v":0},null,{"$f":"IF(C189=\"\",0,IF(C189=$C$4,SUMIFS($I$4:I188,$C$4:C188,C188),SUMIFS($I$4:I188,$C$4:C188,C189)))","v":0},0]
[187,null,{"$f":"IFERROR(VLOOKUP(D190,Nomenclature!$B$2:$C$196,2,0),\"\")","v":""},null,null,null,null,{"$f":"IF(C190=\"\",0,IF(SUMIFS($G$5:G190,$C$5:C190,C190)-SUMIFS($I$4:I189,$C$4:C189,C190)<0,0,SUMIFS($G$5:G190,$C$5:C190,C190)-SUMIFS($I$4:I189,$C$4:C189,C190)))","v":0},null,{"$f":"IF(C190=\"\",0,IF(C190=$C$4,SUMIFS($I$4:I189,$C$4:C189,C189),SUMIFS($I$4:I189,$C$4:C189,C190)))","v":0},0]
[188,null,{"$f":"IFERROR(VLOOKUP(D191,Nomenclature!$B$2:$C$196,2,0),\"\")","v":""},null,null,null,null,{"$f":"IF(C191=\"\",0,IF(SUMIFS($G$5:G191,$C$5:C191,C191)-SUMIFS($I$4:I190,$C$4:C190,C191)<0,0,SUMIFS($G$5:G191,$C$5:C191,C191)-SUMIFS($I$4:I190,$C$4:C190,C191)))","v":0},null,{"$f":"IF(C191=\"\",0,IF(C191=$C$4,SUMIFS($I$4:I190,$C$4:C190,C190),SUMIFS($I$4:I190,$C$4:C190,C191)))","v":0},0]
[189,null,{"$f":"IFERROR(VLOOKUP(D192,Nomenclature!$B$2:$C$196,2,0),\"\")","v":""},null,null,null,null,{"$f":"IF(C192=\"\",0,IF(SUMIFS($G$5:G192,$C$5:C192,C192)-SUMIFS($I$4:I191,$C$4:C191,C192)<0,0,SUMIFS($G$5:G192,$C$5:C192,C192)-SUMIFS($I$4:I191,$C$4:C191,C192)))","v":0},null,{"$f":"IF(C192=\"\",0,IF(C192=$C$4,SUMIFS($I$4:I191,$C$4:C191,C191),SUMIFS($I$4:I191,$C$4:C191,C192)))","v":0},0]
[190,null,{"$f":"IFERROR(VLOOKUP(D193,Nomenclature!$B$2:$C$196,2,0),\"\")","v":""},null,null,null,null,{"$f":"IF(C193=\"\",0,IF(SUMIFS($G$5:G193,$C$5:C193,C193)-SUMIFS($I$4:I192,$C$4:C192,C193)<0,0,SUMIFS($G$5:G193,$C$5:C193,C193)-SUMIFS($I$4:I192,$C$4:C192,C193)))","v":0},null,{"$f":"IF(C193=\"\",0,IF(C193=$C$4,SUMIFS($I$4:I192,$C$4:C192,C192),SUMIFS($I$4:I192,$C$4:C192,C193)))","v":0},0]
[191,null,{"$f":"IFERROR(VLOOKUP(D194,Nomenclature!$B$2:$C$196,2,0),\"\")","v":""},null,null,null,null,{"$f":"IF(C194=\"\",0,IF(SUMIFS($G$5:G194,$C$5:C194,C194)-SUMIFS($I$4:I193,$C$4:C193,C194)<0,0,SUMIFS($G$5:G194,$C$5:C194,C194)-SUMIFS($I$4:I193,$C$4:C193,C194)))","v":0},null,{"$f":"IF(C194=\"\",0,IF(C194=$C$4,SUMIFS($I$4:I193,$C$4:C193,C193),SUMIFS($I$4:I193,$C$4:C193,C194)))","v":0},0]
[192,null,{"$f":"IFERROR(VLOOKUP(D195,Nomenclature!$B$2:$C$196,2,0),\"\")","v":""},null,null,null,null,{"$f":"IF(C195=\"\",0,IF(SUMIFS($G$5:G195,$C$5:C195,C195)-SUMIFS($I$4:I194,$C$4:C194,C195)<0,0,SUMIFS($G$5:G195,$C$5:C195,C195)-SUMIFS($I$4:I194,$C$4:C194,C195)))","v":0},null,{"$f":"IF(C195=\"\",0,IF(C195=$C$4,SUMIFS($I$4:I194,$C$4:C194,C194),SUMIFS($I$4:I194,$C$4:C194,C195)))","v":0},0]
[193,null,{"$f":"IFERROR(VLOOKUP(D196,Nomenclature!$B$2:$C$196,2,0),\"\")","v":""},null,null,null,null,{"$f":"IF(C196=\"\",0,IF(SUMIFS($G$5:G196,$C$5:C196,C196)-SUMIFS($I$4:I195,$C$4:C195,C196)<0,0,SUMIFS($G$5:G196,$C$5:C196,C196)-SUMIFS($I$4:I195,$C$4:C195,C196)))","v":0},null,{"$f":"IF(C196=\"\",0,IF(C196=$C$4,SUMIFS($I$4:I195,$C$4:C195,C195),SUMIFS($I$4:I195,$C$4:C195,C196)))","v":0},{"$f":"IF(C196=\"\",0,H196-I196)","v":0}]
[194,null,{"$f":"IFERROR(VLOOKUP(D197,Nomenclature!$B$2:$C$196,2,0),\"\")","v":""},null,null,null,null,{"$f":"IF(C197=\"\",0,IF(SUMIFS($G$5:G197,$C$5:C197,C197)-SUMIFS($I$4:I196,$C$4:C196,C197)<0,0,SUMIFS($G$5:G197,$C$5:C197,C197)-SUMIFS($I$4:I196,$C$4:C196,C197)))","v":0},null,{"$f":"IF(C197=\"\",0,IF(C197=$C$4,SUMIFS($I$4:I196,$C$4:C196,C196),SUMIFS($I$4:I196,$C$4:C196,C197)))","v":0},0]
[195,null,{"$f":"IFERROR(VLOOKUP(D198,Nomenclature!$B$2:$C$196,2,0),\"\")","v":""},null,null,null,null,{"$f":"IF(C198=\"\",0,IF(SUMIFS($G$5:G198,$C$5:C198,C198)-SUMIFS($I$4:I197,$C$4:C197,C198)<0,0,SUMIFS($G$5:G198,$C$5:C198,C198)-SUMIFS($I$4:I197,$C$4:C197,C198)))","v":0},null,{"$f":"IF(C198=\"\",0,IF(C198=$C$4,SUMIFS($I$4:I197,$C$4:C197,C197),SUMIFS($I$4:I197,$C$4:C197,C198)))","v":0},0]
[196,null,{"$f":"IFERROR(VLOOKUP(D199,Nomenclature!$B$2:$C$196,2,0),\"\")","v":""},null,null,null,null,{"$f":"IF(C199=\"\",0,IF(SUMIFS($G$5:G199,$C$5:C199,C199)-SUMIFS($I$4:I198,$C$4:C198,C199)<0,0,SUMIFS($G$5:G199,$C$5:C199,C199)-SUMIFS($I$4:I198,$C$4:C198,C199)))","v":0},null,{"$f":"IF(C199=\"\",0,IF(C199=$C$4,SUMIFS($I$4:I198,$C$4:C198,C198),SUMIFS($I$4:I198,$C$4:C198,C199)))","v":0},0]
[197,null,{"$f":"IFERROR(VLOOKUP(D200,Nomenclature!$B$2:$C$196,2,0),\"\")","v":""},null,null,null,null,{"$f":"IF(C200=\"\",0,IF(SUMIFS($G$5:G200,$C$5:C200,C200)-SUMIFS($I$4:I199,$C$4:C199,C200)<0,0,SUMIFS($G$5:G200,$C$5:C200,C200)-SUMIFS($I$4:I199,$C$4:C199,C200)))","v":0},null,{"$f":"IF(C200=\"\",0,IF(C200=$C$4,SUMIFS($I$4:I199,$C$4:C199,C199),SUMIFS($I$4:I199,$C$4:C199,C200)))","v":0},0]
[198,null,{"$f":"IFERROR(VLOOKUP(D201,Nomenclature!$B$2:$C$196,2,0),\"\")","v":""},null,null,null,null,{"$f":"IF(C201=\"\",0,IF(SUMIFS($G$5:G201,$C$5:C201,C201)-SUMIFS($I$4:I200,$C$4:C200,C201)<0,0,SUMIFS($G$5:G201,$C$5:C201,C201)-SUMIFS($I$4:I200,$C$4:C200,C201)))","v":0},null,{"$f":"IF(C201=\"\",0,IF(C201=$C$4,SUMIFS($I$4:I200,$C$4:C200,C200),SUMIFS($I$4:I200,$C$4:C200,C201)))","v":0},0]
[199,null,{"$f":"IFERROR(VLOOKUP(D202,Nomenclature!$B$2:$C$196,2,0),\"\")","v":""},null,null,null,null,{"$f":"IF(C202=\"\",0,IF(SUMIFS($G$5:G202,$C$5:C202,C202)-SUMIFS($I$4:I201,$C$4:C201,C202)<0,0,SUMIFS($G$5:G202,$C$5:C202,C202)-SUMIFS($I$4:I201,$C$4:C201,C202)))","v":0},null,{"$f":"IF(C202=\"\",0,IF(C202=$C$4,SUMIFS($I$4:I201,$C$4:C201,C201),SUMIFS($I$4:I201,$C$4:C201,C202)))","v":0},0]
[200,null,{"$f":"IFERROR(VLOOKUP(D203,Nomenclature!$B$2:$C$196,2,0),\"\")","v":""},null,null,null,null,{"$f":"IF(C203=\"\",0,IF(SUMIFS($G$5:G203,$C$5:C203,C203)-SUMIFS($I$4:I202,$C$4:C202,C203)<0,0,SUMIFS($G$5:G203,$C$5:C203,C203)-SUMIFS($I$4:I202,$C$4:C202,C203)))","v":0},null,{"$f":"IF(C203=\"\",0,IF(C203=$C$4,SUMIFS($I$4:I202,$C$4:C202,C202),SUMIFS($I$4:I202,$C$4:C202,C203)))","v":0},0]

{"sheet":"29000","index":15,"n_rows":203,"n_cols":44,"rows_kept":203,"cut":false,"hidden":false,"merged":[[50,23,50,24],[44,14,45,18],[44,22,45,26],[44,29,44,30],[46,14,47,18],[46,22,47,26],[47,29,47,30],[50,15,50,16],[33,14,33,17],[34,14,37,41],[39,14,39,17],[39,18,40,41],[42,14,42,27],[42,28,42,41],[28,38,29,41],[30,14,31,17],[30,18,31,21],[30,22,31,25],[30,26,31,29],[30,30,31,33],[30,34,31,37],[30,38,31,41],[28,14,29,17],[28,18,29,21],[28,22,29,25],[28,26,29,29],[28,30,29,33],[28,34,29,37],[19,14,19,15],[26,38,27,41],[20,22,20,32],[21,18,21,21],[21,22,21,32],[22,18,22,21],[22,22,22,32],[23,17,25,41],[20,18,20,21],[26,14,27,21],[26,22,27,25],[26,26,27,29],[26,30,27,33],[26,34,27,37],[15,19,15,20],[16,14,16,18],[16,19,16,20],[14,14,14,18],[14,19,14,27],[0,13,2,15],[3,14,3,41],[3,42,58,42],[4,14,4,18],[4,19,4,27],[5,14,5,18],[5,19,5,27],[6,14,6,18],[6,19,6,27],[10,15,11,19],[10,20,11,23],[10,31,11,32],[10,33,11,38],[13,14,13,18],[13,19,13,20],[15,14,15,18],[0,11,2,11],[0,0,2,0],[0,1,2,1],[0,2,2,2],[0,3,2,3],[0,4,2,4],[0,5,1,5],[0,6,1,6],[0,7,2,7],[0,8,1,8],[0,9,2,9],[0,10,1,10]]}
["رقم\nالاستمارة","التاريخ","الترميز","الصنف / الصنف الفرعي","ملاحظات المصلحة","AP Cat",{"$f":"IF(SUM(G4:G203)-SUM(F4:F203)<0,\"نقص في توزيع الاعتمادات على الاصناف الفرعية\",\nIF(SUM(G4:G203)-SUM(F4:F203)>0,\"تجاوز في الاعتمادات الموزعة على الاصناف الفرعية\",\"AP S.Cat\"))","v":"AP S.Cat"},"AP Sous_Cat",{"$f":"IF(I3>G3,\"تجاوز في الالتزامات\",\"∑ Engagements\")","v":"∑ Engagements"},"∑ Eng Sous_Cat","Reste","السند القانوني للعنوان الرابع",null,1]
[]
[null,null,null,null,null,{"$f":"SUM(F4:F203)","v":0},{"$f":"SUM(G4:G203)","v":0},null,{"$f":"SUM(I5:I203)","v":0},null,{"$f":"SUM(K4:K104)","v":0}]
[1,"2023-03-13",{"$f":"IFERROR(VLOOKUP(D4,Nomenclature!$B$2:$C$196,2,0),\"\")","v":29000},"خدمات التمهين و التكوين","تكفل برخصة الالتزام المفتوحة لسنة 2023.",null,null,{"$f":"IF(C4=\"\",0,IF(SUMIFS($G4:G$5,$C4:C$5,C4)-SUMIFS($I3:I$4,$C3:C$4,C4)<0,0,SUMIFS($G4:G$5,$C4:C$5,C4)-SUMIFS($I3:I$4,$C3:C$4,C4)))","v":0},null,{"$f":"IF(I4=0,0,IF(C4=\"\",0,SUMIFS($I4:I$4,$C4:C$4,C4)))","v":0},{"$f":"IF(C4=\"\",0,H4-I4)","v":0},null,null,null,"الجمهورية الجزائرية الديمقراطية الشعبية"]
[2,"2023-04-01",{"$f":"IFERROR(VLOOKUP(D5,Nomenclature!$B$2:$C$196,2,0),\"\")","v":""},null,null,null,null,{"$f":"IF(C5=\"\",0,IF(SUMIFS($G$5:G5,$C$5:C5,C5)-SUMIFS($I$4:I4,$C$4:C4,C5)<0,0,SUMIFS($G$5:G5,$C$5:C5,C5)-SUMIFS($I$4:I4,$C$4:C4,C5)))","v":0},null,{"$f":"IF(C5=\"\",0,IF(C5=$C$4,SUMIFS($I$4:I4,$C$4:C4,C4),SUMIFS($I$4:I4,$C$4:C4,C5)))","v":0},0,null,null,null,"الـوزارة:",null,null,null,null,{"$f":"الواجهة!C2","v":"وزارة البيئة و الطاقات المتجددة"}]
[3,null,{"$f":"IFERROR(VLOOKUP(D6,Nomenclature!$B$2:$C$196,2,0),\"\")","v":""},null,null,null,null,{"$f":"IF(C6=\"\",0,IF(SUMIFS($G$5:G6,$C$5:C6,C6)-SUMIFS($I$4:I5,$C$4:C5,C6)<0,0,SUMIFS($G$5:G6,$C$5:C6,C6)-SUMIFS($I$4:I5,$C$4:C5,C6)))","v":0},null,{"$f":"IF(C6=\"\",0,IF(C6=$C$4,SUMIFS($I$4:I5,$C$4:C5,C5),SUMIFS($I$4:I5,$C$4:C5,C6)))","v":0},0,null,null,null,"الهيئة الإدارية:",null,null,null,null,{"$f":"الواجهة!C3","v":"مديرية البيئة لولاية المسيلة"}]
[4,null,{"$f":"IFERROR(VLOOKUP(D7,Nomenclature!$B$2:$C$196,2,0),\"\")","v":""},null,null,null,null,{"$f":"IF(C7=\"\",0,IF(SUMIFS($G$5:G7,$C$5:C7,C7)-SUMIFS($I$4:I6,$C$4:C6,C7)<0,0,SUMIFS($G$5:G7,$C$5:C7,C7)-SUMIFS($I$4:I6,$C$4:C6,C7)))","v":0},null,{"$f":"IF(C7=\"\",0,IF(C7=$C$4,SUMIFS($I$4:I6,$C$4:C6,C6),SUMIFS($I$4:I6,$C$4:C6,C7)))","v":0},0,null,null,null,"رمز الآمر بالصرف:",null,null,null,null,{"$f":"الواجهة!C4","v":"144 0 28 01"}]
[5,null,{"$f":"IFERROR(VLOOKUP(D8,Nomenclature!$B$2:$C$196,2,0),\"\")","v":""},null,null,null,null,{"$f":"IF(C8=\"\",0,IF(SUMIFS($G$5:G8,$C$5:C8,C8)-SUMIFS($I$4:I7,$C$4:C7,C8)<0,0,SUMIFS($G$5:G8,$C$5:C8,C8)-SUMIFS($I$4:I7,$C$4:C7,C8)))","v":0},null,{"$f":"IF(C8=\"\",0,IF(C8=$C$4,SUMIFS($I$4:I7,$C$4:C7,C7),SUMIFS($I$4:I7,$C$4:C7,C8)))","v":0},0,null,null,null,null,null,null,null,null,null,null,null,null,null,null,null,null,null,null,null,null,null,null,"."]
[6,null,{"$f":"IFERROR(VLOOKUP(D9,Nomenclature!$B$2:$C$196,2,0),\"\")","v":""},null,null,null,null,{"$f":"IF(C9=\"\",0,IF(SUMIFS($G$5:G9,$C$5:C9,C9)-SUMIFS($I$4:I8,$C$4:C8,C9)<0,0,SUMIFS($G$5:G9,$C$5:C9,C9)-SUMIFS($I$4:I8,$C$4:C8,C9)))","v":0},null,{"$f":"IF(C9=\"\",0,IF(C9=$C$4,SUMIFS($I$4:I8,$C$4:C8,C8),SUMIFS($I$4:I8,$C$4:C8,C9)))","v":0},0]
[7,null,{"$f":"IFERROR(VLOOKUP(D10,Nomenclature!$B$2:$C$196,2,0),\"\")","v":""},null,null,null,null,{"$f":"IF(C10=\"\",0,IF(SUMIFS($G$5:G10,$C$5:C10,C10)-SUMIFS($I$4:I9,$C$4:C9,C10)<0,0,SUMIFS($G$5:G10,$C$5:C10,C10)-SUMIFS($I$4:I9,$C$4:C9,C10)))","v":0},null,{"$f":"IF(C10=\"\",0,IF(C10=$C$4,SUMIFS($I$4:I9,$C$4:C9,C9),SUMIFS($I$4:I9,$C$4:C9,C10)))","v":0},0]
[8,null,{"$f":"IFERROR(VLOOKUP(D11,Nomenclature!$B$2:$C$196,2,0),\"\")","v":""},null,null,null,null,{"$f":"IF(C11=\"\",0,IF(SUMIFS($G$5:G11,$C$5:C11,C11)-SUMIFS($I$4:I10,$C$4:C10,C11)<0,0,SUMIFS($G$5:G11,$C$5:C11,C11)-SUMIFS($I$4:I10,$C$4:C10,C11)))","v":0},null,{"$f":"IF(C11=\"\",0,IF(C11=$C$4,SUMIFS($I$4:I10,$C$4:C10,C10),SUMIFS($I$4:I10,$C$4:C10,C11)))","v":0},0,null,null,null,null,"رقم بطاقة الالتزام:",null,null,null,null,{"$f":"IFERROR(VLOOKUP(N1,A4:L203,1,0),0)","v":1},null,null,null,null,null,null,null,null,null,null,"التاريخ:",null,{"$f":"IF(IFERROR(VLOOKUP(N1,A4:L203,2,0),0)=0,\"\",IFERROR(VLOOKUP(N1,A4:L203,2,0),0))","v":"2023-03-13"}]
[9,null,{"$f":"IFERROR(VLOOKUP(D12,Nomenclature!$B$2:$C$196,2,0),\"\")","v":""},null,null,null,null,{"$f":"IF(C12=\"\",0,IF(SUMIFS($G$5:G12,$C$5:C12,C12)-SUMIFS($I$4:I11,$C$4:C11,C12)<0,0,SUMIFS($G$5:G12,$C$5:C12,C12)-SUMIFS($I$4:I11,$C$4:C11,C12)))","v":0},null,{"$f":"IF(C12=\"\",0,IF(C12=$C$4,SUMIFS($I$4:I11,$C$4:C11,C11),SUMIFS($I$4:I11,$C$4:C11,C12)))","v":0},0]
[10,null,{"$f":"IFERROR(VLOOKUP(D13,Nomenclature!$B$2:$C$196,2,0),\"\")","v":""},null,null,null,null,{"$f":"IF(C13=\"\",0,IF(SUMIFS($G$5:G13,$C$5:C13,C13)-SUMIFS($I$4:I12,$C$4:C12,C13)<0,0,SUMIFS($G$5:G13,$C$5:C13,C13)-SUMIFS($I$4:I12,$C$4:C12,C13)))","v":0},null,{"$f":"IF(C13=\"\",0,IF(C13=$C$4,SUMIFS($I$4:I12,$C$4:C12,C12),SUMIFS($I$4:I12,$C$4:C12,C13)))","v":0},0]
[11,null,{"$f":"IFERROR(VLOOKUP(D14,Nomenclature!$B$2:$C$196,2,0),\"\")","v":""},null,null,null,null,{"$f":"IF(C14=\"\",0,IF(SUMIFS($G$5:G14,$C$5:C14,C14)-SUMIFS($I$4:I13,$C$4:C13,C14)<0,0,SUMIFS($G$5:G14,$C$5:C14,C14)-SUMIFS($I$4:I13,$C$4:C13,C14)))","v":0},null,{"$f":"IF(C14=\"\",0,IF(C14=$C$4,SUMIFS($I$4:I13,$C$4:C13,C13),SUMIFS($I$4:I13,$C$4:C13,C14)))","v":0},0,null,null,null,"رمز البرنــامج:",null,null,null,null,{"$f":"الواجهة!C7","v":"116"}]
[12,null,{"$f":"IFERROR(VLOOKUP(D15,Nomenclature!$B$2:$C$196,2,0),\"\")","v":""},null,null,null,null,{"$f":"IF(C15=\"\",0,IF(SUMIFS($G$5:G15,$C$5:C15,C15)-SUMIFS($I$4:I14,$C$4:C14,C15)<0,0,SUMIFS($G$5:G15,$C$5:C15,C15)-SUMIFS($I$4:I14,$C$4:C14,C15)))","v":0},null,{"$f":"IF(C15=\"\",0,IF(C15=$C$4,SUMIFS($I$4:I14,$C$4:C14,C14),SUMIFS($I$4:I14,$C$4:C14,C15)))","v":0},0,null,null,null,"رمز النشــاط:",null,null,null,null,{"$f":"الواجهة!C6&\" \"&الواجهة!C7&\" \"&الواجهة!C10&\" \"&الواجهة!C8&\" \"&الواجهة!C9&\" \"&الواجهة!C11","v":"030 116 02 2001 000 028"}]
[13,null,{"$f":"IFERROR(VLOOKUP(D16,Nomenclature!$B$2:$C$196,2,0),\"\")","v":""},null,null,null,null,{"$f":"IF(C16=\"\",0,IF(SUMIFS($G$5:G16,$C$5:C16,C16)-SUMIFS($I$4:I15,$C$4:C15,C16)<0,0,SUMIFS($G$5:G16,$C$5:C16,C16)-SUMIFS($I$4:I15,$C$4:C15,C16)))","v":0},null,{"$f":"IF(C16=\"\",0,IF(C16=$C$4,SUMIFS($I$4:I15,$C$4:C15,C15),SUMIFS($I$4:I15,$C$4:C15,C16)))","v":0},0,null,null,null,"رمز النشــاط الفرعي:",null,null,null,null,{"$f":"الواجهة!C9","v":"000"}]
[14,null,{"$f":"IFERROR(VLOOKUP(D17,Nomenclature!$B$2:$C$196,2,0),\"\")","v":""},null,null,null,null,{"$f":"IF(C17=\"\",0,IF(SUMIFS($G$5:G17,$C$5:C17,C17)-SUMIFS($I$4:I16,$C$4:C16,C17)<0,0,SUMIFS($G$5:G17,$C$5:C17,C17)-SUMIFS($I$4:I16,$C$4:C16,C17)))","v":0},null,{"$f":"IF(C17=\"\",0,IF(C17=$C$4,SUMIFS($I$4:I16,$C$4:C16,C16),SUMIFS($I$4:I16,$C$4:C16,C17)))","v":0},0,null,null,null,"رمز البرنـامج الفرعي:",null,null,null,null,{"$f":"الواجهة!C10","v":"02"}]
[15,null,{"$f":"IFERROR(VLOOKUP(D18,Nomenclature!$B$2:$C$196,2,0),\"\")","v":""},null,null,null,null,{"$f":"IF(C18=\"\",0,IF(SUMIFS($G$5:G18,$C$5:C18,C18)-SUMIFS($I$4:I17,$C$4:C17,C18)<0,0,SUMIFS($G$5:G18,$C$5:C18,C18)-SUMIFS($I$4:I17,$C$4:C17,C18)))","v":0},null,{"$f":"IF(C18=\"\",0,IF(C18=$C$4,SUMIFS($I$4:I17,$C$4:C17,C17),SUMIFS($I$4:I17,$C$4:C17,C18)))","v":0},0,null,null,null,null,null,null,null,null,null,null,null,null,null,null,null,null,null,null,null,null,null,null,null,null,null,null,null,null,null,null,null,null,"\n\n\n"]
[16,null,{"$f":"IFERROR(VLOOKUP(D19,Nomenclature!$B$2:$C$196,2,0),\"\")","v":""},null,null,null,null,{"$f":"IF(C19=\"\",0,IF(SUMIFS($G$5:G19,$C$5:C19,C19)-SUMIFS($I$4:I18,$C$4:C18,C19)<0,0,SUMIFS($G$5:G19,$C$5:C19,C19)-SUMIFS($I$4:I18,$C$4:C18,C19)))","v":0},null,{"$f":"IF(C19=\"\",0,IF(C19=$C$4,SUMIFS($I$4:I18,$C$4:C18,C18),SUMIFS($I$4:I18,$C$4:C18,C19)))","v":0},0]
[17,null,{"$f":"IFERROR(VLOOKUP(D20,Nomenclature!$B$2:$C$196,2,0),\"\")","v":""},null,null,null,null,{"$f":"IF(C20=\"\",0,IF(SUMIFS($G$5:G20,$C$5:C20,C20)-SUMIFS($I$4:I19,$C$4:C19,C20)<0,0,SUMIFS($G$5:G20,$C$5:C20,C20)-SUMIFS($I$4:I19,$C$4:C19,C20)))","v":0},null,{"$f":"IF(C20=\"\",0,IF(C20=$C$4,SUMIFS($I$4:I19,$C$4:C19,C19),SUMIFS($I$4:I19,$C$4:C19,C20)))","v":0},0,null,null,null,"العنوان:"]
[18,null,{"$f":"IFERROR(VLOOKUP(D21,Nomenclature!$B$2:$C$196,2,0),\"\")","v":""},null,null,null,null,{"$f":"IF(C21=\"\",0,IF(SUMIFS($G$5:G21,$C$5:C21,C21)-SUMIFS($I$4:I20,$C$4:C20,C21)<0,0,SUMIFS($G$5:G21,$C$5:C21,C21)-SUMIFS($I$4:I20,$C$4:C20,C21)))","v":0},null,{"$f":"IF(C21=\"\",0,IF(C21=$C$4,SUMIFS($I$4:I20,$C$4:C20,C20),SUMIFS($I$4:I20,$C$4:C20,C21)))","v":0},0,null,null,null,null,null,{"$f":"IF(C4<20000,\"X\",\"\")","v":""},null,"العنوان الأول:",null,null,null,"نفقات المستخدمين"]
[19,null,{"$f":"IFERROR(VLOOKUP(D22,Nomenclature!$B$2:$C$196,2,0),\"\")","v":""},null,null,null,null,{"$f":"IF(C22=\"\",0,IF(SUMIFS($G$5:G22,$C$5:C22,C22)-SUMIFS($I$4:I21,$C$4:C21,C22)<0,0,SUMIFS($G$5:G22,$C$5:C22,C22)-SUMIFS($I$4:I21,$C$4:C21,C22)))","v":0},null,{"$f":"IF(C22=\"\",0,IF(C22=$C$4,SUMIFS($I$4:I21,$C$4:C21,C21),SUMIFS($I$4:I21,$C$4:C21,C22)))","v":0},0,null,null,null,null,null,{"$f":"IF(AND(C4>19999,C4<40000),\"X\",\"\")","v":"X"},null,"العنوان الثاني:",null,null,null,"نفقات تسيير المصالح"]
[20,null,{"$f":"IFERROR(VLOOKUP(D23,Nomenclature!$B$2:$C$196,2,0),\"\")","v":""},null,null,null,null,{"$f":"IF(C23=\"\",0,IF(SUMIFS($G$5:G23,$C$5:C23,C23)-SUMIFS($I$4:I22,$C$4:C22,C23)<0,0,SUMIFS($G$5:G23,$C$5:C23,C23)-SUMIFS($I$4:I22,$C$4:C22,C23)))","v":0},null,{"$f":"IF(C23=\"\",0,IF(C23=$C$4,SUMIFS($I$4:I22,$C$4:C22,C22),SUMIFS($I$4:I22,$C$4:C22,C23)))","v":0},0,null,null,null,null,null,{"$f":"IF(AND(Q21=\"\",Q22=\"\"),\"X\",\"\")","v":""},null,"العنوان الرابع:",null,null,null,"نفقات التحويل"]
[21,null,{"$f":"IFERROR(VLOOKUP(D24,Nomenclature!$B$2:$C$196,2,0),\"\")","v":""},null,null,null,null,{"$f":"IF(C24=\"\",0,IF(SUMIFS($G$5:G24,$C$5:C24,C24)-SUMIFS($I$4:I23,$C$4:C23,C24)<0,0,SUMIFS($G$5:G24,$C$5:C24,C24)-SUMIFS($I$4:I23,$C$4:C23,C24)))","v":0},null,{"$f":"IF(C24=\"\",0,IF(C24=$C$4,SUMIFS($I$4:I23,$C$4:C23,C23),SUMIFS($I$4:I23,$C$4:C23,C24)))","v":0},0,null,null,null,null,null,null,{"$f":"IF(VLOOKUP(N1,A4:L203,12,0)=\"\",\"- - - - - - - - - - - - - - - - - - - - - - - - - - - - - - - - - - - - - - - - - - - - - - - / / / - - - - - - - - - - - - - - - - - - - - - - - - - - - - - - - - - - - - - - - - - - - - - - -\"& CHAR(10)&\"- - - - - - - - - - - - - - - - - - - - - - - - - - - - - - - - - - - - - - - - - - - - - - - / / / - - - - - - - - - - - - - - - - - - - - - - - - - - - - - - - - - - - - - - - - - - - - - - -\",VLOOKUP(N1,A4:L203,12,0))","v":"- - - - - - - - - - - - - - - - - - - - - - - - - - - - - - - - - - - - - - - - - - - - - - - / / / - - - - - - - - - - - - - - - - - - - - - - - - - - - - - - - - - - - - - - - - - - - - - - -\n- - - - - - - - - - - - - - - - - - - - - - - - - - - - - - - - - - - - - - - - - - - - - - - / / / - - - - - - - - - - - - - - - - - - - - - - - - - - - - - - - - - - - - - - - - - - - - - - -"}]
[22,null,{"$f":"IFERROR(VLOOKUP(D25,Nomenclature!$B$2:$C$196,2,0),\"\")","v":""},null,null,null,null,{"$f":"IF(C25=\"\",0,IF(SUMIFS($G$5:G25,$C$5:C25,C25)-SUMIFS($I$4:I24,$C$4:C24,C25)<0,0,SUMIFS($G$5:G25,$C$5:C25,C25)-SUMIFS($I$4:I24,$C$4:C24,C25)))","v":0},null,{"$f":"IF(C25=\"\",0,IF(C25=$C$4,SUMIFS($I$4:I24,$C$4:C24,C24),SUMIFS($I$4:I24,$C$4:C24,C25)))","v":0},0]
[23,null,{"$f":"IFERROR(VLOOKUP(D26,Nomenclature!$B$2:$C$196,2,0),\"\")","v":""},null,null,null,null,{"$f":"IF(C26=\"\",0,IF(SUMIFS($G$5:G26,$C$5:C26,C26)-SUMIFS($I$4:I25,$C$4:C25,C26)<0,0,SUMIFS($G$5:G26,$C$5:C26,C26)-SUMIFS($I$4:I25,$C$4:C25,C26)))","v":0},null,{"$f":"IF(C26=\"\",0,IF(C26=$C$4,SUMIFS($I$4:I25,$C$4:C25,C25),SUMIFS($I$4:I25,$C$4:C25,C26)))","v":0},0]
[24,null,{"$f":"IFERROR(VLOOKUP(D27,Nomenclature!$B$2:$C$196,2,0),\"\")","v":""},null,null,null,null,{"$f":"IF(C27=\"\",0,IF(SUMIFS($G$5:G27,$C$5:C27,C27)-SUMIFS($I$4:I26,$C$4:C26,C27)<0,0,SUMIFS($G$5:G27,$C$5:C27,C27)-SUMIFS($I$4:I26,$C$4:C26,C27)))","v":0},null,{"$f":"IF(C27=\"\",0,IF(C27=$C$4,SUMIFS($I$4:I26,$C$4:C26,C26),SUMIFS($I$4:I26,$C$4:C26,C27)))","v":0},0,null,null,null,"الصنف / الصنف الفرعي",null,null,null,null,null,null,null,"رخصة الالتزام\nالمفتوحة/المعدلة",null,null,null,"مجموع الالتزامات السابقة",null,null,null,"الرصيد\nالأولي",null,null,null,"الالتزام\nالمقترح",null,null,null,"الرصيد المتبقى"]
[25,null,{"$f":"IFERROR(VLOOKUP(D28,Nomenclature!$B$2:$C$196,2,0),\"\")","v":""},null,null,null,null,{"$f":"IF(C28=\"\",0,IF(SUMIFS($G$5:G28,$C$5:C28,C28)-SUMIFS($I$4:I27,$C$4:C27,C28)<0,0,SUMIFS($G$5:G28,$C$5:C28,C28)-SUMIFS($I$4:I27,$C$4:C27,C28)))","v":0},null,{"$f":"IF(C28=\"\",0,IF(C28=$C$4,SUMIFS($I$4:I27,$C$4:C27,C27),SUMIFS($I$4:I27,$C$4:C27,C28)))","v":0},0]
[26,null,{"$f":"IFERROR(VLOOKUP(D29,Nomenclature!$B$2:$C$196,2,0),\"\")","v":""},null,null,null,null,{"$f":"IF(C29=\"\",0,IF(SUMIFS($G$5:G29,$C$5:C29,C29)-SUMIFS($I$4:I28,$C$4:C28,C29)<0,0,SUMIFS($G$5:G29,$C$5:C29,C29)-SUMIFS($I$4:I28,$C$4:C28,C29)))","v":0},null,{"$f":"IF(C29=\"\",0,IF(C29=$C$4,SUMIFS($I$4:I28,$C$4:C28,C28),SUMIFS($I$4:I28,$C$4:C28,C29)))","v":0},0,null,null,null,"الصنف",null,null,null,{"$f":"C4","v":29000},null,null,null,{"$f":"SUM($F$4:INDIRECT(\"f\"&N1+3))","v":0},null,null,null,{"$f":"SUM($I$4:INDIRECT(\"i\"&N1+2))","v":0},null,null,null,{"$f":"W29-AA29","v":0},null,null,null,{"$f":"IF(S31=\"\",0,VLOOKUP(N1,A4:L103,9,0))","v":0},null,null,null,{"$f":"IF((AE29-AI29)<0,\"رصيد غير كاف\",AE29-AI29)","v":0}]
[27,null,{"$f":"IFERROR(VLOOKUP(D30,Nomenclature!$B$2:$C$196,2,0),\"\")","v":""},null,null,null,null,{"$f":"IF(C30=\"\",0,IF(SUMIFS($G$5:G30,$C$5:C30,C30)-SUMIFS($I$4:I29,$C$4:C29,C30)<0,0,SUMIFS($G$5:G30,$C$5:C30,C30)-SUMIFS($I$4:I29,$C$4:C29,C30)))","v":0},null,{"$f":"IF(C30=\"\",0,IF(C30=$C$4,SUMIFS($I$4:I29,$C$4:C29,C29),SUMIFS($I$4:I29,$C$4:C29,C30)))","v":0},0]
[28,null,{"$f":"IFERROR(VLOOKUP(D31,Nomenclature!$B$2:$C$196,2,0),\"\")","v":""},null,null,null,null,{"$f":"IF(C31=\"\",0,IF(SUMIFS($G$5:G31,$C$5:C31,C31)-SUMIFS($I$4:I30,$C$4:C30,C31)<0,0,SUMIFS($G$5:G31,$C$5:C31,C31)-SUMIFS($I$4:I30,$C$4:C30,C31)))","v":0},null,{"$f":"IF(C31=\"\",0,IF(C31=$C$4,SUMIFS($I$4:I30,$C$4:C30,C30),SUMIFS($I$4:I30,$C$4:C30,C31)))","v":0},0,null,null,null,"الصنف الفرعي",null,null,null,{"$f":"IF(IFERROR(VLOOKUP(N1,A4:L103,3,0),\"انتبه خطأ\")=S29,\"\",IFERROR(VLOOKUP(N1,A4:L103,3,0),\"انتبه خطأ\"))","v":""},null,null,null,{"$f":"IF(S31=\"\",\"\",VLOOKUP(N1,A4:L103,8,0))","v":""},null,null,null,{"$f":"IF(S31=\"\",\"\",VLOOKUP(N1,A4:L103,10,0))","v":""},null,null,null,{"$f":"IF(S31=\"\",\"\",W31-AA31)","v":""},null,null,null,{"$f":"IF(S31=\"\",\"\",VLOOKUP(N1,A4:L103,9,0))","v":""},null,null,null,{"$f":"IF(S31=\"\",\"\",IF((AE31-AI31)<0,\"رصيد غير كاف\",AE31-AI31))","v":""}]
[29,null,{"$f":"IFERROR(VLOOKUP(D32,Nomenclature!$B$2:$C$196,2,0),\"\")","v":""},null,null,null,null,{"$f":"IF(C32=\"\",0,IF(SUMIFS($G$5:G32,$C$5:C32,C32)-SUMIFS($I$4:I31,$C$4:C31,C32)<0,0,SUMIFS($G$5:G32,$C$5:C32,C32)-SUMIFS($I$4:I31,$C$4:C31,C32)))","v":0},null,{"$f":"IF(C32=\"\",0,IF(C32=$C$4,SUMIFS($I$4:I31,$C$4:C31,C31),SUMIFS($I$4:I31,$C$4:C31,C32)))","v":0},0]
[30,null,{"$f":"IFERROR(VLOOKUP(D33,Nomenclature!$B$2:$C$196,2,0),\"\")","v":""},null,null,null,null,{"$f":"IF(C33=\"\",0,IF(SUMIFS($G$5:G33,$C$5:C33,C33)-SUMIFS($I$4:I32,$C$4:C32,C33)<0,0,SUMIFS($G$5:G33,$C$5:C33,C33)-SUMIFS($I$4:I32,$C$4:C32,C33)))","v":0},null,{"$f":"IF(C33=\"\",0,IF(C33=$C$4,SUMIFS($I$4:I32,$C$4:C32,C32),SUMIFS($I$4:I32,$C$4:C32,C33)))","v":0},0]
[31,null,{"$f":"IFERROR(VLOOKUP(D34,Nomenclature!$B$2:$C$196,2,0),\"\")","v":""},null,null,null,null,{"$f":"IF(C34=\"\",0,IF(SUMIFS($G$5:G34,$C$5:C34,C34)-SUMIFS($I$4:I33,$C$4:C33,C34)<0,0,SUMIFS($G$5:G34,$C$5:C34,C34)-SUMIFS($I$4:I33,$C$4:C33,C34)))","v":0},null,{"$f":"IF(C34=\"\",0,IF(C34=$C$4,SUMIFS($I$4:I33,$C$4:C33,C33),SUMIFS($I$4:I33,$C$4:C33,C34)))","v":0},0,null,null,null,"موضوع الالتزام:"]
[32,null,{"$f":"IFERROR(VLOOKUP(D35,Nomenclature!$B$2:$C$196,2,0),\"\")","v":""},null,null,null,null,{"$f":"IF(C35=\"\",0,IF(SUMIFS($G$5:G35,$C$5:C35,C35)-SUMIFS($I$4:I34,$C$4:C34,C35)<0,0,SUMIFS($G$5:G35,$C$5:C35,C35)-SUMIFS($I$4:I34,$C$4:C34,C35)))","v":0},null,{"$f":"IF(C35=\"\",0,IF(C35=$C$4,SUMIFS($I$4:I34,$C$4:C34,C34),SUMIFS($I$4:I34,$C$4:C34,C35)))","v":0},0,null,null,null,{"$f":"IF(VLOOKUP(N1,A4:L203,5,0)=0,\"\",IFERROR(VLOOKUP(N1,A4:L203,5,0),\"انتبه خطأ\"))","v":"تكفل برخصة الالتزام المفتوحة لسنة 2023."}]
[33,null,{"$f":"IFERROR(VLOOKUP(D36,Nomenclature!$B$2:$C$196,2,0),\"\")","v":""},null,null,null,null,{"$f":"IF(C36=\"\",0,IF(SUMIFS($G$5:G36,$C$5:C36,C36)-SUMIFS($I$4:I35,$C$4:C35,C36)<0,0,SUMIFS($G$5:G36,$C$5:C36,C36)-SUMIFS($I$4:I35,$C$4:C35,C36)))","v":0},null,{"$f":"IF(C36=\"\",0,IF(C36=$C$4,SUMIFS($I$4:I35,$C$4:C35,C35),SUMIFS($I$4:I35,$C$4:C35,C36)))","v":0},0]
[34,null,{"$f":"IFERROR(VLOOKUP(D37,Nomenclature!$B$2:$C$196,2,0),\"\")","v":""},null,null,null,null,{"$f":"IF(C37=\"\",0,IF(SUMIFS($G$5:G37,$C$5:C37,C37)-SUMIFS($I$4:I36,$C$4:C36,C37)<0,0,SUMIFS($G$5:G37,$C$5:C37,C37)-SUMIFS($I$4:I36,$C$4:C36,C37)))","v":0},null,{"$f":"IF(C37=\"\",0,IF(C37=$C$4,SUMIFS($I$4:I36,$C$4:C36,C36),SUMIFS($I$4:I36,$C$4:C36,C37)))","v":0},0]
[35,null,{"$f":"IFERROR(VLOOKUP(D38,Nomenclature!$B$2:$C$196,2,0),\"\")","v":""},null,null,null,null,{"$f":"IF(C38=\"\",0,IF(SUMIFS($G$5:G38,$C$5:C38,C38)-SUMIFS($I$4:I37,$C$4:C37,C38)<0,0,SUMIFS($G$5:G38,$C$5:C38,C38)-SUMIFS($I$4:I37,$C$4:C37,C38)))","v":0},null,{"$f":"IF(C38=\"\",0,IF(C38=$C$4,SUMIFS($I$4:I37,$C$4:C37,C37),SUMIFS($I$4:I37,$C$4:C37,C38)))","v":0},0]
[36,null,{"$f":"IFERROR(VLOOKUP(D39,Nomenclature!$B$2:$C$196,2,0),\"\")","v":""},null,null,null,null,{"$f":"IF(C39=\"\",0,IF(SUMIFS($G$5:G39,$C$5:C39,C39)-SUMIFS($I$4:I38,$C$4:C38,C39)<0,0,SUMIFS($G$5:G39,$C$5:C39,C39)-SUMIFS($I$4:I38,$C$4:C38,C39)))","v":0},null,{"$f":"IF(C39=\"\",0,IF(C39=$C$4,SUMIFS($I$4:I38,$C$4:C38,C38),SUMIFS($I$4:I38,$C$4:C38,C39)))","v":0},0]
[37,null,{"$f":"IFERROR(VLOOKUP(D40,Nomenclature!$B$2:$C$196,2,0),\"\")","v":""},null,null,null,null,{"$f":"IF(C40=\"\",0,IF(SUMIFS($G$5:G40,$C$5:C40,C40)-SUMIFS($I$4:I39,$C$4:C39,C40)<0,0,SUMIFS($G$5:G40,$C$5:C40,C40)-SUMIFS($I$4:I39,$C$4:C39,C40)))","v":0},null,{"$f":"IF(C40=\"\",0,IF(C40=$C$4,SUMIFS($I$4:I39,$C$4:C39,C39),SUMIFS($I$4:I39,$C$4:C39,C40)))","v":0},0,null,null,null,"المبلغ بالحروف:",null,null,null,{"$f":"IFERROR(arretera(AI31),\"\")","v":""}]
[38,null,{"$f":"IFERROR(VLOOKUP(D41,Nomenclature!$B$2:$C$196,2,0),\"\")","v":""},null,null,null,null,{"$f":"IF(C41=\"\",0,IF(SUMIFS($G$5:G41,$C$5:C41,C41)-SUMIFS($I$4:I40,$C$4:C40,C41)<0,0,SUMIFS($G$5:G41,$C$5:C41,C41)-SUMIFS($I$4:I40,$C$4:C40,C41)))","v":0},null,{"$f":"IF(C41=\"\",0,IF(C41=$C$4,SUMIFS($I$4:I40,$C$4:C40,C40),SUMIFS($I$4:I40,$C$4:C40,C41)))","v":0},0]
[39,null,{"$f":"IFERROR(VLOOKUP(D42,Nomenclature!$B$2:$C$196,2,0),\"\")","v":""},null,null,null,null,{"$f":"IF(C42=\"\",0,IF(SUMIFS($G$5:G42,$C$5:C42,C42)-SUMIFS($I$4:I41,$C$4:C41,C42)<0,0,SUMIFS($G$5:G42,$C$5:C42,C42)-SUMIFS($I$4:I41,$C$4:C41,C42)))","v":0},null,{"$f":"IF(C42=\"\",0,IF(C42=$C$4,SUMIFS($I$4:I41,$C$4:C41,C41),SUMIFS($I$4:I41,$C$4:C41,C42)))","v":0},0]
[40,null,{"$f":"IFERROR(VLOOKUP(D43,Nomenclature!$B$2:$C$196,2,0),\"\")","v":""},null,null,null,null,{"$f":"IF(C43=\"\",0,IF(SUMIFS($G$5:G43,$C$5:C43,C43)-SUMIFS($I$4:I42,$C$4:C42,C43)<0,0,SUMIFS($G$5:G43,$C$5:C43,C43)-SUMIFS($I$4:I42,$C$4:C42,C43)))","v":0},null,{"$f":"IF(C43=\"\",0,IF(C43=$C$4,SUMIFS($I$4:I42,$C$4:C42,C42),SUMIFS($I$4:I42,$C$4:C42,C43)))","v":0},0,null,null,null,"إطار مخصص للمراقب الميزانياتي",null,null,null,null,null,null,null,null,null,null,null,null,null,"إطار مخصص للآمر بالصرف"]
[41,null,{"$f":"IFERROR(VLOOKUP(D44,Nomenclature!$B$2:$C$196,2,0),\"\")","v":""},null,null,null,null,{"$f":"IF(C44=\"\",0,IF(SUMIFS($G$5:G44,$C$5:C44,C44)-SUMIFS($I$4:I43,$C$4:C43,C44)<0,0,SUMIFS($G$5:G44,$C$5:C44,C44)-SUMIFS($I$4:I43,$C$4:C43,C44)))","v":0},null,{"$f":"IF(C44=\"\",0,IF(C44=$C$4,SUMIFS($I$4:I43,$C$4:C43,C43),SUMIFS($I$4:I43,$C$4:C43,C44)))","v":0},0]
[42,null,{"$f":"IFERROR(VLOOKUP(D45,Nomenclature!$B$2:$C$196,2,0),\"\")","v":""},null,null,null,null,{"$f":"IF(C45=\"\",0,IF(SUMIFS($G$5:G45,$C$5:C45,C45)-SUMIFS($I$4:I44,$C$4:C44,C45)<0,0,SUMIFS($G$5:G45,$C$5:C45,C45)-SUMIFS($I$4:I44,$C$4:C44,C45)))","v":0},null,{"$f":"IF(C45=\"\",0,IF(C45=$C$4,SUMIFS($I$4:I44,$C$4:C44,C44),SUMIFS($I$4:I44,$C$4:C44,C45)))","v":0},0,null,null,null,"رقم التأشيرة:",null,null,null,null,null,null,null,null,null,null,null,null,null,null,"ختم"]
[43,null,{"$f":"IFERROR(VLOOKUP(D46,Nomenclature!$B$2:$C$196,2,0),\"\")","v":""},null,null,null,null,{"$f":"IF(C46=\"\",0,IF(SUMIFS($G$5:G46,$C$5:C46,C46)-SUMIFS($I$4:I45,$C$4:C45,C46)<0,0,SUMIFS($G$5:G46,$C$5:C46,C46)-SUMIFS($I$4:I45,$C$4:C45,C46)))","v":0},null,{"$f":"IF(C46=\"\",0,IF(C46=$C$4,SUMIFS($I$4:I45,$C$4:C45,C45),SUMIFS($I$4:I45,$C$4:C45,C46)))","v":0},0]
[44,null,{"$f":"IFERROR(VLOOKUP(D47,Nomenclature!$B$2:$C$196,2,0),\"\")","v":""},null,null,null,null,{"$f":"IF(C47=\"\",0,IF(SUMIFS($G$5:G47,$C$5:C47,C47)-SUMIFS($I$4:I46,$C$4:C46,C47)<0,0,SUMIFS($G$5:G47,$C$5:C47,C47)-SUMIFS($I$4:I46,$C$4:C46,C47)))","v":0},null,{"$f":"IF(C47=\"\",0,IF(C47=$C$4,SUMIFS($I$4:I46,$C$4:C46,C46),SUMIFS($I$4:I46,$C$4:C46,C47)))","v":0},0,null,null,null,"تاريخ التأشيرة:"]
[45,null,{"$f":"IFERROR(VLOOKUP(D48,Nomenclature!$B$2:$C$196,2,0),\"\")","v":""},null,null,null,null,{"$f":"IF(C48=\"\",0,IF(SUMIFS($G$5:G48,$C$5:C48,C48)-SUMIFS($I$4:I47,$C$4:C47,C48)<0,0,SUMIFS($G$5:G48,$C$5:C48,C48)-SUMIFS($I$4:I47,$C$4:C47,C48)))","v":0},null,{"$f":"IF(C48=\"\",0,IF(C48=$C$4,SUMIFS($I$4:I47,$C$4:C47,C47),SUMIFS($I$4:I47,$C$4:C47,C48)))","v":0},0,null,null,null,null,null,null,null,null,null,null,null,null,null,null,null,null,null,null,"امضاء"]
[46,null,{"$f":"IFERROR(VLOOKUP(D49,Nomenclature!$B$2:$C$196,2,0),\"\")","v":""},null,null,null,null,{"$f":"IF(C49=\"\",0,IF(SUMIFS($G$5:G49,$C$5:C49,C49)-SUMIFS($I$4:I48,$C$4:C48,C49)<0,0,SUMIFS($G$5:G49,$C$5:C49,C49)-SUMIFS($I$4:I48,$C$4:C48,C49)))","v":0},null,{"$f":"IF(C49=\"\",0,IF(C49=$C$4,SUMIFS($I$4:I48,$C$4:C48,C48),SUMIFS($I$4:I48,$C$4:C48,C49)))","v":0},0]
[47,null,{"$f":"IFERROR(VLOOKUP(D50,Nomenclature!$B$2:$C$196,2,0),\"\")","v":""},null,null,null,null,{"$f":"IF(C50=\"\",0,IF(SUMIFS($G$5:G50,$C$5:C50,C50)-SUMIFS($I$4:I49,$C$4:C49,C50)<0,0,SUMIFS($G$5:G50,$C$5:C50,C50)-SUMIFS($I$4:I49,$C$4:C49,C50)))","v":0},null,{"$f":"IF(C50=\"\",0,IF(C50=$C$4,SUMIFS($I$4:I49,$C$4:C49,C49),SUMIFS($I$4:I49,$C$4:C49,C50)))","v":0},0]
[48,null,{"$f":"IFERROR(VLOOKUP(D51,Nomenclature!$B$2:$C$196,2,0),\"\")","v":""},null,null,null,null,{"$f":"IF(C51=\"\",0,IF(SUMIFS($G$5:G51,$C$5:C51,C51)-SUMIFS($I$4:I50,$C$4:C50,C51)<0,0,SUMIFS($G$5:G51,$C$5:C51,C51)-SUMIFS($I$4:I50,$C$4:C50,C51)))","v":0},null,{"$f":"IF(C51=\"\",0,IF(C51=$C$4,SUMIFS($I$4:I50,$C$4:C50,C50),SUMIFS($I$4:I50,$C$4:C50,C51)))","v":0},0,null,null,null,null,{"$f":"AD48","v":"امضاء"},null,null,null,null,null,null,null,{"$f":"AD45","v":"ختم"}]
[49,null,{"$f":"IFERROR(VLOOKUP(D52,Nomenclature!$B$2:$C$196,2,0),\"\")","v":""},null,null,null,null,{"$f":"IF(C52=\"\",0,IF(SUMIFS($G$5:G52,$C$5:C52,C52)-SUMIFS($I$4:I51,$C$4:C51,C52)<0,0,SUMIFS($G$5:G52,$C$5:C52,C52)-SUMIFS($I$4:I51,$C$4:C51,C52)))","v":0},null,{"$f":"IF(C52=\"\",0,IF(C52=$C$4,SUMIFS($I$4:I51,$C$4:C51,C51),SUMIFS($I$4:I51,$C$4:C51,C52)))","v":0},0]
[50,null,{"$f":"IFERROR(VLOOKUP(D53,Nomenclature!$B$2:$C$196,2,0),\"\")","v":""},null,null,null,null,{"$f":"IF(C53=\"\",0,IF(SUMIFS($G$5:G53,$C$5:C53,C53)-SUMIFS($I$4:I52,$C$4:C52,C53)<0,0,SUMIFS($G$5:G53,$C$5:C53,C53)-SUMIFS($I$4:I52,$C$4:C52,C53)))","v":0},null,{"$f":"IF(C53=\"\",0,IF(C53=$C$4,SUMIFS($I$4:I52,$C$4:C52,C52),SUMIFS($I$4:I52,$C$4:C52,C53)))","v":0},0]
[51,null,{"$f":"IFERROR(VLOOKUP(D54,Nomenclature!$B$2:$C$196,2,0),\"\")","v":""},null,null,null,null,{"$f":"IF(C54=\"\",0,IF(SUMIFS($G$5:G54,$C$5:C54,C54)-SUMIFS($I$4:I53,$C$4:C53,C54)<0,0,SUMIFS($G$5:G54,$C$5:C54,C54)-SUMIFS($I$4:I53,$C$4:C53,C54)))","v":0},null,{"$f":"IF(C54=\"\",0,IF(C54=$C$4,SUMIFS($I$4:I53,$C$4:C53,C53),SUMIFS($I$4:I53,$C$4:C53,C54)))","v":0},0]
[52,null,{"$f":"IFERROR(VLOOKUP(D55,Nomenclature!$B$2:$C$196,2,0),\"\")","v":""},null,null,null,null,{"$f":"IF(C55=\"\",0,IF(SUMIFS($G$5:G55,$C$5:C55,C55)-SUMIFS($I$4:I54,$C$4:C54,C55)<0,0,SUMIFS($G$5:G55,$C$5:C55,C55)-SUMIFS($I$4:I54,$C$4:C54,C55)))","v":0},null,{"$f":"IF(C55=\"\",0,IF(C55=$C$4,SUMIFS($I$4:I54,$C$4:C54,C54),SUMIFS($I$4:I54,$C$4:C54,C55)))","v":0},0]
[53,null,{"$f":"IFERROR(VLOOKUP(D56,Nomenclature!$B$2:$C$196,2,0),\"\")","v":""},null,null,null,null,{"$f":"IF(C56=\"\",0,IF(SUMIFS($G$5:G56,$C$5:C56,C56)-SUMIFS($I$4:I55,$C$4:C55,C56)<0,0,SUMIFS($G$5:G56,$C$5:C56,C56)-SUMIFS($I$4:I55,$C$4:C55,C56)))","v":0},null,{"$f":"IF(C56=\"\",0,IF(C56=$C$4,SUMIFS($I$4:I55,$C$4:C55,C55),SUMIFS($I$4:I55,$C$4:C55,C56)))","v":0},0]
[54,null,{"$f":"IFERROR(VLOOKUP(D57,Nomenclature!$B$2:$C$196,2,0),\"\")","v":""},null,null,null,null,{"$f":"IF(C57=\"\",0,IF(SUMIFS($G$5:G57,$C$5:C57,C57)-SUMIFS($I$4:I56,$C$4:C56,C57)<0,0,SUMIFS($G$5:G57,$C$5:C57,C57)-SUMIFS($I$4:I56,$C$4:C56,C57)))","v":0},null,{"$f":"IF(C57=\"\",0,IF(C57=$C$4,SUMIFS($I$4:I56,$C$4:C56,C56),SUMIFS($I$4:I56,$C$4:C56,C57)))","v":0},0]
[55,null,{"$f":"IFERROR(VLOOKUP(D58,Nomenclature!$B$2:$C$196,2,0),\"\")","v":""},null,null,null,null,{"$f":"IF(C58=\"\",0,IF(SUMIFS($G$5:G58,$C$5:C58,C58)-SUMIFS($I$4:I57,$C$4:C57,C58)<0,0,SUMIFS($G$5:G58,$C$5:C58,C58)-SUMIFS($I$4:I57,$C$4:C57,C58)))","v":0},null,{"$f":"IF(C58=\"\",0,IF(C58=$C$4,SUMIFS($I$4:I57,$C$4:C57,C57),SUMIFS($I$4:I57,$C$4:C57,C58)))","v":0},0]
[56,null,{"$f":"IFERROR(VLOOKUP(D59,Nomenclature!$B$2:$C$196,2,0),\"\")","v":""},null,null,null,null,{"$f":"IF(C59=\"\",0,IF(SUMIFS($G$5:G59,$C$5:C59,C59)-SUMIFS($I$4:I58,$C$4:C58,C59)<0,0,SUMIFS($G$5:G59,$C$5:C59,C59)-SUMIFS($I$4:I58,$C$4:C58,C59)))","v":0},null,{"$f":"IF(C59=\"\",0,IF(C59=$C$4,SUMIFS($I$4:I58,$C$4:C58,C58),SUMIFS($I$4:I58,$C$4:C58,C59)))","v":0},0]
[57,null,{"$f":"IFERROR(VLOOKUP(D60,Nomenclature!$B$2:$C$196,2,0),\"\")","v":""},null,null,null,null,{"$f":"IF(C60=\"\",0,IF(SUMIFS($G$5:G60,$C$5:C60,C60)-SUMIFS($I$4:I59,$C$4:C59,C60)<0,0,SUMIFS($G$5:G60,$C$5:C60,C60)-SUMIFS($I$4:I59,$C$4:C59,C60)))","v":0},null,{"$f":"IF(C60=\"\",0,IF(C60=$C$4,SUMIFS($I$4:I59,$C$4:C59,C59),SUMIFS($I$4:I59,$C$4:C59,C60)))","v":0},0]
[58,null,{"$f":"IFERROR(VLOOKUP(D61,Nomenclature!$B$2:$C$196,2,0),\"\")","v":""},null,null,null,null,{"$f":"IF(C61=\"\",0,IF(SUMIFS($G$5:G61,$C$5:C61,C61)-SUMIFS($I$4:I60,$C$4:C60,C61)<0,0,SUMIFS($G$5:G61,$C$5:C61,C61)-SUMIFS($I$4:I60,$C$4:C60,C61)))","v":0},null,{"$f":"IF(C61=\"\",0,IF(C61=$C$4,SUMIFS($I$4:I60,$C$4:C60,C60),SUMIFS($I$4:I60,$C$4:C60,C61)))","v":0},0]
[59,null,{"$f":"IFERROR(VLOOKUP(D62,Nomenclature!$B$2:$C$196,2,0),\"\")","v":""},null,null,null,null,{"$f":"IF(C62=\"\",0,IF(SUMIFS($G$5:G62,$C$5:C62,C62)-SUMIFS($I$4:I61,$C$4:C61,C62)<0,0,SUMIFS($G$5:G62,$C$5:C62,C62)-SUMIFS($I$4:I61,$C$4:C61,C62)))","v":0},null,{"$f":"IF(C62=\"\",0,IF(C62=$C$4,SUMIFS($I$4:I61,$C$4:C61,C61),SUMIFS($I$4:I61,$C$4:C61,C62)))","v":0},0]
[60,null,{"$f":"IFERROR(VLOOKUP(D63,Nomenclature!$B$2:$C$196,2,0),\"\")","v":""},null,null,null,null,{"$f":"IF(C63=\"\",0,IF(SUMIFS($G$5:G63,$C$5:C63,C63)-SUMIFS($I$4:I62,$C$4:C62,C63)<0,0,SUMIFS($G$5:G63,$C$5:C63,C63)-SUMIFS($I$4:I62,$C$4:C62,C63)))","v":0},null,{"$f":"IF(C63=\"\",0,IF(C63=$C$4,SUMIFS($I$4:I62,$C$4:C62,C62),SUMIFS($I$4:I62,$C$4:C62,C63)))","v":0},0]
[61,null,{"$f":"IFERROR(VLOOKUP(D64,Nomenclature!$B$2:$C$196,2,0),\"\")","v":""},null,null,null,null,{"$f":"IF(C64=\"\",0,IF(SUMIFS($G$5:G64,$C$5:C64,C64)-SUMIFS($I$4:I63,$C$4:C63,C64)<0,0,SUMIFS($G$5:G64,$C$5:C64,C64)-SUMIFS($I$4:I63,$C$4:C63,C64)))","v":0},null,{"$f":"IF(C64=\"\",0,IF(C64=$C$4,SUMIFS($I$4:I63,$C$4:C63,C63),SUMIFS($I$4:I63,$C$4:C63,C64)))","v":0},0]
[62,null,{"$f":"IFERROR(VLOOKUP(D65,Nomenclature!$B$2:$C$196,2,0),\"\")","v":""},null,null,null,null,{"$f":"IF(C65=\"\",0,IF(SUMIFS($G$5:G65,$C$5:C65,C65)-SUMIFS($I$4:I64,$C$4:C64,C65)<0,0,SUMIFS($G$5:G65,$C$5:C65,C65)-SUMIFS($I$4:I64,$C$4:C64,C65)))","v":0},null,{"$f":"IF(C65=\"\",0,IF(C65=$C$4,SUMIFS($I$4:I64,$C$4:C64,C64),SUMIFS($I$4:I64,$C$4:C64,C65)))","v":0},0]
[63,null,{"$f":"IFERROR(VLOOKUP(D66,Nomenclature!$B$2:$C$196,2,0),\"\")","v":""},null,null,null,null,{"$f":"IF(C66=\"\",0,IF(SUMIFS($G$5:G66,$C$5:C66,C66)-SUMIFS($I$4:I65,$C$4:C65,C66)<0,0,SUMIFS($G$5:G66,$C$5:C66,C66)-SUMIFS($I$4:I65,$C$4:C65,C66)))","v":0},null,{"$f":"IF(C66=\"\",0,IF(C66=$C$4,SUMIFS($I$4:I65,$C$4:C65,C65),SUMIFS($I$4:I65,$C$4:C65,C66)))","v":0},0]
[64,null,{"$f":"IFERROR(VLOOKUP(D67,Nomenclature!$B$2:$C$196,2,0),\"\")","v":""},null,null,null,null,{"$f":"IF(C67=\"\",0,IF(SUMIFS($G$5:G67,$C$5:C67,C67)-SUMIFS($I$4:I66,$C$4:C66,C67)<0,0,SUMIFS($G$5:G67,$C$5:C67,C67)-SUMIFS($I$4:I66,$C$4:C66,C67)))","v":0},null,{"$f":"IF(C67=\"\",0,IF(C67=$C$4,SUMIFS($I$4:I66,$C$4:C66,C66),SUMIFS($I$4:I66,$C$4:C66,C67)))","v":0},0]
[65,null,{"$f":"IFERROR(VLOOKUP(D68,Nomenclature!$B$2:$C$196,2,0),\"\")","v":""},null,null,null,null,{"$f":"IF(C68=\"\",0,IF(SUMIFS($G$5:G68,$C$5:C68,C68)-SUMIFS($I$4:I67,$C$4:C67,C68)<0,0,SUMIFS($G$5:G68,$C$5:C68,C68)-SUMIFS($I$4:I67,$C$4:C67,C68)))","v":0},null,{"$f":"IF(C68=\"\",0,IF(C68=$C$4,SUMIFS($I$4:I67,$C$4:C67,C67),SUMIFS($I$4:I67,$C$4:C67,C68)))","v":0},{"$f":"IF(C68=\"\",0,H68-I68)","v":0}]
[66,null,{"$f":"IFERROR(VLOOKUP(D69,Nomenclature!$B$2:$C$196,2,0),\"\")","v":""},null,null,null,null,{"$f":"IF(C69=\"\",0,IF(SUMIFS($G$5:G69,$C$5:C69,C69)-SUMIFS($I$4:I68,$C$4:C68,C69)<0,0,SUMIFS($G$5:G69,$C$5:C69,C69)-SUMIFS($I$4:I68,$C$4:C68,C69)))","v":0},null,{"$f":"IF(C69=\"\",0,IF(C69=$C$4,SUMIFS($I$4:I68,$C$4:C68,C68),SUMIFS($I$4:I68,$C$4:C68,C69)))","v":0},0]
[67,null,{"$f":"IFERROR(VLOOKUP(D70,Nomenclature!$B$2:$C$196,2,0),\"\")","v":""},null,null,null,null,{"$f":"IF(C70=\"\",0,IF(SUMIFS($G$5:G70,$C$5:C70,C70)-SUMIFS($I$4:I69,$C$4:C69,C70)<0,0,SUMIFS($G$5:G70,$C$5:C70,C70)-SUMIFS($I$4:I69,$C$4:C69,C70)))","v":0},null,{"$f":"IF(C70=\"\",0,IF(C70=$C$4,SUMIFS($I$4:I69,$C$4:C69,C69),SUMIFS($I$4:I69,$C$4:C69,C70)))","v":0},0]
[68,null,{"$f":"IFERROR(VLOOKUP(D71,Nomenclature!$B$2:$C$196,2,0),\"\")","v":""},null,null,null,null,{"$f":"IF(C71=\"\",0,IF(SUMIFS($G$5:G71,$C$5:C71,C71)-SUMIFS($I$4:I70,$C$4:C70,C71)<0,0,SUMIFS($G$5:G71,$C$5:C71,C71)-SUMIFS($I$4:I70,$C$4:C70,C71)))","v":0},null,{"$f":"IF(C71=\"\",0,IF(C71=$C$4,SUMIFS($I$4:I70,$C$4:C70,C70),SUMIFS($I$4:I70,$C$4:C70,C71)))","v":0},0]
[69,null,{"$f":"IFERROR(VLOOKUP(D72,Nomenclature!$B$2:$C$196,2,0),\"\")","v":""},null,null,null,null,{"$f":"IF(C72=\"\",0,IF(SUMIFS($G$5:G72,$C$5:C72,C72)-SUMIFS($I$4:I71,$C$4:C71,C72)<0,0,SUMIFS($G$5:G72,$C$5:C72,C72)-SUMIFS($I$4:I71,$C$4:C71,C72)))","v":0},null,{"$f":"IF(C72=\"\",0,IF(C72=$C$4,SUMIFS($I$4:I71,$C$4:C71,C71),SUMIFS($I$4:I71,$C$4:C71,C72)))","v":0},0]
[70,null,{"$f":"IFERROR(VLOOKUP(D73,Nomenclature!$B$2:$C$196,2,0),\"\")","v":""},null,null,null,null,{"$f":"IF(C73=\"\",0,IF(SUMIFS($G$5:G73,$C$5:C73,C73)-SUMIFS($I$4:I72,$C$4:C72,C73)<0,0,SUMIFS($G$5:G73,$C$5:C73,C73)-SUMIFS($I$4:I72,$C$4:C72,C73)))","v":0},null,{"$f":"IF(C73=\"\",0,IF(C73=$C$4,SUMIFS($I$4:I72,$C$4:C72,C72),SUMIFS($I$4:I72,$C$4:C72,C73)))","v":0},0]
[71,null,{"$f":"IFERROR(VLOOKUP(D74,Nomenclature!$B$2:$C$196,2,0),\"\")","v":""},null,null,null,null,{"$f":"IF(C74=\"\",0,IF(SUMIFS($G$5:G74,$C$5:C74,C74)-SUMIFS($I$4:I73,$C$4:C73,C74)<0,0,SUMIFS($G$5:G74,$C$5:C74,C74)-SUMIFS($I$4:I73,$C$4:C73,C74)))","v":0},null,{"$f":"IF(C74=\"\",0,IF(C74=$C$4,SUMIFS($I$4:I73,$C$4:C73,C73),SUMIFS($I$4:I73,$C$4:C73,C74)))","v":0},0]
[72,null,{"$f":"IFERROR(VLOOKUP(D75,Nomenclature!$B$2:$C$196,2,0),\"\")","v":""},null,null,null,null,{"$f":"IF(C75=\"\",0,IF(SUMIFS($G$5:G75,$C$5:C75,C75)-SUMIFS($I$4:I74,$C$4:C74,C75)<0,0,SUMIFS($G$5:G75,$C$5:C75,C75)-SUMIFS($I$4:I74,$C$4:C74,C75)))","v":0},null,{"$f":"IF(C75=\"\",0,IF(C75=$C$4,SUMIFS($I$4:I74,$C$4:C74,C74),SUMIFS($I$4:I74,$C$4:C74,C75)))","v":0},0]
[73,null,{"$f":"IFERROR(VLOOKUP(D76,Nomenclature!$B$2:$C$196,2,0),\"\")","v":""},null,null,null,null,{"$f":"IF(C76=\"\",0,IF(SUMIFS($G$5:G76,$C$5:C76,C76)-SUMIFS($I$4:I75,$C$4:C75,C76)<0,0,SUMIFS($G$5:G76,$C$5:C76,C76)-SUMIFS($I$4:I75,$C$4:C75,C76)))","v":0},null,{"$f":"IF(C76=\"\",0,IF(C76=$C$4,SUMIFS($I$4:I75,$C$4:C75,C75),SUMIFS($I$4:I75,$C$4:C75,C76)))","v":0},0]
[74,null,{"$f":"IFERROR(VLOOKUP(D77,Nomenclature!$B$2:$C$196,2,0),\"\")","v":""},null,null,null,null,{"$f":"IF(C77=\"\",0,IF(SUMIFS($G$5:G77,$C$5:C77,C77)-SUMIFS($I$4:I76,$C$4:C76,C77)<0,0,SUMIFS($G$5:G77,$C$5:C77,C77)-SUMIFS($I$4:I76,$C$4:C76,C77)))","v":0},null,{"$f":"IF(C77=\"\",0,IF(C77=$C$4,SUMIFS($I$4:I76,$C$4:C76,C76),SUMIFS($I$4:I76,$C$4:C76,C77)))","v":0},0]
[75,null,{"$f":"IFERROR(VLOOKUP(D78,Nomenclature!$B$2:$C$196,2,0),\"\")","v":""},null,null,null,null,{"$f":"IF(C78=\"\",0,IF(SUMIFS($G$5:G78,$C$5:C78,C78)-SUMIFS($I$4:I77,$C$4:C77,C78)<0,0,SUMIFS($G$5:G78,$C$5:C78,C78)-SUMIFS($I$4:I77,$C$4:C77,C78)))","v":0},null,{"$f":"IF(C78=\"\",0,IF(C78=$C$4,SUMIFS($I$4:I77,$C$4:C77,C77),SUMIFS($I$4:I77,$C$4:C77,C78)))","v":0},0]
[76,null,{"$f":"IFERROR(VLOOKUP(D79,Nomenclature!$B$2:$C$196,2,0),\"\")","v":""},null,null,null,null,{"$f":"IF(C79=\"\",0,IF(SUMIFS($G$5:G79,$C$5:C79,C79)-SUMIFS($I$4:I78,$C$4:C78,C79)<0,0,SUMIFS($G$5:G79,$C$5:C79,C79)-SUMIFS($I$4:I78,$C$4:C78,C79)))","v":0},null,{"$f":"IF(C79=\"\",0,IF(C79=$C$4,SUMIFS($I$4:I78,$C$4:C78,C78),SUMIFS($I$4:I78,$C$4:C78,C79)))","v":0},0]
[77,null,{"$f":"IFERROR(VLOOKUP(D80,Nomenclature!$B$2:$C$196,2,0),\"\")","v":""},null,null,null,null,{"$f":"IF(C80=\"\",0,IF(SUMIFS($G$5:G80,$C$5:C80,C80)-SUMIFS($I$4:I79,$C$4:C79,C80)<0,0,SUMIFS($G$5:G80,$C$5:C80,C80)-SUMIFS($I$4:I79,$C$4:C79,C80)))","v":0},null,{"$f":"IF(C80=\"\",0,IF(C80=$C$4,SUMIFS($I$4:I79,$C$4:C79,C79),SUMIFS($I$4:I79,$C$4:C79,C80)))","v":0},0]
[78,null,{"$f":"IFERROR(VLOOKUP(D81,Nomenclature!$B$2:$C$196,2,0),\"\")","v":""},null,null,null,null,{"$f":"IF(C81=\"\",0,IF(SUMIFS($G$5:G81,$C$5:C81,C81)-SUMIFS($I$4:I80,$C$4:C80,C81)<0,0,SUMIFS($G$5:G81,$C$5:C81,C81)-SUMIFS($I$4:I80,$C$4:C80,C81)))","v":0},null,{"$f":"IF(C81=\"\",0,IF(C81=$C$4,SUMIFS($I$4:I80,$C$4:C80,C80),SUMIFS($I$4:I80,$C$4:C80,C81)))","v":0},0]
[79,null,{"$f":"IFERROR(VLOOKUP(D82,Nomenclature!$B$2:$C$196,2,0),\"\")","v":""},null,null,null,null,{"$f":"IF(C82=\"\",0,IF(SUMIFS($G$5:G82,$C$5:C82,C82)-SUMIFS($I$4:I81,$C$4:C81,C82)<0,0,SUMIFS($G$5:G82,$C$5:C82,C82)-SUMIFS($I$4:I81,$C$4:C81,C82)))","v":0},null,{"$f":"IF(C82=\"\",0,IF(C82=$C$4,SUMIFS($I$4:I81,$C$4:C81,C81),SUMIFS($I$4:I81,$C$4:C81,C82)))","v":0},0]
[80,null,{"$f":"IFERROR(VLOOKUP(D83,Nomenclature!$B$2:$C$196,2,0),\"\")","v":""},null,null,null,null,{"$f":"IF(C83=\"\",0,IF(SUMIFS($G$5:G83,$C$5:C83,C83)-SUMIFS($I$4:I82,$C$4:C82,C83)<0,0,SUMIFS($G$5:G83,$C$5:C83,C83)-SUMIFS($I$4:I82,$C$4:C82,C83)))","v":0},null,{"$f":"IF(C83=\"\",0,IF(C83=$C$4,SUMIFS($I$4:I82,$C$4:C82,C82),SUMIFS($I$4:I82,$C$4:C82,C83)))","v":0},0]
[81,null,{"$f":"IFERROR(VLOOKUP(D84,Nomenclature!$B$2:$C$196,2,0),\"\")","v":""},null,null,null,null,{"$f":"IF(C84=\"\",0,IF(SUMIFS($G$5:G84,$C$5:C84,C84)-SUMIFS($I$4:I83,$C$4:C83,C84)<0,0,SUMIFS($G$5:G84,$C$5:C84,C84)-SUMIFS($I$4:I83,$C$4:C83,C84)))","v":0},null,{"$f":"IF(C84=\"\",0,IF(C84=$C$4,SUMIFS($I$4:I83,$C$4:C83,C83),SUMIFS($I$4:I83,$C$4:C83,C84)))","v":0},0]
[82,null,{"$f":"IFERROR(VLOOKUP(D85,Nomenclature!$B$2:$C$196,2,0),\"\")","v":""},null,null,null,null,{"$f":"IF(C85=\"\",0,IF(SUMIFS($G$5:G85,$C$5:C85,C85)-SUMIFS($I$4:I84,$C$4:C84,C85)<0,0,SUMIFS($G$5:G85,$C$5:C85,C85)-SUMIFS($I$4:I84,$C$4:C84,C85)))","v":0},null,{"$f":"IF(C85=\"\",0,IF(C85=$C$4,SUMIFS($I$4:I84,$C$4:C84,C84),SUMIFS($I$4:I84,$C$4:C84,C85)))","v":0},0]
[83,null,{"$f":"IFERROR(VLOOKUP(D86,Nomenclature!$B$2:$C$196,2,0),\"\")","v":""},null,null,null,null,{"$f":"IF(C86=\"\",0,IF(SUMIFS($G$5:G86,$C$5:C86,C86)-SUMIFS($I$4:I85,$C$4:C85,C86)<0,0,SUMIFS($G$5:G86,$C$5:C86,C86)-SUMIFS($I$4:I85,$C$4:C85,C86)))","v":0},null,{"$f":"IF(C86=\"\",0,IF(C86=$C$4,SUMIFS($I$4:I85,$C$4:C85,C85),SUMIFS($I$4:I85,$C$4:C85,C86)))","v":0},0]
[84,null,{"$f":"IFERROR(VLOOKUP(D87,Nomenclature!$B$2:$C$196,2,0),\"\")","v":""},null,null,null,null,{"$f":"IF(C87=\"\",0,IF(SUMIFS($G$5:G87,$C$5:C87,C87)-SUMIFS($I$4:I86,$C$4:C86,C87)<0,0,SUMIFS($G$5:G87,$C$5:C87,C87)-SUMIFS($I$4:I86,$C$4:C86,C87)))","v":0},null,{"$f":"IF(C87=\"\",0,IF(C87=$C$4,SUMIFS($I$4:I86,$C$4:C86,C86),SUMIFS($I$4:I86,$C$4:C86,C87)))","v":0},0]
[85,null,{"$f":"IFERROR(VLOOKUP(D88,Nomenclature!$B$2:$C$196,2,0),\"\")","v":""},null,null,null,null,{"$f":"IF(C88=\"\",0,IF(SUMIFS($G$5:G88,$C$5:C88,C88)-SUMIFS($I$4:I87,$C$4:C87,C88)<0,0,SUMIFS($G$5:G88,$C$5:C88,C88)-SUMIFS($I$4:I87,$C$4:C87,C88)))","v":0},null,{"$f":"IF(C88=\"\",0,IF(C88=$C$4,SUMIFS($I$4:I87,$C$4:C87,C87),SUMIFS($I$4:I87,$C$4:C87,C88)))","v":0},0]
[86,null,{"$f":"IFERROR(VLOOKUP(D89,Nomenclature!$B$2:$C$196,2,0),\"\")","v":""},null,null,null,null,{"$f":"IF(C89=\"\",0,IF(SUMIFS($G$5:G89,$C$5:C89,C89)-SUMIFS($I$4:I88,$C$4:C88,C89)<0,0,SUMIFS($G$5:G89,$C$5:C89,C89)-SUMIFS($I$4:I88,$C$4:C88,C89)))","v":0},null,{"$f":"IF(C89=\"\",0,IF(C89=$C$4,SUMIFS($I$4:I88,$C$4:C88,C88),SUMIFS($I$4:I88,$C$4:C88,C89)))","v":0},0]
[87,null,{"$f":"IFERROR(VLOOKUP(D90,Nomenclature!$B$2:$C$196,2,0),\"\")","v":""},null,null,null,null,{"$f":"IF(C90=\"\",0,IF(SUMIFS($G$5:G90,$C$5:C90,C90)-SUMIFS($I$4:I89,$C$4:C89,C90)<0,0,SUMIFS($G$5:G90,$C$5:C90,C90)-SUMIFS($I$4:I89,$C$4:C89,C90)))","v":0},null,{"$f":"IF(C90=\"\",0,IF(C90=$C$4,SUMIFS($I$4:I89,$C$4:C89,C89),SUMIFS($I$4:I89,$C$4:C89,C90)))","v":0},0]
[88,null,{"$f":"IFERROR(VLOOKUP(D91,Nomenclature!$B$2:$C$196,2,0),\"\")","v":""},null,null,null,null,{"$f":"IF(C91=\"\",0,IF(SUMIFS($G$5:G91,$C$5:C91,C91)-SUMIFS($I$4:I90,$C$4:C90,C91)<0,0,SUMIFS($G$5:G91,$C$5:C91,C91)-SUMIFS($I$4:I90,$C$4:C90,C91)))","v":0},null,{"$f":"IF(C91=\"\",0,IF(C91=$C$4,SUMIFS($I$4:I90,$C$4:C90,C90),SUMIFS($I$4:I90,$C$4:C90,C91)))","v":0},0]
[89,null,{"$f":"IFERROR(VLOOKUP(D92,Nomenclature!$B$2:$C$196,2,0),\"\")","v":""},null,null,null,null,{"$f":"IF(C92=\"\",0,IF(SUMIFS($G$5:G92,$C$5:C92,C92)-SUMIFS($I$4:I91,$C$4:C91,C92)<0,0,SUMIFS($G$5:G92,$C$5:C92,C92)-SUMIFS($I$4:I91,$C$4:C91,C92)))","v":0},null,{"$f":"IF(C92=\"\",0,IF(C92=$C$4,SUMIFS($I$4:I91,$C$4:C91,C91),SUMIFS($I$4:I91,$C$4:C91,C92)))","v":0},0]
[90,null,{"$f":"IFERROR(VLOOKUP(D93,Nomenclature!$B$2:$C$196,2,0),\"\")","v":""},null,null,null,null,{"$f":"IF(C93=\"\",0,IF(SUMIFS($G$5:G93,$C$5:C93,C93)-SUMIFS($I$4:I92,$C$4:C92,C93)<0,0,SUMIFS($G$5:G93,$C$5:C93,C93)-SUMIFS($I$4:I92,$C$4:C92,C93)))","v":0},null,{"$f":"IF(C93=\"\",0,IF(C93=$C$4,SUMIFS($I$4:I92,$C$4:C92,C92),SUMIFS($I$4:I92,$C$4:C92,C93)))","v":0},0]
[91,null,{"$f":"IFERROR(VLOOKUP(D94,Nomenclature!$B$2:$C$196,2,0),\"\")","v":""},null,null,null,null,{"$f":"IF(C94=\"\",0,IF(SUMIFS($G$5:G94,$C$5:C94,C94)-SUMIFS($I$4:I93,$C$4:C93,C94)<0,0,SUMIFS($G$5:G94,$C$5:C94,C94)-SUMIFS($I$4:I93,$C$4:C93,C94)))","v":0},null,{"$f":"IF(C94=\"\",0,IF(C94=$C$4,SUMIFS($I$4:I93,$C$4:C93,C93),SUMIFS($I$4:I93,$C$4:C93,C94)))","v":0},0]
[92,null,{"$f":"IFERROR(VLOOKUP(D95,Nomenclature!$B$2:$C$196,2,0),\"\")","v":""},null,null,null,null,{"$f":"IF(C95=\"\",0,IF(SUMIFS($G$5:G95,$C$5:C95,C95)-SUMIFS($I$4:I94,$C$4:C94,C95)<0,0,SUMIFS($G$5:G95,$C$5:C95,C95)-SUMIFS($I$4:I94,$C$4:C94,C95)))","v":0},null,{"$f":"IF(C95=\"\",0,IF(C95=$C$4,SUMIFS($I$4:I94,$C$4:C94,C94),SUMIFS($I$4:I94,$C$4:C94,C95)))","v":0},0]
[93,null,{"$f":"IFERROR(VLOOKUP(D96,Nomenclature!$B$2:$C$196,2,0),\"\")","v":""},null,null,null,null,{"$f":"IF(C96=\"\",0,IF(SUMIFS($G$5:G96,$C$5:C96,C96)-SUMIFS($I$4:I95,$C$4:C95,C96)<0,0,SUMIFS($G$5:G96,$C$5:C96,C96)-SUMIFS($I$4:I95,$C$4:C95,C96)))","v":0},null,{"$f":"IF(C96=\"\",0,IF(C96=$C$4,SUMIFS($I$4:I95,$C$4:C95,C95),SUMIFS($I$4:I95,$C$4:C95,C96)))","v":0},0]
[94,null,{"$f":"IFERROR(VLOOKUP(D97,Nomenclature!$B$2:$C$196,2,0),\"\")","v":""},null,null,null,null,{"$f":"IF(C97=\"\",0,IF(SUMIFS($G$5:G97,$C$5:C97,C97)-SUMIFS($I$4:I96,$C$4:C96,C97)<0,0,SUMIFS($G$5:G97,$C$5:C97,C97)-SUMIFS($I$4:I96,$C$4:C96,C97)))","v":0},null,{"$f":"IF(C97=\"\",0,IF(C97=$C$4,SUMIFS($I$4:I96,$C$4:C96,C96),SUMIFS($I$4:I96,$C$4:C96,C97)))","v":0},0]
[95,null,{"$f":"IFERROR(VLOOKUP(D98,Nomenclature!$B$2:$C$196,2,0),\"\")","v":""},null,null,null,null,{"$f":"IF(C98=\"\",0,IF(SUMIFS($G$5:G98,$C$5:C98,C98)-SUMIFS($I$4:I97,$C$4:C97,C98)<0,0,SUMIFS($G$5:G98,$C$5:C98,C98)-SUMIFS($I$4:I97,$C$4:C97,C98)))","v":0},null,{"$f":"IF(C98=\"\",0,IF(C98=$C$4,SUMIFS($I$4:I97,$C$4:C97,C97),SUMIFS($I$4:I97,$C$4:C97,C98)))","v":0},0]
[96,null,{"$f":"IFERROR(VLOOKUP(D99,Nomenclature!$B$2:$C$196,2,0),\"\")","v":""},null,null,null,null,{"$f":"IF(C99=\"\",0,IF(SUMIFS($G$5:G99,$C$5:C99,C99)-SUMIFS($I$4:I98,$C$4:C98,C99)<0,0,SUMIFS($G$5:G99,$C$5:C99,C99)-SUMIFS($I$4:I98,$C$4:C98,C99)))","v":0},null,{"$f":"IF(C99=\"\",0,IF(C99=$C$4,SUMIFS($I$4:I98,$C$4:C98,C98),SUMIFS($I$4:I98,$C$4:C98,C99)))","v":0},0]
[97,null,{"$f":"IFERROR(VLOOKUP(D100,Nomenclature!$B$2:$C$196,2,0),\"\")","v":""},null,null,null,null,{"$f":"IF(C100=\"\",0,IF(SUMIFS($G$5:G100,$C$5:C100,C100)-SUMIFS($I$4:I99,$C$4:C99,C100)<0,0,SUMIFS($G$5:G100,$C$5:C100,C100)-SUMIFS($I$4:I99,$C$4:C99,C100)))","v":0},null,{"$f":"IF(C100=\"\",0,IF(C100=$C$4,SUMIFS($I$4:I99,$C$4:C99,C99),SUMIFS($I$4:I99,$C$4:C99,C100)))","v":0},0]
[98,null,{"$f":"IFERROR(VLOOKUP(D101,Nomenclature!$B$2:$C$196,2,0),\"\")","v":""},null,null,null,null,{"$f":"IF(C101=\"\",0,IF(SUMIFS($G$5:G101,$C$5:C101,C101)-SUMIFS($I$4:I100,$C$4:C100,C101)<0,0,SUMIFS($G$5:G101,$C$5:C101,C101)-SUMIFS($I$4:I100,$C$4:C100,C101)))","v":0},null,{"$f":"IF(C101=\"\",0,IF(C101=$C$4,SUMIFS($I$4:I100,$C$4:C100,C100),SUMIFS($I$4:I100,$C$4:C100,C101)))","v":0},0]
[99,null,{"$f":"IFERROR(VLOOKUP(D102,Nomenclature!$B$2:$C$196,2,0),\"\")","v":""},null,null,null,null,{"$f":"IF(C102=\"\",0,IF(SUMIFS($G$5:G102,$C$5:C102,C102)-SUMIFS($I$4:I101,$C$4:C101,C102)<0,0,SUMIFS($G$5:G102,$C$5:C102,C102)-SUMIFS($I$4:I101,$C$4:C101,C102)))","v":0},null,{"$f":"IF(C102=\"\",0,IF(C102=$C$4,SUMIFS($I$4:I101,$C$4:C101,C101),SUMIFS($I$4:I101,$C$4:C101,C102)))","v":0},0]
[100,null,{"$f":"IFERROR(VLOOKUP(D103,Nomenclature!$B$2:$C$196,2,0),\"\")","v":""},null,null,null,null,{"$f":"IF(C103=\"\",0,IF(SUMIFS($G$5:G103,$C$5:C103,C103)-SUMIFS($I$4:I102,$C$4:C102,C103)<0,0,SUMIFS($G$5:G103,$C$5:C103,C103)-SUMIFS($I$4:I102,$C$4:C102,C103)))","v":0},null,{"$f":"IF(C103=\"\",0,IF(C103=$C$4,SUMIFS($I$4:I102,$C$4:C102,C102),SUMIFS($I$4:I102,$C$4:C102,C103)))","v":0},0]
[101,null,{"$f":"IFERROR(VLOOKUP(D104,Nomenclature!$B$2:$C$196,2,0),\"\")","v":""},null,null,null,null,{"$f":"IF(C104=\"\",0,IF(SUMIFS($G$5:G104,$C$5:C104,C104)-SUMIFS($I$4:I103,$C$4:C103,C104)<0,0,SUMIFS($G$5:G104,$C$5:C104,C104)-SUMIFS($I$4:I103,$C$4:C103,C104)))","v":0},null,{"$f":"IF(C104=\"\",0,IF(C104=$C$4,SUMIFS($I$4:I103,$C$4:C103,C103),SUMIFS($I$4:I103,$C$4:C103,C104)))","v":0},0]
[102,null,{"$f":"IFERROR(VLOOKUP(D105,Nomenclature!$B$2:$C$196,2,0),\"\")","v":""},null,null,null,null,{"$f":"IF(C105=\"\",0,IF(SUMIFS($G$5:G105,$C$5:C105,C105)-SUMIFS($I$4:I104,$C$4:C104,C105)<0,0,SUMIFS($G$5:G105,$C$5:C105,C105)-SUMIFS($I$4:I104,$C$4:C104,C105)))","v":0},null,{"$f":"IF(C105=\"\",0,IF(C105=$C$4,SUMIFS($I$4:I104,$C$4:C104,C104),SUMIFS($I$4:I104,$C$4:C104,C105)))","v":0},0]
[103,null,{"$f":"IFERROR(VLOOKUP(D106,Nomenclature!$B$2:$C$196,2,0),\"\")","v":""},null,null,null,null,{"$f":"IF(C106=\"\",0,IF(SUMIFS($G$5:G106,$C$5:C106,C106)-SUMIFS($I$4:I105,$C$4:C105,C106)<0,0,SUMIFS($G$5:G106,$C$5:C106,C106)-SUMIFS($I$4:I105,$C$4:C105,C106)))","v":0},null,{"$f":"IF(C106=\"\",0,IF(C106=$C$4,SUMIFS($I$4:I105,$C$4:C105,C105),SUMIFS($I$4:I105,$C$4:C105,C106)))","v":0},0]
[104,null,{"$f":"IFERROR(VLOOKUP(D107,Nomenclature!$B$2:$C$196,2,0),\"\")","v":""},null,null,null,null,{"$f":"IF(C107=\"\",0,IF(SUMIFS($G$5:G107,$C$5:C107,C107)-SUMIFS($I$4:I106,$C$4:C106,C107)<0,0,SUMIFS($G$5:G107,$C$5:C107,C107)-SUMIFS($I$4:I106,$C$4:C106,C107)))","v":0},null,{"$f":"IF(C107=\"\",0,IF(C107=$C$4,SUMIFS($I$4:I106,$C$4:C106,C106),SUMIFS($I$4:I106,$C$4:C106,C107)))","v":0},0]
[105,null,{"$f":"IFERROR(VLOOKUP(D108,Nomenclature!$B$2:$C$196,2,0),\"\")","v":""},null,null,null,null,{"$f":"IF(C108=\"\",0,IF(SUMIFS($G$5:G108,$C$5:C108,C108)-SUMIFS($I$4:I107,$C$4:C107,C108)<0,0,SUMIFS($G$5:G108,$C$5:C108,C108)-SUMIFS($I$4:I107,$C$4:C107,C108)))","v":0},null,{"$f":"IF(C108=\"\",0,IF(C108=$C$4,SUMIFS($I$4:I107,$C$4:C107,C107),SUMIFS($I$4:I107,$C$4:C107,C108)))","v":0},0]
[106,null,{"$f":"IFERROR(VLOOKUP(D109,Nomenclature!$B$2:$C$196,2,0),\"\")","v":""},null,null,null,null,{"$f":"IF(C109=\"\",0,IF(SUMIFS($G$5:G109,$C$5:C109,C109)-SUMIFS($I$4:I108,$C$4:C108,C109)<0,0,SUMIFS($G$5:G109,$C$5:C109,C109)-SUMIFS($I$4:I108,$C$4:C108,C109)))","v":0},null,{"$f":"IF(C109=\"\",0,IF(C109=$C$4,SUMIFS($I$4:I108,$C$4:C108,C108),SUMIFS($I$4:I108,$C$4:C108,C109)))","v":0},0]
[107,null,{"$f":"IFERROR(VLOOKUP(D110,Nomenclature!$B$2:$C$196,2,0),\"\")","v":""},null,null,null,null,{"$f":"IF(C110=\"\",0,IF(SUMIFS($G$5:G110,$C$5:C110,C110)-SUMIFS($I$4:I109,$C$4:C109,C110)<0,0,SUMIFS($G$5:G110,$C$5:C110,C110)-SUMIFS($I$4:I109,$C$4:C109,C110)))","v":0},null,{"$f":"IF(C110=\"\",0,IF(C110=$C$4,SUMIFS($I$4:I109,$C$4:C109,C109),SUMIFS($I$4:I109,$C$4:C109,C110)))","v":0},0]
[108,null,{"$f":"IFERROR(VLOOKUP(D111,Nomenclature!$B$2:$C$196,2,0),\"\")","v":""},null,null,null,null,{"$f":"IF(C111=\"\",0,IF(SUMIFS($G$5:G111,$C$5:C111,C111)-SUMIFS($I$4:I110,$C$4:C110,C111)<0,0,SUMIFS($G$5:G111,$C$5:C111,C111)-SUMIFS($I$4:I110,$C$4:C110,C111)))","v":0},null,{"$f":"IF(C111=\"\",0,IF(C111=$C$4,SUMIFS($I$4:I110,$C$4:C110,C110),SUMIFS($I$4:I110,$C$4:C110,C111)))","v":0},0]
[109,null,{"$f":"IFERROR(VLOOKUP(D112,Nomenclature!$B$2:$C$196,2,0),\"\")","v":""},null,null,null,null,{"$f":"IF(C112=\"\",0,IF(SUMIFS($G$5:G112,$C$5:C112,C112)-SUMIFS($I$4:I111,$C$4:C111,C112)<0,0,SUMIFS($G$5:G112,$C$5:C112,C112)-SUMIFS($I$4:I111,$C$4:C111,C112)))","v":0},null,{"$f":"IF(C112=\"\",0,IF(C112=$C$4,SUMIFS($I$4:I111,$C$4:C111,C111),SUMIFS($I$4:I111,$C$4:C111,C112)))","v":0},0]
[110,null,{"$f":"IFERROR(VLOOKUP(D113,Nomenclature!$B$2:$C$196,2,0),\"\")","v":""},null,null,null,null,{"$f":"IF(C113=\"\",0,IF(SUMIFS($G$5:G113,$C$5:C113,C113)-SUMIFS($I$4:I112,$C$4:C112,C113)<0,0,SUMIFS($G$5:G113,$C$5:C113,C113)-SUMIFS($I$4:I112,$C$4:C112,C113)))","v":0},null,{"$f":"IF(C113=\"\",0,IF(C113=$C$4,SUMIFS($I$4:I112,$C$4:C112,C112),SUMIFS($I$4:I112,$C$4:C112,C113)))","v":0},0]
[111,null,{"$f":"IFERROR(VLOOKUP(D114,Nomenclature!$B$2:$C$196,2,0),\"\")","v":""},null,null,null,null,{"$f":"IF(C114=\"\",0,IF(SUMIFS($G$5:G114,$C$5:C114,C114)-SUMIFS($I$4:I113,$C$4:C113,C114)<0,0,SUMIFS($G$5:G114,$C$5:C114,C114)-SUMIFS($I$4:I113,$C$4:C113,C114)))","v":0},null,{"$f":"IF(C114=\"\",0,IF(C114=$C$4,SUMIFS($I$4:I113,$C$4:C113,C113),SUMIFS($I$4:I113,$C$4:C113,C114)))","v":0},0]
[112,null,{"$f":"IFERROR(VLOOKUP(D115,Nomenclature!$B$2:$C$196,2,0),\"\")","v":""},null,null,null,null,{"$f":"IF(C115=\"\",0,IF(SUMIFS($G$5:G115,$C$5:C115,C115)-SUMIFS($I$4:I114,$C$4:C114,C115)<0,0,SUMIFS($G$5:G115,$C$5:C115,C115)-SUMIFS($I$4:I114,$C$4:C114,C115)))","v":0},null,{"$f":"IF(C115=\"\",0,IF(C115=$C$4,SUMIFS($I$4:I114,$C$4:C114,C114),SUMIFS($I$4:I114,$C$4:C114,C115)))","v":0},0]
[113,null,{"$f":"IFERROR(VLOOKUP(D116,Nomenclature!$B$2:$C$196,2,0),\"\")","v":""},null,null,null,null,{"$f":"IF(C116=\"\",0,IF(SUMIFS($G$5:G116,$C$5:C116,C116)-SUMIFS($I$4:I115,$C$4:C115,C116)<0,0,SUMIFS($G$5:G116,$C$5:C116,C116)-SUMIFS($I$4:I115,$C$4:C115,C116)))","v":0},null,{"$f":"IF(C116=\"\",0,IF(C116=$C$4,SUMIFS($I$4:I115,$C$4:C115,C115),SUMIFS($I$4:I115,$C$4:C115,C116)))","v":0},0]
[114,null,{"$f":"IFERROR(VLOOKUP(D117,Nomenclature!$B$2:$C$196,2,0),\"\")","v":""},null,null,null,null,{"$f":"IF(C117=\"\",0,IF(SUMIFS($G$5:G117,$C$5:C117,C117)-SUMIFS($I$4:I116,$C$4:C116,C117)<0,0,SUMIFS($G$5:G117,$C$5:C117,C117)-SUMIFS($I$4:I116,$C$4:C116,C117)))","v":0},null,{"$f":"IF(C117=\"\",0,IF(C117=$C$4,SUMIFS($I$4:I116,$C$4:C116,C116),SUMIFS($I$4:I116,$C$4:C116,C117)))","v":0},0]
[115,null,{"$f":"IFERROR(VLOOKUP(D118,Nomenclature!$B$2:$C$196,2,0),\"\")","v":""},null,null,null,null,{"$f":"IF(C118=\"\",0,IF(SUMIFS($G$5:G118,$C$5:C118,C118)-SUMIFS($I$4:I117,$C$4:C117,C118)<0,0,SUMIFS($G$5:G118,$C$5:C118,C118)-SUMIFS($I$4:I117,$C$4:C117,C118)))","v":0},null,{"$f":"IF(C118=\"\",0,IF(C118=$C$4,SUMIFS($I$4:I117,$C$4:C117,C117),SUMIFS($I$4:I117,$C$4:C117,C118)))","v":0},0]
[116,null,{"$f":"IFERROR(VLOOKUP(D119,Nomenclature!$B$2:$C$196,2,0),\"\")","v":""},null,null,null,null,{"$f":"IF(C119=\"\",0,IF(SUMIFS($G$5:G119,$C$5:C119,C119)-SUMIFS($I$4:I118,$C$4:C118,C119)<0,0,SUMIFS($G$5:G119,$C$5:C119,C119)-SUMIFS($I$4:I118,$C$4:C118,C119)))","v":0},null,{"$f":"IF(C119=\"\",0,IF(C119=$C$4,SUMIFS($I$4:I118,$C$4:C118,C118),SUMIFS($I$4:I118,$C$4:C118,C119)))","v":0},0]
[117,null,{"$f":"IFERROR(VLOOKUP(D120,Nomenclature!$B$2:$C$196,2,0),\"\")","v":""},null,null,null,null,{"$f":"IF(C120=\"\",0,IF(SUMIFS($G$5:G120,$C$5:C120,C120)-SUMIFS($I$4:I119,$C$4:C119,C120)<0,0,SUMIFS($G$5:G120,$C$5:C120,C120)-SUMIFS($I$4:I119,$C$4:C119,C120)))","v":0},null,{"$f":"IF(C120=\"\",0,IF(C120=$C$4,SUMIFS($I$4:I119,$C$4:C119,C119),SUMIFS($I$4:I119,$C$4:C119,C120)))","v":0},0]
[118,null,{"$f":"IFERROR(VLOOKUP(D121,Nomenclature!$B$2:$C$196,2,0),\"\")","v":""},null,null,null,null,{"$f":"IF(C121=\"\",0,IF(SUMIFS($G$5:G121,$C$5:C121,C121)-SUMIFS($I$4:I120,$C$4:C120,C121)<0,0,SUMIFS($G$5:G121,$C$5:C121,C121)-SUMIFS($I$4:I120,$C$4:C120,C121)))","v":0},null,{"$f":"IF(C121=\"\",0,IF(C121=$C$4,SUMIFS($I$4:I120,$C$4:C120,C120),SUMIFS($I$4:I120,$C$4:C120,C121)))","v":0},0]
[119,null,{"$f":"IFERROR(VLOOKUP(D122,Nomenclature!$B$2:$C$196,2,0),\"\")","v":""},null,null,null,null,{"$f":"IF(C122=\"\",0,IF(SUMIFS($G$5:G122,$C$5:C122,C122)-SUMIFS($I$4:I121,$C$4:C121,C122)<0,0,SUMIFS($G$5:G122,$C$5:C122,C122)-SUMIFS($I$4:I121,$C$4:C121,C122)))","v":0},null,{"$f":"IF(C122=\"\",0,IF(C122=$C$4,SUMIFS($I$4:I121,$C$4:C121,C121),SUMIFS($I$4:I121,$C$4:C121,C122)))","v":0},0]
[120,null,{"$f":"IFERROR(VLOOKUP(D123,Nomenclature!$B$2:$C$196,2,0),\"\")","v":""},null,null,null,null,{"$f":"IF(C123=\"\",0,IF(SUMIFS($G$5:G123,$C$5:C123,C123)-SUMIFS($I$4:I122,$C$4:C122,C123)<0,0,SUMIFS($G$5:G123,$C$5:C123,C123)-SUMIFS($I$4:I122,$C$4:C122,C123)))","v":0},null,{"$f":"IF(C123=\"\",0,IF(C123=$C$4,SUMIFS($I$4:I122,$C$4:C122,C122),SUMIFS($I$4:I122,$C$4:C122,C123)))","v":0},0]
[121,null,{"$f":"IFERROR(VLOOKUP(D124,Nomenclature!$B$2:$C$196,2,0),\"\")","v":""},null,null,null,null,{"$f":"IF(C124=\"\",0,IF(SUMIFS($G$5:G124,$C$5:C124,C124)-SUMIFS($I$4:I123,$C$4:C123,C124)<0,0,SUMIFS($G$5:G124,$C$5:C124,C124)-SUMIFS($I$4:I123,$C$4:C123,C124)))","v":0},null,{"$f":"IF(C124=\"\",0,IF(C124=$C$4,SUMIFS($I$4:I123,$C$4:C123,C123),SUMIFS($I$4:I123,$C$4:C123,C124)))","v":0},0]
[122,null,{"$f":"IFERROR(VLOOKUP(D125,Nomenclature!$B$2:$C$196,2,0),\"\")","v":""},null,null,null,null,{"$f":"IF(C125=\"\",0,IF(SUMIFS($G$5:G125,$C$5:C125,C125)-SUMIFS($I$4:I124,$C$4:C124,C125)<0,0,SUMIFS($G$5:G125,$C$5:C125,C125)-SUMIFS($I$4:I124,$C$4:C124,C125)))","v":0},null,{"$f":"IF(C125=\"\",0,IF(C125=$C$4,SUMIFS($I$4:I124,$C$4:C124,C124),SUMIFS($I$4:I124,$C$4:C124,C125)))","v":0},0]
[123,null,{"$f":"IFERROR(VLOOKUP(D126,Nomenclature!$B$2:$C$196,2,0),\"\")","v":""},null,null,null,null,{"$f":"IF(C126=\"\",0,IF(SUMIFS($G$5:G126,$C$5:C126,C126)-SUMIFS($I$4:I125,$C$4:C125,C126)<0,0,SUMIFS($G$5:G126,$C$5:C126,C126)-SUMIFS($I$4:I125,$C$4:C125,C126)))","v":0},null,{"$f":"IF(C126=\"\",0,IF(C126=$C$4,SUMIFS($I$4:I125,$C$4:C125,C125),SUMIFS($I$4:I125,$C$4:C125,C126)))","v":0},0]
[124,null,{"$f":"IFERROR(VLOOKUP(D127,Nomenclature!$B$2:$C$196,2,0),\"\")","v":""},null,null,null,null,{"$f":"IF(C127=\"\",0,IF(SUMIFS($G$5:G127,$C$5:C127,C127)-SUMIFS($I$4:I126,$C$4:C126,C127)<0,0,SUMIFS($G$5:G127,$C$5:C127,C127)-SUMIFS($I$4:I126,$C$4:C126,C127)))","v":0},null,{"$f":"IF(C127=\"\",0,IF(C127=$C$4,SUMIFS($I$4:I126,$C$4:C126,C126),SUMIFS($I$4:I126,$C$4:C126,C127)))","v":0},0]
[125,null,{"$f":"IFERROR(VLOOKUP(D128,Nomenclature!$B$2:$C$196,2,0),\"\")","v":""},null,null,null,null,{"$f":"IF(C128=\"\",0,IF(SUMIFS($G$5:G128,$C$5:C128,C128)-SUMIFS($I$4:I127,$C$4:C127,C128)<0,0,SUMIFS($G$5:G128,$C$5:C128,C128)-SUMIFS($I$4:I127,$C$4:C127,C128)))","v":0},null,{"$f":"IF(C128=\"\",0,IF(C128=$C$4,SUMIFS($I$4:I127,$C$4:C127,C127),SUMIFS($I$4:I127,$C$4:C127,C128)))","v":0},0]
[126,null,{"$f":"IFERROR(VLOOKUP(D129,Nomenclature!$B$2:$C$196,2,0),\"\")","v":""},null,null,null,null,{"$f":"IF(C129=\"\",0,IF(SUMIFS($G$5:G129,$C$5:C129,C129)-SUMIFS($I$4:I128,$C$4:C128,C129)<0,0,SUMIFS($G$5:G129,$C$5:C129,C129)-SUMIFS($I$4:I128,$C$4:C128,C129)))","v":0},null,{"$f":"IF(C129=\"\",0,IF(C129=$C$4,SUMIFS($I$4:I128,$C$4:C128,C128),SUMIFS($I$4:I128,$C$4:C128,C129)))","v":0},0]
[127,null,{"$f":"IFERROR(VLOOKUP(D130,Nomenclature!$B$2:$C$196,2,0),\"\")","v":""},null,null,null,null,{"$f":"IF(C130=\"\",0,IF(SUMIFS($G$5:G130,$C$5:C130,C130)-SUMIFS($I$4:I129,$C$4:C129,C130)<0,0,SUMIFS($G$5:G130,$C$5:C130,C130)-SUMIFS($I$4:I129,$C$4:C129,C130)))","v":0},null,{"$f":"IF(C130=\"\",0,IF(C130=$C$4,SUMIFS($I$4:I129,$C$4:C129,C129),SUMIFS($I$4:I129,$C$4:C129,C130)))","v":0},0]
[128,null,{"$f":"IFERROR(VLOOKUP(D131,Nomenclature!$B$2:$C$196,2,0),\"\")","v":""},null,null,null,null,{"$f":"IF(C131=\"\",0,IF(SUMIFS($G$5:G131,$C$5:C131,C131)-SUMIFS($I$4:I130,$C$4:C130,C131)<0,0,SUMIFS($G$5:G131,$C$5:C131,C131)-SUMIFS($I$4:I130,$C$4:C130,C131)))","v":0},null,{"$f":"IF(C131=\"\",0,IF(C131=$C$4,SUMIFS($I$4:I130,$C$4:C130,C130),SUMIFS($I$4:I130,$C$4:C130,C131)))","v":0},0]
[129,null,{"$f":"IFERROR(VLOOKUP(D132,Nomenclature!$B$2:$C$196,2,0),\"\")","v":""},null,null,null,null,{"$f":"IF(C132=\"\",0,IF(SUMIFS($G$5:G132,$C$5:C132,C132)-SUMIFS($I$4:I131,$C$4:C131,C132)<0,0,SUMIFS($G$5:G132,$C$5:C132,C132)-SUMIFS($I$4:I131,$C$4:C131,C132)))","v":0},null,{"$f":"IF(C132=\"\",0,IF(C132=$C$4,SUMIFS($I$4:I131,$C$4:C131,C131),SUMIFS($I$4:I131,$C$4:C131,C132)))","v":0},{"$f":"IF(C132=\"\",0,H132-I132)","v":0}]
[130,null,{"$f":"IFERROR(VLOOKUP(D133,Nomenclature!$B$2:$C$196,2,0),\"\")","v":""},null,null,null,null,{"$f":"IF(C133=\"\",0,IF(SUMIFS($G$5:G133,$C$5:C133,C133)-SUMIFS($I$4:I132,$C$4:C132,C133)<0,0,SUMIFS($G$5:G133,$C$5:C133,C133)-SUMIFS($I$4:I132,$C$4:C132,C133)))","v":0},null,{"$f":"IF(C133=\"\",0,IF(C133=$C$4,SUMIFS($I$4:I132,$C$4:C132,C132),SUMIFS($I$4:I132,$C$4:C132,C133)))","v":0},0]
[131,null,{"$f":"IFERROR(VLOOKUP(D134,Nomenclature!$B$2:$C$196,2,0),\"\")","v":""},null,null,null,null,{"$f":"IF(C134=\"\",0,IF(SUMIFS($G$5:G134,$C$5:C134,C134)-SUMIFS($I$4:I133,$C$4:C133,C134)<0,0,SUMIFS($G$5:G134,$C$5:C134,C134)-SUMIFS($I$4:I133,$C$4:C133,C134)))","v":0},null,{"$f":"IF(C134=\"\",0,IF(C134=$C$4,SUMIFS($I$4:I133,$C$4:C133,C133),SUMIFS($I$4:I133,$C$4:C133,C134)))","v":0},0]
[132,null,{"$f":"IFERROR(VLOOKUP(D135,Nomenclature!$B$2:$C$196,2,0),\"\")","v":""},null,null,null,null,{"$f":"IF(C135=\"\",0,IF(SUMIFS($G$5:G135,$C$5:C135,C135)-SUMIFS($I$4:I134,$C$4:C134,C135)<0,0,SUMIFS($G$5:G135,$C$5:C135,C135)-SUMIFS($I$4:I134,$C$4:C134,C135)))","v":0},null,{"$f":"IF(C135=\"\",0,IF(C135=$C$4,SUMIFS($I$4:I134,$C$4:C134,C134),SUMIFS($I$4:I134,$C$4:C134,C135)))","v":0},0]
[133,null,{"$f":"IFERROR(VLOOKUP(D136,Nomenclature!$B$2:$C$196,2,0),\"\")","v":""},null,null,null,null,{"$f":"IF(C136=\"\",0,IF(SUMIFS($G$5:G136,$C$5:C136,C136)-SUMIFS($I$4:I135,$C$4:C135,C136)<0,0,SUMIFS($G$5:G136,$C$5:C136,C136)-SUMIFS($I$4:I135,$C$4:C135,C136)))","v":0},null,{"$f":"IF(C136=\"\",0,IF(C136=$C$4,SUMIFS($I$4:I135,$C$4:C135,C135),SUMIFS($I$4:I135,$C$4:C135,C136)))","v":0},0]
[134,null,{"$f":"IFERROR(VLOOKUP(D137,Nomenclature!$B$2:$C$196,2,0),\"\")","v":""},null,null,null,null,{"$f":"IF(C137=\"\",0,IF(SUMIFS($G$5:G137,$C$5:C137,C137)-SUMIFS($I$4:I136,$C$4:C136,C137)<0,0,SUMIFS($G$5:G137,$C$5:C137,C137)-SUMIFS($I$4:I136,$C$4:C136,C137)))","v":0},null,{"$f":"IF(C137=\"\",0,IF(C137=$C$4,SUMIFS($I$4:I136,$C$4:C136,C136),SUMIFS($I$4:I136,$C$4:C136,C137)))","v":0},0]
[135,null,{"$f":"IFERROR(VLOOKUP(D138,Nomenclature!$B$2:$C$196,2,0),\"\")","v":""},null,null,null,null,{"$f":"IF(C138=\"\",0,IF(SUMIFS($G$5:G138,$C$5:C138,C138)-SUMIFS($I$4:I137,$C$4:C137,C138)<0,0,SUMIFS($G$5:G138,$C$5:C138,C138)-SUMIFS($I$4:I137,$C$4:C137,C138)))","v":0},null,{"$f":"IF(C138=\"\",0,IF(C138=$C$4,SUMIFS($I$4:I137,$C$4:C137,C137),SUMIFS($I$4:I137,$C$4:C137,C138)))","v":0},0]
[136,null,{"$f":"IFERROR(VLOOKUP(D139,Nomenclature!$B$2:$C$196,2,0),\"\")","v":""},null,null,null,null,{"$f":"IF(C139=\"\",0,IF(SUMIFS($G$5:G139,$C$5:C139,C139)-SUMIFS($I$4:I138,$C$4:C138,C139)<0,0,SUMIFS($G$5:G139,$C$5:C139,C139)-SUMIFS($I$4:I138,$C$4:C138,C139)))","v":0},null,{"$f":"IF(C139=\"\",0,IF(C139=$C$4,SUMIFS($I$4:I138,$C$4:C138,C138),SUMIFS($I$4:I138,$C$4:C138,C139)))","v":0},0]
[137,null,{"$f":"IFERROR(VLOOKUP(D140,Nomenclature!$B$2:$C$196,2,0),\"\")","v":""},null,null,null,null,{"$f":"IF(C140=\"\",0,IF(SUMIFS($G$5:G140,$C$5:C140,C140)-SUMIFS($I$4:I139,$C$4:C139,C140)<0,0,SUMIFS($G$5:G140,$C$5:C140,C140)-SUMIFS($I$4:I139,$C$4:C139,C140)))","v":0},null,{"$f":"IF(C140=\"\",0,IF(C140=$C$4,SUMIFS($I$4:I139,$C$4:C139,C139),SUMIFS($I$4:I139,$C$4:C139,C140)))","v":0},0]
[138,null,{"$f":"IFERROR(VLOOKUP(D141,Nomenclature!$B$2:$C$196,2,0),\"\")","v":""},null,null,null,null,{"$f":"IF(C141=\"\",0,IF(SUMIFS($G$5:G141,$C$5:C141,C141)-SUMIFS($I$4:I140,$C$4:C140,C141)<0,0,SUMIFS($G$5:G141,$C$5:C141,C141)-SUMIFS($I$4:I140,$C$4:C140,C141)))","v":0},null,{"$f":"IF(C141=\"\",0,IF(C141=$C$4,SUMIFS($I$4:I140,$C$4:C140,C140),SUMIFS($I$4:I140,$C$4:C140,C141)))","v":0},0]
[139,null,{"$f":"IFERROR(VLOOKUP(D142,Nomenclature!$B$2:$C$196,2,0),\"\")","v":""},null,null,null,null,{"$f":"IF(C142=\"\",0,IF(SUMIFS($G$5:G142,$C$5:C142,C142)-SUMIFS($I$4:I141,$C$4:C141,C142)<0,0,SUMIFS($G$5:G142,$C$5:C142,C142)-SUMIFS($I$4:I141,$C$4:C141,C142)))","v":0},null,{"$f":"IF(C142=\"\",0,IF(C142=$C$4,SUMIFS($I$4:I141,$C$4:C141,C141),SUMIFS($I$4:I141,$C$4:C141,C142)))","v":0},0]
[140,null,{"$f":"IFERROR(VLOOKUP(D143,Nomenclature!$B$2:$C$196,2,0),\"\")","v":""},null,null,null,null,{"$f":"IF(C143=\"\",0,IF(SUMIFS($G$5:G143,$C$5:C143,C143)-SUMIFS($I$4:I142,$C$4:C142,C143)<0,0,SUMIFS($G$5:G143,$C$5:C143,C143)-SUMIFS($I$4:I142,$C$4:C142,C143)))","v":0},null,{"$f":"IF(C143=\"\",0,IF(C143=$C$4,SUMIFS($I$4:I142,$C$4:C142,C142),SUMIFS($I$4:I142,$C$4:C142,C143)))","v":0},0]
[141,null,{"$f":"IFERROR(VLOOKUP(D144,Nomenclature!$B$2:$C$196,2,0),\"\")","v":""},null,null,null,null,{"$f":"IF(C144=\"\",0,IF(SUMIFS($G$5:G144,$C$5:C144,C144)-SUMIFS($I$4:I143,$C$4:C143,C144)<0,0,SUMIFS($G$5:G144,$C$5:C144,C144)-SUMIFS($I$4:I143,$C$4:C143,C144)))","v":0},null,{"$f":"IF(C144=\"\",0,IF(C144=$C$4,SUMIFS($I$4:I143,$C$4:C143,C143),SUMIFS($I$4:I143,$C$4:C143,C144)))","v":0},0]
[142,null,{"$f":"IFERROR(VLOOKUP(D145,Nomenclature!$B$2:$C$196,2,0),\"\")","v":""},null,null,null,null,{"$f":"IF(C145=\"\",0,IF(SUMIFS($G$5:G145,$C$5:C145,C145)-SUMIFS($I$4:I144,$C$4:C144,C145)<0,0,SUMIFS($G$5:G145,$C$5:C145,C145)-SUMIFS($I$4:I144,$C$4:C144,C145)))","v":0},null,{"$f":"IF(C145=\"\",0,IF(C145=$C$4,SUMIFS($I$4:I144,$C$4:C144,C144),SUMIFS($I$4:I144,$C$4:C144,C145)))","v":0},0]
[143,null,{"$f":"IFERROR(VLOOKUP(D146,Nomenclature!$B$2:$C$196,2,0),\"\")","v":""},null,null,null,null,{"$f":"IF(C146=\"\",0,IF(SUMIFS($G$5:G146,$C$5:C146,C146)-SUMIFS($I$4:I145,$C$4:C145,C146)<0,0,SUMIFS($G$5:G146,$C$5:C146,C146)-SUMIFS($I$4:I145,$C$4:C145,C146)))","v":0},null,{"$f":"IF(C146=\"\",0,IF(C146=$C$4,SUMIFS($I$4:I145,$C$4:C145,C145),SUMIFS($I$4:I145,$C$4:C145,C146)))","v":0},0]
[144,null,{"$f":"IFERROR(VLOOKUP(D147,Nomenclature!$B$2:$C$196,2,0),\"\")","v":""},null,null,null,null,{"$f":"IF(C147=\"\",0,IF(SUMIFS($G$5:G147,$C$5:C147,C147)-SUMIFS($I$4:I146,$C$4:C146,C147)<0,0,SUMIFS($G$5:G147,$C$5:C147,C147)-SUMIFS($I$4:I146,$C$4:C146,C147)))","v":0},null,{"$f":"IF(C147=\"\",0,IF(C147=$C$4,SUMIFS($I$4:I146,$C$4:C146,C146),SUMIFS($I$4:I146,$C$4:C146,C147)))","v":0},0]
[145,null,{"$f":"IFERROR(VLOOKUP(D148,Nomenclature!$B$2:$C$196,2,0),\"\")","v":""},null,null,null,null,{"$f":"IF(C148=\"\",0,IF(SUMIFS($G$5:G148,$C$5:C148,C148)-SUMIFS($I$4:I147,$C$4:C147,C148)<0,0,SUMIFS($G$5:G148,$C$5:C148,C148)-SUMIFS($I$4:I147,$C$4:C147,C148)))","v":0},null,{"$f":"IF(C148=\"\",0,IF(C148=$C$4,SUMIFS($I$4:I147,$C$4:C147,C147),SUMIFS($I$4:I147,$C$4:C147,C148)))","v":0},0]
[146,null,{"$f":"IFERROR(VLOOKUP(D149,Nomenclature!$B$2:$C$196,2,0),\"\")","v":""},null,null,null,null,{"$f":"IF(C149=\"\",0,IF(SUMIFS($G$5:G149,$C$5:C149,C149)-SUMIFS($I$4:I148,$C$4:C148,C149)<0,0,SUMIFS($G$5:G149,$C$5:C149,C149)-SUMIFS($I$4:I148,$C$4:C148,C149)))","v":0},null,{"$f":"IF(C149=\"\",0,IF(C149=$C$4,SUMIFS($I$4:I148,$C$4:C148,C148),SUMIFS($I$4:I148,$C$4:C148,C149)))","v":0},0]
[147,null,{"$f":"IFERROR(VLOOKUP(D150,Nomenclature!$B$2:$C$196,2,0),\"\")","v":""},null,null,null,null,{"$f":"IF(C150=\"\",0,IF(SUMIFS($G$5:G150,$C$5:C150,C150)-SUMIFS($I$4:I149,$C$4:C149,C150)<0,0,SUMIFS($G$5:G150,$C$5:C150,C150)-SUMIFS($I$4:I149,$C$4:C149,C150)))","v":0},null,{"$f":"IF(C150=\"\",0,IF(C150=$C$4,SUMIFS($I$4:I149,$C$4:C149,C149),SUMIFS($I$4:I149,$C$4:C149,C150)))","v":0},0]
[148,null,{"$f":"IFERROR(VLOOKUP(D151,Nomenclature!$B$2:$C$196,2,0),\"\")","v":""},null,null,null,null,{"$f":"IF(C151=\"\",0,IF(SUMIFS($G$5:G151,$C$5:C151,C151)-SUMIFS($I$4:I150,$C$4:C150,C151)<0,0,SUMIFS($G$5:G151,$C$5:C151,C151)-SUMIFS($I$4:I150,$C$4:C150,C151)))","v":0},null,{"$f":"IF(C151=\"\",0,IF(C151=$C$4,SUMIFS($I$4:I150,$C$4:C150,C150),SUMIFS($I$4:I150,$C$4:C150,C151)))","v":0},0]
[149,null,{"$f":"IFERROR(VLOOKUP(D152,Nomenclature!$B$2:$C$196,2,0),\"\")","v":""},null,null,null,null,{"$f":"IF(C152=\"\",0,IF(SUMIFS($G$5:G152,$C$5:C152,C152)-SUMIFS($I$4:I151,$C$4:C151,C152)<0,0,SUMIFS($G$5:G152,$C$5:C152,C152)-SUMIFS($I$4:I151,$C$4:C151,C152)))","v":0},null,{"$f":"IF(C152=\"\",0,IF(C152=$C$4,SUMIFS($I$4:I151,$C$4:C151,C151),SUMIFS($I$4:I151,$C$4:C151,C152)))","v":0},0]
[150,null,{"$f":"IFERROR(VLOOKUP(D153,Nomenclature!$B$2:$C$196,2,0),\"\")","v":""},null,null,null,null,{"$f":"IF(C153=\"\",0,IF(SUMIFS($G$5:G153,$C$5:C153,C153)-SUMIFS($I$4:I152,$C$4:C152,C153)<0,0,SUMIFS($G$5:G153,$C$5:C153,C153)-SUMIFS($I$4:I152,$C$4:C152,C153)))","v":0},null,{"$f":"IF(C153=\"\",0,IF(C153=$C$4,SUMIFS($I$4:I152,$C$4:C152,C152),SUMIFS($I$4:I152,$C$4:C152,C153)))","v":0},0]
[151,null,{"$f":"IFERROR(VLOOKUP(D154,Nomenclature!$B$2:$C$196,2,0),\"\")","v":""},null,null,null,null,{"$f":"IF(C154=\"\",0,IF(SUMIFS($G$5:G154,$C$5:C154,C154)-SUMIFS($I$4:I153,$C$4:C153,C154)<0,0,SUMIFS($G$5:G154,$C$5:C154,C154)-SUMIFS($I$4:I153,$C$4:C153,C154)))","v":0},null,{"$f":"IF(C154=\"\",0,IF(C154=$C$4,SUMIFS($I$4:I153,$C$4:C153,C153),SUMIFS($I$4:I153,$C$4:C153,C154)))","v":0},0]
[152,null,{"$f":"IFERROR(VLOOKUP(D155,Nomenclature!$B$2:$C$196,2,0),\"\")","v":""},null,null,null,null,{"$f":"IF(C155=\"\",0,IF(SUMIFS($G$5:G155,$C$5:C155,C155)-SUMIFS($I$4:I154,$C$4:C154,C155)<0,0,SUMIFS($G$5:G155,$C$5:C155,C155)-SUMIFS($I$4:I154,$C$4:C154,C155)))","v":0},null,{"$f":"IF(C155=\"\",0,IF(C155=$C$4,SUMIFS($I$4:I154,$C$4:C154,C154),SUMIFS($I$4:I154,$C$4:C154,C155)))","v":0},0]
[153,null,{"$f":"IFERROR(VLOOKUP(D156,Nomenclature!$B$2:$C$196,2,0),\"\")","v":""},null,null,null,null,{"$f":"IF(C156=\"\",0,IF(SUMIFS($G$5:G156,$C$5:C156,C156)-SUMIFS($I$4:I155,$C$4:C155,C156)<0,0,SUMIFS($G$5:G156,$C$5:C156,C156)-SUMIFS($I$4:I155,$C$4:C155,C156)))","v":0},null,{"$f":"IF(C156=\"\",0,IF(C156=$C$4,SUMIFS($I$4:I155,$C$4:C155,C155),SUMIFS($I$4:I155,$C$4:C155,C156)))","v":0},0]
[154,null,{"$f":"IFERROR(VLOOKUP(D157,Nomenclature!$B$2:$C$196,2,0),\"\")","v":""},null,null,null,null,{"$f":"IF(C157=\"\",0,IF(SUMIFS($G$5:G157,$C$5:C157,C157)-SUMIFS($I$4:I156,$C$4:C156,C157)<0,0,SUMIFS($G$5:G157,$C$5:C157,C157)-SUMIFS($I$4:I156,$C$4:C156,C157)))","v":0},null,{"$f":"IF(C157=\"\",0,IF(C157=$C$4,SUMIFS($I$4:I156,$C$4:C156,C156),SUMIFS($I$4:I156,$C$4:C156,C157)))","v":0},0]
[155,null,{"$f":"IFERROR(VLOOKUP(D158,Nomenclature!$B$2:$C$196,2,0),\"\")","v":""},null,null,null,null,{"$f":"IF(C158=\"\",0,IF(SUMIFS($G$5:G158,$C$5:C158,C158)-SUMIFS($I$4:I157,$C$4:C157,C158)<0,0,SUMIFS($G$5:G158,$C$5:C158,C158)-SUMIFS($I$4:I157,$C$4:C157,C158)))","v":0},null,{"$f":"IF(C158=\"\",0,IF(C158=$C$4,SUMIFS($I$4:I157,$C$4:C157,C157),SUMIFS($I$4:I157,$C$4:C157,C158)))","v":0},0]
[156,null,{"$f":"IFERROR(VLOOKUP(D159,Nomenclature!$B$2:$C$196,2,0),\"\")","v":""},null,null,null,null,{"$f":"IF(C159=\"\",0,IF(SUMIFS($G$5:G159,$C$5:C159,C159)-SUMIFS($I$4:I158,$C$4:C158,C159)<0,0,SUMIFS($G$5:G159,$C$5:C159,C159)-SUMIFS($I$4:I158,$C$4:C158,C159)))","v":0},null,{"$f":"IF(C159=\"\",0,IF(C159=$C$4,SUMIFS($I$4:I158,$C$4:C158,C158),SUMIFS($I$4:I158,$C$4:C158,C159)))","v":0},0]
[157,null,{"$f":"IFERROR(VLOOKUP(D160,Nomenclature!$B$2:$C$196,2,0),\"\")","v":""},null,null,null,null,{"$f":"IF(C160=\"\",0,IF(SUMIFS($G$5:G160,$C$5:C160,C160)-SUMIFS($I$4:I159,$C$4:C159,C160)<0,0,SUMIFS($G$5:G160,$C$5:C160,C160)-SUMIFS($I$4:I159,$C$4:C159,C160)))","v":0},null,{"$f":"IF(C160=\"\",0,IF(C160=$C$4,SUMIFS($I$4:I159,$C$4:C159,C159),SUMIFS($I$4:I159,$C$4:C159,C160)))","v":0},0]
[158,null,{"$f":"IFERROR(VLOOKUP(D161,Nomenclature!$B$2:$C$196,2,0),\"\")","v":""},null,null,null,null,{"$f":"IF(C161=\"\",0,IF(SUMIFS($G$5:G161,$C$5:C161,C161)-SUMIFS($I$4:I160,$C$4:C160,C161)<0,0,SUMIFS($G$5:G161,$C$5:C161,C161)-SUMIFS($I$4:I160,$C$4:C160,C161)))","v":0},null,{"$f":"IF(C161=\"\",0,IF(C161=$C$4,SUMIFS($I$4:I160,$C$4:C160,C160),SUMIFS($I$4:I160,$C$4:C160,C161)))","v":0},0]
[159,null,{"$f":"IFERROR(VLOOKUP(D162,Nomenclature!$B$2:$C$196,2,0),\"\")","v":""},null,null,null,null,{"$f":"IF(C162=\"\",0,IF(SUMIFS($G$5:G162,$C$5:C162,C162)-SUMIFS($I$4:I161,$C$4:C161,C162)<0,0,SUMIFS($G$5:G162,$C$5:C162,C162)-SUMIFS($I$4:I161,$C$4:C161,C162)))","v":0},null,{"$f":"IF(C162=\"\",0,IF(C162=$C$4,SUMIFS($I$4:I161,$C$4:C161,C161),SUMIFS($I$4:I161,$C$4:C161,C162)))","v":0},0]
[160,null,{"$f":"IFERROR(VLOOKUP(D163,Nomenclature!$B$2:$C$196,2,0),\"\")","v":""},null,null,null,null,{"$f":"IF(C163=\"\",0,IF(SUMIFS($G$5:G163,$C$5:C163,C163)-SUMIFS($I$4:I162,$C$4:C162,C163)<0,0,SUMIFS($G$5:G163,$C$5:C163,C163)-SUMIFS($I$4:I162,$C$4:C162,C163)))","v":0},null,{"$f":"IF(C163=\"\",0,IF(C163=$C$4,SUMIFS($I$4:I162,$C$4:C162,C162),SUMIFS($I$4:I162,$C$4:C162,C163)))","v":0},0]
[161,null,{"$f":"IFERROR(VLOOKUP(D164,Nomenclature!$B$2:$C$196,2,0),\"\")","v":""},null,null,null,null,{"$f":"IF(C164=\"\",0,IF(SUMIFS($G$5:G164,$C$5:C164,C164)-SUMIFS($I$4:I163,$C$4:C163,C164)<0,0,SUMIFS($G$5:G164,$C$5:C164,C164)-SUMIFS($I$4:I163,$C$4:C163,C164)))","v":0},null,{"$f":"IF(C164=\"\",0,IF(C164=$C$4,SUMIFS($I$4:I163,$C$4:C163,C163),SUMIFS($I$4:I163,$C$4:C163,C164)))","v":0},0]
[162,null,{"$f":"IFERROR(VLOOKUP(D165,Nomenclature!$B$2:$C$196,2,0),\"\")","v":""},null,null,null,null,{"$f":"IF(C165=\"\",0,IF(SUMIFS($G$5:G165,$C$5:C165,C165)-SUMIFS($I$4:I164,$C$4:C164,C165)<0,0,SUMIFS($G$5:G165,$C$5:C165,C165)-SUMIFS($I$4:I164,$C$4:C164,C165)))","v":0},null,{"$f":"IF(C165=\"\",0,IF(C165=$C$4,SUMIFS($I$4:I164,$C$4:C164,C164),SUMIFS($I$4:I164,$C$4:C164,C165)))","v":0},0]
[163,null,{"$f":"IFERROR(VLOOKUP(D166,Nomenclature!$B$2:$C$196,2,0),\"\")","v":""},null,null,null,null,{"$f":"IF(C166=\"\",0,IF(SUMIFS($G$5:G166,$C$5:C166,C166)-SUMIFS($I$4:I165,$C$4:C165,C166)<0,0,SUMIFS($G$5:G166,$C$5:C166,C166)-SUMIFS($I$4:I165,$C$4:C165,C166)))","v":0},null,{"$f":"IF(C166=\"\",0,IF(C166=$C$4,SUMIFS($I$4:I165,$C$4:C165,C165),SUMIFS($I$4:I165,$C$4:C165,C166)))","v":0},0]
[164,null,{"$f":"IFERROR(VLOOKUP(D167,Nomenclature!$B$2:$C$196,2,0),\"\")","v":""},null,null,null,null,{"$f":"IF(C167=\"\",0,IF(SUMIFS($G$5:G167,$C$5:C167,C167)-SUMIFS($I$4:I166,$C$4:C166,C167)<0,0,SUMIFS($G$5:G167,$C$5:C167,C167)-SUMIFS($I$4:I166,$C$4:C166,C167)))","v":0},null,{"$f":"IF(C167=\"\",0,IF(C167=$C$4,SUMIFS($I$4:I166,$C$4:C166,C166),SUMIFS($I$4:I166,$C$4:C166,C167)))","v":0},0]
[165,null,{"$f":"IFERROR(VLOOKUP(D168,Nomenclature!$B$2:$C$196,2,0),\"\")","v":""},null,null,null,null,{"$f":"IF(C168=\"\",0,IF(SUMIFS($G$5:G168,$C$5:C168,C168)-SUMIFS($I$4:I167,$C$4:C167,C168)<0,0,SUMIFS($G$5:G168,$C$5:C168,C168)-SUMIFS($I$4:I167,$C$4:C167,C168)))","v":0},null,{"$f":"IF(C168=\"\",0,IF(C168=$C$4,SUMIFS($I$4:I167,$C$4:C167,C167),SUMIFS($I$4:I167,$C$4:C167,C168)))","v":0},0]
[166,null,{"$f":"IFERROR(VLOOKUP(D169,Nomenclature!$B$2:$C$196,2,0),\"\")","v":""},null,null,null,null,{"$f":"IF(C169=\"\",0,IF(SUMIFS($G$5:G169,$C$5:C169,C169)-SUMIFS($I$4:I168,$C$4:C168,C169)<0,0,SUMIFS($G$5:G169,$C$5:C169,C169)-SUMIFS($I$4:I168,$C$4:C168,C169)))","v":0},null,{"$f":"IF(C169=\"\",0,IF(C169=$C$4,SUMIFS($I$4:I168,$C$4:C168,C168),SUMIFS($I$4:I168,$C$4:C168,C169)))","v":0},0]
[167,null,{"$f":"IFERROR(VLOOKUP(D170,Nomenclature!$B$2:$C$196,2,0),\"\")","v":""},null,null,null,null,{"$f":"IF(C170=\"\",0,IF(SUMIFS($G$5:G170,$C$5:C170,C170)-SUMIFS($I$4:I169,$C$4:C169,C170)<0,0,SUMIFS($G$5:G170,$C$5:C170,C170)-SUMIFS($I$4:I169,$C$4:C169,C170)))","v":0},null,{"$f":"IF(C170=\"\",0,IF(C170=$C$4,SUMIFS($I$4:I169,$C$4:C169,C169),SUMIFS($I$4:I169,$C$4:C169,C170)))","v":0},0]
[168,null,{"$f":"IFERROR(VLOOKUP(D171,Nomenclature!$B$2:$C$196,2,0),\"\")","v":""},null,null,null,null,{"$f":"IF(C171=\"\",0,IF(SUMIFS($G$5:G171,$C$5:C171,C171)-SUMIFS($I$4:I170,$C$4:C170,C171)<0,0,SUMIFS($G$5:G171,$C$5:C171,C171)-SUMIFS($I$4:I170,$C$4:C170,C171)))","v":0},null,{"$f":"IF(C171=\"\",0,IF(C171=$C$4,SUMIFS($I$4:I170,$C$4:C170,C170),SUMIFS($I$4:I170,$C$4:C170,C171)))","v":0},0]
[169,null,{"$f":"IFERROR(VLOOKUP(D172,Nomenclature!$B$2:$C$196,2,0),\"\")","v":""},null,null,null,null,{"$f":"IF(C172=\"\",0,IF(SUMIFS($G$5:G172,$C$5:C172,C172)-SUMIFS($I$4:I171,$C$4:C171,C172)<0,0,SUMIFS($G$5:G172,$C$5:C172,C172)-SUMIFS($I$4:I171,$C$4:C171,C172)))","v":0},null,{"$f":"IF(C172=\"\",0,IF(C172=$C$4,SUMIFS($I$4:I171,$C$4:C171,C171),SUMIFS($I$4:I171,$C$4:C171,C172)))","v":0},0]
[170,null,{"$f":"IFERROR(VLOOKUP(D173,Nomenclature!$B$2:$C$196,2,0),\"\")","v":""},null,null,null,null,{"$f":"IF(C173=\"\",0,IF(SUMIFS($G$5:G173,$C$5:C173,C173)-SUMIFS($I$4:I172,$C$4:C172,C173)<0,0,SUMIFS($G$5:G173,$C$5:C173,C173)-SUMIFS($I$4:I172,$C$4:C172,C173)))","v":0},null,{"$f":"IF(C173=\"\",0,IF(C173=$C$4,SUMIFS($I$4:I172,$C$4:C172,C172),SUMIFS($I$4:I172,$C$4:C172,C173)))","v":0},0]
[171,null,{"$f":"IFERROR(VLOOKUP(D174,Nomenclature!$B$2:$C$196,2,0),\"\")","v":""},null,null,null,null,{"$f":"IF(C174=\"\",0,IF(SUMIFS($G$5:G174,$C$5:C174,C174)-SUMIFS($I$4:I173,$C$4:C173,C174)<0,0,SUMIFS($G$5:G174,$C$5:C174,C174)-SUMIFS($I$4:I173,$C$4:C173,C174)))","v":0},null,{"$f":"IF(C174=\"\",0,IF(C174=$C$4,SUMIFS($I$4:I173,$C$4:C173,C173),SUMIFS($I$4:I173,$C$4:C173,C174)))","v":0},0]
[172,null,{"$f":"IFERROR(VLOOKUP(D175,Nomenclature!$B$2:$C$196,2,0),\"\")","v":""},null,null,null,null,{"$f":"IF(C175=\"\",0,IF(SUMIFS($G$5:G175,$C$5:C175,C175)-SUMIFS($I$4:I174,$C$4:C174,C175)<0,0,SUMIFS($G$5:G175,$C$5:C175,C175)-SUMIFS($I$4:I174,$C$4:C174,C175)))","v":0},null,{"$f":"IF(C175=\"\",0,IF(C175=$C$4,SUMIFS($I$4:I174,$C$4:C174,C174),SUMIFS($I$4:I174,$C$4:C174,C175)))","v":0},0]
[173,null,{"$f":"IFERROR(VLOOKUP(D176,Nomenclature!$B$2:$C$196,2,0),\"\")","v":""},null,null,null,null,{"$f":"IF(C176=\"\",0,IF(SUMIFS($G$5:G176,$C$5:C176,C176)-SUMIFS($I$4:I175,$C$4:C175,C176)<0,0,SUMIFS($G$5:G176,$C$5:C176,C176)-SUMIFS($I$4:I175,$C$4:C175,C176)))","v":0},null,{"$f":"IF(C176=\"\",0,IF(C176=$C$4,SUMIFS($I$4:I175,$C$4:C175,C175),SUMIFS($I$4:I175,$C$4:C175,C176)))","v":0},0]
[174,null,{"$f":"IFERROR(VLOOKUP(D177,Nomenclature!$B$2:$C$196,2,0),\"\")","v":""},null,null,null,null,{"$f":"IF(C177=\"\",0,IF(SUMIFS($G$5:G177,$C$5:C177,C177)-SUMIFS($I$4:I176,$C$4:C176,C177)<0,0,SUMIFS($G$5:G177,$C$5:C177,C177)-SUMIFS($I$4:I176,$C$4:C176,C177)))","v":0},null,{"$f":"IF(C177=\"\",0,IF(C177=$C$4,SUMIFS($I$4:I176,$C$4:C176,C176),SUMIFS($I$4:I176,$C$4:C176,C177)))","v":0},0]
[175,null,{"$f":"IFERROR(VLOOKUP(D178,Nomenclature!$B$2:$C$196,2,0),\"\")","v":""},null,null,null,null,{"$f":"IF(C178=\"\",0,IF(SUMIFS($G$5:G178,$C$5:C178,C178)-SUMIFS($I$4:I177,$C$4:C177,C178)<0,0,SUMIFS($G$5:G178,$C$5:C178,C178)-SUMIFS($I$4:I177,$C$4:C177,C178)))","v":0},null,{"$f":"IF(C178=\"\",0,IF(C178=$C$4,SUMIFS($I$4:I177,$C$4:C177,C177),SUMIFS($I$4:I177,$C$4:C177,C178)))","v":0},0]
[176,null,{"$f":"IFERROR(VLOOKUP(D179,Nomenclature!$B$2:$C$196,2,0),\"\")","v":""},null,null,null,null,{"$f":"IF(C179=\"\",0,IF(SUMIFS($G$5:G179,$C$5:C179,C179)-SUMIFS($I$4:I178,$C$4:C178,C179)<0,0,SUMIFS($G$5:G179,$C$5:C179,C179)-SUMIFS($I$4:I178,$C$4:C178,C179)))","v":0},null,{"$f":"IF(C179=\"\",0,IF(C179=$C$4,SUMIFS($I$4:I178,$C$4:C178,C178),SUMIFS($I$4:I178,$C$4:C178,C179)))","v":0},0]
[177,null,{"$f":"IFERROR(VLOOKUP(D180,Nomenclature!$B$2:$C$196,2,0),\"\")","v":""},null,null,null,null,{"$f":"IF(C180=\"\",0,IF(SUMIFS($G$5:G180,$C$5:C180,C180)-SUMIFS($I$4:I179,$C$4:C179,C180)<0,0,SUMIFS($G$5:G180,$C$5:C180,C180)-SUMIFS($I$4:I179,$C$4:C179,C180)))","v":0},null,{"$f":"IF(C180=\"\",0,IF(C180=$C$4,SUMIFS($I$4:I179,$C$4:C179,C179),SUMIFS($I$4:I179,$C$4:C179,C180)))","v":0},0]
[178,null,{"$f":"IFERROR(VLOOKUP(D181,Nomenclature!$B$2:$C$196,2,0),\"\")","v":""},null,null,null,null,{"$f":"IF(C181=\"\",0,IF(SUMIFS($G$5:G181,$C$5:C181,C181)-SUMIFS($I$4:I180,$C$4:C180,C181)<0,0,SUMIFS($G$5:G181,$C$5:C181,C181)-SUMIFS($I$4:I180,$C$4:C180,C181)))","v":0},null,{"$f":"IF(C181=\"\",0,IF(C181=$C$4,SUMIFS($I$4:I180,$C$4:C180,C180),SUMIFS($I$4:I180,$C$4:C180,C181)))","v":0},0]
[179,null,{"$f":"IFERROR(VLOOKUP(D182,Nomenclature!$B$2:$C$196,2,0),\"\")","v":""},null,null,null,null,{"$f":"IF(C182=\"\",0,IF(SUMIFS($G$5:G182,$C$5:C182,C182)-SUMIFS($I$4:I181,$C$4:C181,C182)<0,0,SUMIFS($G$5:G182,$C$5:C182,C182)-SUMIFS($I$4:I181,$C$4:C181,C182)))","v":0},null,{"$f":"IF(C182=\"\",0,IF(C182=$C$4,SUMIFS($I$4:I181,$C$4:C181,C181),SUMIFS($I$4:I181,$C$4:C181,C182)))","v":0},0]
[180,null,{"$f":"IFERROR(VLOOKUP(D183,Nomenclature!$B$2:$C$196,2,0),\"\")","v":""},null,null,null,null,{"$f":"IF(C183=\"\",0,IF(SUMIFS($G$5:G183,$C$5:C183,C183)-SUMIFS($I$4:I182,$C$4:C182,C183)<0,0,SUMIFS($G$5:G183,$C$5:C183,C183)-SUMIFS($I$4:I182,$C$4:C182,C183)))","v":0},null,{"$f":"IF(C183=\"\",0,IF(C183=$C$4,SUMIFS($I$4:I182,$C$4:C182,C182),SUMIFS($I$4:I182,$C$4:C182,C183)))","v":0},0]
[181,null,{"$f":"IFERROR(VLOOKUP(D184,Nomenclature!$B$2:$C$196,2,0),\"\")","v":""},null,null,null,null,{"$f":"IF(C184=\"\",0,IF(SUMIFS($G$5:G184,$C$5:C184,C184)-SUMIFS($I$4:I183,$C$4:C183,C184)<0,0,SUMIFS($G$5:G184,$C$5:C184,C184)-SUMIFS($I$4:I183,$C$4:C183,C184)))","v":0},null,{"$f":"IF(C184=\"\",0,IF(C184=$C$4,SUMIFS($I$4:I183,$C$4:C183,C183),SUMIFS($I$4:I183,$C$4:C183,C184)))","v":0},0]
[182,null,{"$f":"IFERROR(VLOOKUP(D185,Nomenclature!$B$2:$C$196,2,0),\"\")","v":""},null,null,null,null,{"$f":"IF(C185=\"\",0,IF(SUMIFS($G$5:G185,$C$5:C185,C185)-SUMIFS($I$4:I184,$C$4:C184,C185)<0,0,SUMIFS($G$5:G185,$C$5:C185,C185)-SUMIFS($I$4:I184,$C$4:C184,C185)))","v":0},null,{"$f":"IF(C185=\"\",0,IF(C185=$C$4,SUMIFS($I$4:I184,$C$4:C184,C184),SUMIFS($I$4:I184,$C$4:C184,C185)))","v":0},0]
[183,null,{"$f":"IFERROR(VLOOKUP(D186,Nomenclature!$B$2:$C$196,2,0),\"\")","v":""},null,null,null,null,{"$f":"IF(C186=\"\",0,IF(SUMIFS($G$5:G186,$C$5:C186,C186)-SUMIFS($I$4:I185,$C$4:C185,C186)<0,0,SUMIFS($G$5:G186,$C$5:C186,C186)-SUMIFS($I$4:I185,$C$4:C185,C186)))","v":0},null,{"$f":"IF(C186=\"\",0,IF(C186=$C$4,SUMIFS($I$4:I185,$C$4:C185,C185),SUMIFS($I$4:I185,$C$4:C185,C186)))","v":0},0]
[184,null,{"$f":"IFERROR(VLOOKUP(D187,Nomenclature!$B$2:$C$196,2,0),\"\")","v":""},null,null,null,null,{"$f":"IF(C187=\"\",0,IF(SUMIFS($G$5:G187,$C$5:C187,C187)-SUMIFS($I$4:I186,$C$4:C186,C187)<0,0,SUMIFS($G$5:G187,$C$5:C187,C187)-SUMIFS($I$4:I186,$C$4:C186,C187)))","v":0},null,{"$f":"IF(C187=\"\",0,IF(C187=$C$4,SUMIFS($I$4:I186,$C$4:C186,C186),SUMIFS($I$4:I186,$C$4:C186,C187)))","v":0},0]
[185,null,{"$f":"IFERROR(VLOOKUP(D188,Nomenclature!$B$2:$C$196,2,0),\"\")","v":""},null,null,null,null,{"$f":"IF(C188=\"\",0,IF(SUMIFS($G$5:G188,$C$5:C188,C188)-SUMIFS($I$4:I187,$C$4:C187,C188)<0,0,SUMIFS($G$5:G188,$C$5:C188,C188)-SUMIFS($I$4:I187,$C$4:C187,C188)))","v":0},null,{"$f":"IF(C188=\"\",0,IF(C188=$C$4,SUMIFS($I$4:I187,$C$4:C187,C187),SUMIFS($I$4:I187,$C$4:C187,C188)))","v":0},0]
[186,null,{"$f":"IFERROR(VLOOKUP(D189,Nomenclature!$B$2:$C$196,2,0),\"\")","v":""},null,null,null,null,{"$f":"IF(C189=\"\",0,IF(SUMIFS($G$5:G189,$C$5:C189,C189)-SUMIFS($I$4:I188,$C$4:C188,C189)<0,0,SUMIFS($G$5:G189,$C$5:C189,C189)-SUMIFS($I$4:I188,$C$4:C188,C189)))","v":0},null,{"$f":"IF(C189=\"\",0,IF(C189=$C$4,SUMIFS($I$4:I188,$C$4:C188,C188),SUMIFS($I$4:I188,$C$4:C188,C189)))","v":0},0]
[187,null,{"$f":"IFERROR(VLOOKUP(D190,Nomenclature!$B$2:$C$196,2,0),\"\")","v":""},null,null,null,null,{"$f":"IF(C190=\"\",0,IF(SUMIFS($G$5:G190,$C$5:C190,C190)-SUMIFS($I$4:I189,$C$4:C189,C190)<0,0,SUMIFS($G$5:G190,$C$5:C190,C190)-SUMIFS($I$4:I189,$C$4:C189,C190)))","v":0},null,{"$f":"IF(C190=\"\",0,IF(C190=$C$4,SUMIFS($I$4:I189,$C$4:C189,C189),SUMIFS($I$4:I189,$C$4:C189,C190)))","v":0},0]
[188,null,{"$f":"IFERROR(VLOOKUP(D191,Nomenclature!$B$2:$C$196,2,0),\"\")","v":""},null,null,null,null,{"$f":"IF(C191=\"\",0,IF(SUMIFS($G$5:G191,$C$5:C191,C191)-SUMIFS($I$4:I190,$C$4:C190,C191)<0,0,SUMIFS($G$5:G191,$C$5:C191,C191)-SUMIFS($I$4:I190,$C$4:C190,C191)))","v":0},null,{"$f":"IF(C191=\"\",0,IF(C191=$C$4,SUMIFS($I$4:I190,$C$4:C190,C190),SUMIFS($I$4:I190,$C$4:C190,C191)))","v":0},0]
[189,null,{"$f":"IFERROR(VLOOKUP(D192,Nomenclature!$B$2:$C$196,2,0),\"\")","v":""},null,null,null,null,{"$f":"IF(C192=\"\",0,IF(SUMIFS($G$5:G192,$C$5:C192,C192)-SUMIFS($I$4:I191,$C$4:C191,C192)<0,0,SUMIFS($G$5:G192,$C$5:C192,C192)-SUMIFS($I$4:I191,$C$4:C191,C192)))","v":0},null,{"$f":"IF(C192=\"\",0,IF(C192=$C$4,SUMIFS($I$4:I191,$C$4:C191,C191),SUMIFS($I$4:I191,$C$4:C191,C192)))","v":0},0]
[190,null,{"$f":"IFERROR(VLOOKUP(D193,Nomenclature!$B$2:$C$196,2,0),\"\")","v":""},null,null,null,null,{"$f":"IF(C193=\"\",0,IF(SUMIFS($G$5:G193,$C$5:C193,C193)-SUMIFS($I$4:I192,$C$4:C192,C193)<0,0,SUMIFS($G$5:G193,$C$5:C193,C193)-SUMIFS($I$4:I192,$C$4:C192,C193)))","v":0},null,{"$f":"IF(C193=\"\",0,IF(C193=$C$4,SUMIFS($I$4:I192,$C$4:C192,C192),SUMIFS($I$4:I192,$C$4:C192,C193)))","v":0},0]
[191,null,{"$f":"IFERROR(VLOOKUP(D194,Nomenclature!$B$2:$C$196,2,0),\"\")","v":""},null,null,null,null,{"$f":"IF(C194=\"\",0,IF(SUMIFS($G$5:G194,$C$5:C194,C194)-SUMIFS($I$4:I193,$C$4:C193,C194)<0,0,SUMIFS($G$5:G194,$C$5:C194,C194)-SUMIFS($I$4:I193,$C$4:C193,C194)))","v":0},null,{"$f":"IF(C194=\"\",0,IF(C194=$C$4,SUMIFS($I$4:I193,$C$4:C193,C193),SUMIFS($I$4:I193,$C$4:C193,C194)))","v":0},0]
[192,null,{"$f":"IFERROR(VLOOKUP(D195,Nomenclature!$B$2:$C$196,2,0),\"\")","v":""},null,null,null,null,{"$f":"IF(C195=\"\",0,IF(SUMIFS($G$5:G195,$C$5:C195,C195)-SUMIFS($I$4:I194,$C$4:C194,C195)<0,0,SUMIFS($G$5:G195,$C$5:C195,C195)-SUMIFS($I$4:I194,$C$4:C194,C195)))","v":0},null,{"$f":"IF(C195=\"\",0,IF(C195=$C$4,SUMIFS($I$4:I194,$C$4:C194,C194),SUMIFS($I$4:I194,$C$4:C194,C195)))","v":0},0]
[193,null,{"$f":"IFERROR(VLOOKUP(D196,Nomenclature!$B$2:$C$196,2,0),\"\")","v":""},null,null,null,null,{"$f":"IF(C196=\"\",0,IF(SUMIFS($G$5:G196,$C$5:C196,C196)-SUMIFS($I$4:I195,$C$4:C195,C196)<0,0,SUMIFS($G$5:G196,$C$5:C196,C196)-SUMIFS($I$4:I195,$C$4:C195,C196)))","v":0},null,{"$f":"IF(C196=\"\",0,IF(C196=$C$4,SUMIFS($I$4:I195,$C$4:C195,C195),SUMIFS($I$4:I195,$C$4:C195,C196)))","v":0},{"$f":"IF(C196=\"\",0,H196-I196)","v":0}]
[194,null,{"$f":"IFERROR(VLOOKUP(D197,Nomenclature!$B$2:$C$196,2,0),\"\")","v":""},null,null,null,null,{"$f":"IF(C197=\"\",0,IF(SUMIFS($G$5:G197,$C$5:C197,C197)-SUMIFS($I$4:I196,$C$4:C196,C197)<0,0,SUMIFS($G$5:G197,$C$5:C197,C197)-SUMIFS($I$4:I196,$C$4:C196,C197)))","v":0},null,{"$f":"IF(C197=\"\",0,IF(C197=$C$4,SUMIFS($I$4:I196,$C$4:C196,C196),SUMIFS($I$4:I196,$C$4:C196,C197)))","v":0},0]
[195,null,{"$f":"IFERROR(VLOOKUP(D198,Nomenclature!$B$2:$C$196,2,0),\"\")","v":""},null,null,null,null,{"$f":"IF(C198=\"\",0,IF(SUMIFS($G$5:G198,$C$5:C198,C198)-SUMIFS($I$4:I197,$C$4:C197,C198)<0,0,SUMIFS($G$5:G198,$C$5:C198,C198)-SUMIFS($I$4:I197,$C$4:C197,C198)))","v":0},null,{"$f":"IF(C198=\"\",0,IF(C198=$C$4,SUMIFS($I$4:I197,$C$4:C197,C197),SUMIFS($I$4:I197,$C$4:C197,C198)))","v":0},0]
[196,null,{"$f":"IFERROR(VLOOKUP(D199,Nomenclature!$B$2:$C$196,2,0),\"\")","v":""},null,null,null,null,{"$f":"IF(C199=\"\",0,IF(SUMIFS($G$5:G199,$C$5:C199,C199)-SUMIFS($I$4:I198,$C$4:C198,C199)<0,0,SUMIFS($G$5:G199,$C$5:C199,C199)-SUMIFS($I$4:I198,$C$4:C198,C199)))","v":0},null,{"$f":"IF(C199=\"\",0,IF(C199=$C$4,SUMIFS($I$4:I198,$C$4:C198,C198),SUMIFS($I$4:I198,$C$4:C198,C199)))","v":0},0]
[197,null,{"$f":"IFERROR(VLOOKUP(D200,Nomenclature!$B$2:$C$196,2,0),\"\")","v":""},null,null,null,null,{"$f":"IF(C200=\"\",0,IF(SUMIFS($G$5:G200,$C$5:C200,C200)-SUMIFS($I$4:I199,$C$4:C199,C200)<0,0,SUMIFS($G$5:G200,$C$5:C200,C200)-SUMIFS($I$4:I199,$C$4:C199,C200)))","v":0},null,{"$f":"IF(C200=\"\",0,IF(C200=$C$4,SUMIFS($I$4:I199,$C$4:C199,C199),SUMIFS($I$4:I199,$C$4:C199,C200)))","v":0},0]
[198,null,{"$f":"IFERROR(VLOOKUP(D201,Nomenclature!$B$2:$C$196,2,0),\"\")","v":""},null,null,null,null,{"$f":"IF(C201=\"\",0,IF(SUMIFS($G$5:G201,$C$5:C201,C201)-SUMIFS($I$4:I200,$C$4:C200,C201)<0,0,SUMIFS($G$5:G201,$C$5:C201,C201)-SUMIFS($I$4:I200,$C$4:C200,C201)))","v":0},null,{"$f":"IF(C201=\"\",0,IF(C201=$C$4,SUMIFS($I$4:I200,$C$4:C200,C200),SUMIFS($I$4:I200,$C$4:C200,C201)))","v":0},0]
[199,null,{"$f":"IFERROR(VLOOKUP(D202,Nomenclature!$B$2:$C$196,2,0),\"\")","v":""},null,null,null,null,{"$f":"IF(C202=\"\",0,IF(SUMIFS($G$5:G202,$C$5:C202,C202)-SUMIFS($I$4:I201,$C$4:C201,C202)<0,0,SUMIFS($G$5:G202,$C$5:C202,C202)-SUMIFS($I$4:I201,$C$4:C201,C202)))","v":0},null,{"$f":"IF(C202=\"\",0,IF(C202=$C$4,SUMIFS($I$4:I201,$C$4:C201,C201),SUMIFS($I$4:I201,$C$4:C201,C202)))","v":0},0]
[200,null,{"$f":"IFERROR(VLOOKUP(D203,Nomenclature!$B$2:$C$196,2,0),\"\")","v":""},null,null,null,null,{"$f":"IF(C203=\"\",0,IF(SUMIFS($G$5:G203,$C$5:C203,C203)-SUMIFS($I$4:I202,$C$4:C202,C203)<0,0,SUMIFS($G$5:G203,$C$5:C203,C203)-SUMIFS($I$4:I202,$C$4:C202,C203)))","v":0},null,{"$f":"IF(C203=\"\",0,IF(C203=$C$4,SUMIFS($I$4:I202,$C$4:C202,C202),SUMIFS($I$4:I202,$C$4:C202,C203)))","v":0},0]

{"sheet":"Nomenclature","index":16,"n_rows":196,"n_cols":3,"rows_kept":196,"cut":false,"hidden":false,"merged":[]}
["الترميز","طبيعة النفقة",{"$f":"A1","v":"الترميز"}]
[10000,"نفقات المستخدمين",{"$f":"A2","v":10000}]
[11000,"الرواتب",11000]
[11100,"رواتب الموظفين و الأعوان العموميين",11100]
[11200,"رواتب المستخدمين المتعاقدين",11200]
[11210,"رواتب المستخدمين المتعاقدين بالتوقيت الكامل",11210]
[11220,"رواتب المستخدمين المتعاقدين بالتوقيت الجزئي",11220]
[11300,"تعويضات أعضاء الحكومة و البرلمان",11300]
[11400,"رواتب المستخدمين المتعاقدين العاملين بالخارج",11400]
[11500,"رواتب المستخدمين المتعاونين",11500]
[12000,"العلاوات و التعويضات",12000]
[12100,"علاوات و تعويضات الموظفين و الأعوان العموميين",12100]
[12200,"علاوات و تعويضات المستخدمين المتعاقدين",12200]
[12300,"علاوات و تعويضات المستخدمين المتعاونين",12300]
[12400,"تعويضات الأعضاء الدائمين للهيئات و المؤسسات",12400]
[12500,"تعويضات المستخدمين الموضوعين تحت التصرف",12500]
[12600,"تعويضات المستخدمين المتعاقدين العاملين بالخارج",12600]
[13000,"الزيادات",13000]
[13100,"الزيادات الاستدلالية",13100]
[13200,"الزيادات الاخرى",13200]
[14000,"مساهمات صاحب العمل",14000]
[14100,"مساهمات في هيئات الضمان الاجتماعي و التقاعد",14100]
[14200,"مساهمات الخدمات الاجتماعية",14200]
[14210,"الخدمات الاجتماعية",14210]
[14220,"المساهمة في السكن الاجتماعي",14220]
[14230,"المساهمة في نظام التقاعد",14230]
[15000,"الخدمات الاجتماعية على عاتق صاحب العمل",15000]
[15100,"خدمات ذات الطابع العائلي",15100]
[15110,"المنح العائلية",15110]
[15120,"علاوة الدراسة",15120]
[15130,"منحة الأجر الوحيد",15130]
[15200,"المنح الاختيارية",15200]
[16000,"حوادث العمل و معاش الخدمة",16000]
[16100,"ريوع الحوادث المهنية",16100]
[16200,"معاشات جراء أضرار جسدية",16200]
[16300,"معاشات الخدمة",16300]
[17000,"تخصيصات الرواتب للمؤسسات العمومية ذات الطابع الإداري و المؤسسات العمومية المماثلة الأخرى",17000]
[20000,"نفقات تسيير المصالح",20000]
[21000,"التنقلات و النقل و الاتصالات",21000]
[21100,"المهمات، التنقلات و المصاريف ذات الصلة",21100]
[21200,"النقل بالبريد و الاعفاء البريدي و الرسائل",21200]
[21300,"مصاريف الاستقبال و الاحتفالات",21300]
[21400,"مصاريف المؤتمرات و الندوات و الملتقيات و التظاهرات",21400]
[21500,"التوعية و التعميم",21500]
[22000,"الاعلام و التوثيق",22000]
[22100,"الإشهار و الاعلام و التوثيق",22100]
[22200,"التحرير و الترجمة",22200]
[22300,"مصاريف إعداد المطبوعات و مختلف الوثائق",22300]
[23000,"الخدمات المهنية",23000]
[23100,"الأتعاب",23100]
[23200,"الخدمات التقنية للدراسات و الخبرة و البحث",23200]
[23300,"الخدمات المهنية في الاتصالات",23300]
[23400,"المصاريف القضائية",23400]
[24000,"الإيجار",24000]
[24100,"إيجار العقارات",24100]
[24200,"إيجار المنقولات",24200]
[24300,"تكاليف الإيجار الأخرى",24300]
[25000,"الصيانة و الإصلاح",25000]
[25100,"صيانة و تصليح الحظائر",25100]
[25110,"صيانة و تصليح حظائر السيارات",25110]
[25120,"صيانة و تصليح حظائر النقل الجوي",25120]
[25130,"صيانة و تصليح حظائر النقل البحري",25130]
[25140,"صيانة و تصليح حظائر النقل بالسكك الحديدية",25140]
[25200,"صيانة و تصليح الآلات و المعدات و التجهيزات",25200]
[25300,"صيانة البنايات و المنشآت القاعدية",25300]
[25310,"صيانة البنايات",{"$f":"A66","v":25310}]
[25320,"صيانة المنشآت القاعدية",25320]
[25400,"صيانة المساحات الخضراء",25400]
[25500,"الحراسة و الأمن",25500]
[25600,"نفقات أخرى للصيانة و التصليح",25600]
[26000,"خدمات أخرى",26000]
[27000,"التموينات و اللوازم",27000]
[27100,"التغذية",27100]
[27200,"المواد الصيدلانية و الطبية و شبه الطبية",27200]
[27300,"المعدات و التجهيزات الصغيرة و مستهلكات الاعلام الآلي",27300]
[27400,"الوراقة و اللوازم المكتبية",27400]
[27500,"الملابس و الاحذية",27500]
[27600,"الوقود و زيوت التشحيم و المنتجات القابلة للإشتعال",27600]
[27700,"مصاريف الاتصالات",27700]
[27800,"مصاريف الكهرباء و الغاز و الماء",27800]
[27900,"تموينات و تجهيزات أخرى",27900]
[28000,"أعباء أخرى للتسيير",28000]
[28100,"المصاريف البنكية و المصاريف المماثلة",28100]
[28200,"العقوبات",28200]
[28300,"مصاريف التأمين",28300]
[28400,"التعويض عن الأضرار المادية أو الجسدية",28400]
[28500,"الضرائب و الرسوم و المدفوعات الأخرى المماثلة",28500]
[28600,"رسوم الامتياز و براءات الاختراع و التراخيص و العلامات و البرمجيات و العمليات",28600]
[28700,"المصاريف المتعلقة بالمسابقات و الجوائز",28700]
[28800,"تعويضات اعضاء اللجان و لجان التحكيم",28800]
[28900,"اشتراكات، مساهمات و مصاريف الإنخراط في الهيئات",28900]
[29000,"خدمات التمهين و التكوين",29000]
[29100,"التكوين و تحسين المستوى داخل الوطن",29100]
[29200,"التكوين بالخارج",29200]
[29300,"التمهين",29300]
[29400,"خدمات أخرى للتمهين و التكوين",29400]
["2A000","تخصيصات تسيير للمؤسسات العمومية ذات الطابع الإداري و المؤسسات العمومية المماثلة الأخرى","2A000"]
[30000,"نفقات الاستثمار",30000]
[31000,"تثبيتات عينية",31000]
[31100,"الأراضي",31100]
[31110,"الأراضي الفارغة",31110]
[31120,"الأراضي المهيأة",31120]
[31130,"أراضي اّلآبار",31130]
[31140,"الأراضي المبنية",31140]
[21200,"تهيئة و إعادة تأهيل الأراضي",21200]
[31300,"الأشغال الغابية",31300]
[31400,"البناء و الصيانة",31400]
[31410,"المنشآت القاعدية",31410]
[31411,"المنشآت القاعدية البحرية",31411]
[31412,"المنشآت القاعدية للطرقات",31412]
[31413,"المنشآت القاعدية للمطارات",31413]
[31414,"المنشآت القاعدية للسكك الحديدية",31414]
[31415,"المنشآت القاعدية للري",31415]
[31416,"المنشآت القاعدية الرياضية",31416]
[31417,"المنشآت القاعدية الطاقوية",31417]
[31418,"المنشآت القاعدية لمعالجة النفايات و المياه المستعملة",31418]
[31419,"المنشآت الفنية",31419]
[31420,"البنايات",31420]
[31430,"السكنات",31430]
[31440,"صيانة و إعادة تاهيل التراث العقاري التاريخي و الديني و الثقافي",31440]
[31500,"التركيبات و الترتيب و تهيئة البنايات",31500]
[31600,"التركيبات التقنية و المعدات و الأدوات الصناعية",31600]
[31610,"التركيبات التقنية و الخاصة",31610]
[31620,"المعدات و الأدوات الصناعية",31620]
[31630,"معدات و تجهيزات أخرى",31630]
[31700,"العتاد العسكري",31700]
[31800,"معدات النقل",31800]
[31810,"النقل البري",31810]
[31811,"مركبات نقل الأشخاص",31811]
[31812,"مركبات نقل البضائع و المواد و المنتجات و المواد الخطيرة",{"$f":"A130","v":31812}]
[31820,"النقل البحري",31820]
[31830,"النقل الجوي",31830]
[31840,"النقل الموجه: المترو، الترامواي و التلفريك",31840]
[31900,"تثبيتات عينية أخرى",31900]
[31910,"أجهزة الإعلام الالي",31910]
[31920,"معدات و أثاث المكتب",31920]
[31930,"العمال الفنية و اللوحات و المجموعات",31930]
[32000,"تثبيتات معنوية",32000]
[32100,"مصاريف التطوير و الأبحاث و الدراسات",32100]
[32200,"التنازلات و الحقوق و براءات الاختراع و التراخيص و ما يماثلها",32200]
[32300,"برمجيات افعلام الآلي و ما يماثلها",32300]
[32400,"تثبيتات معنوية اخرى",32400]
[33000,"تخصيصات الاستثمار للمؤسسات العمومية ذات الطابع الاداري و المؤسسات العمومية المماثلة الأخرى",33000]
[40000,"نفقات التحويل",40000]
[41000,"التحويلات لفائدة الأشخاص",41000]
[41100,"التحويلات لفائدة المتعلمين",41100]
[41200,"التحويلات ذات الطابع الاجتماعي",41200]
[41300,"التحويلات لفائدة المجاهيدين",41300]
[41400,"تحويلات أخرى لفائدة الأشخاص",41400]
[42000,"التحويلات لفائدة المؤسسات",42000]
[42100,"دعم لفائدة القطاعات",42100]
[42200,"تسديد الديون",42200]
[42300,"تخفيض نسب الفائدة",42300]
[43000,"التحويلات للمؤسسات ذات الطابع الاقتصادي و الصناعي و التجاري و المؤسسات العمومية المماثلة الأخرى",43000]
[44000,"التحويلات للجماعات المحلية",44000]
[44100,"تحويلات للجماعات المحلية بعنوان رواتب المستخدمين",44100]
[44200,"تحويلات للجماعات المحلية بعنوان التسيير",44200]
[44300,"تحويلات للجماعات المحلية بعنوان الاستثمار",44300]
[45000,"التحويلات لفائدة الجمعيات",45000]
[46000,"التحويلات لفائدة المنظمات الدولية و لدول أجنبية",46000]
[47000,"تحويلات أخرى",47000]
[50000,"أعباء الدين العمومي",50000]
[51000,"فوائد على الدين العمومي",51000]
[51100,"فوائد على الدين الداخلي",51100]
[51200,"فوائد على الدين الخارجي",51200]
[51300,"إلتزامات و ضمانات الدولة",51300]
[51310,"إلتزامات الدولة",51310]
[51320,"ضمانات الدولة",51320]
[52000,"مصاريف أخرى على الدين العمومي",52000]
[52100,"رسوم الالتزام",52100]
[52200,"علاوات الإصدار و تسديد السندات",52200]
[52300,"مصاريف إصدار القروض",52300]
[52400,"علاوات التشجيع على افدخار",52400]
[60000,"نفقات العمليات المالية",60000]
[61000,"المساهمات المالية",61000]
[61100,"المؤسسات المالية",61100]
[61110,"المؤسسات المالية المراقبة",61110]
[61120,"المؤسسات المالية غير المراقبة",61120]
[61200,"المؤسسات غير المالية",61200]
[61210,"المؤسسات غير المالية المراقبة",61210]
[61220,"المؤسسات غير المالية غير المراقبة",61220]
[62000,"القروض و التسبيقات",62000]
[62100,"القروض و التسبيقات",62100]
[62110,"قروض للمؤسسات العمومية ذات الطابع الصناعي و التجاري",62110]
[62120,"قروض للمؤسسات العمومية ذات الطابع الإقتصادي",62120]
[62130,"قروض للجماعات المحلية",62130]
[62140,"قروض للصناديق الإجتماعية",62140]
[62150,"قروض للخواص",62150]
[62200,"تسبيقات",62200]
[62210,"تسبيقات للمؤسسات العمومية ذات الطابع الصناعي و التجاري",62210]
[62220,"تسبيقات للمؤسسات العمومية ذات الطابع الاقتصادي",62220]
[62230,"تسبيقات للجماعات المحلية",62230]
[62240,"تسبيقات للصناديق الاجتماعية",62240]
[62250,"تسبيقات للخواص",{"$f":"A194","v":62250}]
[63000,"ودائع و كفالات",63000]
[70000,"النفقات غير المتوقعة",70000]